BEGIN:VCALENDAR
VERSION:2.0
PRODID:-//Sky Sports SSDM//NONSGML Event Calendar//EN
URL:https://www.skysports.com/calendars/football/fixtures/competitions/afr
 ica-cup-of-nations
CALSCALE:GREGORIAN
METHOD:PUBLISH
NAME:Africa Cup of Nations Fixtures
X-WR-CALNAME:Africa Cup of Nations Fixtures
X-WR-CALDESC:Africa Cup of Nations fixtures provided by Sky Sports (https:
 //www.skysports.com)
REFRESH-INTERVAL;VALUE=DURATION:PT1H
X-PUBLISHED-TTL:PT1H
BEGIN:VEVENT
UID:7eba138e95c9726930007ccc325e86a2@skysports.com
SEQUENCE:0
DTSTAMP:20260318T100211Z
DTSTART:20251221T190000Z
DTEND:20251221T210000Z
SUMMARY:Morocco v Comoros
LOCATION:Stade Prince Moulay Abdallah
DESCRIPTION:Morocco v Comoros - Stade Prince Moulay Abdallah - Africa Cup 
 of Nations
STATUS:CONFIRMED
END:VEVENT
BEGIN:VEVENT
UID:795e52daf711654235c3b4f6a76a7ac3@skysports.com
SEQUENCE:0
DTSTAMP:20260318T100211Z
DTSTART:20251222T200000Z
DTEND:20251222T220000Z
SUMMARY:Egypt v Zimbabwe
LOCATION:Le Grand Stade Agadir
DESCRIPTION:Egypt v Zimbabwe - Le Grand Stade Agadir - Africa Cup of Natio
 ns
STATUS:CONFIRMED
END:VEVENT
BEGIN:VEVENT
UID:fe12a5e32d6353f66491d90327e0d5b4@skysports.com
SEQUENCE:0
DTSTAMP:20260318T100211Z
DTSTART:20251222T140000Z
DTEND:20251222T160000Z
SUMMARY:Mali v Zambia
LOCATION:Stade Mohamed V
DESCRIPTION:Mali v Zambia - Stade Mohamed V - Africa Cup of Nations
STATUS:CONFIRMED
END:VEVENT
BEGIN:VEVENT
UID:0256800dac2018b6916ccbe4214d4179@skysports.com
SEQUENCE:0
DTSTAMP:20260318T100211Z
DTSTART:20251222T170000Z
DTEND:20251222T190000Z
SUMMARY:South Africa v Angola
LOCATION:Stade de Marrakech
DESCRIPTION:South Africa v Angola - Stade de Marrakech - Africa Cup of Nat
 ions
STATUS:CONFIRMED
END:VEVENT
BEGIN:VEVENT
UID:6e7d86656b5045c1e452e3be8ac700e3@skysports.com
SEQUENCE:0
DTSTAMP:20260318T100211Z
DTSTART:20251223T123000Z
DTEND:20251223T143000Z
SUMMARY:DR Congo v Benin
LOCATION:Stade El Barid
DESCRIPTION:DR Congo v Benin - Stade El Barid - Africa Cup of Nations
STATUS:CONFIRMED
END:VEVENT
BEGIN:VEVENT
UID:65e908c489fd88a5960ae16d6bbdcf2d@skysports.com
SEQUENCE:0
DTSTAMP:20260318T100211Z
DTSTART:20251223T173000Z
DTEND:20251223T193000Z
SUMMARY:Nigeria v Tanzania
LOCATION:Complexe Sportif de Fes
DESCRIPTION:Nigeria v Tanzania - Complexe Sportif de Fes - Africa Cup of N
 ations
STATUS:CONFIRMED
END:VEVENT
BEGIN:VEVENT
UID:09468d415b95f1b30a8630a0480cac73@skysports.com
SEQUENCE:0
DTSTAMP:20260318T100211Z
DTSTART:20251223T150000Z
DTEND:20251223T170000Z
SUMMARY:Senegal v Botswana
LOCATION:Grand Stade de Tanger
DESCRIPTION:Senegal v Botswana - Grand Stade de Tanger - Africa Cup of Nat
 ions
STATUS:CONFIRMED
END:VEVENT
BEGIN:VEVENT
UID:5c87b89e97e6863d54514d7a837cb61c@skysports.com
SEQUENCE:0
DTSTAMP:20260318T100211Z
DTSTART:20251223T200000Z
DTEND:20251223T220000Z
SUMMARY:Tunisia v Uganda
LOCATION:Stade Olympique de Rabat
DESCRIPTION:Tunisia v Uganda - Stade Olympique de Rabat - Africa Cup of Na
 tions
STATUS:CONFIRMED
END:VEVENT
BEGIN:VEVENT
UID:135fbc19a8def1e83125cd2da4434939@skysports.com
SEQUENCE:0
DTSTAMP:20260318T100211Z
DTSTART:20251224T150000Z
DTEND:20251224T170000Z
SUMMARY:Algeria v Sudan
LOCATION:Stade Prince Moulay Al Hassan
DESCRIPTION:Algeria v Sudan - Stade Prince Moulay Al Hassan - Africa Cup o
 f Nations
STATUS:CONFIRMED
END:VEVENT
BEGIN:VEVENT
UID:1f4829b278ba781595150a63384da1c6@skysports.com
SEQUENCE:0
DTSTAMP:20260318T100211Z
DTSTART:20251224T123000Z
DTEND:20251224T143000Z
SUMMARY:Burkina Faso v Equatorial Guinea
LOCATION:Stade Mohamed V
DESCRIPTION:Burkina Faso v Equatorial Guinea - Stade Mohamed V - Africa Cu
 p of Nations
STATUS:CONFIRMED
END:VEVENT
BEGIN:VEVENT
UID:737aadbf6d5d614e9797cddeca7b117e@skysports.com
SEQUENCE:0
DTSTAMP:20260318T100211Z
DTSTART:20251224T200000Z
DTEND:20251224T220000Z
SUMMARY:Cameroon v Gabon
LOCATION:Le Grand Stade Agadir
DESCRIPTION:Cameroon v Gabon - Le Grand Stade Agadir - Africa Cup of Natio
 ns
STATUS:CONFIRMED
END:VEVENT
BEGIN:VEVENT
UID:35506d63bb2c01dbe3acb76b88bd1df6@skysports.com
SEQUENCE:0
DTSTAMP:20260318T100211Z
DTSTART:20251224T173000Z
DTEND:20251224T193000Z
SUMMARY:Ivory Coast v Mozambique
LOCATION:Stade de Marrakech
DESCRIPTION:Ivory Coast v Mozambique - Stade de Marrakech - Africa Cup of 
 Nations
STATUS:CONFIRMED
END:VEVENT
BEGIN:VEVENT
UID:74aee578251888528926257db1f34f24@skysports.com
SEQUENCE:0
DTSTAMP:20260318T100211Z
DTSTART:20251226T123000Z
DTEND:20251226T143000Z
SUMMARY:Angola v Zimbabwe
LOCATION:Stade de Marrakech
DESCRIPTION:Angola v Zimbabwe - Stade de Marrakech - Africa Cup of Nations
STATUS:CONFIRMED
END:VEVENT
BEGIN:VEVENT
UID:7697e890549c51cf06235f3df562e4e0@skysports.com
SEQUENCE:0
DTSTAMP:20260318T100211Z
DTSTART:20251226T150000Z
DTEND:20251226T170000Z
SUMMARY:Egypt v South Africa
LOCATION:Le Grand Stade Agadir
DESCRIPTION:Egypt v South Africa - Le Grand Stade Agadir - Africa Cup of N
 ations
STATUS:CONFIRMED
END:VEVENT
BEGIN:VEVENT
UID:4695f25526cac27ad7a9323d9e41ee61@skysports.com
SEQUENCE:0
DTSTAMP:20260318T100211Z
DTSTART:20251226T200000Z
DTEND:20251226T220000Z
SUMMARY:Morocco v Mali
LOCATION:Stade Prince Moulay Abdallah
DESCRIPTION:Morocco v Mali - Stade Prince Moulay Abdallah - Africa Cup of 
 Nations
STATUS:CONFIRMED
END:VEVENT
BEGIN:VEVENT
UID:3153e3b7cd081781fb796a70417fbd6c@skysports.com
SEQUENCE:0
DTSTAMP:20260318T100211Z
DTSTART:20251226T173000Z
DTEND:20251226T193000Z
SUMMARY:Zambia v Comoros
LOCATION:Stade Mohamed V
DESCRIPTION:Zambia v Comoros - Stade Mohamed V - Africa Cup of Nations
STATUS:CONFIRMED
END:VEVENT
BEGIN:VEVENT
UID:20ac1efc2c72186f4066de7f0fb4343e@skysports.com
SEQUENCE:0
DTSTAMP:20260318T100211Z
DTSTART:20251227T123000Z
DTEND:20251227T143000Z
SUMMARY:Benin v Botswana
LOCATION:Stade Olympique de Rabat
DESCRIPTION:Benin v Botswana - Stade Olympique de Rabat - Africa Cup of Na
 tions
STATUS:CONFIRMED
END:VEVENT
BEGIN:VEVENT
UID:58991a747943dae53e8c49f06f83a0bf@skysports.com
SEQUENCE:0
DTSTAMP:20260318T100211Z
DTSTART:20251227T200000Z
DTEND:20251227T220000Z
SUMMARY:Nigeria v Tunisia
LOCATION:Complexe Sportif de Fes
DESCRIPTION:Nigeria v Tunisia - Complexe Sportif de Fes - Africa Cup of Na
 tions
STATUS:CONFIRMED
END:VEVENT
BEGIN:VEVENT
UID:e766e10277b6fe075a11e72efa40ccee@skysports.com
SEQUENCE:0
DTSTAMP:20260318T100211Z
DTSTART:20251227T150000Z
DTEND:20251227T170000Z
SUMMARY:Senegal v DR Congo
LOCATION:Grand Stade de Tanger
DESCRIPTION:Senegal v DR Congo - Grand Stade de Tanger - Africa Cup of Nat
 ions
STATUS:CONFIRMED
END:VEVENT
BEGIN:VEVENT
UID:460921131fab5ffc02cafea8eb7f0674@skysports.com
SEQUENCE:0
DTSTAMP:20260318T100211Z
DTSTART:20251227T173000Z
DTEND:20251227T193000Z
SUMMARY:Uganda v Tanzania
LOCATION:Stade El Barid
DESCRIPTION:Uganda v Tanzania - Stade El Barid - Africa Cup of Nations
STATUS:CONFIRMED
END:VEVENT
BEGIN:VEVENT
UID:91c97d1b16fa159642a6792bd6c05a1c@skysports.com
SEQUENCE:0
DTSTAMP:20260318T100211Z
DTSTART:20251228T173000Z
DTEND:20251228T193000Z
SUMMARY:Algeria v Burkina Faso
LOCATION:Stade Prince Moulay Al Hassan
DESCRIPTION:Algeria v Burkina Faso - Stade Prince Moulay Al Hassan - Afric
 a Cup of Nations
STATUS:CONFIRMED
END:VEVENT
BEGIN:VEVENT
UID:246efbcd95a4036d4831f850d6f6d00f@skysports.com
SEQUENCE:0
DTSTAMP:20260318T100211Z
DTSTART:20251228T200000Z
DTEND:20251228T220000Z
SUMMARY:Ivory Coast v Cameroon
LOCATION:Stade de Marrakech
DESCRIPTION:Ivory Coast v Cameroon - Stade de Marrakech - Africa Cup of Na
 tions
STATUS:CONFIRMED
END:VEVENT
BEGIN:VEVENT
UID:a002df40fd26b588f28447658fc1daae@skysports.com
SEQUENCE:0
DTSTAMP:20260318T100211Z
DTSTART:20251228T150000Z
DTEND:20251228T170000Z
SUMMARY:Equatorial Guinea v Sudan
LOCATION:Stade Mohamed V
DESCRIPTION:Equatorial Guinea v Sudan - Stade Mohamed V - Africa Cup of Na
 tions
STATUS:CONFIRMED
END:VEVENT
BEGIN:VEVENT
UID:9fbf3776461def12dc8d700ad4e12f39@skysports.com
SEQUENCE:0
DTSTAMP:20260318T100211Z
DTSTART:20251228T123000Z
DTEND:20251228T143000Z
SUMMARY:Gabon v Mozambique
LOCATION:Le Grand Stade Agadir
DESCRIPTION:Gabon v Mozambique - Le Grand Stade Agadir - Africa Cup of Nat
 ions
STATUS:CONFIRMED
END:VEVENT
BEGIN:VEVENT
UID:d369c5373773a14faa8d261afd2c3c83@skysports.com
SEQUENCE:0
DTSTAMP:20260318T100211Z
DTSTART:20251229T160000Z
DTEND:20251229T180000Z
SUMMARY:Angola v Egypt
LOCATION:Le Grand Stade Agadir
DESCRIPTION:Angola v Egypt - Le Grand Stade Agadir - Africa Cup of Nations
STATUS:CONFIRMED
END:VEVENT
BEGIN:VEVENT
UID:cc4363145173e24ada01865900b37aa6@skysports.com
SEQUENCE:0
DTSTAMP:20260318T100211Z
DTSTART:20251229T190000Z
DTEND:20251229T210000Z
SUMMARY:Comoros v Mali
LOCATION:Stade Mohamed V
DESCRIPTION:Comoros v Mali - Stade Mohamed V - Africa Cup of Nations
STATUS:CONFIRMED
END:VEVENT
BEGIN:VEVENT
UID:e16c472d1869a40485c4888a4337b5f3@skysports.com
SEQUENCE:0
DTSTAMP:20260318T100211Z
DTSTART:20251229T190000Z
DTEND:20251229T210000Z
SUMMARY:Zambia v Morocco
LOCATION:Stade Prince Moulay Abdallah
DESCRIPTION:Zambia v Morocco - Stade Prince Moulay Abdallah - Africa Cup o
 f Nations
STATUS:CONFIRMED
END:VEVENT
BEGIN:VEVENT
UID:39f9cf0e3ae5cbe20e90d1d572954142@skysports.com
SEQUENCE:0
DTSTAMP:20260318T100211Z
DTSTART:20251229T160000Z
DTEND:20251229T180000Z
SUMMARY:Zimbabwe v South Africa
LOCATION:Stade de Marrakech
DESCRIPTION:Zimbabwe v South Africa - Stade de Marrakech - Africa Cup of N
 ations
STATUS:CONFIRMED
END:VEVENT
BEGIN:VEVENT
UID:cfd7ab28327b9943c03e544c4e72ff9c@skysports.com
SEQUENCE:0
DTSTAMP:20260318T100211Z
DTSTART:20251230T190000Z
DTEND:20251230T210000Z
SUMMARY:Benin v Senegal
LOCATION:Grand Stade de Tanger
DESCRIPTION:Benin v Senegal - Grand Stade de Tanger - Africa Cup of Nation
 s
STATUS:CONFIRMED
END:VEVENT
BEGIN:VEVENT
UID:1534e9b17321c6941a7b2d4828103322@skysports.com
SEQUENCE:0
DTSTAMP:20260318T100211Z
DTSTART:20251230T190000Z
DTEND:20251230T210000Z
SUMMARY:Botswana v DR Congo
LOCATION:Stade El Barid
DESCRIPTION:Botswana v DR Congo - Stade El Barid - Africa Cup of Nations
STATUS:CONFIRMED
END:VEVENT
BEGIN:VEVENT
UID:a7bc6e1e97e18689d283c685e928dc08@skysports.com
SEQUENCE:0
DTSTAMP:20260318T100211Z
DTSTART:20251230T160000Z
DTEND:20251230T180000Z
SUMMARY:Tanzania v Tunisia
LOCATION:Stade Olympique de Rabat
DESCRIPTION:Tanzania v Tunisia - Stade Olympique de Rabat - Africa Cup of 
 Nations
STATUS:CONFIRMED
END:VEVENT
BEGIN:VEVENT
UID:0c23c6fc9a59b8842357d877e60f0382@skysports.com
SEQUENCE:0
DTSTAMP:20260318T100211Z
DTSTART:20251230T160000Z
DTEND:20251230T180000Z
SUMMARY:Uganda v Nigeria
LOCATION:Complexe Sportif de Fes
DESCRIPTION:Uganda v Nigeria - Complexe Sportif de Fes - Africa Cup of Nat
 ions
STATUS:CONFIRMED
END:VEVENT
BEGIN:VEVENT
UID:b4e586cd8b0f28f32aa0dbec8e48469d@skysports.com
SEQUENCE:0
DTSTAMP:20260318T100211Z
DTSTART:20251231T160000Z
DTEND:20251231T180000Z
SUMMARY:Equatorial Guinea v Algeria
LOCATION:Stade Prince Moulay Al Hassan
DESCRIPTION:Equatorial Guinea v Algeria - Stade Prince Moulay Al Hassan - 
 Africa Cup of Nations
STATUS:CONFIRMED
END:VEVENT
BEGIN:VEVENT
UID:4782560abbf3c4ebdb7a5ed23abad43d@skysports.com
SEQUENCE:0
DTSTAMP:20260318T100211Z
DTSTART:20251231T190000Z
DTEND:20251231T210000Z
SUMMARY:Gabon v Ivory Coast
LOCATION:Stade de Marrakech
DESCRIPTION:Gabon v Ivory Coast - Stade de Marrakech - Africa Cup of Natio
 ns
STATUS:CONFIRMED
END:VEVENT
BEGIN:VEVENT
UID:bd767084d05c036f2e9f2af63fe14bee@skysports.com
SEQUENCE:0
DTSTAMP:20260318T100211Z
DTSTART:20251231T190000Z
DTEND:20251231T210000Z
SUMMARY:Mozambique v Cameroon
LOCATION:Le Grand Stade Agadir
DESCRIPTION:Mozambique v Cameroon - Le Grand Stade Agadir - Africa Cup of 
 Nations
STATUS:CONFIRMED
END:VEVENT
BEGIN:VEVENT
UID:e884c17b43d384980e28979d47dafb39@skysports.com
SEQUENCE:0
DTSTAMP:20260318T100211Z
DTSTART:20251231T160000Z
DTEND:20251231T180000Z
SUMMARY:Sudan v Burkina Faso
LOCATION:Stade Mohamed V
DESCRIPTION:Sudan v Burkina Faso - Stade Mohamed V - Africa Cup of Nations
STATUS:CONFIRMED
END:VEVENT
BEGIN:VEVENT
UID:e145fa0d28d666ce83a8301ec27e191d@skysports.com
SEQUENCE:0
DTSTAMP:20260318T100211Z
DTSTART:20260103T190000Z
DTEND:20260103T210000Z
SUMMARY:Mali v Tunisia
LOCATION:Stade Mohamed V
DESCRIPTION:Mali v Tunisia - Stade Mohamed V - Africa Cup of Nations
STATUS:CONFIRMED
END:VEVENT
BEGIN:VEVENT
UID:c83ac1d2ed0b5111a5f59e8a4ba19cc9@skysports.com
SEQUENCE:0
DTSTAMP:20260318T100211Z
DTSTART:20260103T160000Z
DTEND:20260103T180000Z
SUMMARY:Senegal v Sudan
LOCATION:Grand Stade de Tanger
DESCRIPTION:Senegal v Sudan - Grand Stade de Tanger - Africa Cup of Nation
 s
STATUS:CONFIRMED
END:VEVENT
BEGIN:VEVENT
UID:dfd50f2e31d87e6fdcff9f000f9cdc03@skysports.com
SEQUENCE:0
DTSTAMP:20260318T100211Z
DTSTART:20260104T160000Z
DTEND:20260104T180000Z
SUMMARY:Morocco v Tanzania
LOCATION:Stade Prince Moulay Abdallah
DESCRIPTION:Morocco v Tanzania - Stade Prince Moulay Abdallah - Africa Cup
  of Nations
STATUS:CONFIRMED
END:VEVENT
BEGIN:VEVENT
UID:d15e92f2e7f53251e21c626a1aee13e3@skysports.com
SEQUENCE:0
DTSTAMP:20260318T100211Z
DTSTART:20260104T190000Z
DTEND:20260104T210000Z
SUMMARY:South Africa v Cameroon
LOCATION:Stade El Barid
DESCRIPTION:South Africa v Cameroon - Stade El Barid - Africa Cup of Natio
 ns
STATUS:CONFIRMED
END:VEVENT
BEGIN:VEVENT
UID:d3c50c21ad726bbf6a7f6511abeb7a90@skysports.com
SEQUENCE:0
DTSTAMP:20260318T100211Z
DTSTART:20260105T160000Z
DTEND:20260105T180000Z
SUMMARY:Egypt v Benin
LOCATION:Le Grand Stade Agadir
DESCRIPTION:Egypt v Benin - Le Grand Stade Agadir - Africa Cup of Nations
STATUS:CONFIRMED
END:VEVENT
BEGIN:VEVENT
UID:5288a5143de7aec075d277e3984f0ef9@skysports.com
SEQUENCE:0
DTSTAMP:20260318T100211Z
DTSTART:20260105T190000Z
DTEND:20260105T210000Z
SUMMARY:Nigeria v Mozambique
LOCATION:Complexe Sportif de Fes
DESCRIPTION:Nigeria v Mozambique - Complexe Sportif de Fes - Africa Cup of
  Nations
STATUS:CONFIRMED
END:VEVENT
BEGIN:VEVENT
UID:896a1024cd0abfcb1261dde9526f04a1@skysports.com
SEQUENCE:0
DTSTAMP:20260318T100211Z
DTSTART:20260106T160000Z
DTEND:20260106T180000Z
SUMMARY:Algeria v DR Congo
LOCATION:Stade Prince Moulay Al Hassan
DESCRIPTION:Algeria v DR Congo - Stade Prince Moulay Al Hassan - Africa Cu
 p of Nations
STATUS:CONFIRMED
END:VEVENT
BEGIN:VEVENT
UID:d2ae7ff81e5ca5cae3a020d068171f52@skysports.com
SEQUENCE:0
DTSTAMP:20260318T100211Z
DTSTART:20260106T190000Z
DTEND:20260106T210000Z
SUMMARY:Ivory Coast v Burkina Faso
LOCATION:Stade de Marrakech
DESCRIPTION:Ivory Coast v Burkina Faso - Stade de Marrakech - Africa Cup o
 f Nations
STATUS:CONFIRMED
END:VEVENT
BEGIN:VEVENT
UID:0930df9f450ed6bed6ca9a4ae1419f9a@skysports.com
SEQUENCE:0
DTSTAMP:20260318T100211Z
DTSTART:20260109T160000Z
DTEND:20260109T180000Z
SUMMARY:Mali v Senegal
LOCATION:Grand Stade de Tanger
DESCRIPTION:Mali v Senegal - Grand Stade de Tanger - Africa Cup of Nations
STATUS:CONFIRMED
END:VEVENT
BEGIN:VEVENT
UID:593663b3ee3a3b92498e81df9c6189bf@skysports.com
SEQUENCE:0
DTSTAMP:20260318T100211Z
DTSTART:20260109T190000Z
DTEND:20260109T210000Z
SUMMARY:Cameroon v Morocco
LOCATION:Stade Prince Moulay Abdallah
DESCRIPTION:Cameroon v Morocco - Stade Prince Moulay Abdallah - Africa Cup
  of Nations
STATUS:CONFIRMED
END:VEVENT
BEGIN:VEVENT
UID:55500d5ea2db0868733879e3a13a5fdf@skysports.com
SEQUENCE:0
DTSTAMP:20260318T100211Z
DTSTART:20260110T190000Z
DTEND:20260110T210000Z
SUMMARY:Egypt v Ivory Coast
LOCATION:Le Grand Stade Agadir
DESCRIPTION:Egypt v Ivory Coast - Le Grand Stade Agadir - Africa Cup of Na
 tions
STATUS:CONFIRMED
END:VEVENT
BEGIN:VEVENT
UID:f82115ac8cb41e335c64308fd3847c03@skysports.com
SEQUENCE:0
DTSTAMP:20260318T100211Z
DTSTART:20260110T160000Z
DTEND:20260110T180000Z
SUMMARY:Algeria v Nigeria
LOCATION:Stade de Marrakech
DESCRIPTION:Algeria v Nigeria - Stade de Marrakech - Africa Cup of Nations
STATUS:CONFIRMED
END:VEVENT
BEGIN:VEVENT
UID:7d0be1c2c68059c8b29e06678c95a203@skysports.com
SEQUENCE:0
DTSTAMP:20260318T100211Z
DTSTART:20260114T170000Z
DTEND:20260114T190000Z
SUMMARY:Senegal v Egypt
LOCATION:Grand Stade de Tanger
DESCRIPTION:Senegal v Egypt - Grand Stade de Tanger - Africa Cup of Nation
 s
STATUS:CONFIRMED
END:VEVENT
BEGIN:VEVENT
UID:8a669e8391d08187ddd302559dcd1793@skysports.com
SEQUENCE:0
DTSTAMP:20260318T100211Z
DTSTART:20260114T200000Z
DTEND:20260114T220000Z
SUMMARY:Nigeria v Morocco
LOCATION:Stade Prince Moulay Abdallah
DESCRIPTION:Nigeria v Morocco - Stade Prince Moulay Abdallah - Africa Cup 
 of Nations
STATUS:CONFIRMED
END:VEVENT
BEGIN:VEVENT
UID:cf71dc82538f9fff0886c054318342f9@skysports.com
SEQUENCE:0
DTSTAMP:20260318T100211Z
DTSTART:20260117T160000Z
DTEND:20260117T180000Z
SUMMARY:Egypt v Nigeria
LOCATION:Stade Mohamed V
DESCRIPTION:Egypt v Nigeria - Stade Mohamed V - Africa Cup of Nations
STATUS:CONFIRMED
END:VEVENT
BEGIN:VEVENT
UID:cb61ecb2e4233b06add4f5f2fd1a47f2@skysports.com
SEQUENCE:0
DTSTAMP:20260318T100211Z
DTSTART:20260118T190000Z
DTEND:20260118T210000Z
SUMMARY:Senegal v Morocco
LOCATION:Stade Prince Moulay Abdallah
DESCRIPTION:Senegal v Morocco - Stade Prince Moulay Abdallah - Africa Cup 
 of Nations
STATUS:CONFIRMED
END:VEVENT
END:VCALENDAR