BEGIN:VCALENDAR
VERSION:2.0
PRODID:-//Sky Sports SSDM//NONSGML Event Calendar//EN
URL:https://www.skysports.com/calendars/football/fixtures/competitions/bar
 clays-women's-super-league
CALSCALE:GREGORIAN
METHOD:PUBLISH
NAME:Barclays Women's Super League Fixtures
X-WR-CALNAME:Barclays Women's Super League Fixtures
X-WR-CALDESC:Barclays Women's Super League fixtures provided by Sky Sports
  (https://www.skysports.com)
REFRESH-INTERVAL;VALUE=DURATION:PT1H
X-PUBLISHED-TTL:PT1H
BEGIN:VEVENT
UID:2b0eb70b8b4c2f83c7f4d596cedd7762@skysports.com
SEQUENCE:0
DTSTAMP:20260401T090324Z
DTSTART:20260429T180000Z
DTEND:20260429T200000Z
SUMMARY:Arsenal Women v Leicester City Women
LOCATION:Emirates Stadium
DESCRIPTION:Arsenal Women v Leicester City Women - Emirates Stadium - Barc
 lays Women's Super League - Live on Sky Sports Premier League and Sky Spor
 ts Main Event
STATUS:CONFIRMED
END:VEVENT
BEGIN:VEVENT
UID:144a0712136fa137a5e0ad07613a33cb@skysports.com
SEQUENCE:0
DTSTAMP:20260401T090324Z
DTSTART:20260201T115500Z
DTEND:20260201T135500Z
SUMMARY:Brighton and Hove Albion Women v London City Lionesses
LOCATION:Broadfield Stadium
DESCRIPTION:Brighton and Hove Albion Women v London City Lionesses - Broad
 field Stadium - Barclays Women's Super League - Live on Sky Sports+
STATUS:CONFIRMED
END:VEVENT
BEGIN:VEVENT
UID:682d2975afdcf426325f38e30b033f7f@skysports.com
SEQUENCE:0
DTSTAMP:20260401T090324Z
DTSTART:20260201T115500Z
DTEND:20260201T135500Z
SUMMARY:Everton Women v Aston Villa Women
LOCATION:Goodison Park
DESCRIPTION:Everton Women v Aston Villa Women - Goodison Park - Barclays W
 omen's Super League - Live on Sky Sports+
STATUS:CONFIRMED
END:VEVENT
BEGIN:VEVENT
UID:021d1a54a3e8ae7e1a6250d0033f5ecb@skysports.com
SEQUENCE:0
DTSTAMP:20260401T090324Z
DTSTART:20260201T143000Z
DTEND:20260201T163000Z
SUMMARY:Manchester City Women v Chelsea Women
LOCATION:Etihad Stadium
DESCRIPTION:Manchester City Women v Chelsea Women - Etihad Stadium - Barcl
 ays Women's Super League
STATUS:CONFIRMED
END:VEVENT
BEGIN:VEVENT
UID:664cbdd6324e31760a0981ded88222b1@skysports.com
SEQUENCE:0
DTSTAMP:20260401T090324Z
DTSTART:20260201T115500Z
DTEND:20260201T135500Z
SUMMARY:Manchester United Women v Liverpool Women
LOCATION:Leigh Sports Village
DESCRIPTION:Manchester United Women v Liverpool Women - Leigh Sports Villa
 ge - Barclays Women's Super League - Live on Sky Sports Football and Sky S
 ports Football HD
STATUS:CONFIRMED
END:VEVENT
BEGIN:VEVENT
UID:05c8f9e507dc94453c6854e21638c80c@skysports.com
SEQUENCE:0
DTSTAMP:20260401T090324Z
DTSTART:20260201T115500Z
DTEND:20260201T135500Z
SUMMARY:West Ham United Women v Tottenham Hotspur Women
LOCATION:Victoria Road
DESCRIPTION:West Ham United Women v Tottenham Hotspur Women - Victoria Roa
 d - Barclays Women's Super League - Live on Sky Sports+
STATUS:CONFIRMED
END:VEVENT
BEGIN:VEVENT
UID:ddfac3fe703a9d9d9789e4340e7b6280@skysports.com
SEQUENCE:0
DTSTAMP:20260401T090324Z
DTSTART:20260208T120000Z
DTEND:20260208T140000Z
SUMMARY:Arsenal Women v Manchester City Women
LOCATION:Emirates Stadium
DESCRIPTION:Arsenal Women v Manchester City Women - Emirates Stadium - Bar
 clays Women's Super League - Live on Sky Sports+
STATUS:CONFIRMED
END:VEVENT
BEGIN:VEVENT
UID:11438b650412db8bda19956c5ff6f1a3@skysports.com
SEQUENCE:0
DTSTAMP:20260401T090324Z
DTSTART:20260207T120000Z
DTEND:20260207T140000Z
SUMMARY:Leicester City Women v Manchester United Women
LOCATION:The King Power Stadium
DESCRIPTION:Leicester City Women v Manchester United Women - The King Powe
 r Stadium - Barclays Women's Super League - Live on Sky Sports Premier Lea
 gue
STATUS:CONFIRMED
END:VEVENT
BEGIN:VEVENT
UID:8d9c5c25776405a5e2921433c0c7e517@skysports.com
SEQUENCE:0
DTSTAMP:20260401T090324Z
DTSTART:20260208T120000Z
DTEND:20260208T140000Z
SUMMARY:Liverpool Women v Aston Villa Women
LOCATION:Totally Wicked Stadium
DESCRIPTION:Liverpool Women v Aston Villa Women - Totally Wicked Stadium -
  Barclays Women's Super League - Live on Sky Sports+
STATUS:CONFIRMED
END:VEVENT
BEGIN:VEVENT
UID:a91bc28c8f24b946f2a3bfaaee803139@skysports.com
SEQUENCE:0
DTSTAMP:20260401T090324Z
DTSTART:20260208T120000Z
DTEND:20260208T140000Z
SUMMARY:London City Lionesses v Everton Women
LOCATION:Hayes Lane Stadium
DESCRIPTION:London City Lionesses v Everton Women - Hayes Lane Stadium - B
 arclays Women's Super League - Live on Sky Sports+
STATUS:CONFIRMED
END:VEVENT
BEGIN:VEVENT
UID:5bfdc79fc91cc1a20c27c3f6155dfe46@skysports.com
SEQUENCE:0
DTSTAMP:20260401T090324Z
DTSTART:20260208T142500Z
DTEND:20260208T162500Z
SUMMARY:Tottenham Hotspur Women v Chelsea Women
LOCATION:Tottenham Hotspur Stadium
DESCRIPTION:Tottenham Hotspur Women v Chelsea Women - Tottenham Hotspur St
 adium - Barclays Women's Super League
STATUS:CONFIRMED
END:VEVENT
BEGIN:VEVENT
UID:e25b6b8df50e3087a58014bbb94ba326@skysports.com
SEQUENCE:0
DTSTAMP:20260401T090324Z
DTSTART:20260208T120000Z
DTEND:20260208T140000Z
SUMMARY:West Ham United Women v Brighton and Hove Albion Women
LOCATION:Victoria Road
DESCRIPTION:West Ham United Women v Brighton and Hove Albion Women - Victo
 ria Road - Barclays Women's Super League - Live on Sky Sports+
STATUS:CONFIRMED
END:VEVENT
BEGIN:VEVENT
UID:c5d3f34bf71b10af1ce4ac3c0c8dd312@skysports.com
SEQUENCE:0
DTSTAMP:20260401T090324Z
DTSTART:20260215T120000Z
DTEND:20260215T140000Z
SUMMARY:Aston Villa Women v Tottenham Hotspur Women
LOCATION:Villa Park
DESCRIPTION:Aston Villa Women v Tottenham Hotspur Women - Villa Park - Bar
 clays Women's Super League - Live on Sky Sports+
STATUS:CONFIRMED
END:VEVENT
BEGIN:VEVENT
UID:8b3729dfe68044f266766ee81d4d7630@skysports.com
SEQUENCE:0
DTSTAMP:20260401T090324Z
DTSTART:20260506T184500Z
DTEND:20260506T204500Z
SUMMARY:Brighton and Hove Albion Women v Arsenal Women
LOCATION:Broadfield Stadium
DESCRIPTION:Brighton and Hove Albion Women v Arsenal Women - Broadfield St
 adium - Barclays Women's Super League - Live on Sky Sports Main Event and 
 Sky Sports Football
STATUS:CONFIRMED
END:VEVENT
BEGIN:VEVENT
UID:13a5edb664b7415ba2a3ebf0f4a9d098@skysports.com
SEQUENCE:0
DTSTAMP:20260401T090324Z
DTSTART:20260215T120000Z
DTEND:20260215T140000Z
SUMMARY:Chelsea Women v Liverpool Women
LOCATION:Kingsmeadow Stadium
DESCRIPTION:Chelsea Women v Liverpool Women - Kingsmeadow Stadium - Barcla
 ys Women's Super League - Live on Sky Sports Premier League and Sky Sports
  Main Event
STATUS:CONFIRMED
END:VEVENT
BEGIN:VEVENT
UID:4e137dce7de002a837f39ab8855a4153@skysports.com
SEQUENCE:0
DTSTAMP:20260401T090324Z
DTSTART:20260215T120000Z
DTEND:20260215T140000Z
SUMMARY:Everton Women v West Ham United Women
LOCATION:Goodison Park
DESCRIPTION:Everton Women v West Ham United Women - Goodison Park - Barcla
 ys Women's Super League - Live on Sky Sports+
STATUS:CONFIRMED
END:VEVENT
BEGIN:VEVENT
UID:85bd983d7cd4a10a444754920e0bc956@skysports.com
SEQUENCE:0
DTSTAMP:20260401T090324Z
DTSTART:20260213T190000Z
DTEND:20260213T210000Z
SUMMARY:Manchester City Women v Leicester City Women
LOCATION:City Football Academy
DESCRIPTION:Manchester City Women v Leicester City Women - City Football A
 cademy - Barclays Women's Super League
STATUS:CONFIRMED
END:VEVENT
BEGIN:VEVENT
UID:28fe599d10826070aeff8cf4d907daea@skysports.com
SEQUENCE:0
DTSTAMP:20260401T090324Z
DTSTART:20260215T120000Z
DTEND:20260215T140000Z
SUMMARY:Manchester United Women v London City Lionesses
LOCATION:Leigh Sports Village
DESCRIPTION:Manchester United Women v London City Lionesses - Leigh Sports
  Village - Barclays Women's Super League - Live on Sky Sports Premier Leag
 ue
STATUS:CONFIRMED
END:VEVENT
BEGIN:VEVENT
UID:14fa9c5a2359516864e742e36e7ffdbf@skysports.com
SEQUENCE:0
DTSTAMP:20260401T090324Z
DTSTART:20260315T115500Z
DTEND:20260315T135500Z
SUMMARY:Aston Villa Women v Manchester City Women
LOCATION:Villa Park
DESCRIPTION:Aston Villa Women v Manchester City Women - Villa Park - Barcl
 ays Women's Super League - Live on Sky Sports+
STATUS:CONFIRMED
END:VEVENT
BEGIN:VEVENT
UID:1260dc874154cced38fb89c446122613@skysports.com
SEQUENCE:0
DTSTAMP:20260401T090324Z
DTSTART:20260318T190000Z
DTEND:20260318T210000Z
SUMMARY:Chelsea Women v Brighton and Hove Albion Women
LOCATION:Kingsmeadow Stadium
DESCRIPTION:Chelsea Women v Brighton and Hove Albion Women - Kingsmeadow S
 tadium - Barclays Women's Super League - Live on Sky Sports Premier League
 \, Sky Sports Main Event and Sky Sports Mix
STATUS:CONFIRMED
END:VEVENT
BEGIN:VEVENT
UID:d0c588a1907f2b4739a107dd4e60a868@skysports.com
SEQUENCE:0
DTSTAMP:20260401T090324Z
DTSTART:20260315T115500Z
DTEND:20260315T135500Z
SUMMARY:Liverpool Women v Leicester City Women
LOCATION:Totally Wicked Stadium
DESCRIPTION:Liverpool Women v Leicester City Women - Totally Wicked Stadiu
 m - Barclays Women's Super League - Live on Sky Sports+
STATUS:CONFIRMED
END:VEVENT
BEGIN:VEVENT
UID:ef527dca11924a3d4341ab5341e18fa7@skysports.com
SEQUENCE:0
DTSTAMP:20260401T090324Z
DTSTART:20260315T115500Z
DTEND:20260315T135500Z
SUMMARY:London City Lionesses v Arsenal Women
LOCATION:Hayes Lane Stadium
DESCRIPTION:London City Lionesses v Arsenal Women - Hayes Lane Stadium - B
 arclays Women's Super League - Live on Sky Sports+
STATUS:CONFIRMED
END:VEVENT
BEGIN:VEVENT
UID:ffe1352c7906e819e3123a33fbeedb14@skysports.com
SEQUENCE:0
DTSTAMP:20260401T090324Z
DTSTART:20260315T115500Z
DTEND:20260315T135500Z
SUMMARY:Tottenham Hotspur Women v Everton Women
LOCATION:Tottenham Hotspur Stadium
DESCRIPTION:Tottenham Hotspur Women v Everton Women - Tottenham Hotspur St
 adium - Barclays Women's Super League - Live on Sky Sports+
STATUS:CONFIRMED
END:VEVENT
BEGIN:VEVENT
UID:0dd3002d6bbd1e789a920f0864a0d5d6@skysports.com
SEQUENCE:0
DTSTAMP:20260401T090324Z
DTSTART:20260318T191500Z
DTEND:20260318T211500Z
SUMMARY:West Ham United Women v Manchester United Women
LOCATION:Victoria Road
DESCRIPTION:West Ham United Women v Manchester United Women - Victoria Roa
 d - Barclays Women's Super League
STATUS:CONFIRMED
END:VEVENT
BEGIN:VEVENT
UID:cea476ba3c4062dca0cf8b4686504adf@skysports.com
SEQUENCE:0
DTSTAMP:20260401T090324Z
DTSTART:20260321T120000Z
DTEND:20260321T140000Z
SUMMARY:Arsenal Women v West Ham United Women
LOCATION:Emirates Stadium
DESCRIPTION:Arsenal Women v West Ham United Women - Emirates Stadium - Bar
 clays Women's Super League - Live on Sky Sports+
STATUS:CONFIRMED
END:VEVENT
BEGIN:VEVENT
UID:75578252efc6b1caf350c7ca4dbc9d6a@skysports.com
SEQUENCE:0
DTSTAMP:20260401T090324Z
DTSTART:20260321T120000Z
DTEND:20260321T140000Z
SUMMARY:Manchester United Women v Everton Women
LOCATION:Leigh Sports Village
DESCRIPTION:Manchester United Women v Everton Women - Leigh Sports Village
  - Barclays Women's Super League - Live on Sky Sports+
STATUS:CONFIRMED
END:VEVENT
BEGIN:VEVENT
UID:7a54d3618a2d7f8368e532f03817a6b1@skysports.com
SEQUENCE:0
DTSTAMP:20260401T090324Z
DTSTART:20260322T120000Z
DTEND:20260322T140000Z
SUMMARY:Brighton and Hove Albion Women v Liverpool Women
LOCATION:Broadfield Stadium
DESCRIPTION:Brighton and Hove Albion Women v Liverpool Women - Broadfield 
 Stadium - Barclays Women's Super League - Live on Sky Sports Mix and Sky S
 ports+
STATUS:CONFIRMED
END:VEVENT
BEGIN:VEVENT
UID:746585469516a522d6bec7e084e312bf@skysports.com
SEQUENCE:0
DTSTAMP:20260401T090324Z
DTSTART:20260322T144500Z
DTEND:20260322T164500Z
SUMMARY:Leicester City Women v Aston Villa Women
LOCATION:The King Power Stadium
DESCRIPTION:Leicester City Women v Aston Villa Women - The King Power Stad
 ium - Barclays Women's Super League
STATUS:CONFIRMED
END:VEVENT
BEGIN:VEVENT
UID:f88ffd769a266f8a0418ff6fdf545dbb@skysports.com
SEQUENCE:0
DTSTAMP:20260401T090324Z
DTSTART:20260321T120000Z
DTEND:20260321T140000Z
SUMMARY:London City Lionesses v Chelsea Women
LOCATION:The Den
DESCRIPTION:London City Lionesses v Chelsea Women - The Den - Barclays Wom
 en's Super League - Live on Sky Sports Mix
STATUS:CONFIRMED
END:VEVENT
BEGIN:VEVENT
UID:ca146c603187ae628b39fd79b6b7b075@skysports.com
SEQUENCE:0
DTSTAMP:20260401T090324Z
DTSTART:20260321T120000Z
DTEND:20260321T140000Z
SUMMARY:Manchester City Women v Tottenham Hotspur Women
LOCATION:City Football Academy
DESCRIPTION:Manchester City Women v Tottenham Hotspur Women - City Footbal
 l Academy - Barclays Women's Super League - Live on Sky Sports Premier Lea
 gue
STATUS:CONFIRMED
END:VEVENT
BEGIN:VEVENT
UID:4757616931dbf66bc8b669281fd9d4cc@skysports.com
SEQUENCE:0
DTSTAMP:20260401T090324Z
DTSTART:20260328T173000Z
DTEND:20260328T193000Z
SUMMARY:Arsenal Women v Tottenham Hotspur Women
LOCATION:Emirates Stadium
DESCRIPTION:Arsenal Women v Tottenham Hotspur Women - Emirates Stadium - B
 arclays Women's Super League - Live on Sky Sports Main Event and Sky Sport
 s Football
STATUS:CONFIRMED
END:VEVENT
BEGIN:VEVENT
UID:fd85870656d96987c8c85164dfa71ad9@skysports.com
SEQUENCE:0
DTSTAMP:20260401T090324Z
DTSTART:20260329T110000Z
DTEND:20260329T130000Z
SUMMARY:Chelsea Women v Aston Villa Women
LOCATION:Kingsmeadow Stadium
DESCRIPTION:Chelsea Women v Aston Villa Women - Kingsmeadow Stadium - Barc
 lays Women's Super League - Live on Sky Sports Main Event\, Sky Sports Foo
 tball and Sky Sports Mix
STATUS:CONFIRMED
END:VEVENT
BEGIN:VEVENT
UID:16cf7443e5778f39eb3baebfa5965feb@skysports.com
SEQUENCE:0
DTSTAMP:20260401T090324Z
DTSTART:20260328T120000Z
DTEND:20260328T140000Z
SUMMARY:Everton Women v Liverpool Women
LOCATION:Goodison Park
DESCRIPTION:Everton Women v Liverpool Women - Goodison Park - Barclays Wom
 en's Super League - Live on Sky Sports Premier League and Sky Sports Mix
STATUS:CONFIRMED
END:VEVENT
BEGIN:VEVENT
UID:749850698692f48fb5a5c712a4ef07c9@skysports.com
SEQUENCE:0
DTSTAMP:20260401T090324Z
DTSTART:20260329T140000Z
DTEND:20260329T160000Z
SUMMARY:Leicester City Women v Brighton and Hove Albion Women
LOCATION:The King Power Stadium
DESCRIPTION:Leicester City Women v Brighton and Hove Albion Women - The Ki
 ng Power Stadium - Barclays Women's Super League - Live on Sky Sports+
STATUS:CONFIRMED
END:VEVENT
BEGIN:VEVENT
UID:a76194a175c380590e21ebe2116cfd1b@skysports.com
SEQUENCE:0
DTSTAMP:20260401T090324Z
DTSTART:20260328T133000Z
DTEND:20260328T153000Z
SUMMARY:Manchester United Women v Manchester City Women
LOCATION:Old Trafford
DESCRIPTION:Manchester United Women v Manchester City Women - Old Trafford
  - Barclays Women's Super League
STATUS:CONFIRMED
END:VEVENT
BEGIN:VEVENT
UID:3faf697344c0fc17dd6d5ca4f20b4dcb@skysports.com
SEQUENCE:0
DTSTAMP:20260401T090324Z
DTSTART:20260329T110000Z
DTEND:20260329T130000Z
SUMMARY:West Ham United Women v London City Lionesses
LOCATION:Victoria Road
DESCRIPTION:West Ham United Women v London City Lionesses - Victoria Road 
 - Barclays Women's Super League - Live on Sky Sports Premier League
STATUS:CONFIRMED
END:VEVENT
BEGIN:VEVENT
UID:c075791f029d6dd633e22f2909259739@skysports.com
SEQUENCE:0
DTSTAMP:20260401T090324Z
DTSTART:20260426T131500Z
DTEND:20260426T151500Z
SUMMARY:Aston Villa Women v Arsenal Women
LOCATION:Villa Park
DESCRIPTION:Aston Villa Women v Arsenal Women - Villa Park - Barclays Wome
 n's Super League
STATUS:CONFIRMED
END:VEVENT
BEGIN:VEVENT
UID:3d17529e1de7dd3f9eb65ed59844e595@skysports.com
SEQUENCE:0
DTSTAMP:20260401T090324Z
DTSTART:20260425T110000Z
DTEND:20260425T130000Z
SUMMARY:Brighton and Hove Albion Women v Manchester City Women
LOCATION:Broadfield Stadium
DESCRIPTION:Brighton and Hove Albion Women v Manchester City Women - Broad
 field Stadium - Barclays Women's Super League
STATUS:CONFIRMED
END:VEVENT
BEGIN:VEVENT
UID:7f45411880264558dc3d958e3a36a326@skysports.com
SEQUENCE:0
DTSTAMP:20260401T090324Z
DTSTART:20260426T110000Z
DTEND:20260426T130000Z
SUMMARY:Everton Women v Chelsea Women
LOCATION:Goodison Park
DESCRIPTION:Everton Women v Chelsea Women - Goodison Park - Barclays Women
 's Super League
STATUS:CONFIRMED
END:VEVENT
BEGIN:VEVENT
UID:07e7a292dd6d1e2214cafa691bfc4e9f@skysports.com
SEQUENCE:0
DTSTAMP:20260401T090324Z
DTSTART:20260426T130000Z
DTEND:20260426T150000Z
SUMMARY:Liverpool Women v West Ham United Women
LOCATION:Totally Wicked Stadium
DESCRIPTION:Liverpool Women v West Ham United Women - Totally Wicked Stadi
 um - Barclays Women's Super League
STATUS:CONFIRMED
END:VEVENT
BEGIN:VEVENT
UID:3703c91d6760460afb98c372c74b6ac5@skysports.com
SEQUENCE:0
DTSTAMP:20260401T090324Z
DTSTART:20260426T110000Z
DTEND:20260426T130000Z
SUMMARY:London City Lionesses v Leicester City Women
LOCATION:Hayes Lane Stadium
DESCRIPTION:London City Lionesses v Leicester City Women - Hayes Lane Stad
 ium - Barclays Women's Super League
STATUS:CONFIRMED
END:VEVENT
BEGIN:VEVENT
UID:22ddfa60035112e445f2b268fcdec5d4@skysports.com
SEQUENCE:0
DTSTAMP:20260401T090324Z
DTSTART:20260426T110000Z
DTEND:20260426T130000Z
SUMMARY:Tottenham Hotspur Women v Manchester United Women
LOCATION:Tottenham Hotspur Stadium
DESCRIPTION:Tottenham Hotspur Women v Manchester United Women - Tottenham 
 Hotspur Stadium - Barclays Women's Super League
STATUS:CONFIRMED
END:VEVENT
BEGIN:VEVENT
UID:bc1bcae9f60035716ba4f5458710d003@skysports.com
SEQUENCE:0
DTSTAMP:20260401T090324Z
DTSTART:20260503T130000Z
DTEND:20260503T150000Z
SUMMARY:Arsenal Women v Everton Women
LOCATION:Emirates Stadium
DESCRIPTION:Arsenal Women v Everton Women - Emirates Stadium - Barclays Wo
 men's Super League
STATUS:CONFIRMED
END:VEVENT
BEGIN:VEVENT
UID:a8d0ee6c905804b53b2d1219a374b51b@skysports.com
SEQUENCE:0
DTSTAMP:20260401T090324Z
DTSTART:20260503T130000Z
DTEND:20260503T150000Z
SUMMARY:Aston Villa Women v West Ham United Women
LOCATION:Villa Park
DESCRIPTION:Aston Villa Women v West Ham United Women - Villa Park - Barcl
 ays Women's Super League
STATUS:CONFIRMED
END:VEVENT
BEGIN:VEVENT
UID:9ec0ee3146305ef6ccc3d03aa03ee1ba@skysports.com
SEQUENCE:0
DTSTAMP:20260401T090324Z
DTSTART:20260503T140000Z
DTEND:20260503T160000Z
SUMMARY:Leicester City Women v Chelsea Women
LOCATION:The King Power Stadium
DESCRIPTION:Leicester City Women v Chelsea Women - The King Power Stadium 
 - Barclays Women's Super League
STATUS:CONFIRMED
END:VEVENT
BEGIN:VEVENT
UID:9c836ebb03eb4bf865601cc7185068e4@skysports.com
SEQUENCE:0
DTSTAMP:20260401T090324Z
DTSTART:20260503T110000Z
DTEND:20260503T130000Z
SUMMARY:Manchester City Women v Liverpool Women
LOCATION:City Football Academy
DESCRIPTION:Manchester City Women v Liverpool Women - City Football Academ
 y - Barclays Women's Super League
STATUS:CONFIRMED
END:VEVENT
BEGIN:VEVENT
UID:0ff8d5108883113476cfde71f465be67@skysports.com
SEQUENCE:0
DTSTAMP:20260401T090324Z
DTSTART:20260503T120000Z
DTEND:20260503T140000Z
SUMMARY:Manchester United Women v Brighton and Hove Albion Women
LOCATION:Leigh Sports Village
DESCRIPTION:Manchester United Women v Brighton and Hove Albion Women - Lei
 gh Sports Village - Barclays Women's Super League
STATUS:CONFIRMED
END:VEVENT
BEGIN:VEVENT
UID:55a4be52ad8b9add3736311c68ce13e4@skysports.com
SEQUENCE:0
DTSTAMP:20260401T090324Z
DTSTART:20260503T130000Z
DTEND:20260503T150000Z
SUMMARY:Tottenham Hotspur Women v London City Lionesses
LOCATION:BetWright Stadium
DESCRIPTION:Tottenham Hotspur Women v London City Lionesses - BetWright St
 adium - Barclays Women's Super League
STATUS:CONFIRMED
END:VEVENT
BEGIN:VEVENT
UID:3e70032f731f28b1a32b9dfa3eb057f0@skysports.com
SEQUENCE:0
DTSTAMP:20260401T090324Z
DTSTART:20260516T120000Z
DTEND:20260516T140000Z
SUMMARY:Brighton and Hove Albion Women v Tottenham Hotspur Women
LOCATION:Amex Stadium
DESCRIPTION:Brighton and Hove Albion Women v Tottenham Hotspur Women - Ame
 x Stadium - Barclays Women's Super League
STATUS:CONFIRMED
END:VEVENT
BEGIN:VEVENT
UID:385a916c2504f92f2baa742b5cc95119@skysports.com
SEQUENCE:0
DTSTAMP:20260401T090324Z
DTSTART:20260516T120000Z
DTEND:20260516T140000Z
SUMMARY:Chelsea Women v Manchester United Women
LOCATION:Stamford Bridge
DESCRIPTION:Chelsea Women v Manchester United Women - Stamford Bridge - Ba
 rclays Women's Super League
STATUS:CONFIRMED
END:VEVENT
BEGIN:VEVENT
UID:b46b706c764d701e0465098a135798ed@skysports.com
SEQUENCE:0
DTSTAMP:20260401T090324Z
DTSTART:20260516T120000Z
DTEND:20260516T140000Z
SUMMARY:Everton Women v Leicester City Women
LOCATION:Goodison Park
DESCRIPTION:Everton Women v Leicester City Women - Goodison Park - Barclay
 s Women's Super League
STATUS:CONFIRMED
END:VEVENT
BEGIN:VEVENT
UID:13baf08f260af317ee146d9b616a6285@skysports.com
SEQUENCE:0
DTSTAMP:20260401T090324Z
DTSTART:20260516T120000Z
DTEND:20260516T140000Z
SUMMARY:Liverpool Women v Arsenal Women
LOCATION:Anfield
DESCRIPTION:Liverpool Women v Arsenal Women - Anfield - Barclays Women's S
 uper League
STATUS:CONFIRMED
END:VEVENT
BEGIN:VEVENT
UID:ee6dc9d987fa16e09ffa005191e54308@skysports.com
SEQUENCE:0
DTSTAMP:20260401T090324Z
DTSTART:20260516T120000Z
DTEND:20260516T140000Z
SUMMARY:London City Lionesses v Aston Villa Women
LOCATION:Hayes Lane Stadium
DESCRIPTION:London City Lionesses v Aston Villa Women - Hayes Lane Stadium
  - Barclays Women's Super League
STATUS:CONFIRMED
END:VEVENT
BEGIN:VEVENT
UID:ca85e302985a702ccc785a4570b81a2d@skysports.com
SEQUENCE:0
DTSTAMP:20260401T090324Z
DTSTART:20260516T120000Z
DTEND:20260516T140000Z
SUMMARY:West Ham United Women v Manchester City Women
LOCATION:Victoria Road
DESCRIPTION:West Ham United Women v Manchester City Women - Victoria Road 
 - Barclays Women's Super League
STATUS:CONFIRMED
END:VEVENT
END:VCALENDAR