BEGIN:VCALENDAR
VERSION:2.0
PRODID:-//Sky Sports SSDM//NONSGML Event Calendar//EN
URL:https://www.skysports.com/calendars/football/fixtures/competitions/cop
 a-america
CALSCALE:GREGORIAN
METHOD:PUBLISH
NAME:Copa America Fixtures
X-WR-CALNAME:Copa America Fixtures
X-WR-CALDESC:Copa America fixtures provided by Sky Sports (https://www.sky
 sports.com)
BEGIN:VTIMEZONE
TZID:Europe/London
TZURL:http://tzurl.org/zoneinfo-outlook/Europe/London
X-LIC-LOCATION:Europe/London
BEGIN:DAYLIGHT
TZOFFSETFROM:+0000
TZOFFSETTO:+0100
TZNAME:BST
DTSTART:19700329T010000
RRULE:FREQ=YEARLY;BYMONTH=3;BYDAY=-1SU
END:DAYLIGHT
BEGIN:STANDARD
TZOFFSETFROM:+0100
TZOFFSETTO:+0000
TZNAME:GMT
DTSTART:19701025T020000
RRULE:FREQ=YEARLY;BYMONTH=10;BYDAY=-1SU
END:STANDARD
END:VTIMEZONE
TIMEZONE-ID:Europe/London
X-WR-TIMEZONE:Europe/London
REFRESH-INTERVAL;VALUE=DURATION:PT1H
X-PUBLISHED-TTL:PT1H
BEGIN:VEVENT
UID:f6836b6d91bdfb15db60b8a616b616f3@skysports.com
SEQUENCE:0
DTSTAMP:20240915T090053
DTSTART:564400829T000000
DTEND:564400829T020000
SUMMARY:Argentina v Canada
LOCATION:Mercedes-Benz Stadium
DESCRIPTION:Argentina v Canada - Mercedes-Benz Stadium - Copa America
STATUS:CONFIRMED
END:VEVENT
BEGIN:VEVENT
UID:c09b6a54f84a10159f1986c633e1cba1@skysports.com
SEQUENCE:0
DTSTAMP:20240915T090053
DTSTART:564430526T000000
DTEND:564430526T020000
SUMMARY:Peru v Chile
LOCATION:AT&T Stadium
DESCRIPTION:Peru v Chile - AT&T Stadium - Copa America
STATUS:CONFIRMED
END:VEVENT
BEGIN:VEVENT
UID:8409f612a412ec86d1f72196aceae87d@skysports.com
SEQUENCE:0
DTSTAMP:20240915T090053
DTSTART:564451127T160000
DTEND:564451127T180000
SUMMARY:Ecuador v Venezuela
LOCATION:Levi's Stadium
DESCRIPTION:Ecuador v Venezuela - Levi's Stadium - Copa America
STATUS:CONFIRMED
END:VEVENT
BEGIN:VEVENT
UID:16076bebe79ec69d83c8d896db700077@skysports.com
SEQUENCE:0
DTSTAMP:20240915T090053
DTSTART:564460401T160000
DTEND:564460401T180000
SUMMARY:Mexico v Jamaica
LOCATION:NRG Stadium
DESCRIPTION:Mexico v Jamaica - NRG Stadium - Copa America
STATUS:CONFIRMED
END:VEVENT
BEGIN:VEVENT
UID:ec4993e235216164a105da5cf728e97b@skysports.com
SEQUENCE:0
DTSTAMP:20240915T090053
DTSTART:564481226T160000
DTEND:564481226T180000
SUMMARY:Uruguay v Panama
LOCATION:Hard Rock Stadium
DESCRIPTION:Uruguay v Panama - Hard Rock Stadium - Copa America
STATUS:CONFIRMED
END:VEVENT
BEGIN:VEVENT
UID:abc86dee21240c013a7e484e02ee67ea@skysports.com
SEQUENCE:0
DTSTAMP:20240915T090053
DTSTART:564480823T160000
DTEND:564480823T180000
SUMMARY:United States of America v Bolivia
LOCATION:AT&T Stadium
DESCRIPTION:United States of America v Bolivia - AT&T Stadium - Copa Ameri
 ca
STATUS:CONFIRMED
END:VEVENT
BEGIN:VEVENT
UID:a42196c609172aa132fc07ee32e8431b@skysports.com
SEQUENCE:0
DTSTAMP:20240915T090053
DTSTART:564510922T160000
DTEND:564510922T180000
SUMMARY:Brazil v Costa Rica
LOCATION:SoFi Stadium
DESCRIPTION:Brazil v Costa Rica - SoFi Stadium - Copa America
STATUS:CONFIRMED
END:VEVENT
BEGIN:VEVENT
UID:76ffc50fff9251730c1dc004b29f8819@skysports.com
SEQUENCE:0
DTSTAMP:20240915T090053
DTSTART:564510520T160000
DTEND:564510520T180000
SUMMARY:Colombia v Paraguay
LOCATION:NRG Stadium
DESCRIPTION:Colombia v Paraguay - NRG Stadium - Copa America
STATUS:CONFIRMED
END:VEVENT
BEGIN:VEVENT
UID:bd9cdf10ee5e00760a38ae7c51128a31@skysports.com
SEQUENCE:0
DTSTAMP:20240915T090053
DTSTART:564540213T160000
DTEND:564540213T180000
SUMMARY:Peru v Canada
LOCATION:Sporting Park
DESCRIPTION:Peru v Canada - Sporting Park - Copa America
STATUS:CONFIRMED
END:VEVENT
BEGIN:VEVENT
UID:e4a981553c57c1da63b980bc16970105@skysports.com
SEQUENCE:0
DTSTAMP:20240915T090053
DTSTART:564540618T160000
DTEND:564540618T180000
SUMMARY:Chile v Argentina
LOCATION:MetLife Stadium
DESCRIPTION:Chile v Argentina - MetLife Stadium - Copa America
STATUS:CONFIRMED
END:VEVENT
BEGIN:VEVENT
UID:e28141495c597bcd2a00880b74bf8e26@skysports.com
SEQUENCE:0
DTSTAMP:20240915T090053
DTSTART:564561109T160000
DTEND:564561109T180000
SUMMARY:Ecuador v Jamaica
LOCATION:Allegiant Stadium
DESCRIPTION:Ecuador v Jamaica - Allegiant Stadium - Copa America
STATUS:CONFIRMED
END:VEVENT
BEGIN:VEVENT
UID:a3237da777cd6d8c96d35702840ece01@skysports.com
SEQUENCE:0
DTSTAMP:20240915T090053
DTSTART:564570314T160000
DTEND:564570314T180000
SUMMARY:Venezuela v Mexico
LOCATION:SoFi Stadium
DESCRIPTION:Venezuela v Mexico - SoFi Stadium - Copa America
STATUS:CONFIRMED
END:VEVENT
BEGIN:VEVENT
UID:6fbc4f1f67e886a99fef6d24653fdb7f@skysports.com
SEQUENCE:0
DTSTAMP:20240915T090053
DTSTART:564591209T160000
DTEND:564591209T180000
SUMMARY:Uruguay v Bolivia
LOCATION:MetLife Stadium
DESCRIPTION:Uruguay v Bolivia - MetLife Stadium - Copa America
STATUS:CONFIRMED
END:VEVENT
BEGIN:VEVENT
UID:284efd1920c4fdbd2b4f161aa6d92f41@skysports.com
SEQUENCE:0
DTSTAMP:20240915T090053
DTSTART:564590806T160000
DTEND:564590806T180000
SUMMARY:Panama v United States of America
LOCATION:Mercedes-Benz Stadium
DESCRIPTION:Panama v United States of America - Mercedes-Benz Stadium - Co
 pa America
STATUS:CONFIRMED
END:VEVENT
BEGIN:VEVENT
UID:37d14d27b73944723985d882357f74c4@skysports.com
SEQUENCE:0
DTSTAMP:20240915T090053
DTSTART:564620502T160000
DTEND:564620502T180000
SUMMARY:Colombia v Costa Rica
LOCATION:University of Phoenix Stadium
DESCRIPTION:Colombia v Costa Rica - University of Phoenix Stadium - Copa A
 merica
STATUS:CONFIRMED
END:VEVENT
BEGIN:VEVENT
UID:6f3fec1eaee25e82aa0eae4be29225b4@skysports.com
SEQUENCE:0
DTSTAMP:20240915T090053
DTSTART:564620904T160000
DTEND:564620904T180000
SUMMARY:Paraguay v Brazil
LOCATION:Allegiant Stadium
DESCRIPTION:Paraguay v Brazil - Allegiant Stadium - Copa America
STATUS:CONFIRMED
END:VEVENT
BEGIN:VEVENT
UID:4655095823e7b9e92731305a0aee18eb@skysports.com
SEQUENCE:0
DTSTAMP:20240915T090053
DTSTART:564650420T000000
DTEND:564650420T020000
SUMMARY:Canada v Chile
LOCATION:Orlando City Stadium
DESCRIPTION:Canada v Chile - Orlando City Stadium - Copa America
STATUS:CONFIRMED
END:VEVENT
BEGIN:VEVENT
UID:c6fb0212a42058f404ca84e27ff76c2a@skysports.com
SEQUENCE:0
DTSTAMP:20240915T090053
DTSTART:564650420T000000
DTEND:564650420T020000
SUMMARY:Argentina v Peru
LOCATION:Hard Rock Stadium
DESCRIPTION:Argentina v Peru - Hard Rock Stadium - Copa America
STATUS:CONFIRMED
END:VEVENT
BEGIN:VEVENT
UID:e52b869aad72fca87edd418de58a9ccf@skysports.com
SEQUENCE:0
DTSTAMP:20240915T090053
DTSTART:564680115T000000
DTEND:564680115T020000
SUMMARY:Jamaica v Venezuela
LOCATION:Q2 Stadium
DESCRIPTION:Jamaica v Venezuela - Q2 Stadium - Copa America
STATUS:CONFIRMED
END:VEVENT
BEGIN:VEVENT
UID:ad28998a045b16f6225de5dddd2fe667@skysports.com
SEQUENCE:0
DTSTAMP:20240915T090053
DTSTART:564680115T000000
DTEND:564680115T020000
SUMMARY:Mexico v Ecuador
LOCATION:University of Phoenix Stadium
DESCRIPTION:Mexico v Ecuador - University of Phoenix Stadium - Copa Americ
 a
STATUS:CONFIRMED
END:VEVENT
BEGIN:VEVENT
UID:035145aea0e702f01166fbde94ecbd01@skysports.com
SEQUENCE:0
DTSTAMP:20240915T090053
DTSTART:564701121T160000
DTEND:564701121T180000
SUMMARY:Bolivia v Panama
LOCATION:Orlando City Stadium
DESCRIPTION:Bolivia v Panama - Orlando City Stadium - Copa America
STATUS:CONFIRMED
END:VEVENT
BEGIN:VEVENT
UID:94fd0c0f4acfe73141e83a6e8b76375a@skysports.com
SEQUENCE:0
DTSTAMP:20240915T090053
DTSTART:564701121T160000
DTEND:564701121T180000
SUMMARY:United States of America v Uruguay
LOCATION:Arrowhead Stadium
DESCRIPTION:United States of America v Uruguay - Arrowhead Stadium - Copa 
 America
STATUS:CONFIRMED
END:VEVENT
BEGIN:VEVENT
UID:49850e2b454c2c93f228980dd5638ac6@skysports.com
SEQUENCE:0
DTSTAMP:20240915T090053
DTSTART:564730817T160000
DTEND:564730817T180000
SUMMARY:Brazil v Colombia
LOCATION:Levi's Stadium
DESCRIPTION:Brazil v Colombia - Levi's Stadium - Copa America
STATUS:CONFIRMED
END:VEVENT
BEGIN:VEVENT
UID:1b1fdccf71053c3673aae50dfe2cbaf3@skysports.com
SEQUENCE:0
DTSTAMP:20240915T090053
DTSTART:564730817T160000
DTEND:564730817T180000
SUMMARY:Costa Rica v Paraguay
LOCATION:Q2 Stadium
DESCRIPTION:Costa Rica v Paraguay - Q2 Stadium - Copa America
STATUS:CONFIRMED
END:VEVENT
BEGIN:VEVENT
UID:f8c1f505a90edbe49eac130a449517ca@skysports.com
SEQUENCE:0
DTSTAMP:20240915T090053
DTSTART:564790207T160000
DTEND:564790207T180000
SUMMARY:Argentina v Ecuador
LOCATION:NRG Stadium
DESCRIPTION:Argentina v Ecuador - NRG Stadium - Copa America
STATUS:CONFIRMED
END:VEVENT
BEGIN:VEVENT
UID:f4ca9521bc0243700b83361cded89f59@skysports.com
SEQUENCE:0
DTSTAMP:20240915T090053
DTSTART:564811103T160000
DTEND:564811103T180000
SUMMARY:Venezuela v Canada
LOCATION:AT&T Stadium
DESCRIPTION:Venezuela v Canada - AT&T Stadium - Copa America
STATUS:CONFIRMED
END:VEVENT
BEGIN:VEVENT
UID:72c3b22603b6976d3d8700e4802c53ff@skysports.com
SEQUENCE:0
DTSTAMP:20240915T090053
DTSTART:564840730T160000
DTEND:564840730T180000
SUMMARY:Uruguay v Brazil
LOCATION:Allegiant Stadium
DESCRIPTION:Uruguay v Brazil - Allegiant Stadium - Copa America
STATUS:CONFIRMED
END:VEVENT
BEGIN:VEVENT
UID:581f251107cf3030c0bbb849b4c7c3bf@skysports.com
SEQUENCE:0
DTSTAMP:20240915T090053
DTSTART:564840327T160000
DTEND:564840327T180000
SUMMARY:Colombia v Panama
LOCATION:University of Phoenix Stadium
DESCRIPTION:Colombia v Panama - University of Phoenix Stadium - Copa Ameri
 ca
STATUS:CONFIRMED
END:VEVENT
BEGIN:VEVENT
UID:a421c37d93082f29bd1992c286592a79@skysports.com
SEQUENCE:0
DTSTAMP:20240915T090053
DTSTART:564920905T000000
DTEND:564920905T020000
SUMMARY:Argentina v Canada
LOCATION:MetLife Stadium
DESCRIPTION:Argentina v Canada - MetLife Stadium - Copa America
STATUS:CONFIRMED
END:VEVENT
BEGIN:VEVENT
UID:4503fa592ea89e31b2af821062e71282@skysports.com
SEQUENCE:0
DTSTAMP:20240915T090053
DTSTART:564950602T000000
DTEND:564950602T020000
SUMMARY:Uruguay v Colombia
LOCATION:Bank of America Stadium
DESCRIPTION:Uruguay v Colombia - Bank of America Stadium - Copa America
STATUS:CONFIRMED
END:VEVENT
BEGIN:VEVENT
UID:6eb940bec095e11adbdbd4614ee2ffbb@skysports.com
SEQUENCE:0
DTSTAMP:20240915T090053
DTSTART:565030820T000000
DTEND:565030820T020000
SUMMARY:Canada v Uruguay
LOCATION:Bank of America Stadium
DESCRIPTION:Canada v Uruguay - Bank of America Stadium - Copa America
STATUS:CONFIRMED
END:VEVENT
BEGIN:VEVENT
UID:816684add11986ced0bf6329c9d1b51c@skysports.com
SEQUENCE:0
DTSTAMP:20240915T090053
DTSTART:565060707T020000
DTEND:565060707T040000
SUMMARY:Argentina v Colombia
LOCATION:Hard Rock Stadium
DESCRIPTION:Argentina v Colombia - Hard Rock Stadium - Copa America
STATUS:CONFIRMED
END:VEVENT
END:VCALENDAR