BEGIN:VCALENDAR
VERSION:2.0
PRODID:-//Sky Sports SSDM//NONSGML Event Calendar//EN
URL:https://www.skysports.com/calendars/football/fixtures/competitions/fif
 a-world-cup-asian-qualifying
CALSCALE:GREGORIAN
METHOD:PUBLISH
NAME:FIFA World Cup Asian Qualifying Fixtures
X-WR-CALNAME:FIFA World Cup Asian Qualifying Fixtures
X-WR-CALDESC:FIFA World Cup Asian Qualifying fixtures provided by Sky Spor
 ts (https://www.skysports.com)
REFRESH-INTERVAL;VALUE=DURATION:PT1H
X-PUBLISHED-TTL:PT1H
BEGIN:VEVENT
UID:fbff4bb85951a30de89e2f9b0efc1326@skysports.com
SEQUENCE:0
DTSTAMP:20260118T100301Z
DTSTART:20251008T171500Z
DTEND:20251008T191500Z
SUMMARY:Indonesia v Saudi Arabia
LOCATION:King Abdullah Sports City\, Jeddah
DESCRIPTION:Indonesia v Saudi Arabia - King Abdullah Sports City\, Jeddah 
 - FIFA World Cup Asian Qualifying
STATUS:CONFIRMED
END:VEVENT
BEGIN:VEVENT
UID:9b7b93caa2b2af49452de8310c7862ea@skysports.com
SEQUENCE:0
DTSTAMP:20260118T100301Z
DTSTART:20251008T150000Z
DTEND:20251008T170000Z
SUMMARY:Oman v Qatar
LOCATION:Jassim Bin Hamad Stadium
DESCRIPTION:Oman v Qatar - Jassim Bin Hamad Stadium - FIFA World Cup Asian
  Qualifying
STATUS:CONFIRMED
END:VEVENT
BEGIN:VEVENT
UID:7dc385b9db2262a69760736acb02e0d0@skysports.com
SEQUENCE:0
DTSTAMP:20260118T100301Z
DTSTART:20251011T193000Z
DTEND:20251011T213000Z
SUMMARY:Iraq v Indonesia
LOCATION:King Abdullah Sports City\, Jeddah
DESCRIPTION:Iraq v Indonesia - King Abdullah Sports City\, Jeddah - FIFA W
 orld Cup Asian Qualifying
STATUS:CONFIRMED
END:VEVENT
BEGIN:VEVENT
UID:cef4a6cd9d370a50c2e2e4b99f1991f9@skysports.com
SEQUENCE:0
DTSTAMP:20260118T100301Z
DTSTART:20251011T171500Z
DTEND:20251011T191500Z
SUMMARY:U.A.E. v Oman
LOCATION:Jassim Bin Hamad Stadium
DESCRIPTION:U.A.E. v Oman - Jassim Bin Hamad Stadium - FIFA World Cup Asia
 n Qualifying
STATUS:CONFIRMED
END:VEVENT
BEGIN:VEVENT
UID:a64ee4375a9cae814b14ddb2f690df2f@skysports.com
SEQUENCE:0
DTSTAMP:20260118T100301Z
DTSTART:20251014T170000Z
DTEND:20251014T190000Z
SUMMARY:Qatar v U.A.E.
LOCATION:Jassim Bin Hamad Stadium
DESCRIPTION:Qatar v U.A.E. - Jassim Bin Hamad Stadium - FIFA World Cup Asi
 an Qualifying
STATUS:CONFIRMED
END:VEVENT
BEGIN:VEVENT
UID:2c99b846dea659e7ed73d2db1a53079b@skysports.com
SEQUENCE:0
DTSTAMP:20260118T100301Z
DTSTART:20251014T184500Z
DTEND:20251014T204500Z
SUMMARY:Saudi Arabia v Iraq
LOCATION:King Abdullah Sports City\, Jeddah
DESCRIPTION:Saudi Arabia v Iraq - King Abdullah Sports City\, Jeddah - FIF
 A World Cup Asian Qualifying
STATUS:CONFIRMED
END:VEVENT
BEGIN:VEVENT
UID:d0677e00c4384cd7e8cec4029f653297@skysports.com
SEQUENCE:0
DTSTAMP:20260118T100301Z
DTSTART:20251113T160000Z
DTEND:20251113T180000Z
SUMMARY:U.A.E. v Iraq
LOCATION:Mohammed Bin Zayed Stadium
DESCRIPTION:U.A.E. v Iraq - Mohammed Bin Zayed Stadium - FIFA World Cup As
 ian Qualifying
STATUS:CONFIRMED
END:VEVENT
BEGIN:VEVENT
UID:789483ff5f2ba309daac84463ede540e@skysports.com
SEQUENCE:0
DTSTAMP:20260118T100301Z
DTSTART:20251118T160000Z
DTEND:20251118T180000Z
SUMMARY:Iraq v U.A.E.
LOCATION:Basra Stadium
DESCRIPTION:Iraq v U.A.E. - Basra Stadium - FIFA World Cup Asian Qualifyin
 g
STATUS:CONFIRMED
END:VEVENT
END:VCALENDAR