BEGIN:VCALENDAR
VERSION:2.0
PRODID:-//Sky Sports SSDM//NONSGML Event Calendar//EN
URL:https://www.skysports.com/calendars/football/fixtures/competitions/fif
 a-world-cup-european-qualifying
CALSCALE:GREGORIAN
METHOD:PUBLISH
NAME:FIFA World Cup European Qualifying Fixtures
X-WR-CALNAME:FIFA World Cup European Qualifying Fixtures
X-WR-CALDESC:FIFA World Cup European Qualifying fixtures provided by Sky S
 ports (https://www.skysports.com)
REFRESH-INTERVAL;VALUE=DURATION:PT1H
X-PUBLISHED-TTL:PT1H
BEGIN:VEVENT
UID:89f423c99564e658cb2b2db03fda829a@skysports.com
SEQUENCE:0
DTSTAMP:20260425T090303Z
DTSTART:20260326T194500Z
DTEND:20260326T214500Z
SUMMARY:Czech Republic v Republic of Ireland
LOCATION:Eden Arena
DESCRIPTION:Czech Republic v Republic of Ireland - Eden Arena - FIFA World
  Cup European Qualifying
STATUS:CONFIRMED
END:VEVENT
BEGIN:VEVENT
UID:11289d67336c2015465098583f99b557@skysports.com
SEQUENCE:0
DTSTAMP:20260425T090303Z
DTSTART:20260326T194500Z
DTEND:20260326T214500Z
SUMMARY:Denmark v North Macedonia
LOCATION:Telia Parken
DESCRIPTION:Denmark v North Macedonia - Telia Parken - FIFA World Cup Euro
 pean Qualifying
STATUS:CONFIRMED
END:VEVENT
BEGIN:VEVENT
UID:e752cd904bf1baa0c8b837f936fde317@skysports.com
SEQUENCE:0
DTSTAMP:20260425T090303Z
DTSTART:20260326T194500Z
DTEND:20260326T214500Z
SUMMARY:Italy v Northern Ireland
LOCATION:Gewiss Stadium
DESCRIPTION:Italy v Northern Ireland - Gewiss Stadium - FIFA World Cup Eur
 opean Qualifying
STATUS:CONFIRMED
END:VEVENT
BEGIN:VEVENT
UID:d5ca2b6f62a3d70e8290b3a346e188ed@skysports.com
SEQUENCE:0
DTSTAMP:20260425T090303Z
DTSTART:20260326T194500Z
DTEND:20260326T214500Z
SUMMARY:Poland v Albania
LOCATION:National Stadium\, Warsaw
DESCRIPTION:Poland v Albania - National Stadium\, Warsaw - FIFA World Cup 
 European Qualifying
STATUS:CONFIRMED
END:VEVENT
BEGIN:VEVENT
UID:55a9b6a71ba731925a3ed2d751b0ad91@skysports.com
SEQUENCE:0
DTSTAMP:20260425T090303Z
DTSTART:20260326T194500Z
DTEND:20260326T214500Z
SUMMARY:Slovakia v Kosovo
LOCATION:Tehelne Pole
DESCRIPTION:Slovakia v Kosovo - Tehelne Pole - FIFA World Cup European Qua
 lifying
STATUS:CONFIRMED
END:VEVENT
BEGIN:VEVENT
UID:d67cf47ca0f8dfc0ec5a64968e10088a@skysports.com
SEQUENCE:0
DTSTAMP:20260425T090303Z
DTSTART:20260326T170000Z
DTEND:20260326T190000Z
SUMMARY:Turkey v Romania
LOCATION:Vodafone Arena
DESCRIPTION:Turkey v Romania - Vodafone Arena - FIFA World Cup European Qu
 alifying
STATUS:CONFIRMED
END:VEVENT
BEGIN:VEVENT
UID:917c1eb59e0ef0e5fc8289e94188ec9a@skysports.com
SEQUENCE:0
DTSTAMP:20260425T090303Z
DTSTART:20260326T194500Z
DTEND:20260326T214500Z
SUMMARY:Ukraine v Sweden
LOCATION:Ciutat de Valencia
DESCRIPTION:Ukraine v Sweden - Ciutat de Valencia - FIFA World Cup Europea
 n Qualifying
STATUS:CONFIRMED
END:VEVENT
BEGIN:VEVENT
UID:e7170fbedebfe462107c7a33b43a87c1@skysports.com
SEQUENCE:0
DTSTAMP:20260425T090303Z
DTSTART:20260326T194500Z
DTEND:20260326T214500Z
SUMMARY:Wales v Bosnia and Herzegovina
LOCATION:Cardiff City Stadium
DESCRIPTION:Wales v Bosnia and Herzegovina - Cardiff City Stadium - FIFA W
 orld Cup European Qualifying
STATUS:CONFIRMED
END:VEVENT
BEGIN:VEVENT
UID:7c10d15ed632805b32321896e99af57f@skysports.com
SEQUENCE:0
DTSTAMP:20260425T090303Z
DTSTART:20260331T184500Z
DTEND:20260331T204500Z
SUMMARY:Bosnia and Herzegovina v Italy
LOCATION:Bilino Polje
DESCRIPTION:Bosnia and Herzegovina v Italy - Bilino Polje - FIFA World Cup
  European Qualifying
STATUS:CONFIRMED
END:VEVENT
BEGIN:VEVENT
UID:6ca05f59c8cb6357bac5b37c1f5a6671@skysports.com
SEQUENCE:0
DTSTAMP:20260425T090303Z
DTSTART:20260331T184500Z
DTEND:20260331T204500Z
SUMMARY:Sweden v Poland
LOCATION:Friends Arena
DESCRIPTION:Sweden v Poland - Friends Arena - FIFA World Cup European Qual
 ifying
STATUS:CONFIRMED
END:VEVENT
BEGIN:VEVENT
UID:3a8d3585c159989e1e3536a2b29c8d6f@skysports.com
SEQUENCE:0
DTSTAMP:20260425T090303Z
DTSTART:20260331T184500Z
DTEND:20260331T204500Z
SUMMARY:Kosovo v Turkey
LOCATION:Prishtina City Stadium
DESCRIPTION:Kosovo v Turkey - Prishtina City Stadium - FIFA World Cup Euro
 pean Qualifying
STATUS:CONFIRMED
END:VEVENT
BEGIN:VEVENT
UID:a720247758e55e86d8e3172d73011762@skysports.com
SEQUENCE:0
DTSTAMP:20260425T090303Z
DTSTART:20260331T184500Z
DTEND:20260331T204500Z
SUMMARY:Czech Republic v Denmark
LOCATION:epet ARENA
DESCRIPTION:Czech Republic v Denmark - epet ARENA - FIFA World Cup Europea
 n Qualifying
STATUS:CONFIRMED
END:VEVENT
END:VCALENDAR