BEGIN:VCALENDAR
VERSION:2.0
PRODID:-//Sky Sports SSDM//NONSGML Event Calendar//EN
URL:https://www.skysports.com/calendars/football/fixtures/competitions/und
 er-21-international
CALSCALE:GREGORIAN
METHOD:PUBLISH
NAME:Under-21 International Fixtures
X-WR-CALNAME:Under-21 International Fixtures
X-WR-CALDESC:Under-21 International fixtures provided by Sky Sports (https
 ://www.skysports.com)
REFRESH-INTERVAL;VALUE=DURATION:PT1H
X-PUBLISHED-TTL:PT1H
BEGIN:VEVENT
UID:c0c8771294dbc21cabb63bb9ebd8a5a7@skysports.com
SEQUENCE:0
DTSTAMP:20260425T090302Z
DTSTART:20260330T163000Z
DTEND:20260330T183000Z
SUMMARY:Netherlands U21 v Belgium U21
LOCATION:Seacon Stadion -De Koel-
DESCRIPTION:Netherlands U21 v Belgium U21 - Seacon Stadion -De Koel- - Und
 er-21 International
STATUS:CONFIRMED
END:VEVENT
BEGIN:VEVENT
UID:ad2141052ab0df30a0f4804603a17e44@skysports.com
SEQUENCE:0
DTSTAMP:20260425T090302Z
DTSTART:20260326T183000Z
DTEND:20260326T203000Z
SUMMARY:Hungary U21 v Israel U21
LOCATION:Pancho Arena
DESCRIPTION:Hungary U21 v Israel U21 - Pancho Arena - Under-21 Internation
 al
STATUS:CONFIRMED
END:VEVENT
END:VCALENDAR