BEGIN:VCALENDAR
VERSION:2.0
PRODID:-//Sky Sports SSDM//NONSGML Event Calendar//EN
URL:https://www.skysports.com/calendars/football/fixtures/competitions/wom
 en's-champions-league-qualifying
CALSCALE:GREGORIAN
METHOD:PUBLISH
NAME:Women's Champions League Qualifying Fixtures
X-WR-CALNAME:Women's Champions League Qualifying Fixtures
X-WR-CALDESC:Women's Champions League Qualifying fixtures provided by Sky 
 Sports (https://www.skysports.com)
REFRESH-INTERVAL;VALUE=DURATION:PT1H
X-PUBLISHED-TTL:PT1H
BEGIN:VEVENT
UID:4f58239ddf8f59dabe768ea80763c6c1@skysports.com
SEQUENCE:0
DTSTAMP:20251118T100325Z
DTSTART:20250730T090000Z
DTEND:20250730T110000Z
SUMMARY:Anina-SS Anenii Noi Women v Swieqi United Women
LOCATION:Myjava Stadium
DESCRIPTION:Anina-SS Anenii Noi Women v Swieqi United Women - Myjava Stadi
 um - Women's Champions League Qualifying
STATUS:CONFIRMED
END:VEVENT
BEGIN:VEVENT
UID:517903a8864e464d29be6c8ffa43336d@skysports.com
SEQUENCE:0
DTSTAMP:20251118T100325Z
DTSTART:20250730T183000Z
DTEND:20250730T203000Z
SUMMARY:Cardiff City Women v Athlone Town Women
LOCATION:Athlone Town Stadium
DESCRIPTION:Cardiff City Women v Athlone Town Women - Athlone Town Stadium
  - Women's Champions League Qualifying
STATUS:CONFIRMED
END:VEVENT
BEGIN:VEVENT
UID:ff4b2e73a9202af16abfab68197ec3cf@skysports.com
SEQUENCE:0
DTSTAMP:20251118T100325Z
DTSTART:20250730T110000Z
DTEND:20250730T130000Z
SUMMARY:Flora Women v Riga Women
LOCATION:Stade Achilles Hamerell
DESCRIPTION:Flora Women v Riga Women - Stade Achilles Hamerell - Women's C
 hampions League Qualifying
STATUS:CONFIRMED
END:VEVENT
BEGIN:VEVENT
UID:73e1982230c96b112ac005caa378debe@skysports.com
SEQUENCE:0
DTSTAMP:20251118T100325Z
DTSTART:20250730T160000Z
DTEND:20250730T180000Z
SUMMARY:Fomget Gençlik Women v Neftchi Baku Women
LOCATION:Kompleksi Sportiv Dinamo 2
DESCRIPTION:Fomget Gençlik Women v Neftchi Baku Women - Kompleksi Sportiv
  Dinamo 2 - Women's Champions League Qualifying
STATUS:CONFIRMED
END:VEVENT
BEGIN:VEVENT
UID:03c266164843749f9e7abb476bf9083c@skysports.com
SEQUENCE:0
DTSTAMP:20251118T100325Z
DTSTART:20250730T150000Z
DTEND:20250730T170000Z
SUMMARY:Ljuboten Women v NSÍ Women
LOCATION:FFM Training Centre
DESCRIPTION:Ljuboten Women v NSÍ Women - FFM Training Centre - Women's Ch
 ampions League Qualifying
STATUS:CONFIRMED
END:VEVENT
BEGIN:VEVENT
UID:f40b4736b7e48ab94830017769c30d8e@skysports.com
SEQUENCE:0
DTSTAMP:20251118T100325Z
DTSTART:20250730T140000Z
DTEND:20250730T160000Z
SUMMARY:Mitrovica Women v Cliftonville Ladies
LOCATION:Stadiumi Zahir Pajaziti
DESCRIPTION:Mitrovica Women v Cliftonville Ladies - Stadiumi Zahir Pajazit
 i - Women's Champions League Qualifying
STATUS:CONFIRMED
END:VEVENT
BEGIN:VEVENT
UID:a4e2dec8ce2314adfff1099aea8fc479@skysports.com
SEQUENCE:0
DTSTAMP:20251118T100325Z
DTSTART:20250730T090000Z
DTEND:20250730T110000Z
SUMMARY:NSA Sofia Women v Pyunik Women
LOCATION:FFM Training Centre
DESCRIPTION:NSA Sofia Women v Pyunik Women - FFM Training Centre - Women's
  Champions League Qualifying
STATUS:CONFIRMED
END:VEVENT
BEGIN:VEVENT
UID:fb522b42e5767bc1dac7754acf2e7e67@skysports.com
SEQUENCE:0
DTSTAMP:20251118T100325Z
DTSTART:20250730T170000Z
DTEND:20250730T190000Z
SUMMARY:Racing FC Union Luxembourg Women v AEK Athens Women
LOCATION:Stade Achilles Hamerell
DESCRIPTION:Racing FC Union Luxembourg Women v AEK Athens Women - Stade Ac
 hilles Hamerell - Women's Champions League Qualifying
STATUS:CONFIRMED
END:VEVENT
BEGIN:VEVENT
UID:7893c11e44a9ef21386162e7bde991d9@skysports.com
SEQUENCE:0
DTSTAMP:20251118T100325Z
DTSTART:20250730T170000Z
DTEND:20250730T190000Z
SUMMARY:Spartak Myjava Women v Buducnost Podgorica Women
LOCATION:Myjava Stadium
DESCRIPTION:Spartak Myjava Women v Buducnost Podgorica Women - Myjava Stad
 ium - Women's Champions League Qualifying
STATUS:CONFIRMED
END:VEVENT
BEGIN:VEVENT
UID:c7012f9ad96109a0c19ff6138c04c917@skysports.com
SEQUENCE:0
DTSTAMP:20251118T100325Z
DTSTART:20250802T150000Z
DTEND:20250802T170000Z
SUMMARY:Agram Zagreb Women v Athlone Town Women
LOCATION:Athlone Town Stadium
DESCRIPTION:Agram Zagreb Women v Athlone Town Women - Athlone Town Stadium
  - Women's Champions League Qualifying
STATUS:CONFIRMED
END:VEVENT
BEGIN:VEVENT
UID:463a9a1de01e5cebe2bbe3fd5bf5af32@skysports.com
SEQUENCE:0
DTSTAMP:20251118T100325Z
DTSTART:20250802T090000Z
DTEND:20250802T110000Z
SUMMARY:Anina-SS Anenii Noi Women v Buducnost Podgorica Women
LOCATION:Myjava Stadium
DESCRIPTION:Anina-SS Anenii Noi Women v Buducnost Podgorica Women - Myjava
  Stadium - Women's Champions League Qualifying
STATUS:CONFIRMED
END:VEVENT
BEGIN:VEVENT
UID:4b5dee3efdc06cae02cafaf446f3bf48@skysports.com
SEQUENCE:0
DTSTAMP:20251118T100325Z
DTSTART:20250802T110000Z
DTEND:20250802T130000Z
SUMMARY:Flora Women v AEK Athens Women
LOCATION:Stade Achilles Hamerell
DESCRIPTION:Flora Women v AEK Athens Women - Stade Achilles Hamerell - Wom
 en's Champions League Qualifying
STATUS:CONFIRMED
END:VEVENT
BEGIN:VEVENT
UID:e35e53f898cc89272fcc584b80efb3ce@skysports.com
SEQUENCE:0
DTSTAMP:20251118T100325Z
DTSTART:20250802T170000Z
DTEND:20250802T190000Z
SUMMARY:Lanchkhuti Women v Cliftonville Ladies
LOCATION:Prishtina City Stadium
DESCRIPTION:Lanchkhuti Women v Cliftonville Ladies - Prishtina City Stadiu
 m - Women's Champions League Qualifying
STATUS:CONFIRMED
END:VEVENT
BEGIN:VEVENT
UID:7daefabfa571314f4228325ab12b9e84@skysports.com
SEQUENCE:0
DTSTAMP:20251118T100325Z
DTSTART:20250802T150000Z
DTEND:20250802T170000Z
SUMMARY:Ljuboten Women v Pyunik Women
LOCATION:FFM Training Centre
DESCRIPTION:Ljuboten Women v Pyunik Women - FFM Training Centre - Women's 
 Champions League Qualifying
STATUS:CONFIRMED
END:VEVENT
BEGIN:VEVENT
UID:9cf264c694e802ffe46c42a3bcb99956@skysports.com
SEQUENCE:0
DTSTAMP:20251118T100325Z
DTSTART:20250802T160000Z
DTEND:20250802T180000Z
SUMMARY:Maccabi Kiryat Gat Women v Fomget Gençlik Women
LOCATION:Kompleksi Sportiv Dinamo 2
DESCRIPTION:Maccabi Kiryat Gat Women v Fomget Gençlik Women - Kompleksi S
 portiv Dinamo 2 - Women's Champions League Qualifying
STATUS:CONFIRMED
END:VEVENT
BEGIN:VEVENT
UID:656ea592a3e87c79f606f203ebc6cc9d@skysports.com
SEQUENCE:0
DTSTAMP:20251118T100325Z
DTSTART:20250802T090000Z
DTEND:20250802T110000Z
SUMMARY:NSA Sofia Women v NSÍ Women
LOCATION:FFM Training Centre
DESCRIPTION:NSA Sofia Women v NSÍ Women - FFM Training Centre - Women's C
 hampions League Qualifying
STATUS:CONFIRMED
END:VEVENT
BEGIN:VEVENT
UID:bfd27d8fdcc9e4a191066e3e76c5098a@skysports.com
SEQUENCE:0
DTSTAMP:20251118T100325Z
DTSTART:20250802T170000Z
DTEND:20250802T190000Z
SUMMARY:Racing FC Union Luxembourg Women v Riga Women
LOCATION:Stade Achilles Hamerell
DESCRIPTION:Racing FC Union Luxembourg Women v Riga Women - Stade Achilles
  Hamerell - Women's Champions League Qualifying
STATUS:CONFIRMED
END:VEVENT
BEGIN:VEVENT
UID:04264c872318a17a797ad94578506700@skysports.com
SEQUENCE:0
DTSTAMP:20251118T100325Z
DTSTART:20250802T170000Z
DTEND:20250802T190000Z
SUMMARY:Spartak Myjava Women v Swieqi United Women
LOCATION:Myjava Stadium
DESCRIPTION:Spartak Myjava Women v Swieqi United Women - Myjava Stadium - 
 Women's Champions League Qualifying
STATUS:CONFIRMED
END:VEVENT
BEGIN:VEVENT
UID:377f854487e1e1461eb50c147466ca18@skysports.com
SEQUENCE:0
DTSTAMP:20251118T100325Z
DTSTART:20250827T140000Z
DTEND:20250827T160000Z
SUMMARY:Apollon Ladies FC v Young Boys Women
LOCATION:Stelios Kyriakides Stadium
DESCRIPTION:Apollon Ladies FC v Young Boys Women - Stelios Kyriakides Stad
 ium - Women's Champions League Qualifying
STATUS:CONFIRMED
END:VEVENT
BEGIN:VEVENT
UID:038f3caf97868115668bb5b21323228c@skysports.com
SEQUENCE:0
DTSTAMP:20251118T100325Z
DTSTART:20250827T090000Z
DTEND:20250827T110000Z
SUMMARY:BIIK Kazygurt Women v GKS Katowice Women
LOCATION:SRC Slatina
DESCRIPTION:BIIK Kazygurt Women v GKS Katowice Women - SRC Slatina - Women
 's Champions League Qualifying
STATUS:CONFIRMED
END:VEVENT
BEGIN:VEVENT
UID:14612adff50661084551668d00dfaba4@skysports.com
SEQUENCE:0
DTSTAMP:20251118T100325Z
DTSTART:20250827T140000Z
DTEND:20250827T160000Z
SUMMARY:Brann Women v Inter Milan Women
LOCATION:Centro Sportivo Giacinto Facchetti
DESCRIPTION:Brann Women v Inter Milan Women - Centro Sportivo Giacinto Fac
 chetti - Women's Champions League Qualifying
STATUS:CONFIRMED
END:VEVENT
BEGIN:VEVENT
UID:929613a3a4b47f14fe03b6346270adcd@skysports.com
SEQUENCE:0
DTSTAMP:20251118T100325Z
DTSTART:20250827T110000Z
DTEND:20250827T130000Z
SUMMARY:Breidablik Women v Athlone Town Women
LOCATION:Sportpark Schreurserve-Enschede
DESCRIPTION:Breidablik Women v Athlone Town Women - Sportpark Schreurserve
 -Enschede - Women's Champions League Qualifying
STATUS:CONFIRMED
END:VEVENT
BEGIN:VEVENT
UID:20bee91fef7d5d5757eaa933191b62fb@skysports.com
SEQUENCE:0
DTSTAMP:20251118T100325Z
DTSTART:20250827T080000Z
DTEND:20250827T100000Z
SUMMARY:Ferencvárosi TC Women v Racing FC Union Luxembourg Women
LOCATION:Loro Borici
DESCRIPTION:Ferencvárosi TC Women v Racing FC Union Luxembourg Women - Lo
 ro Borici - Women's Champions League Qualifying
STATUS:CONFIRMED
END:VEVENT
BEGIN:VEVENT
UID:b5b80ab5322ca577a986d1258b40676f@skysports.com
SEQUENCE:0
DTSTAMP:20251118T100325Z
DTSTART:20250827T183000Z
DTEND:20250827T203000Z
SUMMARY:Fortuna Hjørring v Hibernian Women
LOCATION:Stelios Kyriakides Stadium
DESCRIPTION:Fortuna Hjørring v Hibernian Women - Stelios Kyriakides Stadi
 um - Women's Champions League Qualifying
STATUS:CONFIRMED
END:VEVENT
BEGIN:VEVENT
UID:edf7c7f4d9fdb1c75b3aaae65e84d4db@skysports.com
SEQUENCE:0
DTSTAMP:20251118T100325Z
DTSTART:20250827T150000Z
DTEND:20250827T170000Z
SUMMARY:Gintra Women v Farul Constanta Women
LOCATION:Siauliai M.Savivaldybes Stadionas
DESCRIPTION:Gintra Women v Farul Constanta Women - Siauliai M.Savivaldybes
  Stadionas - Women's Champions League Qualifying
STATUS:CONFIRMED
END:VEVENT
BEGIN:VEVENT
UID:9992550f4105c42dfb8c0ebb862dead1@skysports.com
SEQUENCE:0
DTSTAMP:20251118T100325Z
DTSTART:20250827T170000Z
DTEND:20250827T190000Z
SUMMARY:Glasgow City v Austria Wien Women
LOCATION:Generali Arena
DESCRIPTION:Glasgow City v Austria Wien Women - Generali Arena - Women's C
 hampions League Qualifying
STATUS:CONFIRMED
END:VEVENT
BEGIN:VEVENT
UID:b14507481e01d3317c26fcd12c99c1db@skysports.com
SEQUENCE:0
DTSTAMP:20251118T100325Z
DTSTART:20250827T170000Z
DTEND:20250827T190000Z
SUMMARY:Hammarby Women v Metalist 1925 Kharkiv Women
LOCATION:Tele2 arena
DESCRIPTION:Hammarby Women v Metalist 1925 Kharkiv Women - Tele2 arena - W
 omen's Champions League Qualifying
STATUS:CONFIRMED
END:VEVENT
BEGIN:VEVENT
UID:2176dc9443a3402aa66de8d15a72fb24@skysports.com
SEQUENCE:0
DTSTAMP:20251118T100325Z
DTSTART:20250827T100000Z
DTEND:20250827T120000Z
SUMMARY:Manchester United Women v PSV Women
LOCATION:Tele2 arena
DESCRIPTION:Manchester United Women v PSV Women - Tele2 arena - Women's Ch
 ampions League Qualifying
STATUS:CONFIRMED
END:VEVENT
BEGIN:VEVENT
UID:5022362c7f89408c63554c1f03191207@skysports.com
SEQUENCE:0
DTSTAMP:20251118T100325Z
DTSTART:20250827T160000Z
DTEND:20250827T180000Z
SUMMARY:Mura Women v Spartak Myjava Women
LOCATION:Fazanerija Stadium
DESCRIPTION:Mura Women v Spartak Myjava Women - Fazanerija Stadium - Women
 's Champions League Qualifying
STATUS:CONFIRMED
END:VEVENT
BEGIN:VEVENT
UID:328207d92a8a8a0fe883722c791f5437@skysports.com
SEQUENCE:0
DTSTAMP:20251118T100325Z
DTSTART:20250827T130000Z
DTEND:20250827T150000Z
SUMMARY:Roma Women v Aktobe Women
LOCATION:Stadion Prosek
DESCRIPTION:Roma Women v Aktobe Women - Stadion Prosek - Women's Champions
  League Qualifying
STATUS:CONFIRMED
END:VEVENT
BEGIN:VEVENT
UID:86291fcbc417f6759422c61bf26470f9@skysports.com
SEQUENCE:0
DTSTAMP:20251118T100325Z
DTSTART:20250827T110000Z
DTEND:20250827T130000Z
SUMMARY:Rosengård Women v Ljuboten Women
LOCATION:Den Dreef
DESCRIPTION:Rosengård Women v Ljuboten Women - Den Dreef - Women's Champi
 ons League Qualifying
STATUS:CONFIRMED
END:VEVENT
BEGIN:VEVENT
UID:a964c1783aad46edb98445de734a5948@skysports.com
SEQUENCE:0
DTSTAMP:20251118T100325Z
DTSTART:20250827T180000Z
DTEND:20250827T200000Z
SUMMARY:SFK 2000 v Oud-Heverlee Leuven Ladies
LOCATION:Den Dreef
DESCRIPTION:SFK 2000 v Oud-Heverlee Leuven Ladies - Den Dreef - Women's Ch
 ampions League Qualifying
STATUS:CONFIRMED
END:VEVENT
BEGIN:VEVENT
UID:ea66d957907d8e36c59172cf58b04da6@skysports.com
SEQUENCE:0
DTSTAMP:20251118T100325Z
DTSTART:20250827T100000Z
DTEND:20250827T120000Z
SUMMARY:Slavia Prague Women v Fomget Gençlik Women
LOCATION:Sonera Stadium
DESCRIPTION:Slavia Prague Women v Fomget Gençlik Women - Sonera Stadium -
  Women's Champions League Qualifying
STATUS:CONFIRMED
END:VEVENT
BEGIN:VEVENT
UID:43e6152518cc37c3d89034dd78949668@skysports.com
SEQUENCE:0
DTSTAMP:20251118T100325Z
DTSTART:20250827T150000Z
DTEND:20250827T170000Z
SUMMARY:Sparta Prague Women v FC Nordsjælland Women
LOCATION:epet ARENA
DESCRIPTION:Sparta Prague Women v FC Nordsjælland Women - epet ARENA - Wo
 men's Champions League Qualifying
STATUS:CONFIRMED
END:VEVENT
BEGIN:VEVENT
UID:19efd73fd8fa46e61ee2d80490afdad6@skysports.com
SEQUENCE:0
DTSTAMP:20251118T100325Z
DTSTART:20250827T170000Z
DTEND:20250827T190000Z
SUMMARY:FC Twente Women v Crvena zvezda Women
LOCATION:Sportpark Schreurserve-Enschede
DESCRIPTION:FC Twente Women v Crvena zvezda Women - Sportpark Schreurserve
 -Enschede - Women's Champions League Qualifying
STATUS:CONFIRMED
END:VEVENT
BEGIN:VEVENT
UID:57c9ee8a876994b0c224176cdbcebd62@skysports.com
SEQUENCE:0
DTSTAMP:20251118T100325Z
DTSTART:20250827T183000Z
DTEND:20250827T203000Z
SUMMARY:Valur Women v Sporting Braga Women
LOCATION:Centro Sportivo Giacinto Facchetti
DESCRIPTION:Valur Women v Sporting Braga Women - Centro Sportivo Giacinto 
 Facchetti - Women's Champions League Qualifying
STATUS:CONFIRMED
END:VEVENT
BEGIN:VEVENT
UID:8441031b5f872d538b7c8d7460dcbc66@skysports.com
SEQUENCE:0
DTSTAMP:20251118T100325Z
DTSTART:20250827T170000Z
DTEND:20250827T190000Z
SUMMARY:Vllaznia Femra v Dinamo-BGU Women
LOCATION:Loro Borici
DESCRIPTION:Vllaznia Femra v Dinamo-BGU Women - Loro Borici - Women's Cham
 pions League Qualifying
STATUS:CONFIRMED
END:VEVENT
BEGIN:VEVENT
UID:ed772dc0149d68ccb451beccba0c21e0@skysports.com
SEQUENCE:0
DTSTAMP:20251118T100325Z
DTSTART:20250827T090000Z
DTEND:20250827T110000Z
SUMMARY:Vorskla Poltava Women v Lanchkhuti Women
LOCATION:Siauliai M.Savivaldybes Stadionas
DESCRIPTION:Vorskla Poltava Women v Lanchkhuti Women - Siauliai M.Savivald
 ybes Stadionas - Women's Champions League Qualifying
STATUS:CONFIRMED
END:VEVENT
BEGIN:VEVENT
UID:976fb50e543d1ebb0e8d13260250a297@skysports.com
SEQUENCE:0
DTSTAMP:20251118T100325Z
DTSTART:20250827T160000Z
DTEND:20250827T180000Z
SUMMARY:Vålerenga Women v HJK Women
LOCATION:Sonera Stadium
DESCRIPTION:Vålerenga Women v HJK Women - Sonera Stadium - Women's Champi
 ons League Qualifying
STATUS:CONFIRMED
END:VEVENT
BEGIN:VEVENT
UID:af7464dd5a114adbb47bbde723530fa2@skysports.com
SEQUENCE:0
DTSTAMP:20251118T100325Z
DTSTART:20250830T140000Z
DTEND:20250830T160000Z
SUMMARY:Apollon Ladies FC v Hibernian Women
LOCATION:Stelios Kyriakides Stadium
DESCRIPTION:Apollon Ladies FC v Hibernian Women - Stelios Kyriakides Stadi
 um - Women's Champions League Qualifying
STATUS:CONFIRMED
END:VEVENT
BEGIN:VEVENT
UID:6294714bf1b409122e9e4f009805e90e@skysports.com
SEQUENCE:0
DTSTAMP:20251118T100325Z
DTSTART:20250830T090000Z
DTEND:20250830T110000Z
SUMMARY:BIIK Kazygurt Women v Spartak Myjava Women
LOCATION:SRC Slatina
DESCRIPTION:BIIK Kazygurt Women v Spartak Myjava Women - SRC Slatina - Wom
 en's Champions League Qualifying
STATUS:CONFIRMED
END:VEVENT
BEGIN:VEVENT
UID:e1b791374b4c8490f2eb1b73f62d60f6@skysports.com
SEQUENCE:0
DTSTAMP:20251118T100325Z
DTSTART:20250830T150000Z
DTEND:20250830T170000Z
SUMMARY:Brann Women v Sporting Braga Women
LOCATION:Centro Sportivo Giacinto Facchetti
DESCRIPTION:Brann Women v Sporting Braga Women - Centro Sportivo Giacinto 
 Facchetti - Women's Champions League Qualifying
STATUS:CONFIRMED
END:VEVENT
BEGIN:VEVENT
UID:c04a19bf36ade5d4deb0d11b10bd1989@skysports.com
SEQUENCE:0
DTSTAMP:20251118T100325Z
DTSTART:20250830T110000Z
DTEND:20250830T130000Z
SUMMARY:Crvena zvezda Women v Athlone Town Women
LOCATION:Sportpark Schreurserve-Enschede
DESCRIPTION:Crvena zvezda Women v Athlone Town Women - Sportpark Schreurse
 rve-Enschede - Women's Champions League Qualifying
STATUS:CONFIRMED
END:VEVENT
BEGIN:VEVENT
UID:9e61ae43a5e44a454ef1e656dd161681@skysports.com
SEQUENCE:0
DTSTAMP:20251118T100325Z
DTSTART:20250830T130000Z
DTEND:20250830T150000Z
SUMMARY:FC Nordsjælland Women v Aktobe Women
LOCATION:Stadion na Plynarne
DESCRIPTION:FC Nordsjælland Women v Aktobe Women - Stadion na Plynarne - 
 Women's Champions League Qualifying
STATUS:CONFIRMED
END:VEVENT
BEGIN:VEVENT
UID:88c750dbcb097cec3c2cb1eaec89f452@skysports.com
SEQUENCE:0
DTSTAMP:20251118T100325Z
DTSTART:20250830T170000Z
DTEND:20250830T190000Z
SUMMARY:Ferencvárosi TC Women v Dinamo-BGU Women
LOCATION:Loro Borici
DESCRIPTION:Ferencvárosi TC Women v Dinamo-BGU Women - Loro Borici - Wome
 n's Champions League Qualifying
STATUS:CONFIRMED
END:VEVENT
BEGIN:VEVENT
UID:de52034944b32c1ec79238ab6c2df5ea@skysports.com
SEQUENCE:0
DTSTAMP:20251118T100325Z
DTSTART:20250830T183000Z
DTEND:20250830T203000Z
SUMMARY:Fortuna Hjørring v Young Boys Women
LOCATION:Stelios Kyriakides Stadium
DESCRIPTION:Fortuna Hjørring v Young Boys Women - Stelios Kyriakides Stad
 ium - Women's Champions League Qualifying
STATUS:CONFIRMED
END:VEVENT
BEGIN:VEVENT
UID:c886151063c8d1083e998f78c3258531@skysports.com
SEQUENCE:0
DTSTAMP:20251118T100325Z
DTSTART:20250830T100000Z
DTEND:20250830T120000Z
SUMMARY:HJK Women v Fomget Gençlik Women
LOCATION:Sonera Stadium
DESCRIPTION:HJK Women v Fomget Gençlik Women - Sonera Stadium - Women's C
 hampions League Qualifying
STATUS:CONFIRMED
END:VEVENT
BEGIN:VEVENT
UID:21f74f9418826f0c00909213653ce3f3@skysports.com
SEQUENCE:0
DTSTAMP:20251118T100325Z
DTSTART:20250830T090000Z
DTEND:20250830T110000Z
SUMMARY:Lanchkhuti Women v Farul Constanta Women
LOCATION:Siauliai M.Savivaldybes Stadionas
DESCRIPTION:Lanchkhuti Women v Farul Constanta Women - Siauliai M.Savivald
 ybes Stadionas - Women's Champions League Qualifying
STATUS:CONFIRMED
END:VEVENT
BEGIN:VEVENT
UID:2c8b40388ad43ca35e847fb970a09ce1@skysports.com
SEQUENCE:0
DTSTAMP:20251118T100325Z
DTSTART:20250830T170000Z
DTEND:20250830T190000Z
SUMMARY:Manchester United Women v Hammarby Women
LOCATION:Tele2 arena
DESCRIPTION:Manchester United Women v Hammarby Women - Tele2 arena - Women
 's Champions League Qualifying
STATUS:CONFIRMED
END:VEVENT
BEGIN:VEVENT
UID:cf3fb32e0a9bb4165842c4d1dcd80a8f@skysports.com
SEQUENCE:0
DTSTAMP:20251118T100325Z
DTSTART:20250830T100000Z
DTEND:20250830T120000Z
SUMMARY:Metalist 1925 Kharkiv Women v PSV Women
LOCATION:Tele2 arena
DESCRIPTION:Metalist 1925 Kharkiv Women v PSV Women - Tele2 arena - Women'
 s Champions League Qualifying
STATUS:CONFIRMED
END:VEVENT
BEGIN:VEVENT
UID:866687e5fc52f306da88a987df2de7e2@skysports.com
SEQUENCE:0
DTSTAMP:20251118T100325Z
DTSTART:20250830T120000Z
DTEND:20250830T140000Z
SUMMARY:ZFK Minsk v Austria Wien Women
LOCATION:Generali Arena
DESCRIPTION:ZFK Minsk v Austria Wien Women - Generali Arena - Women's Cham
 pions League Qualifying
STATUS:CONFIRMED
END:VEVENT
BEGIN:VEVENT
UID:8d93cc283460fe49260287868a6f27c3@skysports.com
SEQUENCE:0
DTSTAMP:20251118T100325Z
DTSTART:20250830T160000Z
DTEND:20250830T180000Z
SUMMARY:Mura Women v GKS Katowice Women
LOCATION:Fazanerija Stadium
DESCRIPTION:Mura Women v GKS Katowice Women - Fazanerija Stadium - Women's
  Champions League Qualifying
STATUS:CONFIRMED
END:VEVENT
BEGIN:VEVENT
UID:97de1205de5fef3610a9697c190d46d8@skysports.com
SEQUENCE:0
DTSTAMP:20251118T100325Z
DTSTART:20250830T130000Z
DTEND:20250830T150000Z
SUMMARY:Roma Women v Sparta Prague Women
LOCATION:Dolicek Stadion
DESCRIPTION:Roma Women v Sparta Prague Women - Dolicek Stadion - Women's C
 hampions League Qualifying
STATUS:CONFIRMED
END:VEVENT
BEGIN:VEVENT
UID:3f01d751e793507a72667958cc48dbc5@skysports.com
SEQUENCE:0
DTSTAMP:20251118T100325Z
DTSTART:20250830T180000Z
DTEND:20250830T200000Z
SUMMARY:Rosengård Women v Oud-Heverlee Leuven Ladies
LOCATION:Den Dreef
DESCRIPTION:Rosengård Women v Oud-Heverlee Leuven Ladies - Den Dreef - Wo
 men's Champions League Qualifying
STATUS:CONFIRMED
END:VEVENT
BEGIN:VEVENT
UID:bbe4de4d070ab3f277ee4e34036f5f1e@skysports.com
SEQUENCE:0
DTSTAMP:20251118T100325Z
DTSTART:20250830T110000Z
DTEND:20250830T130000Z
SUMMARY:SFK 2000 v Ljuboten Women
LOCATION:Den Dreef
DESCRIPTION:SFK 2000 v Ljuboten Women - Den Dreef - Women's Champions Leag
 ue Qualifying
STATUS:CONFIRMED
END:VEVENT
BEGIN:VEVENT
UID:9dae76389feb7c9dd1b17b9940efa9ad@skysports.com
SEQUENCE:0
DTSTAMP:20251118T100325Z
DTSTART:20250830T160000Z
DTEND:20250830T180000Z
SUMMARY:Slavia Prague Women v Vålerenga Women
LOCATION:Sonera Stadium
DESCRIPTION:Slavia Prague Women v Vålerenga Women - Sonera Stadium - Wome
 n's Champions League Qualifying
STATUS:CONFIRMED
END:VEVENT
BEGIN:VEVENT
UID:b65027be9a3d4c579141d18a8a8be896@skysports.com
SEQUENCE:0
DTSTAMP:20251118T100325Z
DTSTART:20250830T170000Z
DTEND:20250830T190000Z
SUMMARY:FC Twente Women v Breidablik Women
LOCATION:Sportpark Schreurserve-Enschede
DESCRIPTION:FC Twente Women v Breidablik Women - Sportpark Schreurserve-En
 schede - Women's Champions League Qualifying
STATUS:CONFIRMED
END:VEVENT
BEGIN:VEVENT
UID:c88219bdd1695d253b2fcc11fe99fe47@skysports.com
SEQUENCE:0
DTSTAMP:20251118T100325Z
DTSTART:20250830T090000Z
DTEND:20250830T110000Z
SUMMARY:Valur Women v Inter Milan Women
LOCATION:Centro Sportivo Giacinto Facchetti
DESCRIPTION:Valur Women v Inter Milan Women - Centro Sportivo Giacinto Fac
 chetti - Women's Champions League Qualifying
STATUS:CONFIRMED
END:VEVENT
BEGIN:VEVENT
UID:57b172c981bee7306946dbc1ace7cea6@skysports.com
SEQUENCE:0
DTSTAMP:20251118T100325Z
DTSTART:20250830T080000Z
DTEND:20250830T100000Z
SUMMARY:Vllaznia Femra v Racing FC Union Luxembourg Women
LOCATION:Loro Borici
DESCRIPTION:Vllaznia Femra v Racing FC Union Luxembourg Women - Loro Boric
 i - Women's Champions League Qualifying
STATUS:CONFIRMED
END:VEVENT
BEGIN:VEVENT
UID:5587126bd4c2e54aabaa3f92f7e3207a@skysports.com
SEQUENCE:0
DTSTAMP:20251118T100325Z
DTSTART:20250830T150000Z
DTEND:20250830T170000Z
SUMMARY:Vorskla Poltava Women v Gintra Women
LOCATION:Siauliai M.Savivaldybes Stadionas
DESCRIPTION:Vorskla Poltava Women v Gintra Women - Siauliai M.Savivaldybes
  Stadionas - Women's Champions League Qualifying
STATUS:CONFIRMED
END:VEVENT
BEGIN:VEVENT
UID:26bbf7d55c8f18b2da9349d137e10793@skysports.com
SEQUENCE:0
DTSTAMP:20251118T100325Z
DTSTART:20250911T170000Z
DTEND:20250911T190000Z
SUMMARY:Brann Women v Manchester United Women
LOCATION:Brann Stadium
DESCRIPTION:Brann Women v Manchester United Women - Brann Stadium - Women'
 s Champions League Qualifying
STATUS:CONFIRMED
END:VEVENT
BEGIN:VEVENT
UID:b8443800c908f89c2dd502b4cfe60526@skysports.com
SEQUENCE:0
DTSTAMP:20251118T100325Z
DTSTART:20250911T170000Z
DTEND:20250911T190000Z
SUMMARY:Eintracht Frankfurt Women v Real Madrid Women
LOCATION:Stadion am Brentanobad
DESCRIPTION:Eintracht Frankfurt Women v Real Madrid Women - Stadion am Bre
 ntanobad - Women's Champions League Qualifying
STATUS:CONFIRMED
END:VEVENT
BEGIN:VEVENT
UID:07773fceb0b4bdcf317672ca05338df2@skysports.com
SEQUENCE:0
DTSTAMP:20251118T100325Z
DTSTART:20250911T160000Z
DTEND:20250911T180000Z
SUMMARY:GKS Katowice Women v FC Twente Women
LOCATION:Arena Katowice
DESCRIPTION:GKS Katowice Women v FC Twente Women - Arena Katowice - Women'
 s Champions League Qualifying
STATUS:CONFIRMED
END:VEVENT
BEGIN:VEVENT
UID:91de6b8b0d9515f9bc0e750671fbc19e@skysports.com
SEQUENCE:0
DTSTAMP:20251118T100325Z
DTSTART:20250911T170000Z
DTEND:20250911T190000Z
SUMMARY:BK Häcken Women v Atletico Madrid Women
LOCATION:Bravida Arena
DESCRIPTION:BK Häcken Women v Atletico Madrid Women - Bravida Arena - Wom
 en's Champions League Qualifying
STATUS:CONFIRMED
END:VEVENT
BEGIN:VEVENT
UID:1c5a198a21bd850c87c956a6b06727fc@skysports.com
SEQUENCE:0
DTSTAMP:20251118T100325Z
DTSTART:20250911T170000Z
DTEND:20250911T190000Z
SUMMARY:Paris FC Women v Austria Wien Women
LOCATION:Stade Jean Bouin
DESCRIPTION:Paris FC Women v Austria Wien Women - Stade Jean Bouin - Women
 's Champions League Qualifying
STATUS:CONFIRMED
END:VEVENT
BEGIN:VEVENT
UID:2f94f5743dcf67bb44d277abb4b15513@skysports.com
SEQUENCE:0
DTSTAMP:20251118T100325Z
DTSTART:20250911T183000Z
DTEND:20250911T203000Z
SUMMARY:Roma Women v Sporting CP Women
LOCATION:Stadio Tre Fontane
DESCRIPTION:Roma Women v Sporting CP Women - Stadio Tre Fontane - Women's 
 Champions League Qualifying
STATUS:CONFIRMED
END:VEVENT
BEGIN:VEVENT
UID:07b50e80dde478e1bec06e22c7b56ccc@skysports.com
SEQUENCE:0
DTSTAMP:20251118T100325Z
DTSTART:20250911T173000Z
DTEND:20250911T193000Z
SUMMARY:St. Pölten Women v Fortuna Hjørring
LOCATION:NV Arena
DESCRIPTION:St. Pölten Women v Fortuna Hjørring - NV Arena - Women's Cha
 mpions League Qualifying
STATUS:CONFIRMED
END:VEVENT
BEGIN:VEVENT
UID:943d86557fb0449b087aa699fff79692@skysports.com
SEQUENCE:0
DTSTAMP:20251118T100325Z
DTSTART:20250911T173000Z
DTEND:20250911T193000Z
SUMMARY:Vorskla Poltava Women v Oud-Heverlee Leuven Ladies
LOCATION:Den Dreef
DESCRIPTION:Vorskla Poltava Women v Oud-Heverlee Leuven Ladies - Den Dreef
  - Women's Champions League Qualifying
STATUS:CONFIRMED
END:VEVENT
BEGIN:VEVENT
UID:a26859e8f9e657c6ac46810909bc1e4d@skysports.com
SEQUENCE:0
DTSTAMP:20251118T100325Z
DTSTART:20250911T170000Z
DTEND:20250911T190000Z
SUMMARY:Vålerenga Women v Ferencvárosi TC Women
LOCATION:Intility Arena
DESCRIPTION:Vålerenga Women v Ferencvárosi TC Women - Intility Arena - W
 omen's Champions League Qualifying
STATUS:CONFIRMED
END:VEVENT
BEGIN:VEVENT
UID:745395048a130e6a81d8e82eebf76133@skysports.com
SEQUENCE:0
DTSTAMP:20251118T100325Z
DTSTART:20250918T170000Z
DTEND:20250918T190000Z
SUMMARY:Atletico Madrid Women v BK Häcken Women
LOCATION:Centro Deportivo Alcala de Henares
DESCRIPTION:Atletico Madrid Women v BK Häcken Women - Centro Deportivo Al
 cala de Henares - Women's Champions League Qualifying
STATUS:CONFIRMED
END:VEVENT
BEGIN:VEVENT
UID:f760d1a0fe767ae77841d45422fbeeb6@skysports.com
SEQUENCE:0
DTSTAMP:20251118T100325Z
DTSTART:20250918T174500Z
DTEND:20250918T194500Z
SUMMARY:Austria Wien Women v Paris FC Women
LOCATION:Generali Arena
DESCRIPTION:Austria Wien Women v Paris FC Women - Generali Arena - Women's
  Champions League Qualifying
STATUS:CONFIRMED
END:VEVENT
BEGIN:VEVENT
UID:ad5462f86e45fc10fae9b00d95a719ca@skysports.com
SEQUENCE:0
DTSTAMP:20251118T100325Z
DTSTART:20250918T140000Z
DTEND:20250918T160000Z
SUMMARY:Ferencvárosi TC Women v Vålerenga Women
LOCATION:Hevizi úti Stadion
DESCRIPTION:Ferencvárosi TC Women v Vålerenga Women - Hevizi úti Stadio
 n - Women's Champions League Qualifying
STATUS:CONFIRMED
END:VEVENT
BEGIN:VEVENT
UID:a4dbde3f4a827ea2dc4f90e930dc18c3@skysports.com
SEQUENCE:0
DTSTAMP:20251118T100325Z
DTSTART:20250918T160000Z
DTEND:20250918T180000Z
SUMMARY:Fortuna Hjørring v St. Pölten Women
LOCATION:Hjørring Stadion
DESCRIPTION:Fortuna Hjørring v St. Pölten Women - Hjørring Stadion - Wo
 men's Champions League Qualifying
STATUS:CONFIRMED
END:VEVENT
BEGIN:VEVENT
UID:65a3075a47d764becea8643b5daff3ca@skysports.com
SEQUENCE:0
DTSTAMP:20251118T100325Z
DTSTART:20250918T180000Z
DTEND:20250918T200000Z
SUMMARY:Manchester United Women v Brann Women
LOCATION:Leigh Sports Village
DESCRIPTION:Manchester United Women v Brann Women - Leigh Sports Village -
  Women's Champions League Qualifying
STATUS:CONFIRMED
END:VEVENT
BEGIN:VEVENT
UID:594a90335e9cee228f1980ce67d6aebe@skysports.com
SEQUENCE:0
DTSTAMP:20251118T100325Z
DTSTART:20250918T180000Z
DTEND:20250918T200000Z
SUMMARY:Oud-Heverlee Leuven Ladies v Vorskla Poltava Women
LOCATION:Den Dreef
DESCRIPTION:Oud-Heverlee Leuven Ladies v Vorskla Poltava Women - Den Dreef
  - Women's Champions League Qualifying
STATUS:CONFIRMED
END:VEVENT
BEGIN:VEVENT
UID:a2b70085046d5c18c9aa64867f0ebc9c@skysports.com
SEQUENCE:0
DTSTAMP:20251118T100325Z
DTSTART:20250918T180000Z
DTEND:20250918T200000Z
SUMMARY:Real Madrid Women v Eintracht Frankfurt Women
LOCATION:Alfredo Di Stefano
DESCRIPTION:Real Madrid Women v Eintracht Frankfurt Women - Alfredo Di Ste
 fano - Women's Champions League Qualifying
STATUS:CONFIRMED
END:VEVENT
BEGIN:VEVENT
UID:d902c570066946db8b8b68f17e11e9d0@skysports.com
SEQUENCE:0
DTSTAMP:20251118T100325Z
DTSTART:20250918T153000Z
DTEND:20250918T173000Z
SUMMARY:Sporting CP Women v Roma Women
LOCATION:Estadio Municipal de Rio Maior
DESCRIPTION:Sporting CP Women v Roma Women - Estadio Municipal de Rio Maio
 r - Women's Champions League Qualifying
STATUS:CONFIRMED
END:VEVENT
BEGIN:VEVENT
UID:8cc234cc24aef72fb3fcf8d53578cd81@skysports.com
SEQUENCE:0
DTSTAMP:20251118T100325Z
DTSTART:20250918T170000Z
DTEND:20250918T190000Z
SUMMARY:FC Twente Women v GKS Katowice Women
LOCATION:Sportpark Schreurserve-Enschede
DESCRIPTION:FC Twente Women v GKS Katowice Women - Sportpark Schreurserve-
 Enschede - Women's Champions League Qualifying
STATUS:CONFIRMED
END:VEVENT
END:VCALENDAR