BEGIN:VCALENDAR
VERSION:2.0
PRODID:-//Sky Sports SSDM//NONSGML Event Calendar//EN
URL:https://www.skysports.com/calendars/football/fixtures/teams/aberdeen
CALSCALE:GREGORIAN
METHOD:PUBLISH
NAME:Aberdeen Fixtures
X-WR-CALNAME:Aberdeen Fixtures
X-WR-CALDESC:Aberdeen fixtures provided by Sky Sports (https://www.skyspor
 ts.com)
REFRESH-INTERVAL;VALUE=DURATION:PT1H
X-PUBLISHED-TTL:PT1H
BEGIN:VEVENT
UID:10b24d5562d336c9133d23e8fbca296c@skysports.com
SEQUENCE:0
DTSTAMP:20260425T090104Z
DTSTART:20250804T190000Z
DTEND:20250804T210000Z
SUMMARY:Hearts v Aberdeen
LOCATION:Tynecastle
DESCRIPTION:Hearts v Aberdeen - Tynecastle - Scottish Premiership - Live o
 n Sky Sports Football
STATUS:CONFIRMED
END:VEVENT
BEGIN:VEVENT
UID:481527a06d14765ecb9398bf144c5c9a@skysports.com
SEQUENCE:0
DTSTAMP:20260425T090104Z
DTSTART:20250810T113000Z
DTEND:20250810T133000Z
SUMMARY:Aberdeen v Celtic
LOCATION:Pittodrie
DESCRIPTION:Aberdeen v Celtic - Pittodrie - Scottish Premiership - Live on
  Sky Sports Football
STATUS:CONFIRMED
END:VEVENT
BEGIN:VEVENT
UID:b18d3c0a5d6c86d5be89f7f525a1b0cb@skysports.com
SEQUENCE:0
DTSTAMP:20260425T090104Z
DTSTART:20250923T184500Z
DTEND:20250923T204500Z
SUMMARY:Dundee United v Aberdeen
LOCATION:CalForth Construction Arena at Tannadice Park
DESCRIPTION:Dundee United v Aberdeen - CalForth Construction Arena at Tann
 adice Park - Scottish Premiership
STATUS:CONFIRMED
END:VEVENT
BEGIN:VEVENT
UID:491cf19307cec4ce1ee83d37225ba685@skysports.com
SEQUENCE:0
DTSTAMP:20260425T090104Z
DTSTART:20250831T140000Z
DTEND:20250831T160000Z
SUMMARY:Aberdeen v Falkirk
LOCATION:Pittodrie
DESCRIPTION:Aberdeen v Falkirk - Pittodrie - Scottish Premiership
STATUS:CONFIRMED
END:VEVENT
BEGIN:VEVENT
UID:8bce1f66ac39e22a0a44c897d6874ece@skysports.com
SEQUENCE:0
DTSTAMP:20260425T090104Z
DTSTART:20250913T140000Z
DTEND:20250913T160000Z
SUMMARY:Aberdeen v Livingston
LOCATION:Pittodrie
DESCRIPTION:Aberdeen v Livingston - Pittodrie - Scottish Premiership
STATUS:CONFIRMED
END:VEVENT
BEGIN:VEVENT
UID:9139a8b6e3cf0be2507ed909b412e3c2@skysports.com
SEQUENCE:0
DTSTAMP:20260425T090104Z
DTSTART:20250927T164500Z
DTEND:20250927T184500Z
SUMMARY:Motherwell v Aberdeen
LOCATION:Fir Park
DESCRIPTION:Motherwell v Aberdeen - Fir Park - Scottish Premiership
STATUS:CONFIRMED
END:VEVENT
BEGIN:VEVENT
UID:1eec4878fea3dc65755984e6b9db1e2d@skysports.com
SEQUENCE:0
DTSTAMP:20260425T090104Z
DTSTART:20251005T140000Z
DTEND:20251005T160000Z
SUMMARY:Aberdeen v Dundee
LOCATION:Pittodrie
DESCRIPTION:Aberdeen v Dundee - Pittodrie - Scottish Premiership
STATUS:CONFIRMED
END:VEVENT
BEGIN:VEVENT
UID:c640463027f6a324544af337bf37b0e7@skysports.com
SEQUENCE:0
DTSTAMP:20260425T090104Z
DTSTART:20251018T140000Z
DTEND:20251018T160000Z
SUMMARY:St Mirren v Aberdeen
LOCATION:The SMiSA Stadium
DESCRIPTION:St Mirren v Aberdeen - The SMiSA Stadium - Scottish Premiershi
 p
STATUS:CONFIRMED
END:VEVENT
BEGIN:VEVENT
UID:3660785906c94226a772e4801289b08b@skysports.com
SEQUENCE:0
DTSTAMP:20260425T090104Z
DTSTART:20251026T143000Z
DTEND:20251026T163000Z
SUMMARY:Aberdeen v Hibernian
LOCATION:Pittodrie
DESCRIPTION:Aberdeen v Hibernian - Pittodrie - Scottish Premiership
STATUS:CONFIRMED
END:VEVENT
BEGIN:VEVENT
UID:328cdb0d26ad620689a075f66ad18a24@skysports.com
SEQUENCE:0
DTSTAMP:20260425T090104Z
DTSTART:20251029T194500Z
DTEND:20251029T214500Z
SUMMARY:Kilmarnock v Aberdeen
LOCATION:The BBSP Stadium\, Rugby Park
DESCRIPTION:Kilmarnock v Aberdeen - The BBSP Stadium\, Rugby Park - Scotti
 sh Premiership
STATUS:CONFIRMED
END:VEVENT
BEGIN:VEVENT
UID:cea72cc04759fa00e5493248a41677dc@skysports.com
SEQUENCE:0
DTSTAMP:20260425T090104Z
DTSTART:20260106T200000Z
DTEND:20260106T220000Z
SUMMARY:Rangers v Aberdeen
LOCATION:Ibrox Stadium
DESCRIPTION:Rangers v Aberdeen - Ibrox Stadium - Scottish Premiership - Li
 ve on Sky Sports Football
STATUS:CONFIRMED
END:VEVENT
BEGIN:VEVENT
UID:34c3a984a5716265e27a44eab231ede9@skysports.com
SEQUENCE:0
DTSTAMP:20260425T090104Z
DTSTART:20251109T150000Z
DTEND:20251109T170000Z
SUMMARY:Aberdeen v Motherwell
LOCATION:Pittodrie
DESCRIPTION:Aberdeen v Motherwell - Pittodrie - Scottish Premiership
STATUS:CONFIRMED
END:VEVENT
BEGIN:VEVENT
UID:989177e0bc7dc592c434193614e26fde@skysports.com
SEQUENCE:0
DTSTAMP:20260425T090104Z
DTSTART:20251123T150000Z
DTEND:20251123T170000Z
SUMMARY:Aberdeen v Hearts
LOCATION:Pittodrie
DESCRIPTION:Aberdeen v Hearts - Pittodrie - Scottish Premiership - Live on
  Sky Sports Football
STATUS:CONFIRMED
END:VEVENT
BEGIN:VEVENT
UID:45fe268a1856f6828f51a375f93719b3@skysports.com
SEQUENCE:0
DTSTAMP:20260425T090104Z
DTSTART:20251130T150000Z
DTEND:20251130T170000Z
SUMMARY:Livingston v Aberdeen
LOCATION:Tony Macaroni Arena
DESCRIPTION:Livingston v Aberdeen - Tony Macaroni Arena - Scottish Premier
 ship
STATUS:CONFIRMED
END:VEVENT
BEGIN:VEVENT
UID:97cbf8235f4630455fd4c65f3ce84ac6@skysports.com
SEQUENCE:0
DTSTAMP:20260425T090104Z
DTSTART:20251203T194500Z
DTEND:20251203T214500Z
SUMMARY:Aberdeen v St Mirren
LOCATION:Pittodrie
DESCRIPTION:Aberdeen v St Mirren - Pittodrie - Scottish Premiership
STATUS:CONFIRMED
END:VEVENT
BEGIN:VEVENT
UID:7ca51345082466f79cb43a3c0e3c6f92@skysports.com
SEQUENCE:0
DTSTAMP:20260425T090104Z
DTSTART:20251206T150000Z
DTEND:20251206T170000Z
SUMMARY:Dundee v Aberdeen
LOCATION:The Scot Foam Stadium at Dens Park
DESCRIPTION:Dundee v Aberdeen - The Scot Foam Stadium at Dens Park - Scott
 ish Premiership
STATUS:CONFIRMED
END:VEVENT
BEGIN:VEVENT
UID:46c3f910c00247a17449b6b76cf58262@skysports.com
SEQUENCE:0
DTSTAMP:20260425T090104Z
DTSTART:20251214T150000Z
DTEND:20251214T170000Z
SUMMARY:Aberdeen v Kilmarnock
LOCATION:Pittodrie
DESCRIPTION:Aberdeen v Kilmarnock - Pittodrie - Scottish Premiership
STATUS:CONFIRMED
END:VEVENT
BEGIN:VEVENT
UID:9e655ac054c074bb87c1bf2e4f0bb14c@skysports.com
SEQUENCE:0
DTSTAMP:20260425T090104Z
DTSTART:20251221T150000Z
DTEND:20251221T170000Z
SUMMARY:Celtic v Aberdeen
LOCATION:Celtic Park
DESCRIPTION:Celtic v Aberdeen - Celtic Park - Scottish Premiership
STATUS:CONFIRMED
END:VEVENT
BEGIN:VEVENT
UID:3817636db10a9f8e38dcd7623a04730b@skysports.com
SEQUENCE:0
DTSTAMP:20260425T090104Z
DTSTART:20251227T174500Z
DTEND:20251227T194500Z
SUMMARY:Aberdeen v Dundee United
LOCATION:Pittodrie
DESCRIPTION:Aberdeen v Dundee United - Pittodrie - Scottish Premiership
STATUS:CONFIRMED
END:VEVENT
BEGIN:VEVENT
UID:699f2532228f8ff16d23944f72b743e5@skysports.com
SEQUENCE:0
DTSTAMP:20260425T090104Z
DTSTART:20251230T194500Z
DTEND:20251230T214500Z
SUMMARY:Hibernian v Aberdeen
LOCATION:Easter Road
DESCRIPTION:Hibernian v Aberdeen - Easter Road - Scottish Premiership
STATUS:CONFIRMED
END:VEVENT
BEGIN:VEVENT
UID:8287c73a007363ef078dfe2d5f5ff38c@skysports.com
SEQUENCE:0
DTSTAMP:20260425T090104Z
DTSTART:20260103T150000Z
DTEND:20260103T170000Z
SUMMARY:Falkirk v Aberdeen
LOCATION:Falkirk Stadium
DESCRIPTION:Falkirk v Aberdeen - Falkirk Stadium - Scottish Premiership
STATUS:CONFIRMED
END:VEVENT
BEGIN:VEVENT
UID:bd81b0e0bf04b936df44b1e5fa54f0ec@skysports.com
SEQUENCE:0
DTSTAMP:20260425T090104Z
DTSTART:20260111T163000Z
DTEND:20260111T183000Z
SUMMARY:Aberdeen v Rangers
LOCATION:Pittodrie
DESCRIPTION:Aberdeen v Rangers - Pittodrie - Scottish Premiership - Live o
 n Sky Sports Football
STATUS:CONFIRMED
END:VEVENT
BEGIN:VEVENT
UID:49b708334548eaa6e71d1946835218b5@skysports.com
SEQUENCE:0
DTSTAMP:20260425T090104Z
DTSTART:20260124T150000Z
DTEND:20260124T170000Z
SUMMARY:Aberdeen v Livingston
LOCATION:Pittodrie
DESCRIPTION:Aberdeen v Livingston - Pittodrie - Scottish Premiership
STATUS:CONFIRMED
END:VEVENT
BEGIN:VEVENT
UID:7b0fea766b6feaccfa5c23ffd159750f@skysports.com
SEQUENCE:0
DTSTAMP:20260425T090104Z
DTSTART:20260131T150000Z
DTEND:20260131T170000Z
SUMMARY:Kilmarnock v Aberdeen
LOCATION:The BBSP Stadium\, Rugby Park
DESCRIPTION:Kilmarnock v Aberdeen - The BBSP Stadium\, Rugby Park - Scotti
 sh Premiership
STATUS:CONFIRMED
END:VEVENT
BEGIN:VEVENT
UID:8a063964591776f6cb01efa0a8f6a610@skysports.com
SEQUENCE:0
DTSTAMP:20260425T090104Z
DTSTART:20260304T200000Z
DTEND:20260304T220000Z
SUMMARY:Aberdeen v Celtic
LOCATION:Pittodrie
DESCRIPTION:Aberdeen v Celtic - Pittodrie - Scottish Premiership - Live on
  Sky Sports Football
STATUS:CONFIRMED
END:VEVENT
BEGIN:VEVENT
UID:22ae017de2ffc58c501c22f1c251cbad@skysports.com
SEQUENCE:0
DTSTAMP:20260425T090104Z
DTSTART:20260224T194500Z
DTEND:20260224T214500Z
SUMMARY:Dundee United v Aberdeen
LOCATION:CalForth Construction Arena at Tannadice Park
DESCRIPTION:Dundee United v Aberdeen - CalForth Construction Arena at Tann
 adice Park - Scottish Premiership
STATUS:CONFIRMED
END:VEVENT
BEGIN:VEVENT
UID:4dee7952c30afc61f75711c0834c606f@skysports.com
SEQUENCE:0
DTSTAMP:20260425T090104Z
DTSTART:20260215T143000Z
DTEND:20260215T163000Z
SUMMARY:Motherwell v Aberdeen
LOCATION:Fir Park
DESCRIPTION:Motherwell v Aberdeen - Fir Park - Scottish Premiership
STATUS:CONFIRMED
END:VEVENT
BEGIN:VEVENT
UID:b588abdbbbe859bb80ab77fe6f48ca07@skysports.com
SEQUENCE:0
DTSTAMP:20260425T090104Z
DTSTART:20260221T150000Z
DTEND:20260221T170000Z
SUMMARY:Aberdeen v Dundee
LOCATION:Pittodrie
DESCRIPTION:Aberdeen v Dundee - Pittodrie - Scottish Premiership
STATUS:CONFIRMED
END:VEVENT
BEGIN:VEVENT
UID:a891e61f291792f3c4fe42aee8dfdb3f@skysports.com
SEQUENCE:0
DTSTAMP:20260425T090104Z
DTSTART:20260228T150000Z
DTEND:20260228T170000Z
SUMMARY:Hearts v Aberdeen
LOCATION:Tynecastle
DESCRIPTION:Hearts v Aberdeen - Tynecastle - Scottish Premiership
STATUS:CONFIRMED
END:VEVENT
BEGIN:VEVENT
UID:1837c2f40b1c9275c560a7fcac971446@skysports.com
SEQUENCE:0
DTSTAMP:20260425T090104Z
DTSTART:20260314T150000Z
DTEND:20260314T170000Z
SUMMARY:Aberdeen v Falkirk
LOCATION:Pittodrie
DESCRIPTION:Aberdeen v Falkirk - Pittodrie - Scottish Premiership
STATUS:CONFIRMED
END:VEVENT
BEGIN:VEVENT
UID:8afb24a2c9609d80148c46bb0928f5a7@skysports.com
SEQUENCE:0
DTSTAMP:20260425T090104Z
DTSTART:20260321T174500Z
DTEND:20260321T194500Z
SUMMARY:Rangers v Aberdeen
LOCATION:Ibrox Stadium
DESCRIPTION:Rangers v Aberdeen - Ibrox Stadium - Scottish Premiership
STATUS:CONFIRMED
END:VEVENT
BEGIN:VEVENT
UID:cb76f491ecfde22f9333f0b020db801c@skysports.com
SEQUENCE:0
DTSTAMP:20260425T090104Z
DTSTART:20260404T140000Z
DTEND:20260404T160000Z
SUMMARY:St Mirren v Aberdeen
LOCATION:The SMiSA Stadium
DESCRIPTION:St Mirren v Aberdeen - The SMiSA Stadium - Scottish Premiershi
 p
STATUS:CONFIRMED
END:VEVENT
BEGIN:VEVENT
UID:b81fe8baf8eb3c904fea546c09882cdf@skysports.com
SEQUENCE:0
DTSTAMP:20260425T090104Z
DTSTART:20260411T140000Z
DTEND:20260411T160000Z
SUMMARY:Aberdeen v Hibernian
LOCATION:Pittodrie
DESCRIPTION:Aberdeen v Hibernian - Pittodrie - Scottish Premiership
STATUS:CONFIRMED
END:VEVENT
BEGIN:VEVENT
UID:e9b1d9a046d79c16a61fbba592181137@skysports.com
SEQUENCE:0
DTSTAMP:20260425T090104Z
DTSTART:20250816T140000Z
DTEND:20250816T160000Z
SUMMARY:Morton v Aberdeen
LOCATION:Cappielow Park
DESCRIPTION:Morton v Aberdeen - Cappielow Park - Premier Sports Cup
STATUS:CONFIRMED
END:VEVENT
BEGIN:VEVENT
UID:3c038573e5a0a74eddd7a078adb12331@skysports.com
SEQUENCE:0
DTSTAMP:20260425T090104Z
DTSTART:20250821T184500Z
DTEND:20250821T204500Z
SUMMARY:Aberdeen v FCSB
LOCATION:Pittodrie
DESCRIPTION:Aberdeen v FCSB - Pittodrie - Europa League Qualifying
STATUS:CONFIRMED
END:VEVENT
BEGIN:VEVENT
UID:c4ada89cb91ee63356ce699762bbe640@skysports.com
SEQUENCE:0
DTSTAMP:20260425T090104Z
DTSTART:20250828T183000Z
DTEND:20250828T203000Z
SUMMARY:FCSB v Aberdeen
LOCATION:National Arena
DESCRIPTION:FCSB v Aberdeen - National Arena - Europa League Qualifying
STATUS:CONFIRMED
END:VEVENT
BEGIN:VEVENT
UID:442e11e3471b2758c97ef31ba740bafb@skysports.com
SEQUENCE:0
DTSTAMP:20260425T090104Z
DTSTART:20250920T140000Z
DTEND:20250920T160000Z
SUMMARY:Aberdeen v Motherwell
LOCATION:Pittodrie
DESCRIPTION:Aberdeen v Motherwell - Pittodrie - Premier Sports Cup
STATUS:CONFIRMED
END:VEVENT
BEGIN:VEVENT
UID:ae29acae24ff203acdb86307ed191821@skysports.com
SEQUENCE:0
DTSTAMP:20260425T090104Z
DTSTART:20251002T190000Z
DTEND:20251002T210000Z
SUMMARY:Aberdeen v Shakhtar Donetsk
LOCATION:Pittodrie
DESCRIPTION:Aberdeen v Shakhtar Donetsk - Pittodrie - UEFA Conference Leag
 ue
STATUS:CONFIRMED
END:VEVENT
BEGIN:VEVENT
UID:58109fed9a7187722c04ad8bb71b726c@skysports.com
SEQUENCE:0
DTSTAMP:20260425T090104Z
DTSTART:20251023T164500Z
DTEND:20251023T184500Z
SUMMARY:AEK Athens v Aberdeen
LOCATION:OPAP Arena
DESCRIPTION:AEK Athens v Aberdeen - OPAP Arena - UEFA Conference League
STATUS:CONFIRMED
END:VEVENT
BEGIN:VEVENT
UID:3866c1485d9d916a4ffe2ecb6adf4979@skysports.com
SEQUENCE:0
DTSTAMP:20260425T090104Z
DTSTART:20251106T174500Z
DTEND:20251106T194500Z
SUMMARY:AEK Larnaca v Aberdeen
LOCATION:AEK Arena
DESCRIPTION:AEK Larnaca v Aberdeen - AEK Arena - UEFA Conference League
STATUS:CONFIRMED
END:VEVENT
BEGIN:VEVENT
UID:ddbea168f72c8a3d8faef5175932d968@skysports.com
SEQUENCE:0
DTSTAMP:20260425T090104Z
DTSTART:20251127T200000Z
DTEND:20251127T220000Z
SUMMARY:Aberdeen v Noah
LOCATION:Pittodrie
DESCRIPTION:Aberdeen v Noah - Pittodrie - UEFA Conference League
STATUS:CONFIRMED
END:VEVENT
BEGIN:VEVENT
UID:28d0f2b55ab1ffa2072397eeb1f96002@skysports.com
SEQUENCE:0
DTSTAMP:20260425T090104Z
DTSTART:20251211T200000Z
DTEND:20251211T220000Z
SUMMARY:Aberdeen v Strasbourg
LOCATION:Pittodrie
DESCRIPTION:Aberdeen v Strasbourg - Pittodrie - UEFA Conference League
STATUS:CONFIRMED
END:VEVENT
BEGIN:VEVENT
UID:ee2df724f9c929055279e43ccff1bb60@skysports.com
SEQUENCE:0
DTSTAMP:20260425T090104Z
DTSTART:20251218T200000Z
DTEND:20251218T220000Z
SUMMARY:Sparta Prague v Aberdeen
LOCATION:epet ARENA
DESCRIPTION:Sparta Prague v Aberdeen - epet ARENA - UEFA Conference League
STATUS:CONFIRMED
END:VEVENT
BEGIN:VEVENT
UID:0722da05a2d3095ba294ad3779540fb3@skysports.com
SEQUENCE:0
DTSTAMP:20260425T090104Z
DTSTART:20260118T143000Z
DTEND:20260118T163000Z
SUMMARY:Aberdeen v Raith Rovers
LOCATION:Pittodrie
DESCRIPTION:Aberdeen v Raith Rovers - Pittodrie - Scottish Cup
STATUS:CONFIRMED
END:VEVENT
BEGIN:VEVENT
UID:db0ed9499bcd75a2351af788799ab9e9@skysports.com
SEQUENCE:0
DTSTAMP:20260425T090104Z
DTSTART:20260218T194500Z
DTEND:20260218T214500Z
SUMMARY:Aberdeen v Motherwell
LOCATION:Pittodrie
DESCRIPTION:Aberdeen v Motherwell - Pittodrie - Scottish Cup
STATUS:CONFIRMED
END:VEVENT
BEGIN:VEVENT
UID:f1764d73adedecb3d1fad95cdedd0c0b@skysports.com
SEQUENCE:0
DTSTAMP:20260425T090104Z
DTSTART:20260307T193000Z
DTEND:20260307T213000Z
SUMMARY:Dunfermline Athletic v Aberdeen
LOCATION:KDM Group East End Park
DESCRIPTION:Dunfermline Athletic v Aberdeen - KDM Group East End Park - Sc
 ottish Cup
STATUS:CONFIRMED
END:VEVENT
BEGIN:VEVENT
UID:f57a3d27815f937afafcbd54207602e4@skysports.com
SEQUENCE:0
DTSTAMP:20260425T090104Z
DTSTART:20260425T140000Z
DTEND:20260425T160000Z
SUMMARY:Aberdeen v Kilmarnock
LOCATION:Pittodrie
DESCRIPTION:Aberdeen v Kilmarnock - Pittodrie - Scottish Premiership
STATUS:CONFIRMED
END:VEVENT
BEGIN:VEVENT
UID:65b57a585c54bc0cc11a740de71b0e1b@skysports.com
SEQUENCE:0
DTSTAMP:20260425T090104Z
DTSTART:20260501T184500Z
DTEND:20260501T204500Z
SUMMARY:Livingston v Aberdeen
LOCATION:Home of the Set Fare Arena
DESCRIPTION:Livingston v Aberdeen - Home of the Set Fare Arena - Scottish 
 Premiership
STATUS:CONFIRMED
END:VEVENT
BEGIN:VEVENT
UID:cbf4b83e7bded60167f42ba2231185e8@skysports.com
SEQUENCE:0
DTSTAMP:20260425T090104Z
DTSTART:20260509T140000Z
DTEND:20260509T160000Z
SUMMARY:Aberdeen v Dundee United
LOCATION:Pittodrie
DESCRIPTION:Aberdeen v Dundee United - Pittodrie - Scottish Premiership
STATUS:CONFIRMED
END:VEVENT
BEGIN:VEVENT
UID:d4f0cc5a86eb5109e5627b6f1619844d@skysports.com
SEQUENCE:0
DTSTAMP:20260425T090104Z
DTSTART:20260512T184500Z
DTEND:20260512T204500Z
SUMMARY:Aberdeen v St Mirren
LOCATION:Pittodrie
DESCRIPTION:Aberdeen v St Mirren - Pittodrie - Scottish Premiership
STATUS:CONFIRMED
END:VEVENT
BEGIN:VEVENT
UID:7ab45ec2a2e8e97207fb72fc1fe2cbe2@skysports.com
SEQUENCE:0
DTSTAMP:20260425T090104Z
DTSTART:20260517T130000Z
DTEND:20260517T150000Z
SUMMARY:Dundee v Aberdeen
LOCATION:The Scot Foam Stadium at Dens Park
DESCRIPTION:Dundee v Aberdeen - The Scot Foam Stadium at Dens Park - Scott
 ish Premiership
STATUS:CONFIRMED
END:VEVENT
END:VCALENDAR