BEGIN:VCALENDAR
VERSION:2.0
PRODID:-//Sky Sports SSDM//NONSGML Event Calendar//EN
URL:https://www.skysports.com/calendars/football/fixtures/teams/ac-milan
CALSCALE:GREGORIAN
METHOD:PUBLISH
NAME:AC Milan Fixtures
X-WR-CALNAME:AC Milan Fixtures
X-WR-CALDESC:AC Milan fixtures provided by Sky Sports (https://www.skyspor
 ts.com)
REFRESH-INTERVAL;VALUE=DURATION:PT1H
X-PUBLISHED-TTL:PT1H
BEGIN:VEVENT
UID:41f5d388452f7622dccd8e73e8760089@skysports.com
SEQUENCE:0
DTSTAMP:20260425T090807Z
DTSTART:20250723T113000Z
DTEND:20250723T133000Z
SUMMARY:Arsenal v AC Milan
LOCATION:Singapore National Stadium
DESCRIPTION:Arsenal v AC Milan - Singapore National Stadium - Friendly Mat
 ch
STATUS:CONFIRMED
END:VEVENT
BEGIN:VEVENT
UID:116bd902914470b9d1be8c75cf862db2@skysports.com
SEQUENCE:0
DTSTAMP:20260425T090807Z
DTSTART:20250726T113000Z
DTEND:20250726T133000Z
SUMMARY:Liverpool v AC Milan
LOCATION:Kai Tak Sports Park
DESCRIPTION:Liverpool v AC Milan - Kai Tak Sports Park - Friendly Match
STATUS:CONFIRMED
END:VEVENT
BEGIN:VEVENT
UID:c639ec26da1e21469d354d5541627c59@skysports.com
SEQUENCE:0
DTSTAMP:20260425T090807Z
DTSTART:20250731T102000Z
DTEND:20250731T122000Z
SUMMARY:Perth Glory v AC Milan
LOCATION:HBF Park
DESCRIPTION:Perth Glory v AC Milan - HBF Park - Friendly Match
STATUS:CONFIRMED
END:VEVENT
BEGIN:VEVENT
UID:11d2a2392a6d881b30e3dae312e509fd@skysports.com
SEQUENCE:0
DTSTAMP:20260425T090807Z
DTSTART:20250809T140000Z
DTEND:20250809T160000Z
SUMMARY:Leeds United v AC Milan
LOCATION:Aviva Stadium
DESCRIPTION:Leeds United v AC Milan - Aviva Stadium - Friendly Match
STATUS:CONFIRMED
END:VEVENT
BEGIN:VEVENT
UID:19ff820f73e3526c86e5c91541667e71@skysports.com
SEQUENCE:0
DTSTAMP:20260425T090807Z
DTSTART:20250823T184500Z
DTEND:20250823T204500Z
SUMMARY:AC Milan v Cremonese
LOCATION:Giuseppe Meazza
DESCRIPTION:AC Milan v Cremonese - Giuseppe Meazza - Italian Serie A
STATUS:CONFIRMED
END:VEVENT
BEGIN:VEVENT
UID:d6468c061b58e1447f6ade32de1087ca@skysports.com
SEQUENCE:0
DTSTAMP:20260425T090807Z
DTSTART:20250829T184500Z
DTEND:20250829T204500Z
SUMMARY:Lecce v AC Milan
LOCATION:Via Del Mare
DESCRIPTION:Lecce v AC Milan - Via Del Mare - Italian Serie A
STATUS:CONFIRMED
END:VEVENT
BEGIN:VEVENT
UID:3d0e99082b83ac13fd56fada5dfca7ab@skysports.com
SEQUENCE:0
DTSTAMP:20260425T090807Z
DTSTART:20250914T184500Z
DTEND:20250914T204500Z
SUMMARY:AC Milan v Bologna
LOCATION:Giuseppe Meazza
DESCRIPTION:AC Milan v Bologna - Giuseppe Meazza - Italian Serie A
STATUS:CONFIRMED
END:VEVENT
BEGIN:VEVENT
UID:15a07a9a8af3bfb2a1a29953c395abaa@skysports.com
SEQUENCE:0
DTSTAMP:20260425T090807Z
DTSTART:20250920T184500Z
DTEND:20250920T204500Z
SUMMARY:Udinese v AC Milan
LOCATION:Dacia Arena
DESCRIPTION:Udinese v AC Milan - Dacia Arena - Italian Serie A
STATUS:CONFIRMED
END:VEVENT
BEGIN:VEVENT
UID:bd5269b3d9f8a0459c97192ffaaf7b71@skysports.com
SEQUENCE:0
DTSTAMP:20260425T090807Z
DTSTART:20250928T184500Z
DTEND:20250928T204500Z
SUMMARY:AC Milan v Napoli
LOCATION:Giuseppe Meazza
DESCRIPTION:AC Milan v Napoli - Giuseppe Meazza - Italian Serie A
STATUS:CONFIRMED
END:VEVENT
BEGIN:VEVENT
UID:aff5b1eaed9aab405c047e5c634be5a4@skysports.com
SEQUENCE:0
DTSTAMP:20260425T090807Z
DTSTART:20251005T184500Z
DTEND:20251005T204500Z
SUMMARY:Juventus v AC Milan
LOCATION:Juventus Stadium
DESCRIPTION:Juventus v AC Milan - Juventus Stadium - Italian Serie A
STATUS:CONFIRMED
END:VEVENT
BEGIN:VEVENT
UID:0068f260a5c7c5771e9a6bdb7c0be07a@skysports.com
SEQUENCE:0
DTSTAMP:20260425T090807Z
DTSTART:20251019T184500Z
DTEND:20251019T204500Z
SUMMARY:AC Milan v Fiorentina
LOCATION:Giuseppe Meazza
DESCRIPTION:AC Milan v Fiorentina - Giuseppe Meazza - Italian Serie A
STATUS:CONFIRMED
END:VEVENT
BEGIN:VEVENT
UID:de5e751809f62e53f7ae613514cc9c66@skysports.com
SEQUENCE:0
DTSTAMP:20260425T090807Z
DTSTART:20251024T184500Z
DTEND:20251024T204500Z
SUMMARY:AC Milan v Pisa
LOCATION:Giuseppe Meazza
DESCRIPTION:AC Milan v Pisa - Giuseppe Meazza - Italian Serie A
STATUS:CONFIRMED
END:VEVENT
BEGIN:VEVENT
UID:9d49de64f26b4b01a804548eec162521@skysports.com
SEQUENCE:0
DTSTAMP:20260425T090807Z
DTSTART:20251028T194500Z
DTEND:20251028T214500Z
SUMMARY:Atalanta v AC Milan
LOCATION:Gewiss Stadium
DESCRIPTION:Atalanta v AC Milan - Gewiss Stadium - Italian Serie A
STATUS:CONFIRMED
END:VEVENT
BEGIN:VEVENT
UID:b7de1cbcb6e7e5a0893bf16b27544840@skysports.com
SEQUENCE:0
DTSTAMP:20260425T090807Z
DTSTART:20251102T194500Z
DTEND:20251102T214500Z
SUMMARY:AC Milan v Roma
LOCATION:Giuseppe Meazza
DESCRIPTION:AC Milan v Roma - Giuseppe Meazza - Italian Serie A
STATUS:CONFIRMED
END:VEVENT
BEGIN:VEVENT
UID:b41eb83f1678906d4e4100eb6acb041a@skysports.com
SEQUENCE:0
DTSTAMP:20260425T090807Z
DTSTART:20251108T194500Z
DTEND:20251108T214500Z
SUMMARY:Parma v AC Milan
LOCATION:Ennio Tardini
DESCRIPTION:Parma v AC Milan - Ennio Tardini - Italian Serie A
STATUS:CONFIRMED
END:VEVENT
BEGIN:VEVENT
UID:a87267db4a4cc852fb2f795db84d3bc2@skysports.com
SEQUENCE:0
DTSTAMP:20260425T090807Z
DTSTART:20251123T194500Z
DTEND:20251123T214500Z
SUMMARY:Inter Milan v AC Milan
LOCATION:Giuseppe Meazza
DESCRIPTION:Inter Milan v AC Milan - Giuseppe Meazza - Italian Serie A
STATUS:CONFIRMED
END:VEVENT
BEGIN:VEVENT
UID:8f28ec1b193fd7ebeb49d483104b95b7@skysports.com
SEQUENCE:0
DTSTAMP:20260425T090807Z
DTSTART:20251129T194500Z
DTEND:20251129T214500Z
SUMMARY:AC Milan v Lazio
LOCATION:Giuseppe Meazza
DESCRIPTION:AC Milan v Lazio - Giuseppe Meazza - Italian Serie A
STATUS:CONFIRMED
END:VEVENT
BEGIN:VEVENT
UID:5f4aebc946fec6c822ed3327e698a881@skysports.com
SEQUENCE:0
DTSTAMP:20260425T090807Z
DTSTART:20251208T194500Z
DTEND:20251208T214500Z
SUMMARY:Torino v AC Milan
LOCATION:Olimpico di Torino
DESCRIPTION:Torino v AC Milan - Olimpico di Torino - Italian Serie A
STATUS:CONFIRMED
END:VEVENT
BEGIN:VEVENT
UID:cfa4ebce8e62e8fbabb57a6d617a4729@skysports.com
SEQUENCE:0
DTSTAMP:20260425T090807Z
DTSTART:20251214T113000Z
DTEND:20251214T133000Z
SUMMARY:AC Milan v Sassuolo
LOCATION:Giuseppe Meazza
DESCRIPTION:AC Milan v Sassuolo - Giuseppe Meazza - Italian Serie A
STATUS:CONFIRMED
END:VEVENT
BEGIN:VEVENT
UID:244706aeb2a228e3ef88e4768ec5a8a1@skysports.com
SEQUENCE:0
DTSTAMP:20260425T090807Z
DTSTART:20260115T194500Z
DTEND:20260115T214500Z
SUMMARY:Como v AC Milan
LOCATION:Giuseppe Sinigaglia
DESCRIPTION:Como v AC Milan - Giuseppe Sinigaglia - Italian Serie A
STATUS:CONFIRMED
END:VEVENT
BEGIN:VEVENT
UID:8337a9c8c421a3eb2b73f331653679f7@skysports.com
SEQUENCE:0
DTSTAMP:20260425T090807Z
DTSTART:20251228T113000Z
DTEND:20251228T133000Z
SUMMARY:AC Milan v Verona
LOCATION:Giuseppe Meazza
DESCRIPTION:AC Milan v Verona - Giuseppe Meazza - Italian Serie A
STATUS:CONFIRMED
END:VEVENT
BEGIN:VEVENT
UID:2a15d9711451879b2aae5bf748e5c1a5@skysports.com
SEQUENCE:0
DTSTAMP:20260425T090807Z
DTSTART:20260102T194500Z
DTEND:20260102T214500Z
SUMMARY:Cagliari v AC Milan
LOCATION:Sardegna Arena
DESCRIPTION:Cagliari v AC Milan - Sardegna Arena - Italian Serie A
STATUS:CONFIRMED
END:VEVENT
BEGIN:VEVENT
UID:fb4ae44a502f40634d4e8f02e5231b66@skysports.com
SEQUENCE:0
DTSTAMP:20260425T090807Z
DTSTART:20260108T194500Z
DTEND:20260108T214500Z
SUMMARY:AC Milan v Genoa
LOCATION:Giuseppe Meazza
DESCRIPTION:AC Milan v Genoa - Giuseppe Meazza - Italian Serie A
STATUS:CONFIRMED
END:VEVENT
BEGIN:VEVENT
UID:b36db452e8c54f8c8d6a79b65d08c776@skysports.com
SEQUENCE:0
DTSTAMP:20260425T090807Z
DTSTART:20260111T140000Z
DTEND:20260111T160000Z
SUMMARY:Fiorentina v AC Milan
LOCATION:Artemio Franchi
DESCRIPTION:Fiorentina v AC Milan - Artemio Franchi - Italian Serie A
STATUS:CONFIRMED
END:VEVENT
BEGIN:VEVENT
UID:0217ee89029d8d88055dc9b5abd1d3e9@skysports.com
SEQUENCE:0
DTSTAMP:20260425T090807Z
DTSTART:20260118T194500Z
DTEND:20260118T214500Z
SUMMARY:AC Milan v Lecce
LOCATION:Giuseppe Meazza
DESCRIPTION:AC Milan v Lecce - Giuseppe Meazza - Italian Serie A
STATUS:CONFIRMED
END:VEVENT
BEGIN:VEVENT
UID:0d04288f8ba83e7b288c5b809a553092@skysports.com
SEQUENCE:0
DTSTAMP:20260425T090807Z
DTSTART:20260125T194500Z
DTEND:20260125T214500Z
SUMMARY:Roma v AC Milan
LOCATION:Olimpico
DESCRIPTION:Roma v AC Milan - Olimpico - Italian Serie A
STATUS:CONFIRMED
END:VEVENT
BEGIN:VEVENT
UID:da8a0311726093f1d3fd2a40d924cbe7@skysports.com
SEQUENCE:0
DTSTAMP:20260425T090807Z
DTSTART:20260203T194500Z
DTEND:20260203T214500Z
SUMMARY:Bologna v AC Milan
LOCATION:Renato Dall'Ara
DESCRIPTION:Bologna v AC Milan - Renato Dall'Ara - Italian Serie A
STATUS:CONFIRMED
END:VEVENT
BEGIN:VEVENT
UID:7bbe23c8719570224d8cf93e9e497cb5@skysports.com
SEQUENCE:0
DTSTAMP:20260425T090807Z
DTSTART:20260218T194500Z
DTEND:20260218T214500Z
SUMMARY:AC Milan v Como
LOCATION:Giuseppe Meazza
DESCRIPTION:AC Milan v Como - Giuseppe Meazza - Italian Serie A
STATUS:CONFIRMED
END:VEVENT
BEGIN:VEVENT
UID:9a57923e7fec16089f19b5f2f407f40c@skysports.com
SEQUENCE:0
DTSTAMP:20260425T090807Z
DTSTART:20260213T194500Z
DTEND:20260213T214500Z
SUMMARY:Pisa v AC Milan
LOCATION:Arena Garibaldi Romeo Anconetani
DESCRIPTION:Pisa v AC Milan - Arena Garibaldi Romeo Anconetani - Italian S
 erie A
STATUS:CONFIRMED
END:VEVENT
BEGIN:VEVENT
UID:e724fdb05a5cdafe30916ea5bad331ae@skysports.com
SEQUENCE:0
DTSTAMP:20260425T090807Z
DTSTART:20260222T170000Z
DTEND:20260222T190000Z
SUMMARY:AC Milan v Parma
LOCATION:Giuseppe Meazza
DESCRIPTION:AC Milan v Parma - Giuseppe Meazza - Italian Serie A
STATUS:CONFIRMED
END:VEVENT
BEGIN:VEVENT
UID:6f9dd50614b07cc6ec5158221fa69174@skysports.com
SEQUENCE:0
DTSTAMP:20260425T090807Z
DTSTART:20260301T113000Z
DTEND:20260301T133000Z
SUMMARY:Cremonese v AC Milan
LOCATION:Giovanni Zini
DESCRIPTION:Cremonese v AC Milan - Giovanni Zini - Italian Serie A
STATUS:CONFIRMED
END:VEVENT
BEGIN:VEVENT
UID:f708888d7b37358a70e3657d25da55dd@skysports.com
SEQUENCE:0
DTSTAMP:20260425T090807Z
DTSTART:20260308T194500Z
DTEND:20260308T214500Z
SUMMARY:AC Milan v Inter Milan
LOCATION:Giuseppe Meazza
DESCRIPTION:AC Milan v Inter Milan - Giuseppe Meazza - Italian Serie A
STATUS:CONFIRMED
END:VEVENT
BEGIN:VEVENT
UID:01b9b7debe6925dc88fe9bb7cc905fa8@skysports.com
SEQUENCE:0
DTSTAMP:20260425T090807Z
DTSTART:20260315T194500Z
DTEND:20260315T214500Z
SUMMARY:Lazio v AC Milan
LOCATION:Olimpico
DESCRIPTION:Lazio v AC Milan - Olimpico - Italian Serie A
STATUS:CONFIRMED
END:VEVENT
BEGIN:VEVENT
UID:778582cb7793be7abaef47c265e47d3a@skysports.com
SEQUENCE:0
DTSTAMP:20260425T090807Z
DTSTART:20260321T170000Z
DTEND:20260321T190000Z
SUMMARY:AC Milan v Torino
LOCATION:Giuseppe Meazza
DESCRIPTION:AC Milan v Torino - Giuseppe Meazza - Italian Serie A
STATUS:CONFIRMED
END:VEVENT
BEGIN:VEVENT
UID:faa2ac9cd186e061d1bca7ced99f064c@skysports.com
SEQUENCE:0
DTSTAMP:20260425T090807Z
DTSTART:20260406T184500Z
DTEND:20260406T204500Z
SUMMARY:Napoli v AC Milan
LOCATION:Diego Armando Maradona
DESCRIPTION:Napoli v AC Milan - Diego Armando Maradona - Italian Serie A
STATUS:CONFIRMED
END:VEVENT
BEGIN:VEVENT
UID:bd92bac89d25c08a39551011ef693fd6@skysports.com
SEQUENCE:0
DTSTAMP:20260425T090807Z
DTSTART:20260411T160000Z
DTEND:20260411T180000Z
SUMMARY:AC Milan v Udinese
LOCATION:Giuseppe Meazza
DESCRIPTION:AC Milan v Udinese - Giuseppe Meazza - Italian Serie A
STATUS:CONFIRMED
END:VEVENT
BEGIN:VEVENT
UID:8fbf57989ecc333e476234b4df10369c@skysports.com
SEQUENCE:0
DTSTAMP:20260425T090807Z
DTSTART:20260419T130000Z
DTEND:20260419T150000Z
SUMMARY:Verona v AC Milan
LOCATION:Marc'Antonio Bentegodi
DESCRIPTION:Verona v AC Milan - Marc'Antonio Bentegodi - Italian Serie A
STATUS:CONFIRMED
END:VEVENT
BEGIN:VEVENT
UID:dbc8fc11d2ea59a047d933457c988236@skysports.com
SEQUENCE:0
DTSTAMP:20260425T090807Z
DTSTART:20260426T184500Z
DTEND:20260426T204500Z
SUMMARY:AC Milan v Juventus
LOCATION:Giuseppe Meazza
DESCRIPTION:AC Milan v Juventus - Giuseppe Meazza - Italian Serie A
STATUS:CONFIRMED
END:VEVENT
BEGIN:VEVENT
UID:edd641d6e78c990f5b042087a3589b69@skysports.com
SEQUENCE:0
DTSTAMP:20260425T090807Z
DTSTART:20260503T130000Z
DTEND:20260503T150000Z
SUMMARY:Sassuolo v AC Milan
LOCATION:Citta del Tricolore
DESCRIPTION:Sassuolo v AC Milan - Citta del Tricolore - Italian Serie A
STATUS:CONFIRMED
END:VEVENT
BEGIN:VEVENT
UID:a6bcd19e2bef21bed1dbc225e43f4eec@skysports.com
SEQUENCE:0
DTSTAMP:20260425T090807Z
DTSTART:20260510T184500Z
DTEND:20260510T204500Z
SUMMARY:AC Milan v Atalanta
LOCATION:Giuseppe Meazza
DESCRIPTION:AC Milan v Atalanta - Giuseppe Meazza - Italian Serie A
STATUS:CONFIRMED
END:VEVENT
BEGIN:VEVENT
UID:a03ecf52e4a5dc65fb2ac5d91bfe0e1b@skysports.com
SEQUENCE:0
DTSTAMP:20260425T090807Z
DTSTART:20260517T130000Z
DTEND:20260517T150000Z
SUMMARY:Genoa v AC Milan
LOCATION:Luigi Ferraris
DESCRIPTION:Genoa v AC Milan - Luigi Ferraris - Italian Serie A
STATUS:CONFIRMED
END:VEVENT
BEGIN:VEVENT
UID:c30ec69dce5958fab1ac057fd4a599a2@skysports.com
SEQUENCE:0
DTSTAMP:20260425T090807Z
DTSTART:20260524T130000Z
DTEND:20260524T150000Z
SUMMARY:AC Milan v Cagliari
LOCATION:Giuseppe Meazza
DESCRIPTION:AC Milan v Cagliari - Giuseppe Meazza - Italian Serie A
STATUS:CONFIRMED
END:VEVENT
BEGIN:VEVENT
UID:f9c5deb46e53db135a181b1c55e6b17c@skysports.com
SEQUENCE:0
DTSTAMP:20260425T090807Z
DTSTART:20250810T140000Z
DTEND:20250810T160000Z
SUMMARY:Chelsea v AC Milan
LOCATION:Stamford Bridge
DESCRIPTION:Chelsea v AC Milan - Stamford Bridge - Friendly Match
STATUS:CONFIRMED
END:VEVENT
BEGIN:VEVENT
UID:3d82a58f074706e08f746b4820675a36@skysports.com
SEQUENCE:0
DTSTAMP:20260425T090807Z
DTSTART:20250817T191500Z
DTEND:20250817T211500Z
SUMMARY:AC Milan v Bari
LOCATION:Giuseppe Meazza
DESCRIPTION:AC Milan v Bari - Giuseppe Meazza - Coppa Italia
STATUS:CONFIRMED
END:VEVENT
BEGIN:VEVENT
UID:692a30a7c2f2835d356d75f385dde70b@skysports.com
SEQUENCE:0
DTSTAMP:20260425T090807Z
DTSTART:20250923T190000Z
DTEND:20250923T210000Z
SUMMARY:AC Milan v Lecce
LOCATION:Giuseppe Meazza
DESCRIPTION:AC Milan v Lecce - Giuseppe Meazza - Coppa Italia
STATUS:CONFIRMED
END:VEVENT
BEGIN:VEVENT
UID:2dec9307123eef5aab6b3af2690df8b9@skysports.com
SEQUENCE:0
DTSTAMP:20260425T090807Z
DTSTART:20251204T200000Z
DTEND:20251204T220000Z
SUMMARY:Lazio v AC Milan
LOCATION:Olimpico
DESCRIPTION:Lazio v AC Milan - Olimpico - Coppa Italia
STATUS:CONFIRMED
END:VEVENT
BEGIN:VEVENT
UID:75cf5cc365f33da72c108fdb019ecc69@skysports.com
SEQUENCE:0
DTSTAMP:20260425T090807Z
DTSTART:20251218T190000Z
DTEND:20251218T210000Z
SUMMARY:Napoli v AC Milan
LOCATION:King Saud University Stadium
DESCRIPTION:Napoli v AC Milan - King Saud University Stadium - Italian Sup
 er Cup
STATUS:CONFIRMED
END:VEVENT
BEGIN:VEVENT
UID:30e6ac0ce8d523f69cd9f4868f0a9455@skysports.com
SEQUENCE:0
DTSTAMP:20260425T090807Z
DTSTART:20251114T103000Z
DTEND:20251114T123000Z
SUMMARY:AC Milan v Virtus Entella
LOCATION:Felice Chinetti
DESCRIPTION:AC Milan v Virtus Entella - Felice Chinetti - Friendly Match
STATUS:CONFIRMED
END:VEVENT
BEGIN:VEVENT
UID:98ef29b6f8ee8f960be2e00172a39795@skysports.com
SEQUENCE:0
DTSTAMP:20260425T090807Z
DTSTART:20260805T100000Z
DTEND:20260805T120000Z
SUMMARY:AC Milan v Inter Milan
LOCATION:Optus Stadium
DESCRIPTION:AC Milan v Inter Milan - Optus Stadium - Friendly Match
STATUS:CONFIRMED
END:VEVENT
END:VCALENDAR