BEGIN:VCALENDAR
VERSION:2.0
PRODID:-//Sky Sports SSDM//NONSGML Event Calendar//EN
URL:https://www.skysports.com/calendars/football/fixtures/teams/angers
CALSCALE:GREGORIAN
METHOD:PUBLISH
NAME:Angers Fixtures
X-WR-CALNAME:Angers Fixtures
X-WR-CALDESC:Angers fixtures provided by Sky Sports (https://www.skysports
 .com)
REFRESH-INTERVAL;VALUE=DURATION:PT1H
X-PUBLISHED-TTL:PT1H
BEGIN:VEVENT
UID:7b4475eb7102ee8798d9340bce05d9b2@skysports.com
SEQUENCE:0
DTSTAMP:20260425T092205Z
DTSTART:20250817T151500Z
DTEND:20250817T171500Z
SUMMARY:Angers v Paris FC
LOCATION:Stade Jean-Bouin
DESCRIPTION:Angers v Paris FC - Stade Jean-Bouin - French Ligue 1
STATUS:CONFIRMED
END:VEVENT
BEGIN:VEVENT
UID:d0260b7a8e2ecf4a01d37d29aba3449e@skysports.com
SEQUENCE:0
DTSTAMP:20260425T092205Z
DTSTART:20250822T184500Z
DTEND:20250822T204500Z
SUMMARY:Paris Saint-Germain v Angers
LOCATION:Parc des Princes
DESCRIPTION:Paris Saint-Germain v Angers - Parc des Princes - French Ligue
  1
STATUS:CONFIRMED
END:VEVENT
BEGIN:VEVENT
UID:79b6f071941f89a9178516d5f5cebc87@skysports.com
SEQUENCE:0
DTSTAMP:20260425T092205Z
DTSTART:20250831T130000Z
DTEND:20250831T150000Z
SUMMARY:Angers v Rennes
LOCATION:Stade Jean-Bouin
DESCRIPTION:Angers v Rennes - Stade Jean-Bouin - French Ligue 1
STATUS:CONFIRMED
END:VEVENT
BEGIN:VEVENT
UID:919e6b8bf1b10493099773abe5a0f8a1@skysports.com
SEQUENCE:0
DTSTAMP:20260425T092205Z
DTSTART:20250914T151500Z
DTEND:20250914T171500Z
SUMMARY:Metz v Angers
LOCATION:Stade Saint-Symphorien
DESCRIPTION:Metz v Angers - Stade Saint-Symphorien - French Ligue 1
STATUS:CONFIRMED
END:VEVENT
BEGIN:VEVENT
UID:1d7a431eebf80b6568d91d034b7619b3@skysports.com
SEQUENCE:0
DTSTAMP:20260425T092205Z
DTSTART:20250919T184500Z
DTEND:20250919T204500Z
SUMMARY:Lyon v Angers
LOCATION:Stade des Lumieres
DESCRIPTION:Lyon v Angers - Stade des Lumieres - French Ligue 1
STATUS:CONFIRMED
END:VEVENT
BEGIN:VEVENT
UID:17398842c1a77fc6dea404b7f912caf9@skysports.com
SEQUENCE:0
DTSTAMP:20260425T092205Z
DTSTART:20250928T151500Z
DTEND:20250928T171500Z
SUMMARY:Angers v Brest
LOCATION:Stade Jean-Bouin
DESCRIPTION:Angers v Brest - Stade Jean-Bouin - French Ligue 1
STATUS:CONFIRMED
END:VEVENT
BEGIN:VEVENT
UID:2f151536061263de4ff85f0aacca8db4@skysports.com
SEQUENCE:0
DTSTAMP:20260425T092205Z
DTSTART:20251005T151500Z
DTEND:20251005T171500Z
SUMMARY:Strasbourg v Angers
LOCATION:Stade de la Meinau
DESCRIPTION:Strasbourg v Angers - Stade de la Meinau - French Ligue 1
STATUS:CONFIRMED
END:VEVENT
BEGIN:VEVENT
UID:3a74adb5d7a84e68bd4b9d2db87d6a5c@skysports.com
SEQUENCE:0
DTSTAMP:20260425T092205Z
DTSTART:20251018T170000Z
DTEND:20251018T190000Z
SUMMARY:Angers v Monaco
LOCATION:Stade Jean-Bouin
DESCRIPTION:Angers v Monaco - Stade Jean-Bouin - French Ligue 1
STATUS:CONFIRMED
END:VEVENT
BEGIN:VEVENT
UID:d8f4c98be7b51e5cf7ce1a3473de2a08@skysports.com
SEQUENCE:0
DTSTAMP:20260425T092205Z
DTSTART:20251026T161500Z
DTEND:20251026T181500Z
SUMMARY:Angers v Lorient
LOCATION:Stade Jean-Bouin
DESCRIPTION:Angers v Lorient - Stade Jean-Bouin - French Ligue 1
STATUS:CONFIRMED
END:VEVENT
BEGIN:VEVENT
UID:4a6981a3c91710c79a274c5dba71facb@skysports.com
SEQUENCE:0
DTSTAMP:20260425T092205Z
DTSTART:20251029T200500Z
DTEND:20251029T220500Z
SUMMARY:Marseille v Angers
LOCATION:Orange Velodrome
DESCRIPTION:Marseille v Angers - Orange Velodrome - French Ligue 1
STATUS:CONFIRMED
END:VEVENT
BEGIN:VEVENT
UID:ede3615b83643f1b14597b9f935f1ac9@skysports.com
SEQUENCE:0
DTSTAMP:20260425T092205Z
DTSTART:20251102T161500Z
DTEND:20251102T181500Z
SUMMARY:Lille v Angers
LOCATION:Stade Pierre-Mauroy
DESCRIPTION:Lille v Angers - Stade Pierre-Mauroy - French Ligue 1
STATUS:CONFIRMED
END:VEVENT
BEGIN:VEVENT
UID:2bdcbdfff95240ae1726c28e86847ff6@skysports.com
SEQUENCE:0
DTSTAMP:20260425T092205Z
DTSTART:20251109T161500Z
DTEND:20251109T181500Z
SUMMARY:Angers v Auxerre
LOCATION:Stade Jean-Bouin
DESCRIPTION:Angers v Auxerre - Stade Jean-Bouin - French Ligue 1
STATUS:CONFIRMED
END:VEVENT
BEGIN:VEVENT
UID:fc7071732eabd1e7fce9839b24a7212e@skysports.com
SEQUENCE:0
DTSTAMP:20260425T092205Z
DTSTART:20251123T161500Z
DTEND:20251123T181500Z
SUMMARY:Toulouse v Angers
LOCATION:Stadium Municipal\, Toulouse
DESCRIPTION:Toulouse v Angers - Stadium Municipal\, Toulouse - French Ligu
 e 1
STATUS:CONFIRMED
END:VEVENT
BEGIN:VEVENT
UID:f5a0bfbb773e658cdd193aa611f3be5b@skysports.com
SEQUENCE:0
DTSTAMP:20260425T092205Z
DTSTART:20251130T161500Z
DTEND:20251130T181500Z
SUMMARY:Angers v RC Lens
LOCATION:Stade Jean-Bouin
DESCRIPTION:Angers v RC Lens - Stade Jean-Bouin - French Ligue 1
STATUS:CONFIRMED
END:VEVENT
BEGIN:VEVENT
UID:3874110be5ff09078d1369fa7c65ab37@skysports.com
SEQUENCE:0
DTSTAMP:20260425T092205Z
DTSTART:20251207T140000Z
DTEND:20251207T160000Z
SUMMARY:Nice v Angers
LOCATION:Allianz Riviera
DESCRIPTION:Nice v Angers - Allianz Riviera - French Ligue 1
STATUS:CONFIRMED
END:VEVENT
BEGIN:VEVENT
UID:c4a09c7bf0ffa30207f40079cede3a64@skysports.com
SEQUENCE:0
DTSTAMP:20260425T092205Z
DTSTART:20251212T194500Z
DTEND:20251212T214500Z
SUMMARY:Angers v Nantes
LOCATION:Stade Jean-Bouin
DESCRIPTION:Angers v Nantes - Stade Jean-Bouin - French Ligue 1
STATUS:CONFIRMED
END:VEVENT
BEGIN:VEVENT
UID:5c7aeea49b968ad9d7cfea8541ae9e1f@skysports.com
SEQUENCE:0
DTSTAMP:20260425T092205Z
DTSTART:20260104T161500Z
DTEND:20260104T181500Z
SUMMARY:Le Havre v Angers
LOCATION:Stade Oceane
DESCRIPTION:Le Havre v Angers - Stade Oceane - French Ligue 1
STATUS:CONFIRMED
END:VEVENT
BEGIN:VEVENT
UID:7a88a892f8b79a43089693d79541aef2@skysports.com
SEQUENCE:0
DTSTAMP:20260425T092205Z
DTSTART:20260117T200500Z
DTEND:20260117T220500Z
SUMMARY:Angers v Marseille
LOCATION:Stade Jean-Bouin
DESCRIPTION:Angers v Marseille - Stade Jean-Bouin - French Ligue 1
STATUS:CONFIRMED
END:VEVENT
BEGIN:VEVENT
UID:6c9c0840150778aee4d6a195509f1800@skysports.com
SEQUENCE:0
DTSTAMP:20260425T092205Z
DTSTART:20260125T161500Z
DTEND:20260125T181500Z
SUMMARY:Paris FC v Angers
LOCATION:Stade Jean Bouin
DESCRIPTION:Paris FC v Angers - Stade Jean Bouin - French Ligue 1
STATUS:CONFIRMED
END:VEVENT
BEGIN:VEVENT
UID:357278d4a4cc4c0328c455cd63014293@skysports.com
SEQUENCE:0
DTSTAMP:20260425T092205Z
DTSTART:20260201T161500Z
DTEND:20260201T181500Z
SUMMARY:Angers v Metz
LOCATION:Stade Jean-Bouin
DESCRIPTION:Angers v Metz - Stade Jean-Bouin - French Ligue 1
STATUS:CONFIRMED
END:VEVENT
BEGIN:VEVENT
UID:6d2a8894c6034f1ac0119e0bca570d6a@skysports.com
SEQUENCE:0
DTSTAMP:20260425T092205Z
DTSTART:20260208T161500Z
DTEND:20260208T181500Z
SUMMARY:Angers v Toulouse
LOCATION:Stade Jean-Bouin
DESCRIPTION:Angers v Toulouse - Stade Jean-Bouin - French Ligue 1
STATUS:CONFIRMED
END:VEVENT
BEGIN:VEVENT
UID:6d114e2a9420917d7b02413b23070bfa@skysports.com
SEQUENCE:0
DTSTAMP:20260425T092205Z
DTSTART:20260215T161500Z
DTEND:20260215T181500Z
SUMMARY:Lorient v Angers
LOCATION:Stade du Moustoir
DESCRIPTION:Lorient v Angers - Stade du Moustoir - French Ligue 1
STATUS:CONFIRMED
END:VEVENT
BEGIN:VEVENT
UID:d29ccba294d6140633a6e0363e6e4cc4@skysports.com
SEQUENCE:0
DTSTAMP:20260425T092205Z
DTSTART:20260222T161500Z
DTEND:20260222T181500Z
SUMMARY:Angers v Lille
LOCATION:Stade Jean-Bouin
DESCRIPTION:Angers v Lille - Stade Jean-Bouin - French Ligue 1
STATUS:CONFIRMED
END:VEVENT
BEGIN:VEVENT
UID:6378e6543edb2f87db572f0d4bfd6064@skysports.com
SEQUENCE:0
DTSTAMP:20260425T092205Z
DTSTART:20260228T180000Z
DTEND:20260228T200000Z
SUMMARY:Monaco v Angers
LOCATION:Stade Louis-II
DESCRIPTION:Monaco v Angers - Stade Louis-II - French Ligue 1
STATUS:CONFIRMED
END:VEVENT
BEGIN:VEVENT
UID:c44731c34313631500cf5751dc689249@skysports.com
SEQUENCE:0
DTSTAMP:20260425T092205Z
DTSTART:20260307T160000Z
DTEND:20260307T180000Z
SUMMARY:Nantes v Angers
LOCATION:La Beaujoire-Louis-Fonteneau
DESCRIPTION:Nantes v Angers - La Beaujoire-Louis-Fonteneau - French Ligue 
 1
STATUS:CONFIRMED
END:VEVENT
BEGIN:VEVENT
UID:da8fc27c2bcb865a37b2effbb1ce003e@skysports.com
SEQUENCE:0
DTSTAMP:20260425T092205Z
DTSTART:20260314T180000Z
DTEND:20260314T200000Z
SUMMARY:Angers v Nice
LOCATION:Stade Jean-Bouin
DESCRIPTION:Angers v Nice - Stade Jean-Bouin - French Ligue 1
STATUS:CONFIRMED
END:VEVENT
BEGIN:VEVENT
UID:c43039724afa05ae1a5b51abf015abaa@skysports.com
SEQUENCE:0
DTSTAMP:20260425T092205Z
DTSTART:20260320T194500Z
DTEND:20260320T214500Z
SUMMARY:RC Lens v Angers
LOCATION:Stade Bollaert-Delelis
DESCRIPTION:RC Lens v Angers - Stade Bollaert-Delelis - French Ligue 1
STATUS:CONFIRMED
END:VEVENT
BEGIN:VEVENT
UID:05dd2a6cbbf24537294ad7c49de889de@skysports.com
SEQUENCE:0
DTSTAMP:20260425T092205Z
DTSTART:20260405T130000Z
DTEND:20260405T150000Z
SUMMARY:Angers v Lyon
LOCATION:Stade Jean-Bouin
DESCRIPTION:Angers v Lyon - Stade Jean-Bouin - French Ligue 1
STATUS:CONFIRMED
END:VEVENT
BEGIN:VEVENT
UID:639a3315cbe7ae14a71630a7e33f21a4@skysports.com
SEQUENCE:0
DTSTAMP:20260425T092205Z
DTSTART:20260411T190500Z
DTEND:20260411T210500Z
SUMMARY:Rennes v Angers
LOCATION:Stade de la Route-de-Lorient
DESCRIPTION:Rennes v Angers - Stade de la Route-de-Lorient - French Ligue 
 1
STATUS:CONFIRMED
END:VEVENT
BEGIN:VEVENT
UID:55ed15aabac14732ed4d79fa092ac894@skysports.com
SEQUENCE:0
DTSTAMP:20260425T092205Z
DTSTART:20260418T170000Z
DTEND:20260418T190000Z
SUMMARY:Angers v Le Havre
LOCATION:Stade Jean-Bouin
DESCRIPTION:Angers v Le Havre - Stade Jean-Bouin - French Ligue 1
STATUS:CONFIRMED
END:VEVENT
BEGIN:VEVENT
UID:42f0955089b0bdbf4abba4cc6bc043f7@skysports.com
SEQUENCE:0
DTSTAMP:20260425T092205Z
DTSTART:20260425T170000Z
DTEND:20260425T190000Z
SUMMARY:Angers v Paris Saint-Germain
LOCATION:Stade Jean-Bouin
DESCRIPTION:Angers v Paris Saint-Germain - Stade Jean-Bouin - French Ligue
  1
STATUS:CONFIRMED
END:VEVENT
BEGIN:VEVENT
UID:e5fb9ee70e22c2b18fa16cce6d03e847@skysports.com
SEQUENCE:0
DTSTAMP:20260425T092205Z
DTSTART:20260503T151500Z
DTEND:20260503T171500Z
SUMMARY:Auxerre v Angers
LOCATION:Stade de l'Abbe-Deschamps
DESCRIPTION:Auxerre v Angers - Stade de l'Abbe-Deschamps - French Ligue 1
STATUS:CONFIRMED
END:VEVENT
BEGIN:VEVENT
UID:2cc9f0160bcc3774bcaa8402ae15de00@skysports.com
SEQUENCE:0
DTSTAMP:20260425T092205Z
DTSTART:20260510T190000Z
DTEND:20260510T210000Z
SUMMARY:Angers v Strasbourg
LOCATION:Stade Jean-Bouin
DESCRIPTION:Angers v Strasbourg - Stade Jean-Bouin - French Ligue 1
STATUS:CONFIRMED
END:VEVENT
BEGIN:VEVENT
UID:faab5332d0258359f32bb2eb49cbe19b@skysports.com
SEQUENCE:0
DTSTAMP:20260425T092205Z
DTSTART:20260517T190000Z
DTEND:20260517T210000Z
SUMMARY:Brest v Angers
LOCATION:Stade Francis-Le Ble
DESCRIPTION:Brest v Angers - Stade Francis-Le Ble - French Ligue 1
STATUS:CONFIRMED
END:VEVENT
BEGIN:VEVENT
UID:bef53a30f940f07fe325b3a8db6f5137@skysports.com
SEQUENCE:0
DTSTAMP:20260425T092205Z
DTSTART:20251219T194500Z
DTEND:20251219T214500Z
SUMMARY:Les Herbiers v Angers
LOCATION:Stade Massabielle
DESCRIPTION:Les Herbiers v Angers - Stade Massabielle - Coupe de France
STATUS:CONFIRMED
END:VEVENT
BEGIN:VEVENT
UID:b7d23e64fd7f177e89638294bd5e3f87@skysports.com
SEQUENCE:0
DTSTAMP:20260425T092205Z
DTSTART:20260110T143000Z
DTEND:20260110T163000Z
SUMMARY:Angers v Toulouse
LOCATION:Stade Jean-Bouin
DESCRIPTION:Angers v Toulouse - Stade Jean-Bouin - Coupe de France
STATUS:CONFIRMED
END:VEVENT
END:VCALENDAR