BEGIN:VCALENDAR
VERSION:2.0
PRODID:-//Sky Sports SSDM//NONSGML Event Calendar//EN
URL:https://www.skysports.com/calendars/football/fixtures/teams/arsenal-wo
 men
CALSCALE:GREGORIAN
METHOD:PUBLISH
NAME:Arsenal Women Fixtures
X-WR-CALNAME:Arsenal Women Fixtures
X-WR-CALDESC:Arsenal Women fixtures provided by Sky Sports (https://www.sk
 ysports.com)
REFRESH-INTERVAL;VALUE=DURATION:PT1H
X-PUBLISHED-TTL:PT1H
BEGIN:VEVENT
UID:e03cb3a6d4a120c0dd5a3a15e391e574@skysports.com
SEQUENCE:0
DTSTAMP:20260425T092128Z
DTSTART:20250906T123000Z
DTEND:20250906T143000Z
SUMMARY:Arsenal Women v London City Lionesses
LOCATION:Emirates Stadium
DESCRIPTION:Arsenal Women v London City Lionesses - Emirates Stadium - Wom
 en's Super League
STATUS:CONFIRMED
END:VEVENT
BEGIN:VEVENT
UID:0d1420587a18e2f8d820c3854e21f931@skysports.com
SEQUENCE:0
DTSTAMP:20260425T092128Z
DTSTART:20250912T183000Z
DTEND:20250912T203000Z
SUMMARY:West Ham United Women v Arsenal Women
LOCATION:Victoria Road
DESCRIPTION:West Ham United Women v Arsenal Women - Victoria Road - Women'
 s Super League - Live on Sky Sports Premier League
STATUS:CONFIRMED
END:VEVENT
BEGIN:VEVENT
UID:d6a4be848b7f4327720ac4d5b968123f@skysports.com
SEQUENCE:0
DTSTAMP:20260425T092128Z
DTSTART:20250921T135000Z
DTEND:20250921T155000Z
SUMMARY:Manchester United Women v Arsenal Women
LOCATION:Leigh Sports Village
DESCRIPTION:Manchester United Women v Arsenal Women - Leigh Sports Village
  - Women's Super League
STATUS:CONFIRMED
END:VEVENT
BEGIN:VEVENT
UID:afefe505b6c1611018ed508473af39ec@skysports.com
SEQUENCE:0
DTSTAMP:20260425T092128Z
DTSTART:20250927T110000Z
DTEND:20250927T130000Z
SUMMARY:Arsenal Women v Aston Villa Women
LOCATION:Emirates Stadium
DESCRIPTION:Arsenal Women v Aston Villa Women - Emirates Stadium - Barclay
 s Women's Super League - Live on Sky Sports Premier League
STATUS:CONFIRMED
END:VEVENT
BEGIN:VEVENT
UID:ee99b1305be3bd7297e09500001c8977@skysports.com
SEQUENCE:0
DTSTAMP:20260425T092128Z
DTSTART:20251004T110000Z
DTEND:20251004T130000Z
SUMMARY:Manchester City Women v Arsenal Women
LOCATION:City Football Academy
DESCRIPTION:Manchester City Women v Arsenal Women - City Football Academy 
 - Barclays Women's Super League - Live on Sky Sports Main Event and Sky Sp
 orts Premier League
STATUS:CONFIRMED
END:VEVENT
BEGIN:VEVENT
UID:bb85b303b89365b3e6d2f43f444d98a0@skysports.com
SEQUENCE:0
DTSTAMP:20260425T092128Z
DTSTART:20251012T133000Z
DTEND:20251012T153000Z
SUMMARY:Arsenal Women v Brighton and Hove Albion Women
LOCATION:Emirates Stadium
DESCRIPTION:Arsenal Women v Brighton and Hove Albion Women - Emirates Stad
 ium - Barclays Women's Super League
STATUS:CONFIRMED
END:VEVENT
BEGIN:VEVENT
UID:e17e07bc7e26a14647b94436c6495bfd@skysports.com
SEQUENCE:0
DTSTAMP:20260425T092128Z
DTSTART:20251102T120000Z
DTEND:20251102T140000Z
SUMMARY:Leicester City Women v Arsenal Women
LOCATION:The King Power Stadium
DESCRIPTION:Leicester City Women v Arsenal Women - The King Power Stadium 
 - Barclays Women's Super League - Live on Sky Sports Mix
STATUS:CONFIRMED
END:VEVENT
BEGIN:VEVENT
UID:a0813b90b0e2f3ba845ba249049836e2@skysports.com
SEQUENCE:0
DTSTAMP:20260425T092128Z
DTSTART:20251108T120000Z
DTEND:20251108T140000Z
SUMMARY:Arsenal Women v Chelsea Women
LOCATION:Emirates Stadium
DESCRIPTION:Arsenal Women v Chelsea Women - Emirates Stadium - Barclays Wo
 men's Super League - Live on Sky Sports Main Event and Sky Sports Premier 
 League HD
STATUS:CONFIRMED
END:VEVENT
BEGIN:VEVENT
UID:e594e20e0387ca44a4170bf92831edc5@skysports.com
SEQUENCE:0
DTSTAMP:20260425T092128Z
DTSTART:20251116T143000Z
DTEND:20251116T163000Z
SUMMARY:Tottenham Hotspur Women v Arsenal Women
LOCATION:BetWright Stadium
DESCRIPTION:Tottenham Hotspur Women v Arsenal Women - BetWright Stadium - 
 Barclays Women's Super League - Live on Sky Sports Premier League
STATUS:CONFIRMED
END:VEVENT
BEGIN:VEVENT
UID:416ed6bdf6d43890d1ff9417ecee510e@skysports.com
SEQUENCE:0
DTSTAMP:20260425T092128Z
DTSTART:20251206T120000Z
DTEND:20251206T140000Z
SUMMARY:Arsenal Women v Liverpool Women
LOCATION:Emirates Stadium
DESCRIPTION:Arsenal Women v Liverpool Women - Emirates Stadium - Barclays 
 Women's Super League - Live on Sky Sports Mix and Sky Sports Premier Leagu
 e
STATUS:CONFIRMED
END:VEVENT
BEGIN:VEVENT
UID:2caa244f7698e2143ba859610af0e7ce@skysports.com
SEQUENCE:0
DTSTAMP:20260425T092128Z
DTSTART:20251213T120000Z
DTEND:20251213T140000Z
SUMMARY:Everton Women v Arsenal Women
LOCATION:Goodison Park
DESCRIPTION:Everton Women v Arsenal Women - Goodison Park - Barclays Women
 's Super League - Live on Sky Sports Mix and Sky Sports Premier League
STATUS:CONFIRMED
END:VEVENT
BEGIN:VEVENT
UID:f254ceed4a61f7138a5cd90798e23faa@skysports.com
SEQUENCE:0
DTSTAMP:20260425T092128Z
DTSTART:20260110T123000Z
DTEND:20260110T143000Z
SUMMARY:Arsenal Women v Manchester United Women
LOCATION:Emirates Stadium
DESCRIPTION:Arsenal Women v Manchester United Women - Emirates Stadium - B
 arclays Women's Super League - Live on Sky Sports Main Event and Sky Sport
 s Football
STATUS:CONFIRMED
END:VEVENT
BEGIN:VEVENT
UID:8875e5363bf51ac557e1b7877cfc3596@skysports.com
SEQUENCE:0
DTSTAMP:20260425T092128Z
DTSTART:20260124T123000Z
DTEND:20260124T143000Z
SUMMARY:Chelsea Women v Arsenal Women
LOCATION:Stamford Bridge
DESCRIPTION:Chelsea Women v Arsenal Women - Stamford Bridge - Barclays Wom
 en's Super League
STATUS:CONFIRMED
END:VEVENT
BEGIN:VEVENT
UID:2b0eb70b8b4c2f83c7f4d596cedd7762@skysports.com
SEQUENCE:0
DTSTAMP:20260425T092128Z
DTSTART:20260429T180000Z
DTEND:20260429T200000Z
SUMMARY:Arsenal Women v Leicester City Women
LOCATION:Emirates Stadium
DESCRIPTION:Arsenal Women v Leicester City Women - Emirates Stadium - Barc
 lays Women's Super League - Live on Sky Sports Premier League and Sky Spor
 ts Main Event
STATUS:CONFIRMED
END:VEVENT
BEGIN:VEVENT
UID:ddfac3fe703a9d9d9789e4340e7b6280@skysports.com
SEQUENCE:0
DTSTAMP:20260425T092128Z
DTSTART:20260208T120000Z
DTEND:20260208T140000Z
SUMMARY:Arsenal Women v Manchester City Women
LOCATION:Emirates Stadium
DESCRIPTION:Arsenal Women v Manchester City Women - Emirates Stadium - Bar
 clays Women's Super League - Live on Sky Sports+
STATUS:CONFIRMED
END:VEVENT
BEGIN:VEVENT
UID:8b3729dfe68044f266766ee81d4d7630@skysports.com
SEQUENCE:0
DTSTAMP:20260425T092128Z
DTSTART:20260506T184500Z
DTEND:20260506T204500Z
SUMMARY:Brighton and Hove Albion Women v Arsenal Women
LOCATION:Broadfield Stadium
DESCRIPTION:Brighton and Hove Albion Women v Arsenal Women - Broadfield St
 adium - Barclays Women's Super League - Live on Sky Sports Football and Sk
 y Sports Main Event
STATUS:CONFIRMED
END:VEVENT
BEGIN:VEVENT
UID:ef527dca11924a3d4341ab5341e18fa7@skysports.com
SEQUENCE:0
DTSTAMP:20260425T092128Z
DTSTART:20260315T115500Z
DTEND:20260315T135500Z
SUMMARY:London City Lionesses v Arsenal Women
LOCATION:Hayes Lane Stadium
DESCRIPTION:London City Lionesses v Arsenal Women - Hayes Lane Stadium - B
 arclays Women's Super League - Live on Sky Sports+
STATUS:CONFIRMED
END:VEVENT
BEGIN:VEVENT
UID:cea476ba3c4062dca0cf8b4686504adf@skysports.com
SEQUENCE:0
DTSTAMP:20260425T092128Z
DTSTART:20260321T120000Z
DTEND:20260321T140000Z
SUMMARY:Arsenal Women v West Ham United Women
LOCATION:Emirates Stadium
DESCRIPTION:Arsenal Women v West Ham United Women - Emirates Stadium - Bar
 clays Women's Super League - Live on Sky Sports+
STATUS:CONFIRMED
END:VEVENT
BEGIN:VEVENT
UID:4757616931dbf66bc8b669281fd9d4cc@skysports.com
SEQUENCE:0
DTSTAMP:20260425T092128Z
DTSTART:20260328T173000Z
DTEND:20260328T193000Z
SUMMARY:Arsenal Women v Tottenham Hotspur Women
LOCATION:Emirates Stadium
DESCRIPTION:Arsenal Women v Tottenham Hotspur Women - Emirates Stadium - B
 arclays Women's Super League - Live on Sky Sports Main Event and Sky Sport
 s Football
STATUS:CONFIRMED
END:VEVENT
BEGIN:VEVENT
UID:c075791f029d6dd633e22f2909259739@skysports.com
SEQUENCE:0
DTSTAMP:20260425T092128Z
DTSTART:20260509T110000Z
DTEND:20260509T130000Z
SUMMARY:Aston Villa Women v Arsenal Women
LOCATION:Villa Park
DESCRIPTION:Aston Villa Women v Arsenal Women - Villa Park - Barclays Wome
 n's Super League - Live on Sky Sports Premier League
STATUS:CONFIRMED
END:VEVENT
BEGIN:VEVENT
UID:bc1bcae9f60035716ba4f5458710d003@skysports.com
SEQUENCE:0
DTSTAMP:20260425T092128Z
DTSTART:20260513T180000Z
DTEND:20260513T200000Z
SUMMARY:Arsenal Women v Everton Women
LOCATION:Emirates Stadium
DESCRIPTION:Arsenal Women v Everton Women - Emirates Stadium - Barclays Wo
 men's Super League
STATUS:CONFIRMED
END:VEVENT
BEGIN:VEVENT
UID:13baf08f260af317ee146d9b616a6285@skysports.com
SEQUENCE:0
DTSTAMP:20260425T092128Z
DTSTART:20260516T120000Z
DTEND:20260516T140000Z
SUMMARY:Liverpool Women v Arsenal Women
LOCATION:Anfield
DESCRIPTION:Liverpool Women v Arsenal Women - Anfield - Barclays Women's S
 uper League
STATUS:CONFIRMED
END:VEVENT
BEGIN:VEVENT
UID:9462b14ab4f9c199b7fb35f89c30a5a3@skysports.com
SEQUENCE:0
DTSTAMP:20260425T092128Z
DTSTART:20251007T190000Z
DTEND:20251007T210000Z
SUMMARY:Arsenal Women v Olympiques Lyon Women
LOCATION:Managata Pay UK Stadium
DESCRIPTION:Arsenal Women v Olympiques Lyon Women - Managata Pay UK Stadiu
 m - Women's Champions League
STATUS:CONFIRMED
END:VEVENT
BEGIN:VEVENT
UID:f046d14bb2bfd7a34f53b75759b48ef3@skysports.com
SEQUENCE:0
DTSTAMP:20260425T092128Z
DTSTART:20251016T190000Z
DTEND:20251016T210000Z
SUMMARY:Benfica Women v Arsenal Women
LOCATION:Estadio da Luz
DESCRIPTION:Benfica Women v Arsenal Women - Estadio da Luz - Women's Champ
 ions League
STATUS:CONFIRMED
END:VEVENT
BEGIN:VEVENT
UID:e13138b8fac25e2b9f831381ec39cb4d@skysports.com
SEQUENCE:0
DTSTAMP:20260425T092128Z
DTSTART:20251112T174500Z
DTEND:20251112T194500Z
SUMMARY:Bayern Munich Women v Arsenal Women
LOCATION:Allianz Arena
DESCRIPTION:Bayern Munich Women v Arsenal Women - Allianz Arena - Women's 
 Champions League
STATUS:CONFIRMED
END:VEVENT
BEGIN:VEVENT
UID:43a40b05679f4494e553223d0d1b107f@skysports.com
SEQUENCE:0
DTSTAMP:20260425T092128Z
DTSTART:20251119T200000Z
DTEND:20251119T220000Z
SUMMARY:Arsenal Women v Real Madrid Women
LOCATION:Managata Pay UK Stadium
DESCRIPTION:Arsenal Women v Real Madrid Women - Managata Pay UK Stadium - 
 Women's Champions League
STATUS:CONFIRMED
END:VEVENT
BEGIN:VEVENT
UID:53ec007948642bf7314540f4f3935ee0@skysports.com
SEQUENCE:0
DTSTAMP:20260425T092128Z
DTSTART:20251209T200000Z
DTEND:20251209T220000Z
SUMMARY:Arsenal Women v FC Twente Women
LOCATION:Managata Pay UK Stadium
DESCRIPTION:Arsenal Women v FC Twente Women - Managata Pay UK Stadium - Wo
 men's Champions League
STATUS:CONFIRMED
END:VEVENT
BEGIN:VEVENT
UID:8c1ae9691d4c42de6f7cf38c75500477@skysports.com
SEQUENCE:0
DTSTAMP:20260425T092128Z
DTSTART:20251217T200000Z
DTEND:20251217T220000Z
SUMMARY:Oud-Heverlee Leuven Ladies v Arsenal Women
LOCATION:Den Dreef
DESCRIPTION:Oud-Heverlee Leuven Ladies v Arsenal Women - Den Dreef - Women
 's Champions League
STATUS:CONFIRMED
END:VEVENT
BEGIN:VEVENT
UID:5b45dc5b03a743d18bfe63962cf11af3@skysports.com
SEQUENCE:0
DTSTAMP:20260425T092128Z
DTSTART:20251221T130000Z
DTEND:20251221T150000Z
SUMMARY:Crystal Palace Women v Arsenal Women
LOCATION:VBS Community Stadium
DESCRIPTION:Crystal Palace Women v Arsenal Women - VBS Community Stadium -
  Women's League Cup
STATUS:CONFIRMED
END:VEVENT
BEGIN:VEVENT
UID:ab78b665985305383abedd32af427c95@skysports.com
SEQUENCE:0
DTSTAMP:20260425T092128Z
DTSTART:20260118T140000Z
DTEND:20260118T160000Z
SUMMARY:Arsenal Women v Aston Villa Women
LOCATION:Managata Pay UK Stadium
DESCRIPTION:Arsenal Women v Aston Villa Women - Managata Pay UK Stadium - 
 The Women's FA Cup
STATUS:CONFIRMED
END:VEVENT
BEGIN:VEVENT
UID:3550fc65edcb4a894481fea458e0f126@skysports.com
SEQUENCE:0
DTSTAMP:20260425T092128Z
DTSTART:20260211T174500Z
DTEND:20260211T194500Z
SUMMARY:Oud-Heverlee Leuven Ladies v Arsenal Women
LOCATION:Den Dreef
DESCRIPTION:Oud-Heverlee Leuven Ladies v Arsenal Women - Den Dreef - Women
 's Champions League
STATUS:CONFIRMED
END:VEVENT
BEGIN:VEVENT
UID:db2e9c432ea9cf17c53c79f7fdba9e7d@skysports.com
SEQUENCE:0
DTSTAMP:20260425T092128Z
DTSTART:20260218T200000Z
DTEND:20260218T220000Z
SUMMARY:Arsenal Women v Oud-Heverlee Leuven Ladies
LOCATION:Managata Pay UK Stadium
DESCRIPTION:Arsenal Women v Oud-Heverlee Leuven Ladies - Managata Pay UK S
 tadium - Women's Champions League
STATUS:CONFIRMED
END:VEVENT
BEGIN:VEVENT
UID:670fa1938fce88f1d8f9ec2bc0e1e529@skysports.com
SEQUENCE:0
DTSTAMP:20260425T092128Z
DTSTART:20260324T200000Z
DTEND:20260324T220000Z
SUMMARY:Arsenal Women v Chelsea Women
LOCATION:Emirates Stadium
DESCRIPTION:Arsenal Women v Chelsea Women - Emirates Stadium - Women's Cha
 mpions League
STATUS:CONFIRMED
END:VEVENT
BEGIN:VEVENT
UID:dc862400fd35d00332dccaed50574a63@skysports.com
SEQUENCE:0
DTSTAMP:20260425T092128Z
DTSTART:20260401T190000Z
DTEND:20260401T210000Z
SUMMARY:Chelsea Women v Arsenal Women
LOCATION:Stamford Bridge
DESCRIPTION:Chelsea Women v Arsenal Women - Stamford Bridge - Women's Cham
 pions League
STATUS:CONFIRMED
END:VEVENT
BEGIN:VEVENT
UID:5b4f6f8a26d507c5f55948ae96d93e26@skysports.com
SEQUENCE:0
DTSTAMP:20260425T092128Z
DTSTART:20260426T143000Z
DTEND:20260426T163000Z
SUMMARY:Arsenal Women v Olympiques Lyon Women
LOCATION:Emirates Stadium
DESCRIPTION:Arsenal Women v Olympiques Lyon Women - Emirates Stadium - Wom
 en's Champions League
STATUS:CONFIRMED
END:VEVENT
BEGIN:VEVENT
UID:918bc98c5567b1488e5813c64e930911@skysports.com
SEQUENCE:0
DTSTAMP:20260425T092128Z
DTSTART:20260502T130000Z
DTEND:20260502T150000Z
SUMMARY:Olympiques Lyon Women v Arsenal Women
LOCATION:Stade des Lumieres
DESCRIPTION:Olympiques Lyon Women v Arsenal Women - Stade des Lumieres - W
 omen's Champions League
STATUS:CONFIRMED
END:VEVENT
BEGIN:VEVENT
UID:68a0eb307a7993226d92ea828288d36b@skysports.com
SEQUENCE:0
DTSTAMP:20260425T092128Z
DTSTART:20260121T190000Z
DTEND:20260121T210000Z
SUMMARY:Arsenal Women v Manchester United Women
LOCATION:Managata Pay UK Stadium
DESCRIPTION:Arsenal Women v Manchester United Women - Managata Pay UK Stad
 ium - Women's League Cup - Live on Sky Sports+
STATUS:CONFIRMED
END:VEVENT
BEGIN:VEVENT
UID:25f734305365563e7ec913ef792b40f5@skysports.com
SEQUENCE:0
DTSTAMP:20260425T092128Z
DTSTART:20260128T180000Z
DTEND:20260128T200000Z
SUMMARY:Arsenal Women v FAR Rabat Women
LOCATION:Gtech Community Stadium
DESCRIPTION:Arsenal Women v FAR Rabat Women - Gtech Community Stadium - Wo
 men's Champions Cup - Live on Sky Sports Football and Sky Sports Main Even
 t
STATUS:CONFIRMED
END:VEVENT
BEGIN:VEVENT
UID:16ddce1dd87eeebce635e7bbc00db67f@skysports.com
SEQUENCE:0
DTSTAMP:20260425T092128Z
DTSTART:20260201T180000Z
DTEND:20260201T200000Z
SUMMARY:Arsenal Women v Corinthians Feminino
LOCATION:Emirates Stadium
DESCRIPTION:Arsenal Women v Corinthians Feminino - Emirates Stadium - Wome
 n's Champions Cup
STATUS:CONFIRMED
END:VEVENT
BEGIN:VEVENT
UID:bd2f980967d64bfaf0c6deb5c26d5b81@skysports.com
SEQUENCE:0
DTSTAMP:20260425T092128Z
DTSTART:20260222T130000Z
DTEND:20260222T150000Z
SUMMARY:Arsenal Women v Bristol City Women
LOCATION:Managata Pay UK Stadium
DESCRIPTION:Arsenal Women v Bristol City Women - Managata Pay UK Stadium -
  The Women's FA Cup
STATUS:CONFIRMED
END:VEVENT
BEGIN:VEVENT
UID:d55955c4d55daf6dfb5fae3570247328@skysports.com
SEQUENCE:0
DTSTAMP:20260425T092128Z
DTSTART:20260405T120000Z
DTEND:20260405T140000Z
SUMMARY:Arsenal Women v Brighton and Hove Albion Women
LOCATION:Managata Pay UK Stadium
DESCRIPTION:Arsenal Women v Brighton and Hove Albion Women - Managata Pay 
 UK Stadium - The Women's FA Cup
STATUS:CONFIRMED
END:VEVENT
END:VCALENDAR