BEGIN:VCALENDAR
VERSION:2.0
PRODID:-//Sky Sports SSDM//NONSGML Event Calendar//EN
URL:https://www.skysports.com/calendars/football/fixtures/teams/atalanta
CALSCALE:GREGORIAN
METHOD:PUBLISH
NAME:Atalanta Fixtures
X-WR-CALNAME:Atalanta Fixtures
X-WR-CALDESC:Atalanta fixtures provided by Sky Sports (https://www.skyspor
 ts.com)
REFRESH-INTERVAL;VALUE=DURATION:PT1H
X-PUBLISHED-TTL:PT1H
BEGIN:VEVENT
UID:a932fe917d2aaf7ef5162fb1bc72faa4@skysports.com
SEQUENCE:0
DTSTAMP:20260425T091114Z
DTSTART:20250824T184500Z
DTEND:20250824T204500Z
SUMMARY:Atalanta v Pisa
LOCATION:Gewiss Stadium
DESCRIPTION:Atalanta v Pisa - Gewiss Stadium - Italian Serie A
STATUS:CONFIRMED
END:VEVENT
BEGIN:VEVENT
UID:1d8bcae380a564e7b9a5c349ad6a8a4f@skysports.com
SEQUENCE:0
DTSTAMP:20260425T091114Z
DTSTART:20250830T163000Z
DTEND:20250830T183000Z
SUMMARY:Parma v Atalanta
LOCATION:Ennio Tardini
DESCRIPTION:Parma v Atalanta - Ennio Tardini - Italian Serie A
STATUS:CONFIRMED
END:VEVENT
BEGIN:VEVENT
UID:fbf0399f12cdf53c014eb20ab1194d92@skysports.com
SEQUENCE:0
DTSTAMP:20260425T091114Z
DTSTART:20250914T130000Z
DTEND:20250914T150000Z
SUMMARY:Atalanta v Lecce
LOCATION:Gewiss Stadium
DESCRIPTION:Atalanta v Lecce - Gewiss Stadium - Italian Serie A
STATUS:CONFIRMED
END:VEVENT
BEGIN:VEVENT
UID:1d85e3ab5bc48b9eb02c16bbe1f62e0c@skysports.com
SEQUENCE:0
DTSTAMP:20260425T091114Z
DTSTART:20250921T130000Z
DTEND:20250921T150000Z
SUMMARY:Torino v Atalanta
LOCATION:Olimpico di Torino
DESCRIPTION:Torino v Atalanta - Olimpico di Torino - Italian Serie A
STATUS:CONFIRMED
END:VEVENT
BEGIN:VEVENT
UID:8365df9268db9518322dc0a0668838cd@skysports.com
SEQUENCE:0
DTSTAMP:20260425T091114Z
DTSTART:20250927T160000Z
DTEND:20250927T180000Z
SUMMARY:Juventus v Atalanta
LOCATION:Juventus Stadium
DESCRIPTION:Juventus v Atalanta - Juventus Stadium - Italian Serie A
STATUS:CONFIRMED
END:VEVENT
BEGIN:VEVENT
UID:ac957c0d7150e9dca56ca5d6a28e1f23@skysports.com
SEQUENCE:0
DTSTAMP:20260425T091114Z
DTSTART:20251004T184500Z
DTEND:20251004T204500Z
SUMMARY:Atalanta v Como
LOCATION:Gewiss Stadium
DESCRIPTION:Atalanta v Como - Gewiss Stadium - Italian Serie A
STATUS:CONFIRMED
END:VEVENT
BEGIN:VEVENT
UID:0a6a9e0faeeb05a159ffb5398914420c@skysports.com
SEQUENCE:0
DTSTAMP:20260425T091114Z
DTSTART:20251019T160000Z
DTEND:20251019T180000Z
SUMMARY:Atalanta v Lazio
LOCATION:Gewiss Stadium
DESCRIPTION:Atalanta v Lazio - Gewiss Stadium - Italian Serie A
STATUS:CONFIRMED
END:VEVENT
BEGIN:VEVENT
UID:4a125ff03f99cbab9f706241bbfae3a8@skysports.com
SEQUENCE:0
DTSTAMP:20260425T091114Z
DTSTART:20251025T184500Z
DTEND:20251025T204500Z
SUMMARY:Cremonese v Atalanta
LOCATION:Giovanni Zini
DESCRIPTION:Cremonese v Atalanta - Giovanni Zini - Italian Serie A
STATUS:CONFIRMED
END:VEVENT
BEGIN:VEVENT
UID:9d49de64f26b4b01a804548eec162521@skysports.com
SEQUENCE:0
DTSTAMP:20260425T091114Z
DTSTART:20251028T194500Z
DTEND:20251028T214500Z
SUMMARY:Atalanta v AC Milan
LOCATION:Gewiss Stadium
DESCRIPTION:Atalanta v AC Milan - Gewiss Stadium - Italian Serie A
STATUS:CONFIRMED
END:VEVENT
BEGIN:VEVENT
UID:e678ca6a562be433db47dfa2c746a687@skysports.com
SEQUENCE:0
DTSTAMP:20260425T091114Z
DTSTART:20251101T140000Z
DTEND:20251101T160000Z
SUMMARY:Udinese v Atalanta
LOCATION:Dacia Arena
DESCRIPTION:Udinese v Atalanta - Dacia Arena - Italian Serie A
STATUS:CONFIRMED
END:VEVENT
BEGIN:VEVENT
UID:24c8c7cc71a44932647eb272b6e4ea47@skysports.com
SEQUENCE:0
DTSTAMP:20260425T091114Z
DTSTART:20251109T113000Z
DTEND:20251109T133000Z
SUMMARY:Atalanta v Sassuolo
LOCATION:Gewiss Stadium
DESCRIPTION:Atalanta v Sassuolo - Gewiss Stadium - Italian Serie A
STATUS:CONFIRMED
END:VEVENT
BEGIN:VEVENT
UID:69d8a38622620e1e771a0e9121823c42@skysports.com
SEQUENCE:0
DTSTAMP:20260425T091114Z
DTSTART:20251122T194500Z
DTEND:20251122T214500Z
SUMMARY:Napoli v Atalanta
LOCATION:Diego Armando Maradona
DESCRIPTION:Napoli v Atalanta - Diego Armando Maradona - Italian Serie A
STATUS:CONFIRMED
END:VEVENT
BEGIN:VEVENT
UID:86f8ab88db9064fbf1d8e6da98601e76@skysports.com
SEQUENCE:0
DTSTAMP:20260425T091114Z
DTSTART:20251130T170000Z
DTEND:20251130T190000Z
SUMMARY:Atalanta v Fiorentina
LOCATION:Gewiss Stadium
DESCRIPTION:Atalanta v Fiorentina - Gewiss Stadium - Italian Serie A
STATUS:CONFIRMED
END:VEVENT
BEGIN:VEVENT
UID:ffa4ffcef8a00eb1e5a25a9bb1953ad3@skysports.com
SEQUENCE:0
DTSTAMP:20260425T091114Z
DTSTART:20251206T194500Z
DTEND:20251206T214500Z
SUMMARY:Verona v Atalanta
LOCATION:Marc'Antonio Bentegodi
DESCRIPTION:Verona v Atalanta - Marc'Antonio Bentegodi - Italian Serie A
STATUS:CONFIRMED
END:VEVENT
BEGIN:VEVENT
UID:602367beeee1dbd315fbd5528355ea68@skysports.com
SEQUENCE:0
DTSTAMP:20260425T091114Z
DTSTART:20251213T194500Z
DTEND:20251213T214500Z
SUMMARY:Atalanta v Cagliari
LOCATION:Gewiss Stadium
DESCRIPTION:Atalanta v Cagliari - Gewiss Stadium - Italian Serie A
STATUS:CONFIRMED
END:VEVENT
BEGIN:VEVENT
UID:4592dee108af968943967f6eb496fca0@skysports.com
SEQUENCE:0
DTSTAMP:20260425T091114Z
DTSTART:20251221T194500Z
DTEND:20251221T214500Z
SUMMARY:Genoa v Atalanta
LOCATION:Luigi Ferraris
DESCRIPTION:Genoa v Atalanta - Luigi Ferraris - Italian Serie A
STATUS:CONFIRMED
END:VEVENT
BEGIN:VEVENT
UID:fb171ecbe6eee485a50f6b64c87645fe@skysports.com
SEQUENCE:0
DTSTAMP:20260425T091114Z
DTSTART:20251228T194500Z
DTEND:20251228T214500Z
SUMMARY:Atalanta v Inter Milan
LOCATION:Gewiss Stadium
DESCRIPTION:Atalanta v Inter Milan - Gewiss Stadium - Italian Serie A
STATUS:CONFIRMED
END:VEVENT
BEGIN:VEVENT
UID:1d6b3f150b0b2e3a0c35806dba3498c5@skysports.com
SEQUENCE:0
DTSTAMP:20260425T091114Z
DTSTART:20260103T194500Z
DTEND:20260103T214500Z
SUMMARY:Atalanta v Roma
LOCATION:Gewiss Stadium
DESCRIPTION:Atalanta v Roma - Gewiss Stadium - Italian Serie A
STATUS:CONFIRMED
END:VEVENT
BEGIN:VEVENT
UID:7f90ebed5085b2404316f75d2109c8fd@skysports.com
SEQUENCE:0
DTSTAMP:20260425T091114Z
DTSTART:20260107T173000Z
DTEND:20260107T193000Z
SUMMARY:Bologna v Atalanta
LOCATION:Renato Dall'Ara
DESCRIPTION:Bologna v Atalanta - Renato Dall'Ara - Italian Serie A
STATUS:CONFIRMED
END:VEVENT
BEGIN:VEVENT
UID:1bc1cdd767b614e1144299081bd67c87@skysports.com
SEQUENCE:0
DTSTAMP:20260425T091114Z
DTSTART:20260110T194500Z
DTEND:20260110T214500Z
SUMMARY:Atalanta v Torino
LOCATION:Gewiss Stadium
DESCRIPTION:Atalanta v Torino - Gewiss Stadium - Italian Serie A
STATUS:CONFIRMED
END:VEVENT
BEGIN:VEVENT
UID:673f9fe66f183694b64ebc7b89b6d6eb@skysports.com
SEQUENCE:0
DTSTAMP:20260425T091114Z
DTSTART:20260116T194500Z
DTEND:20260116T214500Z
SUMMARY:Pisa v Atalanta
LOCATION:Arena Garibaldi Romeo Anconetani
DESCRIPTION:Pisa v Atalanta - Arena Garibaldi Romeo Anconetani - Italian S
 erie A
STATUS:CONFIRMED
END:VEVENT
BEGIN:VEVENT
UID:9d9125eb353da052af914eaed964faa4@skysports.com
SEQUENCE:0
DTSTAMP:20260425T091114Z
DTSTART:20260125T140000Z
DTEND:20260125T160000Z
SUMMARY:Atalanta v Parma
LOCATION:Gewiss Stadium
DESCRIPTION:Atalanta v Parma - Gewiss Stadium - Italian Serie A
STATUS:CONFIRMED
END:VEVENT
BEGIN:VEVENT
UID:9a327b6a6b1fddf3d2dbce6775b72092@skysports.com
SEQUENCE:0
DTSTAMP:20260425T091114Z
DTSTART:20260201T140000Z
DTEND:20260201T160000Z
SUMMARY:Como v Atalanta
LOCATION:Giuseppe Sinigaglia
DESCRIPTION:Como v Atalanta - Giuseppe Sinigaglia - Italian Serie A
STATUS:CONFIRMED
END:VEVENT
BEGIN:VEVENT
UID:0517368c4f87e2d42a632c897b78abaf@skysports.com
SEQUENCE:0
DTSTAMP:20260425T091114Z
DTSTART:20260209T173000Z
DTEND:20260209T193000Z
SUMMARY:Atalanta v Cremonese
LOCATION:Gewiss Stadium
DESCRIPTION:Atalanta v Cremonese - Gewiss Stadium - Italian Serie A
STATUS:CONFIRMED
END:VEVENT
BEGIN:VEVENT
UID:50733e13a64536a3d3c036f5007b2bef@skysports.com
SEQUENCE:0
DTSTAMP:20260425T091114Z
DTSTART:20260214T170000Z
DTEND:20260214T190000Z
SUMMARY:Lazio v Atalanta
LOCATION:Olimpico
DESCRIPTION:Lazio v Atalanta - Olimpico - Italian Serie A
STATUS:CONFIRMED
END:VEVENT
BEGIN:VEVENT
UID:93832fccc7c2e501e67da0082beedddc@skysports.com
SEQUENCE:0
DTSTAMP:20260425T091114Z
DTSTART:20260222T140000Z
DTEND:20260222T160000Z
SUMMARY:Atalanta v Napoli
LOCATION:Gewiss Stadium
DESCRIPTION:Atalanta v Napoli - Gewiss Stadium - Italian Serie A
STATUS:CONFIRMED
END:VEVENT
BEGIN:VEVENT
UID:9caf4bf59349494e74bab91a21a962fa@skysports.com
SEQUENCE:0
DTSTAMP:20260425T091114Z
DTSTART:20260301T140000Z
DTEND:20260301T160000Z
SUMMARY:Sassuolo v Atalanta
LOCATION:Citta del Tricolore
DESCRIPTION:Sassuolo v Atalanta - Citta del Tricolore - Italian Serie A
STATUS:CONFIRMED
END:VEVENT
BEGIN:VEVENT
UID:0d5bdfc15d32331196a1c7a22c50c5d8@skysports.com
SEQUENCE:0
DTSTAMP:20260425T091114Z
DTSTART:20260307T170000Z
DTEND:20260307T190000Z
SUMMARY:Atalanta v Udinese
LOCATION:Gewiss Stadium
DESCRIPTION:Atalanta v Udinese - Gewiss Stadium - Italian Serie A
STATUS:CONFIRMED
END:VEVENT
BEGIN:VEVENT
UID:6d5b5dcfa9e6403bcfa78b605d530308@skysports.com
SEQUENCE:0
DTSTAMP:20260425T091114Z
DTSTART:20260314T140000Z
DTEND:20260314T160000Z
SUMMARY:Inter Milan v Atalanta
LOCATION:Giuseppe Meazza
DESCRIPTION:Inter Milan v Atalanta - Giuseppe Meazza - Italian Serie A
STATUS:CONFIRMED
END:VEVENT
BEGIN:VEVENT
UID:881e5a0e4781565775068067f848a14d@skysports.com
SEQUENCE:0
DTSTAMP:20260425T091114Z
DTSTART:20260322T140000Z
DTEND:20260322T160000Z
SUMMARY:Atalanta v Verona
LOCATION:Gewiss Stadium
DESCRIPTION:Atalanta v Verona - Gewiss Stadium - Italian Serie A
STATUS:CONFIRMED
END:VEVENT
BEGIN:VEVENT
UID:66da84c25a75ed7d6c93fc0472619b65@skysports.com
SEQUENCE:0
DTSTAMP:20260425T091114Z
DTSTART:20260406T130000Z
DTEND:20260406T150000Z
SUMMARY:Lecce v Atalanta
LOCATION:Via Del Mare
DESCRIPTION:Lecce v Atalanta - Via Del Mare - Italian Serie A
STATUS:CONFIRMED
END:VEVENT
BEGIN:VEVENT
UID:17eeaf0b987aa29dca6f1f58cfe1f725@skysports.com
SEQUENCE:0
DTSTAMP:20260425T091114Z
DTSTART:20260411T184500Z
DTEND:20260411T204500Z
SUMMARY:Atalanta v Juventus
LOCATION:Gewiss Stadium
DESCRIPTION:Atalanta v Juventus - Gewiss Stadium - Italian Serie A
STATUS:CONFIRMED
END:VEVENT
BEGIN:VEVENT
UID:15ebe53bcb4a220933882868e8fd6639@skysports.com
SEQUENCE:0
DTSTAMP:20260425T091114Z
DTSTART:20260418T184500Z
DTEND:20260418T204500Z
SUMMARY:Roma v Atalanta
LOCATION:Olimpico
DESCRIPTION:Roma v Atalanta - Olimpico - Italian Serie A
STATUS:CONFIRMED
END:VEVENT
BEGIN:VEVENT
UID:d16ed3360ce2f7aa352602cfb933406e@skysports.com
SEQUENCE:0
DTSTAMP:20260425T091114Z
DTSTART:20260427T163000Z
DTEND:20260427T183000Z
SUMMARY:Cagliari v Atalanta
LOCATION:Sardegna Arena
DESCRIPTION:Cagliari v Atalanta - Sardegna Arena - Italian Serie A
STATUS:CONFIRMED
END:VEVENT
BEGIN:VEVENT
UID:61c057580e524c645c6c6ccba7af5f0c@skysports.com
SEQUENCE:0
DTSTAMP:20260425T091114Z
DTSTART:20260502T184500Z
DTEND:20260502T204500Z
SUMMARY:Atalanta v Genoa
LOCATION:Gewiss Stadium
DESCRIPTION:Atalanta v Genoa - Gewiss Stadium - Italian Serie A
STATUS:CONFIRMED
END:VEVENT
BEGIN:VEVENT
UID:a6bcd19e2bef21bed1dbc225e43f4eec@skysports.com
SEQUENCE:0
DTSTAMP:20260425T091114Z
DTSTART:20260510T184500Z
DTEND:20260510T204500Z
SUMMARY:AC Milan v Atalanta
LOCATION:Giuseppe Meazza
DESCRIPTION:AC Milan v Atalanta - Giuseppe Meazza - Italian Serie A
STATUS:CONFIRMED
END:VEVENT
BEGIN:VEVENT
UID:8c7f91b7bcd1129062b20a7403ec5d80@skysports.com
SEQUENCE:0
DTSTAMP:20260425T091114Z
DTSTART:20260517T130000Z
DTEND:20260517T150000Z
SUMMARY:Atalanta v Bologna
LOCATION:Gewiss Stadium
DESCRIPTION:Atalanta v Bologna - Gewiss Stadium - Italian Serie A
STATUS:CONFIRMED
END:VEVENT
BEGIN:VEVENT
UID:9733c50e31eda78116d3b432e13aeba0@skysports.com
SEQUENCE:0
DTSTAMP:20260425T091114Z
DTSTART:20260524T130000Z
DTEND:20260524T150000Z
SUMMARY:Fiorentina v Atalanta
LOCATION:Artemio Franchi
DESCRIPTION:Fiorentina v Atalanta - Artemio Franchi - Italian Serie A
STATUS:CONFIRMED
END:VEVENT
BEGIN:VEVENT
UID:342c14d3a6949762213218c0ccff99d3@skysports.com
SEQUENCE:0
DTSTAMP:20260425T091114Z
DTSTART:20250816T184500Z
DTEND:20250816T204500Z
SUMMARY:Atalanta v Juventus
LOCATION:Gewiss Stadium
DESCRIPTION:Atalanta v Juventus - Gewiss Stadium - Friendly Match
STATUS:CONFIRMED
END:VEVENT
BEGIN:VEVENT
UID:d9046d57d22ca72e4ca2925688008c10@skysports.com
SEQUENCE:0
DTSTAMP:20260425T091114Z
DTSTART:20251203T140000Z
DTEND:20251203T160000Z
SUMMARY:Atalanta v Genoa
LOCATION:Gewiss Stadium
DESCRIPTION:Atalanta v Genoa - Gewiss Stadium - Coppa Italia
STATUS:CONFIRMED
END:VEVENT
BEGIN:VEVENT
UID:38bc53baef653ff1ac5728682b96f243@skysports.com
SEQUENCE:0
DTSTAMP:20260425T091114Z
DTSTART:20250917T190000Z
DTEND:20250917T210000Z
SUMMARY:Paris Saint-Germain v Atalanta
LOCATION:Parc des Princes
DESCRIPTION:Paris Saint-Germain v Atalanta - Parc des Princes - UEFA Champ
 ions League
STATUS:CONFIRMED
END:VEVENT
BEGIN:VEVENT
UID:4df44714b22ff1c7ab49dd988273ae61@skysports.com
SEQUENCE:0
DTSTAMP:20260425T091114Z
DTSTART:20250930T164500Z
DTEND:20250930T184500Z
SUMMARY:Atalanta v Club Brugge
LOCATION:Gewiss Stadium
DESCRIPTION:Atalanta v Club Brugge - Gewiss Stadium - UEFA Champions Leagu
 e
STATUS:CONFIRMED
END:VEVENT
BEGIN:VEVENT
UID:8396415fe78a99cdcb6a273fb1a4f946@skysports.com
SEQUENCE:0
DTSTAMP:20260425T091114Z
DTSTART:20251022T190000Z
DTEND:20251022T210000Z
SUMMARY:Atalanta v Slavia Prague
LOCATION:Gewiss Stadium
DESCRIPTION:Atalanta v Slavia Prague - Gewiss Stadium - UEFA Champions Lea
 gue
STATUS:CONFIRMED
END:VEVENT
BEGIN:VEVENT
UID:57218e2b1ed2076b433022bee990ce02@skysports.com
SEQUENCE:0
DTSTAMP:20260425T091114Z
DTSTART:20251105T200000Z
DTEND:20251105T220000Z
SUMMARY:Marseille v Atalanta
LOCATION:Orange Velodrome
DESCRIPTION:Marseille v Atalanta - Orange Velodrome - UEFA Champions Leagu
 e
STATUS:CONFIRMED
END:VEVENT
BEGIN:VEVENT
UID:7198cd67504c3bac45f83cf39c19ba0d@skysports.com
SEQUENCE:0
DTSTAMP:20260425T091114Z
DTSTART:20251126T200000Z
DTEND:20251126T220000Z
SUMMARY:Eintracht Frankfurt v Atalanta
LOCATION:Commerzbank-Arena
DESCRIPTION:Eintracht Frankfurt v Atalanta - Commerzbank-Arena - UEFA Cham
 pions League
STATUS:CONFIRMED
END:VEVENT
BEGIN:VEVENT
UID:0efab3d336a7b11dd75213ad12e57f9a@skysports.com
SEQUENCE:0
DTSTAMP:20260425T091114Z
DTSTART:20251209T200000Z
DTEND:20251209T220000Z
SUMMARY:Atalanta v Chelsea
LOCATION:Gewiss Stadium
DESCRIPTION:Atalanta v Chelsea - Gewiss Stadium - UEFA Champions League
STATUS:CONFIRMED
END:VEVENT
BEGIN:VEVENT
UID:8dbbbbc6dbf1cd6793c2832a9d2e384f@skysports.com
SEQUENCE:0
DTSTAMP:20260425T091114Z
DTSTART:20260121T200000Z
DTEND:20260121T220000Z
SUMMARY:Atalanta v Athletic Club
LOCATION:Gewiss Stadium
DESCRIPTION:Atalanta v Athletic Club - Gewiss Stadium - UEFA Champions Lea
 gue
STATUS:CONFIRMED
END:VEVENT
BEGIN:VEVENT
UID:b6c1c9fe645e6889f2a207bb7db2fe39@skysports.com
SEQUENCE:0
DTSTAMP:20260425T091114Z
DTSTART:20260128T200000Z
DTEND:20260128T220000Z
SUMMARY:Union Saint-Gilloise v Atalanta
LOCATION:Constant Vanden Stock Stadium
DESCRIPTION:Union Saint-Gilloise v Atalanta - Constant Vanden Stock Stadiu
 m - UEFA Champions League
STATUS:CONFIRMED
END:VEVENT
BEGIN:VEVENT
UID:b1f4f95b63df1100ffe0ace8cfdeb3a2@skysports.com
SEQUENCE:0
DTSTAMP:20260425T091114Z
DTSTART:20260205T200000Z
DTEND:20260205T220000Z
SUMMARY:Atalanta v Juventus
LOCATION:Gewiss Stadium
DESCRIPTION:Atalanta v Juventus - Gewiss Stadium - Coppa Italia
STATUS:CONFIRMED
END:VEVENT
BEGIN:VEVENT
UID:6329ce882be8637970ec71945dab6d62@skysports.com
SEQUENCE:0
DTSTAMP:20260425T091114Z
DTSTART:20260304T200000Z
DTEND:20260304T220000Z
SUMMARY:Lazio v Atalanta
LOCATION:Olimpico
DESCRIPTION:Lazio v Atalanta - Olimpico - Coppa Italia
STATUS:CONFIRMED
END:VEVENT
BEGIN:VEVENT
UID:e81749eaa164c526b577ca7644711503@skysports.com
SEQUENCE:0
DTSTAMP:20260425T091114Z
DTSTART:20260422T190000Z
DTEND:20260422T210000Z
SUMMARY:Atalanta v Lazio
LOCATION:Gewiss Stadium
DESCRIPTION:Atalanta v Lazio - Gewiss Stadium - Coppa Italia
STATUS:CONFIRMED
END:VEVENT
BEGIN:VEVENT
UID:9069bb407924fba8317494a9d7b5763c@skysports.com
SEQUENCE:0
DTSTAMP:20260425T091114Z
DTSTART:20260217T200000Z
DTEND:20260217T220000Z
SUMMARY:Borussia Dortmund v Atalanta
LOCATION:Signal Iduna Park
DESCRIPTION:Borussia Dortmund v Atalanta - Signal Iduna Park - UEFA Champi
 ons League
STATUS:CONFIRMED
END:VEVENT
BEGIN:VEVENT
UID:be9965ff0ccd4b8c987e4eb806f70d76@skysports.com
SEQUENCE:0
DTSTAMP:20260425T091114Z
DTSTART:20260225T174500Z
DTEND:20260225T194500Z
SUMMARY:Atalanta v Borussia Dortmund
LOCATION:Gewiss Stadium
DESCRIPTION:Atalanta v Borussia Dortmund - Gewiss Stadium - UEFA Champions
  League
STATUS:CONFIRMED
END:VEVENT
BEGIN:VEVENT
UID:a25bcab2b34369f924dbc538c373d291@skysports.com
SEQUENCE:0
DTSTAMP:20260425T091114Z
DTSTART:20260310T200000Z
DTEND:20260310T220000Z
SUMMARY:Atalanta v Bayern Munich
LOCATION:Gewiss Stadium
DESCRIPTION:Atalanta v Bayern Munich - Gewiss Stadium - UEFA Champions Lea
 gue
STATUS:CONFIRMED
END:VEVENT
BEGIN:VEVENT
UID:82c5bd31137dee7e5f90f40ae5ba36d7@skysports.com
SEQUENCE:0
DTSTAMP:20260425T091114Z
DTSTART:20260318T200000Z
DTEND:20260318T220000Z
SUMMARY:Bayern Munich v Atalanta
LOCATION:Allianz Arena
DESCRIPTION:Bayern Munich v Atalanta - Allianz Arena - UEFA Champions Leag
 ue
STATUS:CONFIRMED
END:VEVENT
END:VCALENDAR