BEGIN:VCALENDAR
VERSION:2.0
PRODID:-//Sky Sports SSDM//NONSGML Event Calendar//EN
URL:https://www.skysports.com/calendars/football/fixtures/teams/athletic-c
 lub
CALSCALE:GREGORIAN
METHOD:PUBLISH
NAME:Athletic Club Fixtures
X-WR-CALNAME:Athletic Club Fixtures
X-WR-CALDESC:Athletic Club fixtures provided by Sky Sports (https://www.sk
 ysports.com)
REFRESH-INTERVAL;VALUE=DURATION:PT1H
X-PUBLISHED-TTL:PT1H
BEGIN:VEVENT
UID:1652569a80dbb9da3fcb170a4dc58c4e@skysports.com
SEQUENCE:0
DTSTAMP:20260415T091226Z
DTSTART:20260215T130000Z
DTEND:20260215T150000Z
SUMMARY:Real Oviedo v Athletic Club
LOCATION:Estadio Carlos Tartiere
DESCRIPTION:Real Oviedo v Athletic Club - Estadio Carlos Tartiere - Spanis
 h La Liga
STATUS:CONFIRMED
END:VEVENT
BEGIN:VEVENT
UID:2429e6df7d8d9ed940630ade7ee09f66@skysports.com
SEQUENCE:0
DTSTAMP:20260415T091226Z
DTSTART:20260220T200000Z
DTEND:20260220T220000Z
SUMMARY:Athletic Club v Elche
LOCATION:San Mames
DESCRIPTION:Athletic Club v Elche - San Mames - Spanish La Liga
STATUS:CONFIRMED
END:VEVENT
BEGIN:VEVENT
UID:ae3198795c7e35ec43c89cde54ee54c8@skysports.com
SEQUENCE:0
DTSTAMP:20260415T091226Z
DTSTART:20260228T130000Z
DTEND:20260228T150000Z
SUMMARY:Rayo Vallecano v Athletic Club
LOCATION:Campo de Futbol de Vallecas
DESCRIPTION:Rayo Vallecano v Athletic Club - Campo de Futbol de Vallecas -
  Spanish La Liga
STATUS:CONFIRMED
END:VEVENT
BEGIN:VEVENT
UID:8eb030dfd0396eba930f48a5fd02bb88@skysports.com
SEQUENCE:0
DTSTAMP:20260415T091226Z
DTSTART:20260307T200000Z
DTEND:20260307T220000Z
SUMMARY:Athletic Club v Barcelona
LOCATION:San Mames
DESCRIPTION:Athletic Club v Barcelona - San Mames - Spanish La Liga
STATUS:CONFIRMED
END:VEVENT
BEGIN:VEVENT
UID:a9a2a2847a89e9e92398d796cfb95793@skysports.com
SEQUENCE:0
DTSTAMP:20260415T091226Z
DTSTART:20260314T130000Z
DTEND:20260314T150000Z
SUMMARY:Girona v Athletic Club
LOCATION:Municipal de Montilivi
DESCRIPTION:Girona v Athletic Club - Municipal de Montilivi - Spanish La L
 iga
STATUS:CONFIRMED
END:VEVENT
BEGIN:VEVENT
UID:1f9193a2ffb6ad8da0b81c893ea2438b@skysports.com
SEQUENCE:0
DTSTAMP:20260415T091226Z
DTSTART:20260322T173000Z
DTEND:20260322T193000Z
SUMMARY:Athletic Club v Real Betis
LOCATION:San Mames
DESCRIPTION:Athletic Club v Real Betis - San Mames - Spanish La Liga
STATUS:CONFIRMED
END:VEVENT
BEGIN:VEVENT
UID:20f798b698966719ed067030460947c1@skysports.com
SEQUENCE:0
DTSTAMP:20260415T091226Z
DTSTART:20260405T120000Z
DTEND:20260405T140000Z
SUMMARY:Getafe v Athletic Club
LOCATION:Estadio Coliseum
DESCRIPTION:Getafe v Athletic Club - Estadio Coliseum - Spanish La Liga
STATUS:CONFIRMED
END:VEVENT
BEGIN:VEVENT
UID:6123deb384a508804d6c9315dbc1d3cf@skysports.com
SEQUENCE:0
DTSTAMP:20260415T091226Z
DTSTART:20260412T190000Z
DTEND:20260412T210000Z
SUMMARY:Athletic Club v Villarreal
LOCATION:San Mames
DESCRIPTION:Athletic Club v Villarreal - San Mames - Spanish La Liga
STATUS:CONFIRMED
END:VEVENT
BEGIN:VEVENT
UID:bc069f3260f2e6dc5ddde4fb96991d13@skysports.com
SEQUENCE:0
DTSTAMP:20260415T091226Z
DTSTART:20260425T190000Z
DTEND:20260425T210000Z
SUMMARY:Atletico Madrid v Athletic Club
LOCATION:Wanda Metropolitano
DESCRIPTION:Atletico Madrid v Athletic Club - Wanda Metropolitano - Spanis
 h La Liga
STATUS:CONFIRMED
END:VEVENT
BEGIN:VEVENT
UID:ecf79d5c40b5c80deb48007b878cc7bb@skysports.com
SEQUENCE:0
DTSTAMP:20260415T091226Z
DTSTART:20260421T170000Z
DTEND:20260421T190000Z
SUMMARY:Athletic Club v Osasuna
LOCATION:San Mames
DESCRIPTION:Athletic Club v Osasuna - San Mames - Spanish La Liga
STATUS:CONFIRMED
END:VEVENT
BEGIN:VEVENT
UID:9382b085ce0b21ad31b5665488d6576a@skysports.com
SEQUENCE:0
DTSTAMP:20260415T091226Z
DTSTART:20260502T163000Z
DTEND:20260502T183000Z
SUMMARY:Alaves v Athletic Club
LOCATION:Mendizorroza
DESCRIPTION:Alaves v Athletic Club - Mendizorroza - Spanish La Liga
STATUS:CONFIRMED
END:VEVENT
BEGIN:VEVENT
UID:49a6c4df277e103c6524fbb2ff390788@skysports.com
SEQUENCE:0
DTSTAMP:20260415T091226Z
DTSTART:20260510T150000Z
DTEND:20260510T170000Z
SUMMARY:Athletic Club v Valencia
LOCATION:San Mames
DESCRIPTION:Athletic Club v Valencia - San Mames - Spanish La Liga
STATUS:CONFIRMED
END:VEVENT
BEGIN:VEVENT
UID:7f84bd15644cb482cae8f5e6a70ffd58@skysports.com
SEQUENCE:0
DTSTAMP:20260415T091226Z
DTSTART:20260513T190000Z
DTEND:20260513T210000Z
SUMMARY:Espanyol v Athletic Club
LOCATION:Cornella - El Prat
DESCRIPTION:Espanyol v Athletic Club - Cornella - El Prat - Spanish La Lig
 a
STATUS:CONFIRMED
END:VEVENT
BEGIN:VEVENT
UID:78a408999892f756bedf7cf551da5973@skysports.com
SEQUENCE:0
DTSTAMP:20260415T091226Z
DTSTART:20260517T150000Z
DTEND:20260517T170000Z
SUMMARY:Athletic Club v Celta Vigo
LOCATION:San Mames
DESCRIPTION:Athletic Club v Celta Vigo - San Mames - Spanish La Liga
STATUS:CONFIRMED
END:VEVENT
BEGIN:VEVENT
UID:b5e95c70c72c0c2f1505738d9209f216@skysports.com
SEQUENCE:0
DTSTAMP:20260415T091226Z
DTSTART:20260524T150000Z
DTEND:20260524T170000Z
SUMMARY:Real Madrid v Athletic Club
LOCATION:Estadio Bernabeu
DESCRIPTION:Real Madrid v Athletic Club - Estadio Bernabeu - Spanish La Li
 ga
STATUS:CONFIRMED
END:VEVENT
BEGIN:VEVENT
UID:4a6a7214fea10f13421971cceff0304a@skysports.com
SEQUENCE:0
DTSTAMP:20260415T091226Z
DTSTART:20260304T200000Z
DTEND:20260304T220000Z
SUMMARY:Real Sociedad v Athletic Club
LOCATION:Reale Seguros Stadium
DESCRIPTION:Real Sociedad v Athletic Club - Reale Seguros Stadium - Spanis
 h Copa del Rey
STATUS:CONFIRMED
END:VEVENT
END:VCALENDAR