BEGIN:VCALENDAR
VERSION:2.0
PRODID:-//Sky Sports SSDM//NONSGML Event Calendar//EN
URL:https://www.skysports.com/calendars/football/fixtures/teams/barnsley
CALSCALE:GREGORIAN
METHOD:PUBLISH
NAME:Barnsley Fixtures
X-WR-CALNAME:Barnsley Fixtures
X-WR-CALDESC:Barnsley fixtures provided by Sky Sports (https://www.skyspor
 ts.com)
REFRESH-INTERVAL;VALUE=DURATION:PT1H
X-PUBLISHED-TTL:PT1H
BEGIN:VEVENT
UID:848a25c679f4cd399f725a9d79b81a6d@skysports.com
SEQUENCE:0
DTSTAMP:20260425T090103Z
DTSTART:20250802T140000Z
DTEND:20250802T160000Z
SUMMARY:Plymouth Argyle v Barnsley
LOCATION:Home Park
DESCRIPTION:Plymouth Argyle v Barnsley - Home Park - Sky Bet League One - 
 Live on Sky Sports+
STATUS:CONFIRMED
END:VEVENT
BEGIN:VEVENT
UID:4f91d57303cbfb30fcca104abc1a882a@skysports.com
SEQUENCE:0
DTSTAMP:20260425T090103Z
DTSTART:20250809T140000Z
DTEND:20250809T160000Z
SUMMARY:Barnsley v Burton Albion
LOCATION:Oakwell Stadium
DESCRIPTION:Barnsley v Burton Albion - Oakwell Stadium - Sky Bet League On
 e
STATUS:CONFIRMED
END:VEVENT
BEGIN:VEVENT
UID:d0539cf4568e32bb9cf43d76222c5dee@skysports.com
SEQUENCE:0
DTSTAMP:20260425T090103Z
DTSTART:20250816T140000Z
DTEND:20250816T160000Z
SUMMARY:Barnsley v Bolton Wanderers
LOCATION:Oakwell Stadium
DESCRIPTION:Barnsley v Bolton Wanderers - Oakwell Stadium - Sky Bet League
  One
STATUS:CONFIRMED
END:VEVENT
BEGIN:VEVENT
UID:b72e7270d40dfe15f0b7fd599aa241b3@skysports.com
SEQUENCE:0
DTSTAMP:20260425T090103Z
DTSTART:20250819T184500Z
DTEND:20250819T204500Z
SUMMARY:Peterborough United v Barnsley
LOCATION:Weston Homes Stadium
DESCRIPTION:Peterborough United v Barnsley - Weston Homes Stadium - Sky Be
 t League One - Live on Sky Sports+
STATUS:CONFIRMED
END:VEVENT
BEGIN:VEVENT
UID:797856adf96e5553a417d8f58afed22c@skysports.com
SEQUENCE:0
DTSTAMP:20260425T090103Z
DTSTART:20250823T140000Z
DTEND:20250823T160000Z
SUMMARY:AFC Wimbledon v Barnsley
LOCATION:The Cherry Red Records Stadium
DESCRIPTION:AFC Wimbledon v Barnsley - The Cherry Red Records Stadium - Sk
 y Bet League One
STATUS:CONFIRMED
END:VEVENT
BEGIN:VEVENT
UID:bccd08e8ccaec11512a1ad8b078fd249@skysports.com
SEQUENCE:0
DTSTAMP:20260425T090103Z
DTSTART:20250830T140000Z
DTEND:20250830T160000Z
SUMMARY:Barnsley v Huddersfield Town
LOCATION:Oakwell Stadium
DESCRIPTION:Barnsley v Huddersfield Town - Oakwell Stadium - Sky Bet Leagu
 e One
STATUS:CONFIRMED
END:VEVENT
BEGIN:VEVENT
UID:5372f48625ec04019c6a40e03fbc2478@skysports.com
SEQUENCE:0
DTSTAMP:20260425T090103Z
DTSTART:20260421T184500Z
DTEND:20260421T204500Z
SUMMARY:Stevenage v Barnsley
LOCATION:Lamex Stadium
DESCRIPTION:Stevenage v Barnsley - Lamex Stadium - Sky Bet League One - Li
 ve on Sky Sports+
STATUS:CONFIRMED
END:VEVENT
BEGIN:VEVENT
UID:bff833439a5282f0908992e8b4244227@skysports.com
SEQUENCE:0
DTSTAMP:20260425T090103Z
DTSTART:20250913T140000Z
DTEND:20250913T160000Z
SUMMARY:Barnsley v Reading
LOCATION:Oakwell Stadium
DESCRIPTION:Barnsley v Reading - Oakwell Stadium - Sky Bet League One
STATUS:CONFIRMED
END:VEVENT
BEGIN:VEVENT
UID:289ee839aa2001f2e6567ec21ca9cbda@skysports.com
SEQUENCE:0
DTSTAMP:20260425T090103Z
DTSTART:20250920T113000Z
DTEND:20250920T133000Z
SUMMARY:Blackpool v Barnsley
LOCATION:Bloomfield Road
DESCRIPTION:Blackpool v Barnsley - Bloomfield Road - Sky Bet League One - 
 Live on Sky Sports+
STATUS:CONFIRMED
END:VEVENT
BEGIN:VEVENT
UID:d00ab4b1585cb7180a2154e02ab8aebc@skysports.com
SEQUENCE:0
DTSTAMP:20260425T090103Z
DTSTART:20250927T140000Z
DTEND:20250927T160000Z
SUMMARY:Barnsley v Port Vale
LOCATION:Oakwell Stadium
DESCRIPTION:Barnsley v Port Vale - Oakwell Stadium - Sky Bet League One
STATUS:CONFIRMED
END:VEVENT
BEGIN:VEVENT
UID:98649d2a27328360cc1e38398bb707c2@skysports.com
SEQUENCE:0
DTSTAMP:20260425T090103Z
DTSTART:20251004T113000Z
DTEND:20251004T133000Z
SUMMARY:Wycombe Wanderers v Barnsley
LOCATION:Adams Park
DESCRIPTION:Wycombe Wanderers v Barnsley - Adams Park - Sky Bet League One
  - Live on Sky Sports+
STATUS:CONFIRMED
END:VEVENT
BEGIN:VEVENT
UID:3db85aed9727c321e1ad0fd54a493820@skysports.com
SEQUENCE:0
DTSTAMP:20260425T090103Z
DTSTART:20260310T194500Z
DTEND:20260310T214500Z
SUMMARY:Barnsley v Cardiff City
LOCATION:Oakwell Stadium
DESCRIPTION:Barnsley v Cardiff City - Oakwell Stadium - Sky Bet League One
  - Live on Sky Sports+
STATUS:CONFIRMED
END:VEVENT
BEGIN:VEVENT
UID:f80be4ee1ea99f50d0b8f9134f10f377@skysports.com
SEQUENCE:0
DTSTAMP:20260425T090103Z
DTSTART:20251018T140000Z
DTEND:20251018T160000Z
SUMMARY:Bradford City v Barnsley
LOCATION:University of Bradford Stadium
DESCRIPTION:Bradford City v Barnsley - University of Bradford Stadium - Sk
 y Bet League One
STATUS:CONFIRMED
END:VEVENT
BEGIN:VEVENT
UID:76372fd46b09a769523dc87a46e2d40c@skysports.com
SEQUENCE:0
DTSTAMP:20260425T090103Z
DTSTART:20251025T140000Z
DTEND:20251025T160000Z
SUMMARY:Barnsley v Rotherham United
LOCATION:Oakwell Stadium
DESCRIPTION:Barnsley v Rotherham United - Oakwell Stadium - Sky Bet League
  One
STATUS:CONFIRMED
END:VEVENT
BEGIN:VEVENT
UID:f356203e3179f4a49997fd72709347fb@skysports.com
SEQUENCE:0
DTSTAMP:20260425T090103Z
DTSTART:20251108T150000Z
DTEND:20251108T170000Z
SUMMARY:Doncaster Rovers v Barnsley
LOCATION:Eco-Power Stadium
DESCRIPTION:Doncaster Rovers v Barnsley - Eco-Power Stadium - Sky Bet Leag
 ue One
STATUS:CONFIRMED
END:VEVENT
BEGIN:VEVENT
UID:74b3d82f4df606346a9e8a237159236f@skysports.com
SEQUENCE:0
DTSTAMP:20260425T090103Z
DTSTART:20260203T194500Z
DTEND:20260203T214500Z
SUMMARY:Barnsley v Northampton Town
LOCATION:Oakwell Stadium
DESCRIPTION:Barnsley v Northampton Town - Oakwell Stadium - Sky Bet League
  One - Live on Sky Sports+
STATUS:CONFIRMED
END:VEVENT
BEGIN:VEVENT
UID:f43c2901ccffeacdd12238707120cd94@skysports.com
SEQUENCE:0
DTSTAMP:20260425T090103Z
DTSTART:20251122T150000Z
DTEND:20251122T170000Z
SUMMARY:Barnsley v Luton Town
LOCATION:Oakwell Stadium
DESCRIPTION:Barnsley v Luton Town - Oakwell Stadium - Sky Bet League One
STATUS:CONFIRMED
END:VEVENT
BEGIN:VEVENT
UID:dd383ac5bcbb7a33d97ac8dfa6712047@skysports.com
SEQUENCE:0
DTSTAMP:20260425T090103Z
DTSTART:20251129T123000Z
DTEND:20251129T143000Z
SUMMARY:Stockport County v Barnsley
LOCATION:Edgeley Park
DESCRIPTION:Stockport County v Barnsley - Edgeley Park - Sky Bet League On
 e - Live on Sky Sports+
STATUS:CONFIRMED
END:VEVENT
BEGIN:VEVENT
UID:560c73eb1838a903a7c05f9d24144beb@skysports.com
SEQUENCE:0
DTSTAMP:20260425T090103Z
DTSTART:20251209T194500Z
DTEND:20251209T214500Z
SUMMARY:Lincoln City v Barnsley
LOCATION:LNER Stadium
DESCRIPTION:Lincoln City v Barnsley - LNER Stadium - Sky Bet League One - 
 Live on Sky Sports+
STATUS:CONFIRMED
END:VEVENT
BEGIN:VEVENT
UID:c88a6de0e5892f7dc9c5b72218fa9f56@skysports.com
SEQUENCE:0
DTSTAMP:20260425T090103Z
DTSTART:20251213T150000Z
DTEND:20251213T170000Z
SUMMARY:Barnsley v Leyton Orient
LOCATION:Oakwell Stadium
DESCRIPTION:Barnsley v Leyton Orient - Oakwell Stadium - Sky Bet League On
 e
STATUS:CONFIRMED
END:VEVENT
BEGIN:VEVENT
UID:5253a1dd7364a282359a1aef843c5cf9@skysports.com
SEQUENCE:0
DTSTAMP:20260425T090103Z
DTSTART:20251220T150000Z
DTEND:20251220T170000Z
SUMMARY:Exeter City v Barnsley
LOCATION:St James Park
DESCRIPTION:Exeter City v Barnsley - St James Park - Sky Bet League One
STATUS:CONFIRMED
END:VEVENT
BEGIN:VEVENT
UID:2e0e8ada2c7c7cb4be12a3eda7745e5c@skysports.com
SEQUENCE:0
DTSTAMP:20260425T090103Z
DTSTART:20251226T150000Z
DTEND:20251226T170000Z
SUMMARY:Barnsley v Mansfield Town
LOCATION:Oakwell Stadium
DESCRIPTION:Barnsley v Mansfield Town - Oakwell Stadium - Sky Bet League O
 ne - Live on Sky Sports+
STATUS:CONFIRMED
END:VEVENT
BEGIN:VEVENT
UID:7ca6d10fbc1b2f682c9edf5c141aeaf5@skysports.com
SEQUENCE:0
DTSTAMP:20260425T090103Z
DTSTART:20251229T194500Z
DTEND:20251229T214500Z
SUMMARY:Barnsley v Lincoln City
LOCATION:Oakwell Stadium
DESCRIPTION:Barnsley v Lincoln City - Oakwell Stadium - Sky Bet League One
STATUS:CONFIRMED
END:VEVENT
BEGIN:VEVENT
UID:24a67deaca53651cf3ceae745186d463@skysports.com
SEQUENCE:0
DTSTAMP:20260425T090103Z
DTSTART:20260101T150000Z
DTEND:20260101T170000Z
SUMMARY:Wigan Athletic v Barnsley
LOCATION:DW Stadium
DESCRIPTION:Wigan Athletic v Barnsley - DW Stadium - Sky Bet League One - 
 Live on Sky Sports+
STATUS:CONFIRMED
END:VEVENT
BEGIN:VEVENT
UID:dc2b4cbaa40ef6dd57459d65245f23d7@skysports.com
SEQUENCE:0
DTSTAMP:20260425T090103Z
DTSTART:20260414T184500Z
DTEND:20260414T204500Z
SUMMARY:Port Vale v Barnsley
LOCATION:Vale Park
DESCRIPTION:Port Vale v Barnsley - Vale Park - Sky Bet League One
STATUS:CONFIRMED
END:VEVENT
BEGIN:VEVENT
UID:c4c33d81e8724e3305573be72306a5e0@skysports.com
SEQUENCE:0
DTSTAMP:20260425T090103Z
DTSTART:20260303T194500Z
DTEND:20260303T214500Z
SUMMARY:Barnsley v Wycombe Wanderers
LOCATION:Oakwell Stadium
DESCRIPTION:Barnsley v Wycombe Wanderers - Oakwell Stadium - Sky Bet Leagu
 e One - Live on Sky Sports+
STATUS:CONFIRMED
END:VEVENT
BEGIN:VEVENT
UID:ec5dd4d09788b5800e844c1f51325c00@skysports.com
SEQUENCE:0
DTSTAMP:20260425T090103Z
DTSTART:20260117T150000Z
DTEND:20260117T170000Z
SUMMARY:Barnsley v Blackpool
LOCATION:Oakwell Stadium
DESCRIPTION:Barnsley v Blackpool - Oakwell Stadium - Sky Bet League One
STATUS:CONFIRMED
END:VEVENT
BEGIN:VEVENT
UID:4e2c9c2cba83ee5948068be796d91d1f@skysports.com
SEQUENCE:0
DTSTAMP:20260425T090103Z
DTSTART:20260124T150000Z
DTEND:20260124T170000Z
SUMMARY:Reading v Barnsley
LOCATION:Select Car Leasing Stadium
DESCRIPTION:Reading v Barnsley - Select Car Leasing Stadium - Sky Bet Leag
 ue One
STATUS:CONFIRMED
END:VEVENT
BEGIN:VEVENT
UID:4389969973b45aa402396318847038eb@skysports.com
SEQUENCE:0
DTSTAMP:20260425T090103Z
DTSTART:20260127T194500Z
DTEND:20260127T214500Z
SUMMARY:Cardiff City v Barnsley
LOCATION:Cardiff City Stadium
DESCRIPTION:Cardiff City v Barnsley - Cardiff City Stadium - Sky Bet Leagu
 e One - Live on Sky Sports+
STATUS:CONFIRMED
END:VEVENT
BEGIN:VEVENT
UID:f2140abe516d47a8769c855cdec8b715@skysports.com
SEQUENCE:0
DTSTAMP:20260425T090103Z
DTSTART:20260131T150000Z
DTEND:20260131T170000Z
SUMMARY:Barnsley v Stevenage
LOCATION:Oakwell Stadium
DESCRIPTION:Barnsley v Stevenage - Oakwell Stadium - Sky Bet League One
STATUS:CONFIRMED
END:VEVENT
BEGIN:VEVENT
UID:bf8f11c6d46112d960a3afb84d9581c9@skysports.com
SEQUENCE:0
DTSTAMP:20260425T090103Z
DTSTART:20260207T150100Z
DTEND:20260207T170100Z
SUMMARY:Bolton Wanderers v Barnsley
LOCATION:University of Bolton Stadium
DESCRIPTION:Bolton Wanderers v Barnsley - University of Bolton Stadium - S
 ky Bet League One
STATUS:CONFIRMED
END:VEVENT
BEGIN:VEVENT
UID:f0465c6cb6cf670e965bfe3c695cfe62@skysports.com
SEQUENCE:0
DTSTAMP:20260425T090103Z
DTSTART:20260214T150000Z
DTEND:20260214T170000Z
SUMMARY:Barnsley v AFC Wimbledon
LOCATION:Oakwell Stadium
DESCRIPTION:Barnsley v AFC Wimbledon - Oakwell Stadium - Sky Bet League On
 e
STATUS:CONFIRMED
END:VEVENT
BEGIN:VEVENT
UID:feba926e43ddb526af9202728cf9ba8d@skysports.com
SEQUENCE:0
DTSTAMP:20260425T090103Z
DTSTART:20260217T194500Z
DTEND:20260217T214500Z
SUMMARY:Barnsley v Peterborough United
LOCATION:Oakwell Stadium
DESCRIPTION:Barnsley v Peterborough United - Oakwell Stadium - Sky Bet Lea
 gue One - Live on Sky Sports+
STATUS:CONFIRMED
END:VEVENT
BEGIN:VEVENT
UID:cde4c19f70b00fbccc56c80b51f57cad@skysports.com
SEQUENCE:0
DTSTAMP:20260425T090103Z
DTSTART:20260221T150000Z
DTEND:20260221T170000Z
SUMMARY:Huddersfield Town v Barnsley
LOCATION:The Accu Stadium
DESCRIPTION:Huddersfield Town v Barnsley - The Accu Stadium - Sky Bet Leag
 ue One
STATUS:CONFIRMED
END:VEVENT
BEGIN:VEVENT
UID:9458a341113c943948678636a07e1b4a@skysports.com
SEQUENCE:0
DTSTAMP:20260425T090103Z
DTSTART:20260228T123000Z
DTEND:20260228T143000Z
SUMMARY:Leyton Orient v Barnsley
LOCATION:BetWright Stadium
DESCRIPTION:Leyton Orient v Barnsley - BetWright Stadium - Sky Bet League 
 One - Live on Sky Sports+
STATUS:CONFIRMED
END:VEVENT
BEGIN:VEVENT
UID:23d46b94de309caf24b1c76769db12ff@skysports.com
SEQUENCE:0
DTSTAMP:20260425T090103Z
DTSTART:20260307T150000Z
DTEND:20260307T170000Z
SUMMARY:Barnsley v Exeter City
LOCATION:Oakwell Stadium
DESCRIPTION:Barnsley v Exeter City - Oakwell Stadium - Sky Bet League One
STATUS:CONFIRMED
END:VEVENT
BEGIN:VEVENT
UID:5c4e0360dd32f18e7c16c64301ee101a@skysports.com
SEQUENCE:0
DTSTAMP:20260425T090103Z
DTSTART:20260314T150000Z
DTEND:20260314T170000Z
SUMMARY:Mansfield Town v Barnsley
LOCATION:One Call Stadium
DESCRIPTION:Mansfield Town v Barnsley - One Call Stadium - Sky Bet League 
 One
STATUS:CONFIRMED
END:VEVENT
BEGIN:VEVENT
UID:8bf0de63ae0384a55f4fd363f7ec7137@skysports.com
SEQUENCE:0
DTSTAMP:20260425T090103Z
DTSTART:20260317T200000Z
DTEND:20260317T220000Z
SUMMARY:Barnsley v Wigan Athletic
LOCATION:Oakwell Stadium
DESCRIPTION:Barnsley v Wigan Athletic - Oakwell Stadium - Sky Bet League O
 ne - Live on Sky Sports Main Event and Sky Sports Football
STATUS:CONFIRMED
END:VEVENT
BEGIN:VEVENT
UID:fa6e7afcf41bb197a743adb5259de5e9@skysports.com
SEQUENCE:0
DTSTAMP:20260425T090103Z
DTSTART:20260321T150000Z
DTEND:20260321T170000Z
SUMMARY:Barnsley v Doncaster Rovers
LOCATION:Oakwell Stadium
DESCRIPTION:Barnsley v Doncaster Rovers - Oakwell Stadium - Sky Bet League
  One
STATUS:CONFIRMED
END:VEVENT
BEGIN:VEVENT
UID:d2f418e877bcd82014beccd9ff19b5c7@skysports.com
SEQUENCE:0
DTSTAMP:20260425T090103Z
DTSTART:20260428T184500Z
DTEND:20260428T204500Z
SUMMARY:Northampton Town v Barnsley
LOCATION:Sixfields Stadium
DESCRIPTION:Northampton Town v Barnsley - Sixfields Stadium - Sky Bet Leag
 ue One - Live on Sky Sports+
STATUS:CONFIRMED
END:VEVENT
BEGIN:VEVENT
UID:6d8a11619e0802c796709710a0053aad@skysports.com
SEQUENCE:0
DTSTAMP:20260425T090103Z
DTSTART:20260403T140000Z
DTEND:20260403T160000Z
SUMMARY:Burton Albion v Barnsley
LOCATION:Pirelli Stadium
DESCRIPTION:Burton Albion v Barnsley - Pirelli Stadium - Sky Bet League On
 e - Live on Sky Sports+
STATUS:CONFIRMED
END:VEVENT
BEGIN:VEVENT
UID:ebaa83ec6c1723d9ef0a505dda223c66@skysports.com
SEQUENCE:0
DTSTAMP:20260425T090103Z
DTSTART:20260406T140000Z
DTEND:20260406T160000Z
SUMMARY:Barnsley v Plymouth Argyle
LOCATION:Oakwell Stadium
DESCRIPTION:Barnsley v Plymouth Argyle - Oakwell Stadium - Sky Bet League 
 One - Live on Sky Sports+
STATUS:CONFIRMED
END:VEVENT
BEGIN:VEVENT
UID:3a90120c027dbeb3884e2c2b1482d3a8@skysports.com
SEQUENCE:0
DTSTAMP:20260425T090103Z
DTSTART:20260411T140000Z
DTEND:20260411T160000Z
SUMMARY:Rotherham United v Barnsley
LOCATION:New York Stadium
DESCRIPTION:Rotherham United v Barnsley - New York Stadium - Sky Bet Leagu
 e One
STATUS:CONFIRMED
END:VEVENT
BEGIN:VEVENT
UID:7103c01283d34143384161f8b88e4e07@skysports.com
SEQUENCE:0
DTSTAMP:20260425T090103Z
DTSTART:20260418T113000Z
DTEND:20260418T133000Z
SUMMARY:Barnsley v Bradford City
LOCATION:Oakwell Stadium
DESCRIPTION:Barnsley v Bradford City - Oakwell Stadium - Sky Bet League On
 e - Live on Sky Sports+
STATUS:CONFIRMED
END:VEVENT
BEGIN:VEVENT
UID:412c079da53449924d4e188d030ff3b2@skysports.com
SEQUENCE:0
DTSTAMP:20260425T090103Z
DTSTART:20260425T140000Z
DTEND:20260425T160000Z
SUMMARY:Luton Town v Barnsley
LOCATION:Kenilworth Road
DESCRIPTION:Luton Town v Barnsley - Kenilworth Road - Sky Bet League One
STATUS:CONFIRMED
END:VEVENT
BEGIN:VEVENT
UID:967c8c00ea9b1dcee93b2eb56ec1d6e4@skysports.com
SEQUENCE:0
DTSTAMP:20260425T090103Z
DTSTART:20260502T140000Z
DTEND:20260502T160000Z
SUMMARY:Barnsley v Stockport County
LOCATION:Oakwell Stadium
DESCRIPTION:Barnsley v Stockport County - Oakwell Stadium - Sky Bet League
  One
STATUS:CONFIRMED
END:VEVENT
BEGIN:VEVENT
UID:55b437b5093253e26cf2c74918d179ea@skysports.com
SEQUENCE:0
DTSTAMP:20260425T090103Z
DTSTART:20250813T184500Z
DTEND:20250813T204500Z
SUMMARY:Barnsley v Fleetwood Town
LOCATION:Oakwell Stadium
DESCRIPTION:Barnsley v Fleetwood Town - Oakwell Stadium - Carabao Cup - Li
 ve on Sky Sports+
STATUS:CONFIRMED
END:VEVENT
BEGIN:VEVENT
UID:582bff698d4d99d4eee16c28b1f80d10@skysports.com
SEQUENCE:0
DTSTAMP:20260425T090103Z
DTSTART:20250930T180000Z
DTEND:20250930T200000Z
SUMMARY:Notts County v Barnsley
LOCATION:Meadow Lane
DESCRIPTION:Notts County v Barnsley - Meadow Lane - Vertu Trophy - Live on
  Sky Sports+
STATUS:CONFIRMED
END:VEVENT
BEGIN:VEVENT
UID:7817759a2a273bd7247b87f863438867@skysports.com
SEQUENCE:0
DTSTAMP:20260425T090103Z
DTSTART:20251111T190000Z
DTEND:20251111T210000Z
SUMMARY:Barnsley v Lincoln City
LOCATION:Oakwell Stadium
DESCRIPTION:Barnsley v Lincoln City - Oakwell Stadium - Vertu Trophy - Liv
 e on Sky Sports+
STATUS:CONFIRMED
END:VEVENT
BEGIN:VEVENT
UID:d9615742eb3c1b8c62cd9cf888f29dd1@skysports.com
SEQUENCE:0
DTSTAMP:20260425T090103Z
DTSTART:20250826T184500Z
DTEND:20250826T204500Z
SUMMARY:Barnsley v Rotherham United
LOCATION:Oakwell Stadium
DESCRIPTION:Barnsley v Rotherham United - Oakwell Stadium - Carabao Cup - 
 Live on Sky Sports+
STATUS:CONFIRMED
END:VEVENT
BEGIN:VEVENT
UID:bbf983241624ead6f47ecb5180ede39b@skysports.com
SEQUENCE:0
DTSTAMP:20260425T090103Z
DTSTART:20250923T184500Z
DTEND:20250923T204500Z
SUMMARY:Barnsley v Brighton and Hove Albion
LOCATION:Oakwell Stadium
DESCRIPTION:Barnsley v Brighton and Hove Albion - Oakwell Stadium - Caraba
 o Cup - Live on Sky Sports+
STATUS:CONFIRMED
END:VEVENT
BEGIN:VEVENT
UID:07034a0d536e298f40c29ffaf0b64b5c@skysports.com
SEQUENCE:0
DTSTAMP:20260425T090103Z
DTSTART:20251021T180000Z
DTEND:20251021T200000Z
SUMMARY:Barnsley v Manchester United U21
LOCATION:Oakwell Stadium
DESCRIPTION:Barnsley v Manchester United U21 - Oakwell Stadium - Vertu Tro
 phy - Live on Sky Sports+
STATUS:CONFIRMED
END:VEVENT
BEGIN:VEVENT
UID:a6ca3343d0e06f2fa4e8949333157a14@skysports.com
SEQUENCE:0
DTSTAMP:20260425T090103Z
DTSTART:20251101T150000Z
DTEND:20251101T170000Z
SUMMARY:Barnsley v York City
LOCATION:Oakwell Stadium
DESCRIPTION:Barnsley v York City - Oakwell Stadium - The FA Cup
STATUS:CONFIRMED
END:VEVENT
BEGIN:VEVENT
UID:d1a99867d5a08c6dafcfc2c72b74fd1d@skysports.com
SEQUENCE:0
DTSTAMP:20260425T090103Z
DTSTART:20251206T150000Z
DTEND:20251206T170000Z
SUMMARY:Peterborough United v Barnsley
LOCATION:Weston Homes Stadium
DESCRIPTION:Peterborough United v Barnsley - Weston Homes Stadium - The FA
  Cup
STATUS:CONFIRMED
END:VEVENT
BEGIN:VEVENT
UID:4814bacd012b3c1cd0c8a976592affff@skysports.com
SEQUENCE:0
DTSTAMP:20260425T090103Z
DTSTART:20251202T190000Z
DTEND:20251202T210000Z
SUMMARY:Port Vale v Barnsley
LOCATION:Vale Park
DESCRIPTION:Port Vale v Barnsley - Vale Park - Vertu Trophy - Live on Sky 
 Sports+
STATUS:CONFIRMED
END:VEVENT
BEGIN:VEVENT
UID:0ba4da5e58a8cfa0a4f43952d543632e@skysports.com
SEQUENCE:0
DTSTAMP:20260425T090103Z
DTSTART:20260112T194500Z
DTEND:20260112T214500Z
SUMMARY:Liverpool v Barnsley
LOCATION:Anfield
DESCRIPTION:Liverpool v Barnsley - Anfield - The FA Cup
STATUS:CONFIRMED
END:VEVENT
END:VCALENDAR