BEGIN:VCALENDAR
VERSION:2.0
PRODID:-//Sky Sports SSDM//NONSGML Event Calendar//EN
URL:https://www.skysports.com/calendars/football/fixtures/teams/barrow
CALSCALE:GREGORIAN
METHOD:PUBLISH
NAME:Barrow Fixtures
X-WR-CALNAME:Barrow Fixtures
X-WR-CALDESC:Barrow fixtures provided by Sky Sports (https://www.skysports
 .com)
REFRESH-INTERVAL;VALUE=DURATION:PT1H
X-PUBLISHED-TTL:PT1H
BEGIN:VEVENT
UID:7dc7d71cd4f6ee6f89e64503caf1c4fc@skysports.com
SEQUENCE:0
DTSTAMP:20260425T090307Z
DTSTART:20250802T140000Z
DTEND:20250802T160000Z
SUMMARY:Chesterfield v Barrow
LOCATION:Technique Stadium
DESCRIPTION:Chesterfield v Barrow - Technique Stadium - Sky Bet League Two
  - Live on Sky Sports+
STATUS:CONFIRMED
END:VEVENT
BEGIN:VEVENT
UID:affc033d085a87d7697fae9917f9a9c9@skysports.com
SEQUENCE:0
DTSTAMP:20260425T090307Z
DTSTART:20250809T140000Z
DTEND:20250809T160000Z
SUMMARY:Barrow v Milton Keynes Dons
LOCATION:SO Legal Stadium
DESCRIPTION:Barrow v Milton Keynes Dons - SO Legal Stadium - Sky Bet Leagu
 e Two
STATUS:CONFIRMED
END:VEVENT
BEGIN:VEVENT
UID:9a28932624ff2515d9a674680df7e90a@skysports.com
SEQUENCE:0
DTSTAMP:20260425T090307Z
DTSTART:20250816T140000Z
DTEND:20250816T160000Z
SUMMARY:Barrow v Notts County
LOCATION:SO Legal Stadium
DESCRIPTION:Barrow v Notts County - SO Legal Stadium - Sky Bet League Two
STATUS:CONFIRMED
END:VEVENT
BEGIN:VEVENT
UID:3da75217c42e3b30bb6c97dfd54ea6c5@skysports.com
SEQUENCE:0
DTSTAMP:20260425T090307Z
DTSTART:20250819T184500Z
DTEND:20250819T204500Z
SUMMARY:Harrogate Town v Barrow
LOCATION:The Exercise Stadium
DESCRIPTION:Harrogate Town v Barrow - The Exercise Stadium - Sky Bet Leagu
 e Two - Live on Sky Sports+
STATUS:CONFIRMED
END:VEVENT
BEGIN:VEVENT
UID:6a17056ce73f1d32330fee56c372e233@skysports.com
SEQUENCE:0
DTSTAMP:20260425T090307Z
DTSTART:20250823T140000Z
DTEND:20250823T160000Z
SUMMARY:Colchester United v Barrow
LOCATION:JobServe Community Stadium
DESCRIPTION:Colchester United v Barrow - JobServe Community Stadium - Sky 
 Bet League Two
STATUS:CONFIRMED
END:VEVENT
BEGIN:VEVENT
UID:a64a1b9fb487e2ec512334eebafb5ba8@skysports.com
SEQUENCE:0
DTSTAMP:20260425T090307Z
DTSTART:20250830T113000Z
DTEND:20250830T133000Z
SUMMARY:Barrow v Fleetwood Town
LOCATION:SO Legal Stadium
DESCRIPTION:Barrow v Fleetwood Town - SO Legal Stadium - Sky Bet League Tw
 o - Live on Sky Sports+
STATUS:CONFIRMED
END:VEVENT
BEGIN:VEVENT
UID:77cde515cf18181f1a3ed7ce136999d1@skysports.com
SEQUENCE:0
DTSTAMP:20260425T090307Z
DTSTART:20250906T140000Z
DTEND:20250906T160000Z
SUMMARY:Barrow v Swindon Town
LOCATION:SO Legal Stadium
DESCRIPTION:Barrow v Swindon Town - SO Legal Stadium - Sky Bet League Two 
 - Live on Sky Sports+
STATUS:CONFIRMED
END:VEVENT
BEGIN:VEVENT
UID:263743a16ea629ece8e38fbe706658c9@skysports.com
SEQUENCE:0
DTSTAMP:20260425T090307Z
DTSTART:20250913T140000Z
DTEND:20250913T160000Z
SUMMARY:Bristol Rovers v Barrow
LOCATION:Memorial Stadium
DESCRIPTION:Bristol Rovers v Barrow - Memorial Stadium - Sky Bet League Tw
 o
STATUS:CONFIRMED
END:VEVENT
BEGIN:VEVENT
UID:554a6f8499e7910b1b6c60748a8d0396@skysports.com
SEQUENCE:0
DTSTAMP:20260425T090307Z
DTSTART:20250920T140000Z
DTEND:20250920T160000Z
SUMMARY:Barrow v Crewe Alexandra
LOCATION:SO Legal Stadium
DESCRIPTION:Barrow v Crewe Alexandra - SO Legal Stadium - Sky Bet League T
 wo
STATUS:CONFIRMED
END:VEVENT
BEGIN:VEVENT
UID:822fa56b3b5b15eac5a9f7f46e610233@skysports.com
SEQUENCE:0
DTSTAMP:20260425T090307Z
DTSTART:20250927T140000Z
DTEND:20250927T160000Z
SUMMARY:Crawley Town v Barrow
LOCATION:Broadfield Stadium
DESCRIPTION:Crawley Town v Barrow - Broadfield Stadium - Sky Bet League Tw
 o
STATUS:CONFIRMED
END:VEVENT
BEGIN:VEVENT
UID:6774b2cd5911f7895adadb2ebdeddb40@skysports.com
SEQUENCE:0
DTSTAMP:20260425T090307Z
DTSTART:20251004T140000Z
DTEND:20251004T160000Z
SUMMARY:Barrow v Shrewsbury Town
LOCATION:SO Legal Stadium
DESCRIPTION:Barrow v Shrewsbury Town - SO Legal Stadium - Sky Bet League T
 wo
STATUS:CONFIRMED
END:VEVENT
BEGIN:VEVENT
UID:78b5e3f80bb8b828ca2220e733059295@skysports.com
SEQUENCE:0
DTSTAMP:20260425T090307Z
DTSTART:20251011T163000Z
DTEND:20251011T183000Z
SUMMARY:Oldham Athletic v Barrow
LOCATION:Boundary Park
DESCRIPTION:Oldham Athletic v Barrow - Boundary Park - Sky Bet League Two 
 - Live on Sky Sports Football
STATUS:CONFIRMED
END:VEVENT
BEGIN:VEVENT
UID:d1fa5bac9ae8743491675f8c3e71ad67@skysports.com
SEQUENCE:0
DTSTAMP:20260425T090307Z
DTSTART:20251018T140000Z
DTEND:20251018T160000Z
SUMMARY:Walsall v Barrow
LOCATION:Poundland Bescot Stadium
DESCRIPTION:Walsall v Barrow - Poundland Bescot Stadium - Sky Bet League T
 wo
STATUS:CONFIRMED
END:VEVENT
BEGIN:VEVENT
UID:b8cbeea6b75a66c8225dad705fd3e91f@skysports.com
SEQUENCE:0
DTSTAMP:20260425T090307Z
DTSTART:20251025T140000Z
DTEND:20251025T160000Z
SUMMARY:Barrow v Barnet
LOCATION:SO Legal Stadium
DESCRIPTION:Barrow v Barnet - SO Legal Stadium - Sky Bet League Two
STATUS:CONFIRMED
END:VEVENT
BEGIN:VEVENT
UID:a6005ea52fd42fc7955b4d820efd1a2f@skysports.com
SEQUENCE:0
DTSTAMP:20260425T090307Z
DTSTART:20251108T150000Z
DTEND:20251108T170000Z
SUMMARY:Barrow v Grimsby Town
LOCATION:SO Legal Stadium
DESCRIPTION:Barrow v Grimsby Town - SO Legal Stadium - Sky Bet League Two
STATUS:CONFIRMED
END:VEVENT
BEGIN:VEVENT
UID:63732fcb8f62f267986dad4f6291ed1c@skysports.com
SEQUENCE:0
DTSTAMP:20260425T090307Z
DTSTART:20251115T150000Z
DTEND:20251115T170000Z
SUMMARY:Bromley v Barrow
LOCATION:Hayes Lane Stadium
DESCRIPTION:Bromley v Barrow - Hayes Lane Stadium - Sky Bet League Two - L
 ive on Sky Sports+
STATUS:CONFIRMED
END:VEVENT
BEGIN:VEVENT
UID:ff98a99fe3394d31ded3b4f6a34efeda@skysports.com
SEQUENCE:0
DTSTAMP:20260425T090307Z
DTSTART:20251122T150000Z
DTEND:20251122T170000Z
SUMMARY:Barrow v Cambridge United
LOCATION:SO Legal Stadium
DESCRIPTION:Barrow v Cambridge United - SO Legal Stadium - Sky Bet League 
 Two
STATUS:CONFIRMED
END:VEVENT
BEGIN:VEVENT
UID:ff11b2b615084176878a18ae5d7e0f91@skysports.com
SEQUENCE:0
DTSTAMP:20260425T090307Z
DTSTART:20251129T150000Z
DTEND:20251129T170000Z
SUMMARY:Newport County AFC v Barrow
LOCATION:Rodney Parade
DESCRIPTION:Newport County AFC v Barrow - Rodney Parade - Sky Bet League T
 wo
STATUS:CONFIRMED
END:VEVENT
BEGIN:VEVENT
UID:3682e6bea2a37056b6ff9d2ac3c52767@skysports.com
SEQUENCE:0
DTSTAMP:20260425T090307Z
DTSTART:20251209T194500Z
DTEND:20251209T214500Z
SUMMARY:Barrow v Tranmere Rovers
LOCATION:SO Legal Stadium
DESCRIPTION:Barrow v Tranmere Rovers - SO Legal Stadium - Sky Bet League T
 wo - Live on Sky Sports+
STATUS:CONFIRMED
END:VEVENT
BEGIN:VEVENT
UID:dd3c7d993af9283f589975ea3d779114@skysports.com
SEQUENCE:0
DTSTAMP:20260425T090307Z
DTSTART:20251213T150000Z
DTEND:20251213T170000Z
SUMMARY:Gillingham v Barrow
LOCATION:MEMS Priestfield Stadium
DESCRIPTION:Gillingham v Barrow - MEMS Priestfield Stadium - Sky Bet Leagu
 e Two
STATUS:CONFIRMED
END:VEVENT
BEGIN:VEVENT
UID:6dc01d5a00ad12f77b27e755fe6b2aac@skysports.com
SEQUENCE:0
DTSTAMP:20260425T090307Z
DTSTART:20251219T194500Z
DTEND:20251219T214500Z
SUMMARY:Barrow v Cheltenham Town
LOCATION:SO Legal Stadium
DESCRIPTION:Barrow v Cheltenham Town - SO Legal Stadium - Sky Bet League T
 wo
STATUS:CONFIRMED
END:VEVENT
BEGIN:VEVENT
UID:a2770c2a8857f7a4320d0e14766b814d@skysports.com
SEQUENCE:0
DTSTAMP:20260425T090307Z
DTSTART:20251226T150000Z
DTEND:20251226T170000Z
SUMMARY:Accrington Stanley v Barrow
LOCATION:Wham Stadium
DESCRIPTION:Accrington Stanley v Barrow - Wham Stadium - Sky Bet League Tw
 o - Live on Sky Sports+
STATUS:CONFIRMED
END:VEVENT
BEGIN:VEVENT
UID:53f6c1c36557ab1aea6341df947f648a@skysports.com
SEQUENCE:0
DTSTAMP:20260425T090307Z
DTSTART:20251229T194500Z
DTEND:20251229T214500Z
SUMMARY:Tranmere Rovers v Barrow
LOCATION:Prenton Park
DESCRIPTION:Tranmere Rovers v Barrow - Prenton Park - Sky Bet League Two -
  Live on Sky Sports+
STATUS:CONFIRMED
END:VEVENT
BEGIN:VEVENT
UID:4dfbce1e127c0d6667ee51738acd3d25@skysports.com
SEQUENCE:0
DTSTAMP:20260425T090307Z
DTSTART:20260101T150000Z
DTEND:20260101T170000Z
SUMMARY:Barrow v Salford City
LOCATION:SO Legal Stadium
DESCRIPTION:Barrow v Salford City - SO Legal Stadium - Sky Bet League Two 
 - Live on Sky Sports+
STATUS:CONFIRMED
END:VEVENT
BEGIN:VEVENT
UID:0b5b742daeaab7df081e0d39dfa76367@skysports.com
SEQUENCE:0
DTSTAMP:20260425T090307Z
DTSTART:20260310T194500Z
DTEND:20260310T214500Z
SUMMARY:Barrow v Bristol Rovers
LOCATION:SO Legal Stadium
DESCRIPTION:Barrow v Bristol Rovers - SO Legal Stadium - Sky Bet League Tw
 o
STATUS:CONFIRMED
END:VEVENT
BEGIN:VEVENT
UID:5a41f2830b3450298ced5ba895ee7338@skysports.com
SEQUENCE:0
DTSTAMP:20260425T090307Z
DTSTART:20260210T194500Z
DTEND:20260210T214500Z
SUMMARY:Shrewsbury Town v Barrow
LOCATION:The Croud Meadow
DESCRIPTION:Shrewsbury Town v Barrow - The Croud Meadow - Sky Bet League T
 wo
STATUS:CONFIRMED
END:VEVENT
BEGIN:VEVENT
UID:ff59a0c5baa852dba1cd89bf9ae2695a@skysports.com
SEQUENCE:0
DTSTAMP:20260425T090307Z
DTSTART:20260117T150000Z
DTEND:20260117T170000Z
SUMMARY:Crewe Alexandra v Barrow
LOCATION:Mornflake Stadium
DESCRIPTION:Crewe Alexandra v Barrow - Mornflake Stadium - Sky Bet League 
 Two
STATUS:CONFIRMED
END:VEVENT
BEGIN:VEVENT
UID:aa95e78ba13492d012d17ff32b8ce746@skysports.com
SEQUENCE:0
DTSTAMP:20260425T090307Z
DTSTART:20260124T150000Z
DTEND:20260124T170000Z
SUMMARY:Barrow v Crawley Town
LOCATION:SO Legal Stadium
DESCRIPTION:Barrow v Crawley Town - SO Legal Stadium - Sky Bet League Two
STATUS:CONFIRMED
END:VEVENT
BEGIN:VEVENT
UID:c5a675a4de0664a309b45628cf9c8b9e@skysports.com
SEQUENCE:0
DTSTAMP:20260425T090307Z
DTSTART:20260414T184500Z
DTEND:20260414T204500Z
SUMMARY:Barrow v Oldham Athletic
LOCATION:SO Legal Stadium
DESCRIPTION:Barrow v Oldham Athletic - SO Legal Stadium - Sky Bet League T
 wo - Live on Sky Sports+
STATUS:CONFIRMED
END:VEVENT
BEGIN:VEVENT
UID:020ce3250912ab7c7cb06c623748d16a@skysports.com
SEQUENCE:0
DTSTAMP:20260425T090307Z
DTSTART:20260131T150000Z
DTEND:20260131T170000Z
SUMMARY:Swindon Town v Barrow
LOCATION:The County Ground
DESCRIPTION:Swindon Town v Barrow - The County Ground - Sky Bet League Two
STATUS:CONFIRMED
END:VEVENT
BEGIN:VEVENT
UID:ce36c35ec876d8273ebc6fc26b52fa2a@skysports.com
SEQUENCE:0
DTSTAMP:20260425T090307Z
DTSTART:20260207T150100Z
DTEND:20260207T170100Z
SUMMARY:Notts County v Barrow
LOCATION:Meadow Lane
DESCRIPTION:Notts County v Barrow - Meadow Lane - Sky Bet League Two
STATUS:CONFIRMED
END:VEVENT
BEGIN:VEVENT
UID:03355d7417cf3a0d19ba328030f523c0@skysports.com
SEQUENCE:0
DTSTAMP:20260425T090307Z
DTSTART:20260214T150000Z
DTEND:20260214T170000Z
SUMMARY:Barrow v Colchester United
LOCATION:SO Legal Stadium
DESCRIPTION:Barrow v Colchester United - SO Legal Stadium - Sky Bet League
  Two
STATUS:CONFIRMED
END:VEVENT
BEGIN:VEVENT
UID:a3e13a04265d50ce32870113770181fe@skysports.com
SEQUENCE:0
DTSTAMP:20260425T090307Z
DTSTART:20260217T194500Z
DTEND:20260217T214500Z
SUMMARY:Barrow v Harrogate Town
LOCATION:SO Legal Stadium
DESCRIPTION:Barrow v Harrogate Town - SO Legal Stadium - Sky Bet League Tw
 o - Live on Sky Sports+
STATUS:CONFIRMED
END:VEVENT
BEGIN:VEVENT
UID:7a4751394ab483ec5630b2bea72dac5e@skysports.com
SEQUENCE:0
DTSTAMP:20260425T090307Z
DTSTART:20260221T123000Z
DTEND:20260221T143000Z
SUMMARY:Fleetwood Town v Barrow
LOCATION:Highbury Stadium
DESCRIPTION:Fleetwood Town v Barrow - Highbury Stadium - Sky Bet League Tw
 o - Live on Sky Sports+
STATUS:CONFIRMED
END:VEVENT
BEGIN:VEVENT
UID:e0c9140edcf4a57443c48d21209966af@skysports.com
SEQUENCE:0
DTSTAMP:20260425T090307Z
DTSTART:20260228T150000Z
DTEND:20260228T170000Z
SUMMARY:Barrow v Gillingham
LOCATION:SO Legal Stadium
DESCRIPTION:Barrow v Gillingham - SO Legal Stadium - Sky Bet League Two
STATUS:CONFIRMED
END:VEVENT
BEGIN:VEVENT
UID:05e3399218ccb9d35fc19669584ae9fb@skysports.com
SEQUENCE:0
DTSTAMP:20260425T090307Z
DTSTART:20260306T194500Z
DTEND:20260306T214500Z
SUMMARY:Cheltenham Town v Barrow
LOCATION:EV Charger Points Stadium
DESCRIPTION:Cheltenham Town v Barrow - EV Charger Points Stadium - Sky Bet
  League Two
STATUS:CONFIRMED
END:VEVENT
BEGIN:VEVENT
UID:e1e1ab20b9d918ad36c0edbdafdb78d1@skysports.com
SEQUENCE:0
DTSTAMP:20260425T090307Z
DTSTART:20260314T150000Z
DTEND:20260314T170000Z
SUMMARY:Barrow v Accrington Stanley
LOCATION:SO Legal Stadium
DESCRIPTION:Barrow v Accrington Stanley - SO Legal Stadium - Sky Bet Leagu
 e Two
STATUS:CONFIRMED
END:VEVENT
BEGIN:VEVENT
UID:64245ff50fef4554c8d17c63cc36fc1b@skysports.com
SEQUENCE:0
DTSTAMP:20260425T090307Z
DTSTART:20260317T194500Z
DTEND:20260317T214500Z
SUMMARY:Salford City v Barrow
LOCATION:Moor Lane
DESCRIPTION:Salford City v Barrow - Moor Lane - Sky Bet League Two - Live 
 on Sky Sports+
STATUS:CONFIRMED
END:VEVENT
BEGIN:VEVENT
UID:68a3e77496b9e7666e605cb5de1b6ffc@skysports.com
SEQUENCE:0
DTSTAMP:20260425T090307Z
DTSTART:20260321T150000Z
DTEND:20260321T170000Z
SUMMARY:Grimsby Town v Barrow
LOCATION:Blundell Park
DESCRIPTION:Grimsby Town v Barrow - Blundell Park - Sky Bet League Two
STATUS:CONFIRMED
END:VEVENT
BEGIN:VEVENT
UID:de05a74b900918c841a8ba6c2bfcc428@skysports.com
SEQUENCE:0
DTSTAMP:20260425T090307Z
DTSTART:20260328T150000Z
DTEND:20260328T170000Z
SUMMARY:Barrow v Bromley
LOCATION:SO Legal Stadium
DESCRIPTION:Barrow v Bromley - SO Legal Stadium - Sky Bet League Two - Liv
 e on Sky Sports+
STATUS:CONFIRMED
END:VEVENT
BEGIN:VEVENT
UID:c8e1279fbaa96a29454cf840c62f4732@skysports.com
SEQUENCE:0
DTSTAMP:20260425T090307Z
DTSTART:20260403T140000Z
DTEND:20260403T160000Z
SUMMARY:Milton Keynes Dons v Barrow
LOCATION:Stadium:mk
DESCRIPTION:Milton Keynes Dons v Barrow - Stadium:mk - Sky Bet League Two 
 - Live on Sky Sports+
STATUS:CONFIRMED
END:VEVENT
BEGIN:VEVENT
UID:a1f8e45c3322ee48ccee93e457d03267@skysports.com
SEQUENCE:0
DTSTAMP:20260425T090307Z
DTSTART:20260406T140000Z
DTEND:20260406T160000Z
SUMMARY:Barrow v Chesterfield
LOCATION:SO Legal Stadium
DESCRIPTION:Barrow v Chesterfield - SO Legal Stadium - Sky Bet League Two 
 - Live on Sky Sports+
STATUS:CONFIRMED
END:VEVENT
BEGIN:VEVENT
UID:7d75629c91c8f74510c5bf944abb1af3@skysports.com
SEQUENCE:0
DTSTAMP:20260425T090307Z
DTSTART:20260411T140000Z
DTEND:20260411T160000Z
SUMMARY:Barnet v Barrow
LOCATION:The Hive Stadium
DESCRIPTION:Barnet v Barrow - The Hive Stadium - Sky Bet League Two
STATUS:CONFIRMED
END:VEVENT
BEGIN:VEVENT
UID:e8b0653fd41ca6ae976acc4b6537f52e@skysports.com
SEQUENCE:0
DTSTAMP:20260425T090307Z
DTSTART:20260418T113000Z
DTEND:20260418T133000Z
SUMMARY:Barrow v Walsall
LOCATION:SO Legal Stadium
DESCRIPTION:Barrow v Walsall - SO Legal Stadium - Sky Bet League Two - Liv
 e on Sky Sports+
STATUS:CONFIRMED
END:VEVENT
BEGIN:VEVENT
UID:183a5a004c1c0cb5689329d0256010cc@skysports.com
SEQUENCE:0
DTSTAMP:20260425T090307Z
DTSTART:20260425T140000Z
DTEND:20260425T160000Z
SUMMARY:Cambridge United v Barrow
LOCATION:The Cledara Abbey Stadium
DESCRIPTION:Cambridge United v Barrow - The Cledara Abbey Stadium - Sky Be
 t League Two
STATUS:CONFIRMED
END:VEVENT
BEGIN:VEVENT
UID:f8c2381208ad5dd0da2081643fa151e6@skysports.com
SEQUENCE:0
DTSTAMP:20260425T090307Z
DTSTART:20260502T140000Z
DTEND:20260502T160000Z
SUMMARY:Barrow v Newport County AFC
LOCATION:SO Legal Stadium
DESCRIPTION:Barrow v Newport County AFC - SO Legal Stadium - Sky Bet Leagu
 e Two
STATUS:CONFIRMED
END:VEVENT
BEGIN:VEVENT
UID:9b6e29a56518b3319e71aad9cedb5a8b@skysports.com
SEQUENCE:0
DTSTAMP:20260425T090307Z
DTSTART:20250812T183000Z
DTEND:20250812T203000Z
SUMMARY:Barrow v Preston North End
LOCATION:SO Legal Stadium
DESCRIPTION:Barrow v Preston North End - SO Legal Stadium - Carabao Cup - 
 Live on Sky Sports+
STATUS:CONFIRMED
END:VEVENT
BEGIN:VEVENT
UID:153bf448fdd5517d52ad70ac1dc0136e@skysports.com
SEQUENCE:0
DTSTAMP:20260425T090307Z
DTSTART:20250916T180000Z
DTEND:20250916T200000Z
SUMMARY:Blackpool v Barrow
LOCATION:Bloomfield Road
DESCRIPTION:Blackpool v Barrow - Bloomfield Road - Vertu Trophy - Live on 
 Sky Sports+
STATUS:CONFIRMED
END:VEVENT
BEGIN:VEVENT
UID:f599b7cff21bcea55887d3e0bf906fd7@skysports.com
SEQUENCE:0
DTSTAMP:20260425T090307Z
DTSTART:20251007T183000Z
DTEND:20251007T203000Z
SUMMARY:Barrow v Tranmere Rovers
LOCATION:SO Legal Stadium
DESCRIPTION:Barrow v Tranmere Rovers - SO Legal Stadium - Vertu Trophy - L
 ive on Sky Sports+
STATUS:CONFIRMED
END:VEVENT
BEGIN:VEVENT
UID:6528d4311053ab8f7db685870a5d307e@skysports.com
SEQUENCE:0
DTSTAMP:20260425T090307Z
DTSTART:20251028T190000Z
DTEND:20251028T210000Z
SUMMARY:Barrow v Nottingham Forest U21
LOCATION:SO Legal Stadium
DESCRIPTION:Barrow v Nottingham Forest U21 - SO Legal Stadium - Vertu Trop
 hy - Live on Sky Sports+
STATUS:CONFIRMED
END:VEVENT
BEGIN:VEVENT
UID:a5d330110a117df4ed8fe79507a9dbad@skysports.com
SEQUENCE:0
DTSTAMP:20260425T090307Z
DTSTART:20251101T150000Z
DTEND:20251101T170000Z
SUMMARY:Spennymoor Town v Barrow
LOCATION:Brewery Field
DESCRIPTION:Spennymoor Town v Barrow - Brewery Field - The FA Cup
STATUS:CONFIRMED
END:VEVENT
BEGIN:VEVENT
UID:bebfce0fd7edd8cd823129a518e981b8@skysports.com
SEQUENCE:0
DTSTAMP:20260425T090307Z
DTSTART:20251206T150000Z
DTEND:20251206T170000Z
SUMMARY:Wigan Athletic v Barrow
LOCATION:DW Stadium
DESCRIPTION:Wigan Athletic v Barrow - DW Stadium - The FA Cup
STATUS:CONFIRMED
END:VEVENT
END:VCALENDAR