BEGIN:VCALENDAR
VERSION:2.0
PRODID:-//Sky Sports SSDM//NONSGML Event Calendar//EN
URL:https://www.skysports.com/calendars/football/fixtures/teams/bayern-mun
 ich
CALSCALE:GREGORIAN
METHOD:PUBLISH
NAME:Bayern Munich Fixtures
X-WR-CALNAME:Bayern Munich Fixtures
X-WR-CALDESC:Bayern Munich fixtures provided by Sky Sports (https://www.sk
 ysports.com)
REFRESH-INTERVAL;VALUE=DURATION:PT1H
X-PUBLISHED-TTL:PT1H
BEGIN:VEVENT
UID:5d1de7b1f38032129c3ea2230f81d366@skysports.com
SEQUENCE:0
DTSTAMP:20260425T090605Z
DTSTART:20250629T200000Z
DTEND:20250629T220000Z
SUMMARY:Flamengo v Bayern Munich
LOCATION:Hard Rock Stadium
DESCRIPTION:Flamengo v Bayern Munich - Hard Rock Stadium - FIFA Club World
  Cup
STATUS:CONFIRMED
END:VEVENT
BEGIN:VEVENT
UID:badbcd3428d7d6c0f54663d32f4ddd0a@skysports.com
SEQUENCE:0
DTSTAMP:20260425T090605Z
DTSTART:20250705T160000Z
DTEND:20250705T180000Z
SUMMARY:Paris Saint-Germain v Bayern Munich
LOCATION:Mercedes-Benz Stadium
DESCRIPTION:Paris Saint-Germain v Bayern Munich - Mercedes-Benz Stadium - 
 FIFA Club World Cup
STATUS:CONFIRMED
END:VEVENT
BEGIN:VEVENT
UID:2414abe836e322f75b7e949580d9972a@skysports.com
SEQUENCE:0
DTSTAMP:20260425T090605Z
DTSTART:20250807T163000Z
DTEND:20250807T183000Z
SUMMARY:Bayern Munich v Tottenham Hotspur
LOCATION:Allianz Arena
DESCRIPTION:Bayern Munich v Tottenham Hotspur - Allianz Arena - Friendly M
 atch
STATUS:CONFIRMED
END:VEVENT
BEGIN:VEVENT
UID:181fd4229ce8b354115895247f82d01d@skysports.com
SEQUENCE:0
DTSTAMP:20260425T090605Z
DTSTART:20250816T183000Z
DTEND:20250816T203000Z
SUMMARY:Stuttgart v Bayern Munich
LOCATION:MHP Arena
DESCRIPTION:Stuttgart v Bayern Munich - MHP Arena - Franz-Beckenbauer-Supe
 rcup
STATUS:CONFIRMED
END:VEVENT
BEGIN:VEVENT
UID:fdc3df553d4bacd7e8a410170df3d59e@skysports.com
SEQUENCE:0
DTSTAMP:20260425T090605Z
DTSTART:20250827T184500Z
DTEND:20250827T204500Z
SUMMARY:SV Wehen Wiesbaden v Bayern Munich
LOCATION:BRITA-Arena Wiesbaden
DESCRIPTION:SV Wehen Wiesbaden v Bayern Munich - BRITA-Arena Wiesbaden - G
 erman DFB Cup
STATUS:CONFIRMED
END:VEVENT
BEGIN:VEVENT
UID:bbe0aec6084ad6877cdc187790b6ca25@skysports.com
SEQUENCE:0
DTSTAMP:20260425T090605Z
DTSTART:20250822T183000Z
DTEND:20250822T203000Z
SUMMARY:Bayern Munich v RB Leipzig
LOCATION:Allianz Arena
DESCRIPTION:Bayern Munich v RB Leipzig - Allianz Arena - German Bundesliga
STATUS:CONFIRMED
END:VEVENT
BEGIN:VEVENT
UID:7a6e98096d2403dc9aff788096b66629@skysports.com
SEQUENCE:0
DTSTAMP:20260425T090605Z
DTSTART:20250830T163000Z
DTEND:20250830T183000Z
SUMMARY:FC Augsburg v Bayern Munich
LOCATION:SGL Arena
DESCRIPTION:FC Augsburg v Bayern Munich - SGL Arena - German Bundesliga - 
 Live on Sky Sports Football
STATUS:CONFIRMED
END:VEVENT
BEGIN:VEVENT
UID:0429df4426100a34a75180d4c8a4deb9@skysports.com
SEQUENCE:0
DTSTAMP:20260425T090605Z
DTSTART:20250913T163000Z
DTEND:20250913T183000Z
SUMMARY:Bayern Munich v Hamburg
LOCATION:Allianz Arena
DESCRIPTION:Bayern Munich v Hamburg - Allianz Arena - German Bundesliga - 
 Live on Sky Sports Football and Sky Sports Football HD
STATUS:CONFIRMED
END:VEVENT
BEGIN:VEVENT
UID:7d451cc21783a56135f2a03e63bcc155@skysports.com
SEQUENCE:0
DTSTAMP:20260425T090605Z
DTSTART:20250920T133000Z
DTEND:20250920T153000Z
SUMMARY:TSG Hoffenheim v Bayern Munich
LOCATION:PreZero Arena
DESCRIPTION:TSG Hoffenheim v Bayern Munich - PreZero Arena - German Bundes
 liga
STATUS:CONFIRMED
END:VEVENT
BEGIN:VEVENT
UID:1eb8f1d2b0c71e083d587e18bc9ed1b5@skysports.com
SEQUENCE:0
DTSTAMP:20260425T090605Z
DTSTART:20250926T183000Z
DTEND:20250926T203000Z
SUMMARY:Bayern Munich v Werder Bremen
LOCATION:Allianz Arena
DESCRIPTION:Bayern Munich v Werder Bremen - Allianz Arena - German Bundesl
 iga
STATUS:CONFIRMED
END:VEVENT
BEGIN:VEVENT
UID:2d3fc752221a29844c1046b08a28fca6@skysports.com
SEQUENCE:0
DTSTAMP:20260425T090605Z
DTSTART:20251004T163000Z
DTEND:20251004T183000Z
SUMMARY:Eintracht Frankfurt v Bayern Munich
LOCATION:Commerzbank-Arena
DESCRIPTION:Eintracht Frankfurt v Bayern Munich - Commerzbank-Arena - Germ
 an Bundesliga - Live on Sky Sports Football - Red Button and Sky Sports Fo
 otball HD
STATUS:CONFIRMED
END:VEVENT
BEGIN:VEVENT
UID:21e0513b648a847aa02086c76a7a9208@skysports.com
SEQUENCE:0
DTSTAMP:20260425T090605Z
DTSTART:20251018T163000Z
DTEND:20251018T183000Z
SUMMARY:Bayern Munich v Borussia Dortmund
LOCATION:Allianz Arena
DESCRIPTION:Bayern Munich v Borussia Dortmund - Allianz Arena - German Bun
 desliga - Live on Sky Sports Football
STATUS:CONFIRMED
END:VEVENT
BEGIN:VEVENT
UID:9dbf6c40730fd4c1246cef275f777a4e@skysports.com
SEQUENCE:0
DTSTAMP:20260425T090605Z
DTSTART:20251025T133000Z
DTEND:20251025T153000Z
SUMMARY:Mönchengladbach v Bayern Munich
LOCATION:BORUSSIA-PARK
DESCRIPTION:Mönchengladbach v Bayern Munich - BORUSSIA-PARK - German Bund
 esliga
STATUS:CONFIRMED
END:VEVENT
BEGIN:VEVENT
UID:f15df3ca1327a001e829111c8a106d4a@skysports.com
SEQUENCE:0
DTSTAMP:20260425T090605Z
DTSTART:20251101T173000Z
DTEND:20251101T193000Z
SUMMARY:Bayern Munich v Bayer Leverkusen
LOCATION:Allianz Arena
DESCRIPTION:Bayern Munich v Bayer Leverkusen - Allianz Arena - German Bund
 esliga - Live on Sky Sports Football
STATUS:CONFIRMED
END:VEVENT
BEGIN:VEVENT
UID:80fc99c8b9e08ac56f759327d626473d@skysports.com
SEQUENCE:0
DTSTAMP:20260425T090605Z
DTSTART:20251108T143000Z
DTEND:20251108T163000Z
SUMMARY:1. FC Union Berlin v Bayern Munich
LOCATION:An der Alten Forsterei
DESCRIPTION:1. FC Union Berlin v Bayern Munich - An der Alten Forsterei - 
 German Bundesliga
STATUS:CONFIRMED
END:VEVENT
BEGIN:VEVENT
UID:ec9661930ec3ca30ae1788bf480ef99e@skysports.com
SEQUENCE:0
DTSTAMP:20260425T090605Z
DTSTART:20251122T143000Z
DTEND:20251122T163000Z
SUMMARY:Bayern Munich v SC Freiburg
LOCATION:Allianz Arena
DESCRIPTION:Bayern Munich v SC Freiburg - Allianz Arena - German Bundeslig
 a
STATUS:CONFIRMED
END:VEVENT
BEGIN:VEVENT
UID:274c7986c16e37fcba458f357ce3edbd@skysports.com
SEQUENCE:0
DTSTAMP:20260425T090605Z
DTSTART:20251129T143000Z
DTEND:20251129T163000Z
SUMMARY:Bayern Munich v St Pauli
LOCATION:Allianz Arena
DESCRIPTION:Bayern Munich v St Pauli - Allianz Arena - German Bundesliga
STATUS:CONFIRMED
END:VEVENT
BEGIN:VEVENT
UID:9b4fbd5243aa882b8af6d7303787932f@skysports.com
SEQUENCE:0
DTSTAMP:20260425T090605Z
DTSTART:20251206T143000Z
DTEND:20251206T163000Z
SUMMARY:Stuttgart v Bayern Munich
LOCATION:MHP Arena
DESCRIPTION:Stuttgart v Bayern Munich - MHP Arena - German Bundesliga
STATUS:CONFIRMED
END:VEVENT
BEGIN:VEVENT
UID:10f42dd9afc766b1055b2b25fb2c0266@skysports.com
SEQUENCE:0
DTSTAMP:20260425T090605Z
DTSTART:20251214T163000Z
DTEND:20251214T183000Z
SUMMARY:Bayern Munich v Mainz
LOCATION:Allianz Arena
DESCRIPTION:Bayern Munich v Mainz - Allianz Arena - German Bundesliga
STATUS:CONFIRMED
END:VEVENT
BEGIN:VEVENT
UID:fdf41b3123d9a5845a2214bb56bd1ab0@skysports.com
SEQUENCE:0
DTSTAMP:20260425T090605Z
DTSTART:20251221T163000Z
DTEND:20251221T183000Z
SUMMARY:1. FC Heidenheim 1846 v Bayern Munich
LOCATION:Voith-Arena
DESCRIPTION:1. FC Heidenheim 1846 v Bayern Munich - Voith-Arena - German B
 undesliga
STATUS:CONFIRMED
END:VEVENT
BEGIN:VEVENT
UID:18415cfdc715648beca203beb5a2d872@skysports.com
SEQUENCE:0
DTSTAMP:20260425T090605Z
DTSTART:20260111T163000Z
DTEND:20260111T183000Z
SUMMARY:Bayern Munich v Wolfsburg
LOCATION:Allianz Arena
DESCRIPTION:Bayern Munich v Wolfsburg - Allianz Arena - German Bundesliga
STATUS:CONFIRMED
END:VEVENT
BEGIN:VEVENT
UID:0cc36cc11c166d702e1836f13b761b7a@skysports.com
SEQUENCE:0
DTSTAMP:20260425T090605Z
DTSTART:20260114T193000Z
DTEND:20260114T213000Z
SUMMARY:Cologne v Bayern Munich
LOCATION:RheinEnergieStadion
DESCRIPTION:Cologne v Bayern Munich - RheinEnergieStadion - German Bundesl
 iga
STATUS:CONFIRMED
END:VEVENT
BEGIN:VEVENT
UID:cb03008a94330a7f661040268ed2d388@skysports.com
SEQUENCE:0
DTSTAMP:20260425T090605Z
DTSTART:20260117T173000Z
DTEND:20260117T193000Z
SUMMARY:RB Leipzig v Bayern Munich
LOCATION:Leipzig Stadium
DESCRIPTION:RB Leipzig v Bayern Munich - Leipzig Stadium - German Bundesli
 ga - Live on Sky Sports Football
STATUS:CONFIRMED
END:VEVENT
BEGIN:VEVENT
UID:85482d67aecdcf1ba9c019cae76fa4ed@skysports.com
SEQUENCE:0
DTSTAMP:20260425T090605Z
DTSTART:20260124T143000Z
DTEND:20260124T163000Z
SUMMARY:Bayern Munich v FC Augsburg
LOCATION:Allianz Arena
DESCRIPTION:Bayern Munich v FC Augsburg - Allianz Arena - German Bundeslig
 a
STATUS:CONFIRMED
END:VEVENT
BEGIN:VEVENT
UID:38ba44a644e1715ca2fe76ff40a2cb26@skysports.com
SEQUENCE:0
DTSTAMP:20260425T090605Z
DTSTART:20260131T173000Z
DTEND:20260131T193000Z
SUMMARY:Hamburg v Bayern Munich
LOCATION:Volksparkstadion
DESCRIPTION:Hamburg v Bayern Munich - Volksparkstadion - German Bundesliga
  - Live on Sky Sports Football HD and Sky Sports Football - Red Button
STATUS:CONFIRMED
END:VEVENT
BEGIN:VEVENT
UID:4438c4c753d90ad3f8fa33478d4635da@skysports.com
SEQUENCE:0
DTSTAMP:20260425T090605Z
DTSTART:20260208T163000Z
DTEND:20260208T183000Z
SUMMARY:Bayern Munich v TSG Hoffenheim
LOCATION:Allianz Arena
DESCRIPTION:Bayern Munich v TSG Hoffenheim - Allianz Arena - German Bundes
 liga
STATUS:CONFIRMED
END:VEVENT
BEGIN:VEVENT
UID:bc571fec711cecd88967f0653d7387ef@skysports.com
SEQUENCE:0
DTSTAMP:20260425T090605Z
DTSTART:20260214T143000Z
DTEND:20260214T163000Z
SUMMARY:Werder Bremen v Bayern Munich
LOCATION:Weser-Stadion
DESCRIPTION:Werder Bremen v Bayern Munich - Weser-Stadion - German Bundesl
 iga
STATUS:CONFIRMED
END:VEVENT
BEGIN:VEVENT
UID:cb4c69faca6125b23220f1e390a65b3b@skysports.com
SEQUENCE:0
DTSTAMP:20260425T090605Z
DTSTART:20260221T143000Z
DTEND:20260221T163000Z
SUMMARY:Bayern Munich v Eintracht Frankfurt
LOCATION:Allianz Arena
DESCRIPTION:Bayern Munich v Eintracht Frankfurt - Allianz Arena - German B
 undesliga
STATUS:CONFIRMED
END:VEVENT
BEGIN:VEVENT
UID:9afcf6fff48925c3d08dc23bb66ee03e@skysports.com
SEQUENCE:0
DTSTAMP:20260425T090605Z
DTSTART:20260228T173000Z
DTEND:20260228T193000Z
SUMMARY:Borussia Dortmund v Bayern Munich
LOCATION:Signal Iduna Park
DESCRIPTION:Borussia Dortmund v Bayern Munich - Signal Iduna Park - German
  Bundesliga - Live on Sky Sports Football
STATUS:CONFIRMED
END:VEVENT
BEGIN:VEVENT
UID:5974bc1328c1b75057820313953042ff@skysports.com
SEQUENCE:0
DTSTAMP:20260425T090605Z
DTSTART:20260306T193000Z
DTEND:20260306T213000Z
SUMMARY:Bayern Munich v Mönchengladbach
LOCATION:Allianz Arena
DESCRIPTION:Bayern Munich v Mönchengladbach - Allianz Arena - German Bund
 esliga
STATUS:CONFIRMED
END:VEVENT
BEGIN:VEVENT
UID:aab2a0785472ef413844b46e414bca73@skysports.com
SEQUENCE:0
DTSTAMP:20260425T090605Z
DTSTART:20260314T143000Z
DTEND:20260314T163000Z
SUMMARY:Bayer Leverkusen v Bayern Munich
LOCATION:BayArena
DESCRIPTION:Bayer Leverkusen v Bayern Munich - BayArena - German Bundeslig
 a
STATUS:CONFIRMED
END:VEVENT
BEGIN:VEVENT
UID:75abadfd8a35e48296f865c68cacb0ee@skysports.com
SEQUENCE:0
DTSTAMP:20260425T090605Z
DTSTART:20260321T143000Z
DTEND:20260321T163000Z
SUMMARY:Bayern Munich v 1. FC Union Berlin
LOCATION:Allianz Arena
DESCRIPTION:Bayern Munich v 1. FC Union Berlin - Allianz Arena - German Bu
 ndesliga
STATUS:CONFIRMED
END:VEVENT
BEGIN:VEVENT
UID:1e128e3e789a7b42b9cf731535eaccd7@skysports.com
SEQUENCE:0
DTSTAMP:20260425T090605Z
DTSTART:20260404T133000Z
DTEND:20260404T153000Z
SUMMARY:SC Freiburg v Bayern Munich
LOCATION:Europa-Park Stadion
DESCRIPTION:SC Freiburg v Bayern Munich - Europa-Park Stadion - German Bun
 desliga
STATUS:CONFIRMED
END:VEVENT
BEGIN:VEVENT
UID:34d8eb541700596654175a70fff85ecb@skysports.com
SEQUENCE:0
DTSTAMP:20260425T090605Z
DTSTART:20260411T163000Z
DTEND:20260411T183000Z
SUMMARY:St Pauli v Bayern Munich
LOCATION:Millerntor-Stadion
DESCRIPTION:St Pauli v Bayern Munich - Millerntor-Stadion - German Bundesl
 iga - Live on Sky Sports Football
STATUS:CONFIRMED
END:VEVENT
BEGIN:VEVENT
UID:ef72a2c579ab422d927b9d5e5e972524@skysports.com
SEQUENCE:0
DTSTAMP:20260425T090605Z
DTSTART:20260419T153000Z
DTEND:20260419T173000Z
SUMMARY:Bayern Munich v Stuttgart
LOCATION:Allianz Arena
DESCRIPTION:Bayern Munich v Stuttgart - Allianz Arena - German Bundesliga
STATUS:CONFIRMED
END:VEVENT
BEGIN:VEVENT
UID:58cf0b933ea7492d5e9c101a2e6c86f6@skysports.com
SEQUENCE:0
DTSTAMP:20260425T090605Z
DTSTART:20260425T133000Z
DTEND:20260425T153000Z
SUMMARY:Mainz v Bayern Munich
LOCATION:Coface Arena
DESCRIPTION:Mainz v Bayern Munich - Coface Arena - German Bundesliga
STATUS:CONFIRMED
END:VEVENT
BEGIN:VEVENT
UID:da4497eddc36db3ab5d88e8346b4e77e@skysports.com
SEQUENCE:0
DTSTAMP:20260425T090605Z
DTSTART:20260502T133000Z
DTEND:20260502T153000Z
SUMMARY:Bayern Munich v 1. FC Heidenheim 1846
LOCATION:Allianz Arena
DESCRIPTION:Bayern Munich v 1. FC Heidenheim 1846 - Allianz Arena - German
  Bundesliga
STATUS:CONFIRMED
END:VEVENT
BEGIN:VEVENT
UID:366b2e13cd86bda1248cdc9e5332aac7@skysports.com
SEQUENCE:0
DTSTAMP:20260425T090605Z
DTSTART:20260509T163000Z
DTEND:20260509T183000Z
SUMMARY:Wolfsburg v Bayern Munich
LOCATION:Volkswagen Arena
DESCRIPTION:Wolfsburg v Bayern Munich - Volkswagen Arena - German Bundesli
 ga - Live on Sky Sports Football
STATUS:CONFIRMED
END:VEVENT
BEGIN:VEVENT
UID:2ae07b21c6012e3053922185bab95b83@skysports.com
SEQUENCE:0
DTSTAMP:20260425T090605Z
DTSTART:20260516T133000Z
DTEND:20260516T153000Z
SUMMARY:Bayern Munich v Cologne
LOCATION:Allianz Arena
DESCRIPTION:Bayern Munich v Cologne - Allianz Arena - German Bundesliga
STATUS:CONFIRMED
END:VEVENT
BEGIN:VEVENT
UID:50e1fba794b821746fe1de569ed4f82c@skysports.com
SEQUENCE:0
DTSTAMP:20260425T090605Z
DTSTART:20250812T160000Z
DTEND:20250812T180000Z
SUMMARY:Grasshopper-Club Zurich v Bayern Munich
LOCATION:Letzigrund Stadion
DESCRIPTION:Grasshopper-Club Zurich v Bayern Munich - Letzigrund Stadion -
  Friendly Match
STATUS:CONFIRMED
END:VEVENT
BEGIN:VEVENT
UID:2ba840e9f3b43554c9e92f6b7cc9fd64@skysports.com
SEQUENCE:0
DTSTAMP:20260425T090605Z
DTSTART:20250802T133000Z
DTEND:20250802T153000Z
SUMMARY:Bayern Munich v Lyon
LOCATION:Allianz Arena
DESCRIPTION:Bayern Munich v Lyon - Allianz Arena - Friendly Match
STATUS:CONFIRMED
END:VEVENT
BEGIN:VEVENT
UID:f1ea578c18017c630ea28d26b0120ea4@skysports.com
SEQUENCE:0
DTSTAMP:20260425T090605Z
DTSTART:20250917T190000Z
DTEND:20250917T210000Z
SUMMARY:Bayern Munich v Chelsea
LOCATION:Allianz Arena
DESCRIPTION:Bayern Munich v Chelsea - Allianz Arena - UEFA Champions Leagu
 e
STATUS:CONFIRMED
END:VEVENT
BEGIN:VEVENT
UID:6d1d5091a395d761458b73131bb8a85d@skysports.com
SEQUENCE:0
DTSTAMP:20260425T090605Z
DTSTART:20250930T190000Z
DTEND:20250930T210000Z
SUMMARY:Pafos v Bayern Munich
LOCATION:Alphamega Stadium
DESCRIPTION:Pafos v Bayern Munich - Alphamega Stadium - UEFA Champions Lea
 gue
STATUS:CONFIRMED
END:VEVENT
BEGIN:VEVENT
UID:37b03b8fd66d6cc177752c776bb4e948@skysports.com
SEQUENCE:0
DTSTAMP:20260425T090605Z
DTSTART:20251022T190000Z
DTEND:20251022T210000Z
SUMMARY:Bayern Munich v Club Brugge
LOCATION:Allianz Arena
DESCRIPTION:Bayern Munich v Club Brugge - Allianz Arena - UEFA Champions L
 eague
STATUS:CONFIRMED
END:VEVENT
BEGIN:VEVENT
UID:c5cbee7331518f9032f76c8975268bca@skysports.com
SEQUENCE:0
DTSTAMP:20260425T090605Z
DTSTART:20251104T200000Z
DTEND:20251104T220000Z
SUMMARY:Paris Saint-Germain v Bayern Munich
LOCATION:Parc des Princes
DESCRIPTION:Paris Saint-Germain v Bayern Munich - Parc des Princes - UEFA 
 Champions League
STATUS:CONFIRMED
END:VEVENT
BEGIN:VEVENT
UID:cfa9e505bd886f17edc978d944656ccc@skysports.com
SEQUENCE:0
DTSTAMP:20260425T090605Z
DTSTART:20251126T200000Z
DTEND:20251126T220000Z
SUMMARY:Arsenal v Bayern Munich
LOCATION:Emirates Stadium
DESCRIPTION:Arsenal v Bayern Munich - Emirates Stadium - UEFA Champions Le
 ague
STATUS:CONFIRMED
END:VEVENT
BEGIN:VEVENT
UID:92080a604a2c567a4fdfecd3bdcd7746@skysports.com
SEQUENCE:0
DTSTAMP:20260425T090605Z
DTSTART:20251209T174500Z
DTEND:20251209T194500Z
SUMMARY:Bayern Munich v Sporting Lisbon
LOCATION:Allianz Arena
DESCRIPTION:Bayern Munich v Sporting Lisbon - Allianz Arena - UEFA Champio
 ns League
STATUS:CONFIRMED
END:VEVENT
BEGIN:VEVENT
UID:b99c1f70db40af8dd98dbad39c1d3db7@skysports.com
SEQUENCE:0
DTSTAMP:20260425T090605Z
DTSTART:20260121T200000Z
DTEND:20260121T220000Z
SUMMARY:Bayern Munich v Union Saint-Gilloise
LOCATION:Allianz Arena
DESCRIPTION:Bayern Munich v Union Saint-Gilloise - Allianz Arena - UEFA Ch
 ampions League
STATUS:CONFIRMED
END:VEVENT
BEGIN:VEVENT
UID:1b921900034b49235e1bd4d725434d1d@skysports.com
SEQUENCE:0
DTSTAMP:20260425T090605Z
DTSTART:20260128T200000Z
DTEND:20260128T220000Z
SUMMARY:PSV Eindhoven v Bayern Munich
LOCATION:Philips Stadion
DESCRIPTION:PSV Eindhoven v Bayern Munich - Philips Stadion - UEFA Champio
 ns League
STATUS:CONFIRMED
END:VEVENT
BEGIN:VEVENT
UID:e844b6cf78f51485aa2c0b66d1e109e7@skysports.com
SEQUENCE:0
DTSTAMP:20260425T090605Z
DTSTART:20251029T194500Z
DTEND:20251029T214500Z
SUMMARY:Cologne v Bayern Munich
LOCATION:RheinEnergieStadion
DESCRIPTION:Cologne v Bayern Munich - RheinEnergieStadion - German DFB Cup
STATUS:CONFIRMED
END:VEVENT
BEGIN:VEVENT
UID:8ede0c7855b69ba11d67b5e83add8550@skysports.com
SEQUENCE:0
DTSTAMP:20260425T090605Z
DTSTART:20251203T194500Z
DTEND:20251203T214500Z
SUMMARY:1. FC Union Berlin v Bayern Munich
LOCATION:An der Alten Forsterei
DESCRIPTION:1. FC Union Berlin v Bayern Munich - An der Alten Forsterei - 
 German DFB Cup
STATUS:CONFIRMED
END:VEVENT
BEGIN:VEVENT
UID:570dc53ffe21d49a7bd5505e0a1b55a8@skysports.com
SEQUENCE:0
DTSTAMP:20260425T090605Z
DTSTART:20260106T140000Z
DTEND:20260106T160000Z
SUMMARY:Red Bull Salzburg v Bayern Munich
LOCATION:Red Bull Arena Salzburg
DESCRIPTION:Red Bull Salzburg v Bayern Munich - Red Bull Arena Salzburg - 
 Friendly Match
STATUS:CONFIRMED
END:VEVENT
BEGIN:VEVENT
UID:9523098174a91a1fdf3358e66360b95f@skysports.com
SEQUENCE:0
DTSTAMP:20260425T090605Z
DTSTART:20260211T194500Z
DTEND:20260211T214500Z
SUMMARY:Bayern Munich v RB Leipzig
LOCATION:Allianz Arena
DESCRIPTION:Bayern Munich v RB Leipzig - Allianz Arena - German DFB Cup
STATUS:CONFIRMED
END:VEVENT
BEGIN:VEVENT
UID:40f1e881d9951178c94006b808c6fa90@skysports.com
SEQUENCE:0
DTSTAMP:20260425T090605Z
DTSTART:20260523T180000Z
DTEND:20260523T200000Z
SUMMARY:Bayern Munich v Stuttgart
LOCATION:Olympiastadion Berlin
DESCRIPTION:Bayern Munich v Stuttgart - Olympiastadion Berlin - German DFB
  Cup
STATUS:CONFIRMED
END:VEVENT
BEGIN:VEVENT
UID:59cbb53cd62fb4216c3a60af5f3a3da9@skysports.com
SEQUENCE:0
DTSTAMP:20260425T090605Z
DTSTART:20260422T184500Z
DTEND:20260422T204500Z
SUMMARY:Bayer Leverkusen v Bayern Munich
LOCATION:BayArena
DESCRIPTION:Bayer Leverkusen v Bayern Munich - BayArena - German DFB Cup
STATUS:CONFIRMED
END:VEVENT
BEGIN:VEVENT
UID:a25bcab2b34369f924dbc538c373d291@skysports.com
SEQUENCE:0
DTSTAMP:20260425T090605Z
DTSTART:20260310T200000Z
DTEND:20260310T220000Z
SUMMARY:Atalanta v Bayern Munich
LOCATION:Gewiss Stadium
DESCRIPTION:Atalanta v Bayern Munich - Gewiss Stadium - UEFA Champions Lea
 gue
STATUS:CONFIRMED
END:VEVENT
BEGIN:VEVENT
UID:82c5bd31137dee7e5f90f40ae5ba36d7@skysports.com
SEQUENCE:0
DTSTAMP:20260425T090605Z
DTSTART:20260318T200000Z
DTEND:20260318T220000Z
SUMMARY:Bayern Munich v Atalanta
LOCATION:Allianz Arena
DESCRIPTION:Bayern Munich v Atalanta - Allianz Arena - UEFA Champions Leag
 ue
STATUS:CONFIRMED
END:VEVENT
BEGIN:VEVENT
UID:7c39d9b75c405584f26892b8c14d09b9@skysports.com
SEQUENCE:0
DTSTAMP:20260425T090605Z
DTSTART:20260407T190000Z
DTEND:20260407T210000Z
SUMMARY:Real Madrid v Bayern Munich
LOCATION:Estadio Bernabeu
DESCRIPTION:Real Madrid v Bayern Munich - Estadio Bernabeu - UEFA Champion
 s League
STATUS:CONFIRMED
END:VEVENT
BEGIN:VEVENT
UID:4939352616c0e23c876e98cfd0e7259c@skysports.com
SEQUENCE:0
DTSTAMP:20260425T090605Z
DTSTART:20260415T190000Z
DTEND:20260415T210000Z
SUMMARY:Bayern Munich v Real Madrid
LOCATION:Allianz Arena
DESCRIPTION:Bayern Munich v Real Madrid - Allianz Arena - UEFA Champions L
 eague
STATUS:CONFIRMED
END:VEVENT
BEGIN:VEVENT
UID:ce2524e7e06de444134024b28c9ed8f7@skysports.com
SEQUENCE:0
DTSTAMP:20260425T090605Z
DTSTART:20260428T190000Z
DTEND:20260428T210000Z
SUMMARY:Paris Saint-Germain v Bayern Munich
LOCATION:Parc des Princes
DESCRIPTION:Paris Saint-Germain v Bayern Munich - Parc des Princes - UEFA 
 Champions League
STATUS:CONFIRMED
END:VEVENT
BEGIN:VEVENT
UID:3ffb0a19f7097406956fc8f2f2838a55@skysports.com
SEQUENCE:0
DTSTAMP:20260425T090605Z
DTSTART:20260506T190000Z
DTEND:20260506T210000Z
SUMMARY:Bayern Munich v Paris Saint-Germain
LOCATION:Allianz Arena
DESCRIPTION:Bayern Munich v Paris Saint-Germain - Allianz Arena - UEFA Cha
 mpions League
STATUS:CONFIRMED
END:VEVENT
BEGIN:VEVENT
UID:57d9876d9ecdd943b66d7bec3b5ee859@skysports.com
SEQUENCE:0
DTSTAMP:20260425T090605Z
DTSTART:20260804T140000Z
DTEND:20260804T160000Z
SUMMARY:Jeju FC v Bayern Munich
LOCATION:Jeju World Cup Stadium
DESCRIPTION:Jeju FC v Bayern Munich - Jeju World Cup Stadium - Friendly Ma
 tch
STATUS:CONFIRMED
END:VEVENT
BEGIN:VEVENT
UID:3c722d7f811c23e38dfe7e55a1ec26ad@skysports.com
SEQUENCE:0
DTSTAMP:20260425T090605Z
DTSTART:20260807T140000Z
DTEND:20260807T160000Z
SUMMARY:Bayern Munich v Aston Villa
LOCATION:Kai Tak Sports Park
DESCRIPTION:Bayern Munich v Aston Villa - Kai Tak Sports Park - Friendly M
 atch
STATUS:CONFIRMED
END:VEVENT
BEGIN:VEVENT
UID:c7acc1059e0950e274434cfd608ad703@skysports.com
SEQUENCE:0
DTSTAMP:20260425T090605Z
DTSTART:20260725T133000Z
DTEND:20260725T153000Z
SUMMARY:SV Wehen Wiesbaden v Bayern Munich
LOCATION:BRITA-Arena Wiesbaden
DESCRIPTION:SV Wehen Wiesbaden v Bayern Munich - BRITA-Arena Wiesbaden - F
 riendly Match
STATUS:CONFIRMED
END:VEVENT
END:VCALENDAR