BEGIN:VCALENDAR
VERSION:2.0
PRODID:-//Sky Sports SSDM//NONSGML Event Calendar//EN
URL:https://www.skysports.com/calendars/football/fixtures/teams/blackburn-
 rovers
CALSCALE:GREGORIAN
METHOD:PUBLISH
NAME:Blackburn Rovers Fixtures
X-WR-CALNAME:Blackburn Rovers Fixtures
X-WR-CALDESC:Blackburn Rovers fixtures provided by Sky Sports (https://www
 .skysports.com)
REFRESH-INTERVAL;VALUE=DURATION:PT1H
X-PUBLISHED-TTL:PT1H
BEGIN:VEVENT
UID:0ed2d87995a8b4cdccd5429d47be478e@skysports.com
SEQUENCE:0
DTSTAMP:20260425T090209Z
DTSTART:20250809T140000Z
DTEND:20250809T160000Z
SUMMARY:West Bromwich Albion v Blackburn Rovers
LOCATION:The Hawthorns
DESCRIPTION:West Bromwich Albion v Blackburn Rovers - The Hawthorns - Sky 
 Bet Championship - Live on Sky Sports+
STATUS:CONFIRMED
END:VEVENT
BEGIN:VEVENT
UID:dce68c9226e06ba20097a79deab68abc@skysports.com
SEQUENCE:0
DTSTAMP:20260425T090209Z
DTSTART:20250816T140000Z
DTEND:20250816T160000Z
SUMMARY:Blackburn Rovers v Birmingham City
LOCATION:Ewood Park
DESCRIPTION:Blackburn Rovers v Birmingham City - Ewood Park - Sky Bet Cham
 pionship
STATUS:CONFIRMED
END:VEVENT
BEGIN:VEVENT
UID:2c818ebdfdc7c83fd4cfaab4926f9052@skysports.com
SEQUENCE:0
DTSTAMP:20260425T090209Z
DTSTART:20250823T113000Z
DTEND:20250823T133000Z
SUMMARY:Hull City v Blackburn Rovers
LOCATION:MKM Stadium
DESCRIPTION:Hull City v Blackburn Rovers - MKM Stadium - Sky Bet Champions
 hip - Live on Sky Sports+
STATUS:CONFIRMED
END:VEVENT
BEGIN:VEVENT
UID:e22dbd82053072118b5d7016d65900da@skysports.com
SEQUENCE:0
DTSTAMP:20260425T090209Z
DTSTART:20250830T140000Z
DTEND:20250830T160000Z
SUMMARY:Blackburn Rovers v Norwich City
LOCATION:Ewood Park
DESCRIPTION:Blackburn Rovers v Norwich City - Ewood Park - Sky Bet Champio
 nship
STATUS:CONFIRMED
END:VEVENT
BEGIN:VEVENT
UID:b4cf9442f53c70f7b512771a13844abd@skysports.com
SEQUENCE:0
DTSTAMP:20260425T090209Z
DTSTART:20250913T140000Z
DTEND:20250913T160000Z
SUMMARY:Watford v Blackburn Rovers
LOCATION:Vicarage Road
DESCRIPTION:Watford v Blackburn Rovers - Vicarage Road - Sky Bet Champions
 hip
STATUS:CONFIRMED
END:VEVENT
BEGIN:VEVENT
UID:bc5fddc662e615d515d9b5b6c0f54348@skysports.com
SEQUENCE:0
DTSTAMP:20260425T090209Z
DTSTART:20251202T194500Z
DTEND:20251202T214500Z
SUMMARY:Blackburn Rovers v Ipswich Town
LOCATION:Ewood Park
DESCRIPTION:Blackburn Rovers v Ipswich Town - Ewood Park - Sky Bet Champio
 nship - Live on Sky Sports+
STATUS:CONFIRMED
END:VEVENT
BEGIN:VEVENT
UID:b9dc10e12c541d913afa2caadcfe6524@skysports.com
SEQUENCE:0
DTSTAMP:20260425T090209Z
DTSTART:20250927T140000Z
DTEND:20250927T160000Z
SUMMARY:Charlton Athletic v Blackburn Rovers
LOCATION:The Valley
DESCRIPTION:Charlton Athletic v Blackburn Rovers - The Valley - Sky Bet Ch
 ampionship
STATUS:CONFIRMED
END:VEVENT
BEGIN:VEVENT
UID:1087fee72022e935048530421bb908ec@skysports.com
SEQUENCE:0
DTSTAMP:20260425T090209Z
DTSTART:20250930T184500Z
DTEND:20250930T204500Z
SUMMARY:Blackburn Rovers v Swansea City
LOCATION:Ewood Park
DESCRIPTION:Blackburn Rovers v Swansea City - Ewood Park - Sky Bet Champio
 nship - Live on Sky Sports+
STATUS:CONFIRMED
END:VEVENT
BEGIN:VEVENT
UID:5d7ec522732562e9359da931b50c24da@skysports.com
SEQUENCE:0
DTSTAMP:20260425T090209Z
DTSTART:20251004T113000Z
DTEND:20251004T133000Z
SUMMARY:Blackburn Rovers v Stoke City
LOCATION:Ewood Park
DESCRIPTION:Blackburn Rovers v Stoke City - Ewood Park - Sky Bet Champions
 hip - Live on Sky Sports+
STATUS:CONFIRMED
END:VEVENT
BEGIN:VEVENT
UID:c6ac2d03f8d6216a29ba08f8e91ca835@skysports.com
SEQUENCE:0
DTSTAMP:20260425T090209Z
DTSTART:20251018T140000Z
DTEND:20251018T160000Z
SUMMARY:Coventry City v Blackburn Rovers
LOCATION:The Coventry Building Society Arena
DESCRIPTION:Coventry City v Blackburn Rovers - The Coventry Building Socie
 ty Arena - Sky Bet Championship
STATUS:CONFIRMED
END:VEVENT
BEGIN:VEVENT
UID:8769a5d7fc953bfd054665586574c3e1@skysports.com
SEQUENCE:0
DTSTAMP:20260425T090209Z
DTSTART:20251021T184500Z
DTEND:20251021T204500Z
SUMMARY:Blackburn Rovers v Sheffield United
LOCATION:Ewood Park
DESCRIPTION:Blackburn Rovers v Sheffield United - Ewood Park - Sky Bet Cha
 mpionship - Live on Sky Sports+
STATUS:CONFIRMED
END:VEVENT
BEGIN:VEVENT
UID:641531a3f658ce7311e269a0b7802b06@skysports.com
SEQUENCE:0
DTSTAMP:20260425T090209Z
DTSTART:20251025T140000Z
DTEND:20251025T160000Z
SUMMARY:Blackburn Rovers v Southampton
LOCATION:Ewood Park
DESCRIPTION:Blackburn Rovers v Southampton - Ewood Park - Sky Bet Champion
 ship
STATUS:CONFIRMED
END:VEVENT
BEGIN:VEVENT
UID:f74e79d629466a23bc0ef58efb8cfbfb@skysports.com
SEQUENCE:0
DTSTAMP:20260425T090209Z
DTSTART:20251101T123000Z
DTEND:20251101T143000Z
SUMMARY:Leicester City v Blackburn Rovers
LOCATION:The King Power Stadium
DESCRIPTION:Leicester City v Blackburn Rovers - The King Power Stadium - S
 ky Bet Championship - Live on Sky Sports Football
STATUS:CONFIRMED
END:VEVENT
BEGIN:VEVENT
UID:11a3fffd0e58b7f8823cd5df40651fe8@skysports.com
SEQUENCE:0
DTSTAMP:20260425T090209Z
DTSTART:20251104T194500Z
DTEND:20251104T214500Z
SUMMARY:Bristol City v Blackburn Rovers
LOCATION:Ashton Gate Stadium
DESCRIPTION:Bristol City v Blackburn Rovers - Ashton Gate Stadium - Sky Be
 t Championship - Live on Sky Sports+
STATUS:CONFIRMED
END:VEVENT
BEGIN:VEVENT
UID:996bde2adc22b9957d225255433706a1@skysports.com
SEQUENCE:0
DTSTAMP:20260425T090209Z
DTSTART:20251108T123000Z
DTEND:20251108T143000Z
SUMMARY:Blackburn Rovers v Derby County
LOCATION:Ewood Park
DESCRIPTION:Blackburn Rovers v Derby County - Ewood Park - Sky Bet Champio
 nship - Live on Sky Sports Football
STATUS:CONFIRMED
END:VEVENT
BEGIN:VEVENT
UID:52642c54666be43afb6ff179c65473b7@skysports.com
SEQUENCE:0
DTSTAMP:20260425T090209Z
DTSTART:20251121T200000Z
DTEND:20251121T220000Z
SUMMARY:Preston North End v Blackburn Rovers
LOCATION:Deepdale
DESCRIPTION:Preston North End v Blackburn Rovers - Deepdale - Sky Bet Cham
 pionship - Live on Sky Sports Main Event and Sky Sports Football
STATUS:CONFIRMED
END:VEVENT
BEGIN:VEVENT
UID:d9cf6568aba6f7eab6feea36d2476c97@skysports.com
SEQUENCE:0
DTSTAMP:20260425T090209Z
DTSTART:20251126T194500Z
DTEND:20251126T214500Z
SUMMARY:Blackburn Rovers v Queens Park Rangers
LOCATION:Ewood Park
DESCRIPTION:Blackburn Rovers v Queens Park Rangers - Ewood Park - Sky Bet 
 Championship - Live on Sky Sports+
STATUS:CONFIRMED
END:VEVENT
BEGIN:VEVENT
UID:da852b6e9436ec7549507120ec5c17e9@skysports.com
SEQUENCE:0
DTSTAMP:20260425T090209Z
DTSTART:20251129T150000Z
DTEND:20251129T170000Z
SUMMARY:Wrexham v Blackburn Rovers
LOCATION:STōK Cae Ras
DESCRIPTION:Wrexham v Blackburn Rovers - STōK Cae Ras - Sky Bet Champions
 hip
STATUS:CONFIRMED
END:VEVENT
BEGIN:VEVENT
UID:1ef5bb2fb5f93c45de971d5cdafb3021@skysports.com
SEQUENCE:0
DTSTAMP:20260425T090209Z
DTSTART:20260203T194500Z
DTEND:20260203T214500Z
SUMMARY:Blackburn Rovers v Sheffield Wednesday
LOCATION:Ewood Park
DESCRIPTION:Blackburn Rovers v Sheffield Wednesday - Ewood Park - Sky Bet 
 Championship
STATUS:CONFIRMED
END:VEVENT
BEGIN:VEVENT
UID:815b3ccad8c2b1ca7bf989c0fd10edc4@skysports.com
SEQUENCE:0
DTSTAMP:20260425T090209Z
DTSTART:20251209T194500Z
DTEND:20251209T214500Z
SUMMARY:Blackburn Rovers v Oxford United
LOCATION:Ewood Park
DESCRIPTION:Blackburn Rovers v Oxford United - Ewood Park - Sky Bet Champi
 onship - Live on Sky Sports+
STATUS:CONFIRMED
END:VEVENT
BEGIN:VEVENT
UID:4f0cfd15a15598e47226bcd4c114c2df@skysports.com
SEQUENCE:0
DTSTAMP:20260425T090209Z
DTSTART:20251213T150000Z
DTEND:20251213T170000Z
SUMMARY:Portsmouth v Blackburn Rovers
LOCATION:Fratton Park
DESCRIPTION:Portsmouth v Blackburn Rovers - Fratton Park - Sky Bet Champio
 nship
STATUS:CONFIRMED
END:VEVENT
BEGIN:VEVENT
UID:0791157456487e8283175c95a7c8600e@skysports.com
SEQUENCE:0
DTSTAMP:20260425T090209Z
DTSTART:20251220T123000Z
DTEND:20251220T143000Z
SUMMARY:Blackburn Rovers v Millwall
LOCATION:Ewood Park
DESCRIPTION:Blackburn Rovers v Millwall - Ewood Park - Sky Bet Championshi
 p - Live on Sky Sports+
STATUS:CONFIRMED
END:VEVENT
BEGIN:VEVENT
UID:84581d5162df0729dbe5df842d0a3565@skysports.com
SEQUENCE:0
DTSTAMP:20260425T090209Z
DTSTART:20251226T150000Z
DTEND:20251226T170000Z
SUMMARY:Middlesbrough v Blackburn Rovers
LOCATION:Riverside Stadium
DESCRIPTION:Middlesbrough v Blackburn Rovers - Riverside Stadium - Sky Bet
  Championship - Live on Sky Sports+
STATUS:CONFIRMED
END:VEVENT
BEGIN:VEVENT
UID:907bb61751689dcaa3371842da1f12e4@skysports.com
SEQUENCE:0
DTSTAMP:20260425T090209Z
DTSTART:20251229T194500Z
DTEND:20251229T214500Z
SUMMARY:Sheffield Wednesday v Blackburn Rovers
LOCATION:Hillsborough
DESCRIPTION:Sheffield Wednesday v Blackburn Rovers - Hillsborough - Sky Be
 t Championship - Live on Sky Sports+
STATUS:CONFIRMED
END:VEVENT
BEGIN:VEVENT
UID:b5c51ec4051c49cae5b7bf377d99031d@skysports.com
SEQUENCE:0
DTSTAMP:20260425T090209Z
DTSTART:20260101T123000Z
DTEND:20260101T143000Z
SUMMARY:Blackburn Rovers v Wrexham
LOCATION:Ewood Park
DESCRIPTION:Blackburn Rovers v Wrexham - Ewood Park - Sky Bet Championship
  - Live on Sky Sports Football and Sky Sports Main Event
STATUS:CONFIRMED
END:VEVENT
BEGIN:VEVENT
UID:d62dab7beb94148760f8c16e95fe029d@skysports.com
SEQUENCE:0
DTSTAMP:20260425T090209Z
DTSTART:20260104T150000Z
DTEND:20260104T170000Z
SUMMARY:Blackburn Rovers v Charlton Athletic
LOCATION:Ewood Park
DESCRIPTION:Blackburn Rovers v Charlton Athletic - Ewood Park - Sky Bet Ch
 ampionship
STATUS:CONFIRMED
END:VEVENT
BEGIN:VEVENT
UID:29441c0c5187348add4f3ec7c43e5b2d@skysports.com
SEQUENCE:0
DTSTAMP:20260425T090209Z
DTSTART:20260117T123000Z
DTEND:20260117T143000Z
SUMMARY:Ipswich Town v Blackburn Rovers
LOCATION:Portman Road
DESCRIPTION:Ipswich Town v Blackburn Rovers - Portman Road - Sky Bet Champ
 ionship - Live on Sky Sports+
STATUS:CONFIRMED
END:VEVENT
BEGIN:VEVENT
UID:773a3498871ade956a3cd884464f4713@skysports.com
SEQUENCE:0
DTSTAMP:20260425T090209Z
DTSTART:20260120T194500Z
DTEND:20260120T214500Z
SUMMARY:Swansea City v Blackburn Rovers
LOCATION:Swansea.com Stadium
DESCRIPTION:Swansea City v Blackburn Rovers - Swansea.com Stadium - Sky Be
 t Championship - Live on Sky Sports+
STATUS:CONFIRMED
END:VEVENT
BEGIN:VEVENT
UID:00836bc8d5450714e974520dbac763c6@skysports.com
SEQUENCE:0
DTSTAMP:20260425T090209Z
DTSTART:20260124T150000Z
DTEND:20260124T170000Z
SUMMARY:Blackburn Rovers v Watford
LOCATION:Ewood Park
DESCRIPTION:Blackburn Rovers v Watford - Ewood Park - Sky Bet Championship
STATUS:CONFIRMED
END:VEVENT
BEGIN:VEVENT
UID:318302dfafcf1ece1e38193a8f3dce73@skysports.com
SEQUENCE:0
DTSTAMP:20260425T090209Z
DTSTART:20260131T150000Z
DTEND:20260131T170000Z
SUMMARY:Blackburn Rovers v Hull City
LOCATION:Ewood Park
DESCRIPTION:Blackburn Rovers v Hull City - Ewood Park - Sky Bet Championsh
 ip
STATUS:CONFIRMED
END:VEVENT
BEGIN:VEVENT
UID:6cc5afc35aac95c54b823402466d8186@skysports.com
SEQUENCE:0
DTSTAMP:20260425T090209Z
DTSTART:20260207T123100Z
DTEND:20260207T143100Z
SUMMARY:Norwich City v Blackburn Rovers
LOCATION:Carrow Road
DESCRIPTION:Norwich City v Blackburn Rovers - Carrow Road - Sky Bet Champi
 onship - Live on Sky Sports+
STATUS:CONFIRMED
END:VEVENT
BEGIN:VEVENT
UID:814de004373fce71687a182d44505f4f@skysports.com
SEQUENCE:0
DTSTAMP:20260425T090209Z
DTSTART:20260214T150000Z
DTEND:20260214T170000Z
SUMMARY:Queens Park Rangers v Blackburn Rovers
LOCATION:Loftus Road Stadium
DESCRIPTION:Queens Park Rangers v Blackburn Rovers - Loftus Road Stadium -
  Sky Bet Championship
STATUS:CONFIRMED
END:VEVENT
BEGIN:VEVENT
UID:4b75ebc5c4df56a07cbaa4de986ec6b6@skysports.com
SEQUENCE:0
DTSTAMP:20260425T090209Z
DTSTART:20260220T200000Z
DTEND:20260220T220000Z
SUMMARY:Blackburn Rovers v Preston North End
LOCATION:Ewood Park
DESCRIPTION:Blackburn Rovers v Preston North End - Ewood Park - Sky Bet Ch
 ampionship - Live on Sky Sports Main Event and Sky Sports Football
STATUS:CONFIRMED
END:VEVENT
BEGIN:VEVENT
UID:98d583149ec7dc62cd3414e62998629f@skysports.com
SEQUENCE:0
DTSTAMP:20260425T090209Z
DTSTART:20260224T194500Z
DTEND:20260224T214500Z
SUMMARY:Blackburn Rovers v Bristol City
LOCATION:Ewood Park
DESCRIPTION:Blackburn Rovers v Bristol City - Ewood Park - Sky Bet Champio
 nship - Live on Sky Sports+
STATUS:CONFIRMED
END:VEVENT
BEGIN:VEVENT
UID:a6bd80ecb8b79ed8b576a909c66fa585@skysports.com
SEQUENCE:0
DTSTAMP:20260425T090209Z
DTSTART:20260228T123000Z
DTEND:20260228T143000Z
SUMMARY:Derby County v Blackburn Rovers
LOCATION:Pride Park Stadium
DESCRIPTION:Derby County v Blackburn Rovers - Pride Park Stadium - Sky Bet
  Championship - Live on Sky Sports+
STATUS:CONFIRMED
END:VEVENT
BEGIN:VEVENT
UID:3b6987bf6a0cd6a20512be5c135b4f54@skysports.com
SEQUENCE:0
DTSTAMP:20260425T090209Z
DTSTART:20260307T123000Z
DTEND:20260307T143000Z
SUMMARY:Blackburn Rovers v Portsmouth
LOCATION:Ewood Park
DESCRIPTION:Blackburn Rovers v Portsmouth - Ewood Park - Sky Bet Champions
 hip - Live on Sky Sports Football
STATUS:CONFIRMED
END:VEVENT
BEGIN:VEVENT
UID:d288d8374b4b8516deacbba84789cd3d@skysports.com
SEQUENCE:0
DTSTAMP:20260425T090209Z
DTSTART:20260311T194500Z
DTEND:20260311T214500Z
SUMMARY:Oxford United v Blackburn Rovers
LOCATION:The Kassam Stadium
DESCRIPTION:Oxford United v Blackburn Rovers - The Kassam Stadium - Sky Be
 t Championship - Live on Sky Sports+
STATUS:CONFIRMED
END:VEVENT
BEGIN:VEVENT
UID:0c92e582d64cfcc5fe6e20d3c4293229@skysports.com
SEQUENCE:0
DTSTAMP:20260425T090209Z
DTSTART:20260314T150000Z
DTEND:20260314T170000Z
SUMMARY:Millwall v Blackburn Rovers
LOCATION:The Den
DESCRIPTION:Millwall v Blackburn Rovers - The Den - Sky Bet Championship
STATUS:CONFIRMED
END:VEVENT
BEGIN:VEVENT
UID:2f08297ace04d84c5aa4e107c5fd16f1@skysports.com
SEQUENCE:0
DTSTAMP:20260425T090209Z
DTSTART:20260321T123000Z
DTEND:20260321T143000Z
SUMMARY:Blackburn Rovers v Middlesbrough
LOCATION:Ewood Park
DESCRIPTION:Blackburn Rovers v Middlesbrough - Ewood Park - Sky Bet Champi
 onship - Live on Sky Sports+
STATUS:CONFIRMED
END:VEVENT
BEGIN:VEVENT
UID:e59dc545d6df51e279c815e8ee23eeab@skysports.com
SEQUENCE:0
DTSTAMP:20260425T090209Z
DTSTART:20260403T140000Z
DTEND:20260403T160000Z
SUMMARY:Birmingham City v Blackburn Rovers
LOCATION:St. Andrew's Stadium
DESCRIPTION:Birmingham City v Blackburn Rovers - St. Andrew's Stadium - Sk
 y Bet Championship - Live on Sky Sports+
STATUS:CONFIRMED
END:VEVENT
BEGIN:VEVENT
UID:abfd749486d5b3bc86e9dc5e527791f0@skysports.com
SEQUENCE:0
DTSTAMP:20260425T090209Z
DTSTART:20260406T140000Z
DTEND:20260406T160000Z
SUMMARY:Blackburn Rovers v West Bromwich Albion
LOCATION:Ewood Park
DESCRIPTION:Blackburn Rovers v West Bromwich Albion - Ewood Park - Sky Bet
  Championship - Live on Sky Sports+
STATUS:CONFIRMED
END:VEVENT
BEGIN:VEVENT
UID:e643bf3fb8e972ec6e8be78f3e1a01ad@skysports.com
SEQUENCE:0
DTSTAMP:20260425T090209Z
DTSTART:20260411T140000Z
DTEND:20260411T160000Z
SUMMARY:Stoke City v Blackburn Rovers
LOCATION:Bet365 Stadium
DESCRIPTION:Stoke City v Blackburn Rovers - Bet365 Stadium - Sky Bet Champ
 ionship
STATUS:CONFIRMED
END:VEVENT
BEGIN:VEVENT
UID:47f95f52452f648d070b679e48d2255b@skysports.com
SEQUENCE:0
DTSTAMP:20260425T090209Z
DTSTART:20260417T190000Z
DTEND:20260417T210000Z
SUMMARY:Blackburn Rovers v Coventry City
LOCATION:Ewood Park
DESCRIPTION:Blackburn Rovers v Coventry City - Ewood Park - Sky Bet Champi
 onship - Live on Sky Sports Football and Sky Sports Main Event
STATUS:CONFIRMED
END:VEVENT
BEGIN:VEVENT
UID:dd9d499ae6275226b2e70319e46f8a9b@skysports.com
SEQUENCE:0
DTSTAMP:20260425T090209Z
DTSTART:20260422T184500Z
DTEND:20260422T204500Z
SUMMARY:Sheffield United v Blackburn Rovers
LOCATION:Bramall Lane
DESCRIPTION:Sheffield United v Blackburn Rovers - Bramall Lane - Sky Bet C
 hampionship - Live on Sky Sports+
STATUS:CONFIRMED
END:VEVENT
BEGIN:VEVENT
UID:06c6419399443071c48a092195180c5d@skysports.com
SEQUENCE:0
DTSTAMP:20260425T090209Z
DTSTART:20260414T190000Z
DTEND:20260414T210000Z
SUMMARY:Southampton v Blackburn Rovers
LOCATION:St. Mary's Stadium
DESCRIPTION:Southampton v Blackburn Rovers - St. Mary's Stadium - Sky Bet 
 Championship - Live on Sky Sports Football
STATUS:CONFIRMED
END:VEVENT
BEGIN:VEVENT
UID:3d994b0a7fc4b4192fc2f5c3bf020642@skysports.com
SEQUENCE:0
DTSTAMP:20260425T090209Z
DTSTART:20260502T113000Z
DTEND:20260502T133000Z
SUMMARY:Blackburn Rovers v Leicester City
LOCATION:Ewood Park
DESCRIPTION:Blackburn Rovers v Leicester City - Ewood Park - Sky Bet Champ
 ionship
STATUS:CONFIRMED
END:VEVENT
BEGIN:VEVENT
UID:d86956d942e9d6368aa5940c204f29ab@skysports.com
SEQUENCE:0
DTSTAMP:20260425T090209Z
DTSTART:20250812T184500Z
DTEND:20250812T204500Z
SUMMARY:Blackburn Rovers v Bradford City
LOCATION:Ewood Park
DESCRIPTION:Blackburn Rovers v Bradford City - Ewood Park - Carabao Cup - 
 Live on Sky Sports+
STATUS:CONFIRMED
END:VEVENT
BEGIN:VEVENT
UID:c779b1948581c04c19ed989a31ed195f@skysports.com
SEQUENCE:0
DTSTAMP:20260425T090209Z
DTSTART:20260111T143000Z
DTEND:20260111T163000Z
SUMMARY:Hull City v Blackburn Rovers
LOCATION:MKM Stadium
DESCRIPTION:Hull City v Blackburn Rovers - MKM Stadium - The FA Cup
STATUS:CONFIRMED
END:VEVENT
END:VCALENDAR