BEGIN:VCALENDAR
VERSION:2.0
PRODID:-//Sky Sports SSDM//NONSGML Event Calendar//EN
URL:https://www.skysports.com/calendars/football/fixtures/teams/blackpool
CALSCALE:GREGORIAN
METHOD:PUBLISH
NAME:Blackpool Fixtures
X-WR-CALNAME:Blackpool Fixtures
X-WR-CALDESC:Blackpool fixtures provided by Sky Sports (https://www.skyspo
 rts.com)
REFRESH-INTERVAL;VALUE=DURATION:PT1H
X-PUBLISHED-TTL:PT1H
BEGIN:VEVENT
UID:1c4b2355f08173c0729e7dab1d1c2ac0@skysports.com
SEQUENCE:0
DTSTAMP:20260425T090209Z
DTSTART:20250802T140000Z
DTEND:20250802T160000Z
SUMMARY:Blackpool v Stevenage
LOCATION:Bloomfield Road
DESCRIPTION:Blackpool v Stevenage - Bloomfield Road - Sky Bet League One -
  Live on Sky Sports+
STATUS:CONFIRMED
END:VEVENT
BEGIN:VEVENT
UID:ee8ad023d779ef4fddef3fcab4df6b6d@skysports.com
SEQUENCE:0
DTSTAMP:20260425T090209Z
DTSTART:20250809T140000Z
DTEND:20250809T160000Z
SUMMARY:Exeter City v Blackpool
LOCATION:St James Park
DESCRIPTION:Exeter City v Blackpool - St James Park - Sky Bet League One
STATUS:CONFIRMED
END:VEVENT
BEGIN:VEVENT
UID:299509db8df74bcea444905cf0e96cfd@skysports.com
SEQUENCE:0
DTSTAMP:20260425T090209Z
DTSTART:20250816T140000Z
DTEND:20250816T160000Z
SUMMARY:Blackpool v Huddersfield Town
LOCATION:Bloomfield Road
DESCRIPTION:Blackpool v Huddersfield Town - Bloomfield Road - Sky Bet Leag
 ue One
STATUS:CONFIRMED
END:VEVENT
BEGIN:VEVENT
UID:14b69f79a5d224ba4370132daaf80aa0@skysports.com
SEQUENCE:0
DTSTAMP:20260425T090209Z
DTSTART:20250819T184500Z
DTEND:20250819T204500Z
SUMMARY:Mansfield Town v Blackpool
LOCATION:One Call Stadium
DESCRIPTION:Mansfield Town v Blackpool - One Call Stadium - Sky Bet League
  One - Live on Sky Sports+
STATUS:CONFIRMED
END:VEVENT
BEGIN:VEVENT
UID:05942421b8ccacbb6f909f39cd337927@skysports.com
SEQUENCE:0
DTSTAMP:20260425T090209Z
DTSTART:20250823T140000Z
DTEND:20250823T160000Z
SUMMARY:Plymouth Argyle v Blackpool
LOCATION:Home Park
DESCRIPTION:Plymouth Argyle v Blackpool - Home Park - Sky Bet League One
STATUS:CONFIRMED
END:VEVENT
BEGIN:VEVENT
UID:1d8898e206ba00caf32681581016e41d@skysports.com
SEQUENCE:0
DTSTAMP:20260425T090209Z
DTSTART:20250830T140000Z
DTEND:20250830T160000Z
SUMMARY:Blackpool v Bolton Wanderers
LOCATION:Bloomfield Road
DESCRIPTION:Blackpool v Bolton Wanderers - Bloomfield Road - Sky Bet Leagu
 e One
STATUS:CONFIRMED
END:VEVENT
BEGIN:VEVENT
UID:15982ebab7637f3506c0461556b3e9f0@skysports.com
SEQUENCE:0
DTSTAMP:20260425T090209Z
DTSTART:20250930T184500Z
DTEND:20250930T204500Z
SUMMARY:Blackpool v Luton Town
LOCATION:Bloomfield Road
DESCRIPTION:Blackpool v Luton Town - Bloomfield Road - Sky Bet League One 
 - Live on Sky Sports+
STATUS:CONFIRMED
END:VEVENT
BEGIN:VEVENT
UID:5edfc375a50d8eb6b6f29cfbaedcfd11@skysports.com
SEQUENCE:0
DTSTAMP:20260425T090209Z
DTSTART:20250913T113000Z
DTEND:20250913T133000Z
SUMMARY:Northampton Town v Blackpool
LOCATION:Sixfields Stadium
DESCRIPTION:Northampton Town v Blackpool - Sixfields Stadium - Sky Bet Lea
 gue One - Live on Sky Sports+
STATUS:CONFIRMED
END:VEVENT
BEGIN:VEVENT
UID:289ee839aa2001f2e6567ec21ca9cbda@skysports.com
SEQUENCE:0
DTSTAMP:20260425T090209Z
DTSTART:20250920T113000Z
DTEND:20250920T133000Z
SUMMARY:Blackpool v Barnsley
LOCATION:Bloomfield Road
DESCRIPTION:Blackpool v Barnsley - Bloomfield Road - Sky Bet League One - 
 Live on Sky Sports+
STATUS:CONFIRMED
END:VEVENT
BEGIN:VEVENT
UID:f7df34e832baf1c466fef326a004bc66@skysports.com
SEQUENCE:0
DTSTAMP:20260425T090209Z
DTSTART:20250927T140000Z
DTEND:20250927T160000Z
SUMMARY:Bradford City v Blackpool
LOCATION:University of Bradford Stadium
DESCRIPTION:Bradford City v Blackpool - University of Bradford Stadium - S
 ky Bet League One
STATUS:CONFIRMED
END:VEVENT
BEGIN:VEVENT
UID:5806d0127974b408daae20df0bcf8d04@skysports.com
SEQUENCE:0
DTSTAMP:20260425T090209Z
DTSTART:20251004T140000Z
DTEND:20251004T160000Z
SUMMARY:Blackpool v AFC Wimbledon
LOCATION:Bloomfield Road
DESCRIPTION:Blackpool v AFC Wimbledon - Bloomfield Road - Sky Bet League O
 ne
STATUS:CONFIRMED
END:VEVENT
BEGIN:VEVENT
UID:2bdbf1678f1897654d99cb1600b18a9c@skysports.com
SEQUENCE:0
DTSTAMP:20260425T090209Z
DTSTART:20251011T140000Z
DTEND:20251011T160000Z
SUMMARY:Stockport County v Blackpool
LOCATION:Edgeley Park
DESCRIPTION:Stockport County v Blackpool - Edgeley Park - Sky Bet League O
 ne - Live on Sky Sports+
STATUS:CONFIRMED
END:VEVENT
BEGIN:VEVENT
UID:7f425f92ef2bad35f3fc57415e56b232@skysports.com
SEQUENCE:0
DTSTAMP:20260425T090209Z
DTSTART:20251018T140000Z
DTEND:20251018T160000Z
SUMMARY:Blackpool v Wycombe Wanderers
LOCATION:Bloomfield Road
DESCRIPTION:Blackpool v Wycombe Wanderers - Bloomfield Road - Sky Bet Leag
 ue One
STATUS:CONFIRMED
END:VEVENT
BEGIN:VEVENT
UID:e395d3b43e9689db40256bb05c126395@skysports.com
SEQUENCE:0
DTSTAMP:20260425T090209Z
DTSTART:20251025T140000Z
DTEND:20251025T160000Z
SUMMARY:Peterborough United v Blackpool
LOCATION:Weston Homes Stadium
DESCRIPTION:Peterborough United v Blackpool - Weston Homes Stadium - Sky B
 et League One
STATUS:CONFIRMED
END:VEVENT
BEGIN:VEVENT
UID:53b5f67653d86f7bf794857db05d562f@skysports.com
SEQUENCE:0
DTSTAMP:20260425T090209Z
DTSTART:20251108T150000Z
DTEND:20251108T170000Z
SUMMARY:Blackpool v Cardiff City
LOCATION:Bloomfield Road
DESCRIPTION:Blackpool v Cardiff City - Bloomfield Road - Sky Bet League On
 e
STATUS:CONFIRMED
END:VEVENT
BEGIN:VEVENT
UID:e5494c23b87e4b2b8f9f52dd88a8d54d@skysports.com
SEQUENCE:0
DTSTAMP:20260425T090209Z
DTSTART:20251115T150000Z
DTEND:20251115T170000Z
SUMMARY:Burton Albion v Blackpool
LOCATION:Pirelli Stadium
DESCRIPTION:Burton Albion v Blackpool - Pirelli Stadium - Sky Bet League O
 ne - Live on Sky Sports+
STATUS:CONFIRMED
END:VEVENT
BEGIN:VEVENT
UID:bfab0e91f8c6082383cdde96e0328133@skysports.com
SEQUENCE:0
DTSTAMP:20260425T090209Z
DTSTART:20251122T150000Z
DTEND:20251122T170000Z
SUMMARY:Leyton Orient v Blackpool
LOCATION:BetWright Stadium
DESCRIPTION:Leyton Orient v Blackpool - BetWright Stadium - Sky Bet League
  One
STATUS:CONFIRMED
END:VEVENT
BEGIN:VEVENT
UID:00a96c228898024db8056e8ca3144b34@skysports.com
SEQUENCE:0
DTSTAMP:20260425T090209Z
DTSTART:20251129T123000Z
DTEND:20251129T143000Z
SUMMARY:Blackpool v Reading
LOCATION:Bloomfield Road
DESCRIPTION:Blackpool v Reading - Bloomfield Road - Sky Bet League One - L
 ive on Sky Sports+
STATUS:CONFIRMED
END:VEVENT
BEGIN:VEVENT
UID:1b3c94dd9c7e569acecc56997bc93e60@skysports.com
SEQUENCE:0
DTSTAMP:20260425T090209Z
DTSTART:20251210T194500Z
DTEND:20251210T214500Z
SUMMARY:Rotherham United v Blackpool
LOCATION:New York Stadium
DESCRIPTION:Rotherham United v Blackpool - New York Stadium - Sky Bet Leag
 ue One - Live on Sky Sports+
STATUS:CONFIRMED
END:VEVENT
BEGIN:VEVENT
UID:824b17a8f5276cde21cbf31c766ee5d7@skysports.com
SEQUENCE:0
DTSTAMP:20260425T090209Z
DTSTART:20251213T150000Z
DTEND:20251213T170000Z
SUMMARY:Blackpool v Lincoln City
LOCATION:Bloomfield Road
DESCRIPTION:Blackpool v Lincoln City - Bloomfield Road - Sky Bet League On
 e
STATUS:CONFIRMED
END:VEVENT
BEGIN:VEVENT
UID:1e68b39a041c489a455560d47750d316@skysports.com
SEQUENCE:0
DTSTAMP:20260425T090209Z
DTSTART:20251220T123000Z
DTEND:20251220T143000Z
SUMMARY:Wigan Athletic v Blackpool
LOCATION:DW Stadium
DESCRIPTION:Wigan Athletic v Blackpool - DW Stadium - Sky Bet League One -
  Live on Sky Sports+
STATUS:CONFIRMED
END:VEVENT
BEGIN:VEVENT
UID:1f8ec7ca074fc68f17d97aa01b64bffa@skysports.com
SEQUENCE:0
DTSTAMP:20260425T090209Z
DTSTART:20251226T150000Z
DTEND:20251226T170000Z
SUMMARY:Blackpool v Doncaster Rovers
LOCATION:Bloomfield Road
DESCRIPTION:Blackpool v Doncaster Rovers - Bloomfield Road - Sky Bet Leagu
 e One - Live on Sky Sports+
STATUS:CONFIRMED
END:VEVENT
BEGIN:VEVENT
UID:6c2724a75932b35e7a0730db3a50cab2@skysports.com
SEQUENCE:0
DTSTAMP:20260425T090209Z
DTSTART:20251229T194500Z
DTEND:20251229T214500Z
SUMMARY:Blackpool v Rotherham United
LOCATION:Bloomfield Road
DESCRIPTION:Blackpool v Rotherham United - Bloomfield Road - Sky Bet Leagu
 e One
STATUS:CONFIRMED
END:VEVENT
BEGIN:VEVENT
UID:7976fdfc659a5e4ae9b95927d29cb72e@skysports.com
SEQUENCE:0
DTSTAMP:20260425T090209Z
DTSTART:20260101T150000Z
DTEND:20260101T170000Z
SUMMARY:Port Vale v Blackpool
LOCATION:Vale Park
DESCRIPTION:Port Vale v Blackpool - Vale Park - Sky Bet League One - Live 
 on Sky Sports+
STATUS:CONFIRMED
END:VEVENT
BEGIN:VEVENT
UID:cf9e9794949c5c37a2ac50b2ea29ae32@skysports.com
SEQUENCE:0
DTSTAMP:20260425T090209Z
DTSTART:20260104T150000Z
DTEND:20260104T170000Z
SUMMARY:Blackpool v Bradford City
LOCATION:Bloomfield Road
DESCRIPTION:Blackpool v Bradford City - Bloomfield Road - Sky Bet League O
 ne
STATUS:CONFIRMED
END:VEVENT
BEGIN:VEVENT
UID:68eb56550f36000ebb177dd3fb238b04@skysports.com
SEQUENCE:0
DTSTAMP:20260425T090209Z
DTSTART:20260311T194500Z
DTEND:20260311T214500Z
SUMMARY:AFC Wimbledon v Blackpool
LOCATION:The Cherry Red Records Stadium
DESCRIPTION:AFC Wimbledon v Blackpool - The Cherry Red Records Stadium - S
 ky Bet League One - Live on Sky Sports+
STATUS:CONFIRMED
END:VEVENT
BEGIN:VEVENT
UID:ec5dd4d09788b5800e844c1f51325c00@skysports.com
SEQUENCE:0
DTSTAMP:20260425T090209Z
DTSTART:20260117T150000Z
DTEND:20260117T170000Z
SUMMARY:Barnsley v Blackpool
LOCATION:Oakwell Stadium
DESCRIPTION:Barnsley v Blackpool - Oakwell Stadium - Sky Bet League One
STATUS:CONFIRMED
END:VEVENT
BEGIN:VEVENT
UID:86524459db5e73312a6b9d4bd6684dcb@skysports.com
SEQUENCE:0
DTSTAMP:20260425T090209Z
DTSTART:20260124T150000Z
DTEND:20260124T170000Z
SUMMARY:Blackpool v Northampton Town
LOCATION:Bloomfield Road
DESCRIPTION:Blackpool v Northampton Town - Bloomfield Road - Sky Bet Leagu
 e One
STATUS:CONFIRMED
END:VEVENT
BEGIN:VEVENT
UID:1b531c47e913dca87e1192b2ebc3885f@skysports.com
SEQUENCE:0
DTSTAMP:20260425T090209Z
DTSTART:20260127T194500Z
DTEND:20260127T214500Z
SUMMARY:Blackpool v Stockport County
LOCATION:Bloomfield Road
DESCRIPTION:Blackpool v Stockport County - Bloomfield Road - Sky Bet Leagu
 e One - Live on Sky Sports+
STATUS:CONFIRMED
END:VEVENT
BEGIN:VEVENT
UID:f21fa0ca21e5e0f51de334c401f8c4a4@skysports.com
SEQUENCE:0
DTSTAMP:20260425T090209Z
DTSTART:20260131T150000Z
DTEND:20260131T170000Z
SUMMARY:Luton Town v Blackpool
LOCATION:Kenilworth Road
DESCRIPTION:Luton Town v Blackpool - Kenilworth Road - Sky Bet League One
STATUS:CONFIRMED
END:VEVENT
BEGIN:VEVENT
UID:b19d3671ffe8cc8d94e0e8bc648f01a1@skysports.com
SEQUENCE:0
DTSTAMP:20260425T090209Z
DTSTART:20260207T150100Z
DTEND:20260207T170100Z
SUMMARY:Huddersfield Town v Blackpool
LOCATION:The Accu Stadium
DESCRIPTION:Huddersfield Town v Blackpool - The Accu Stadium - Sky Bet Lea
 gue One
STATUS:CONFIRMED
END:VEVENT
BEGIN:VEVENT
UID:8a4dc47dc368817aff27ea12836100e6@skysports.com
SEQUENCE:0
DTSTAMP:20260425T090209Z
DTSTART:20260214T150000Z
DTEND:20260214T170000Z
SUMMARY:Blackpool v Plymouth Argyle
LOCATION:Bloomfield Road
DESCRIPTION:Blackpool v Plymouth Argyle - Bloomfield Road - Sky Bet League
  One
STATUS:CONFIRMED
END:VEVENT
BEGIN:VEVENT
UID:ea3b2dc63fdc0d12c02e2435572bb49c@skysports.com
SEQUENCE:0
DTSTAMP:20260425T090209Z
DTSTART:20260217T200000Z
DTEND:20260217T220000Z
SUMMARY:Blackpool v Mansfield Town
LOCATION:Bloomfield Road
DESCRIPTION:Blackpool v Mansfield Town - Bloomfield Road - Sky Bet League 
 One - Live on Sky Sports Football
STATUS:CONFIRMED
END:VEVENT
BEGIN:VEVENT
UID:5529e501729d5975b4d8d9ab8c56aa02@skysports.com
SEQUENCE:0
DTSTAMP:20260425T090209Z
DTSTART:20260221T150000Z
DTEND:20260221T170000Z
SUMMARY:Bolton Wanderers v Blackpool
LOCATION:University of Bolton Stadium
DESCRIPTION:Bolton Wanderers v Blackpool - University of Bolton Stadium - 
 Sky Bet League One
STATUS:CONFIRMED
END:VEVENT
BEGIN:VEVENT
UID:53b8f391b0fa935fddae546f346d2ec6@skysports.com
SEQUENCE:0
DTSTAMP:20260425T090209Z
DTSTART:20260228T150000Z
DTEND:20260228T170000Z
SUMMARY:Lincoln City v Blackpool
LOCATION:LNER Stadium
DESCRIPTION:Lincoln City v Blackpool - LNER Stadium - Sky Bet League One
STATUS:CONFIRMED
END:VEVENT
BEGIN:VEVENT
UID:9c2b9f6f08341bee57c036cdc7988307@skysports.com
SEQUENCE:0
DTSTAMP:20260425T090209Z
DTSTART:20260307T150000Z
DTEND:20260307T170000Z
SUMMARY:Blackpool v Wigan Athletic
LOCATION:Bloomfield Road
DESCRIPTION:Blackpool v Wigan Athletic - Bloomfield Road - Sky Bet League 
 One
STATUS:CONFIRMED
END:VEVENT
BEGIN:VEVENT
UID:f275a1c240939843593a064164d4888b@skysports.com
SEQUENCE:0
DTSTAMP:20260425T090209Z
DTSTART:20260314T150000Z
DTEND:20260314T170000Z
SUMMARY:Doncaster Rovers v Blackpool
LOCATION:Eco-Power Stadium
DESCRIPTION:Doncaster Rovers v Blackpool - Eco-Power Stadium - Sky Bet Lea
 gue One
STATUS:CONFIRMED
END:VEVENT
BEGIN:VEVENT
UID:480e07b9a0fab6e585c8e101e88201bf@skysports.com
SEQUENCE:0
DTSTAMP:20260425T090209Z
DTSTART:20260317T194500Z
DTEND:20260317T214500Z
SUMMARY:Blackpool v Port Vale
LOCATION:Bloomfield Road
DESCRIPTION:Blackpool v Port Vale - Bloomfield Road - Sky Bet League One -
  Live on Sky Sports+
STATUS:CONFIRMED
END:VEVENT
BEGIN:VEVENT
UID:978bf091a001e9b74afc8e584d27670f@skysports.com
SEQUENCE:0
DTSTAMP:20260425T090209Z
DTSTART:20260321T123000Z
DTEND:20260321T143000Z
SUMMARY:Cardiff City v Blackpool
LOCATION:Cardiff City Stadium
DESCRIPTION:Cardiff City v Blackpool - Cardiff City Stadium - Sky Bet Leag
 ue One - Live on Sky Sports+
STATUS:CONFIRMED
END:VEVENT
BEGIN:VEVENT
UID:d162fd9cc41d63443c8629ee30a4dada@skysports.com
SEQUENCE:0
DTSTAMP:20260425T090209Z
DTSTART:20260328T150000Z
DTEND:20260328T170000Z
SUMMARY:Blackpool v Burton Albion
LOCATION:Bloomfield Road
DESCRIPTION:Blackpool v Burton Albion - Bloomfield Road - Sky Bet League O
 ne - Live on Sky Sports+
STATUS:CONFIRMED
END:VEVENT
BEGIN:VEVENT
UID:ca8013e2cb3179f4a7590b9cc1eea9ce@skysports.com
SEQUENCE:0
DTSTAMP:20260425T090209Z
DTSTART:20260403T140000Z
DTEND:20260403T160000Z
SUMMARY:Blackpool v Exeter City
LOCATION:Bloomfield Road
DESCRIPTION:Blackpool v Exeter City - Bloomfield Road - Sky Bet League One
  - Live on Sky Sports+
STATUS:CONFIRMED
END:VEVENT
BEGIN:VEVENT
UID:59459483839ba0dcc73c8f3990c336f1@skysports.com
SEQUENCE:0
DTSTAMP:20260425T090209Z
DTSTART:20260406T140000Z
DTEND:20260406T160000Z
SUMMARY:Stevenage v Blackpool
LOCATION:Lamex Stadium
DESCRIPTION:Stevenage v Blackpool - Lamex Stadium - Sky Bet League One - L
 ive on Sky Sports+
STATUS:CONFIRMED
END:VEVENT
BEGIN:VEVENT
UID:c7e4ec8d42c3fbbe46080bb5ec8d42ae@skysports.com
SEQUENCE:0
DTSTAMP:20260425T090209Z
DTSTART:20260411T140000Z
DTEND:20260411T160000Z
SUMMARY:Blackpool v Peterborough United
LOCATION:Bloomfield Road
DESCRIPTION:Blackpool v Peterborough United - Bloomfield Road - Sky Bet Le
 ague One
STATUS:CONFIRMED
END:VEVENT
BEGIN:VEVENT
UID:8e64344e3db4f6ba9bc8f9d8c98bd9c4@skysports.com
SEQUENCE:0
DTSTAMP:20260425T090209Z
DTSTART:20260418T140000Z
DTEND:20260418T160000Z
SUMMARY:Wycombe Wanderers v Blackpool
LOCATION:Adams Park
DESCRIPTION:Wycombe Wanderers v Blackpool - Adams Park - Sky Bet League On
 e
STATUS:CONFIRMED
END:VEVENT
BEGIN:VEVENT
UID:30e31591f48fd32037efb4d2c62778e9@skysports.com
SEQUENCE:0
DTSTAMP:20260425T090209Z
DTSTART:20260425T140000Z
DTEND:20260425T160000Z
SUMMARY:Blackpool v Leyton Orient
LOCATION:Bloomfield Road
DESCRIPTION:Blackpool v Leyton Orient - Bloomfield Road - Sky Bet League O
 ne
STATUS:CONFIRMED
END:VEVENT
BEGIN:VEVENT
UID:f6676fd8cdc23b2be9a0fde473bfdf63@skysports.com
SEQUENCE:0
DTSTAMP:20260425T090209Z
DTSTART:20260502T140000Z
DTEND:20260502T160000Z
SUMMARY:Reading v Blackpool
LOCATION:Select Car Leasing Stadium
DESCRIPTION:Reading v Blackpool - Select Car Leasing Stadium - Sky Bet Lea
 gue One
STATUS:CONFIRMED
END:VEVENT
BEGIN:VEVENT
UID:4a0a3f342bc584624aa414c60222783b@skysports.com
SEQUENCE:0
DTSTAMP:20260425T090209Z
DTSTART:20250812T184500Z
DTEND:20250812T204500Z
SUMMARY:Blackpool v Port Vale
LOCATION:Bloomfield Road
DESCRIPTION:Blackpool v Port Vale - Bloomfield Road - Carabao Cup - Live o
 n Sky Sports+
STATUS:CONFIRMED
END:VEVENT
BEGIN:VEVENT
UID:153bf448fdd5517d52ad70ac1dc0136e@skysports.com
SEQUENCE:0
DTSTAMP:20260425T090209Z
DTSTART:20250916T180000Z
DTEND:20250916T200000Z
SUMMARY:Blackpool v Barrow
LOCATION:Bloomfield Road
DESCRIPTION:Blackpool v Barrow - Bloomfield Road - Vertu Trophy - Live on 
 Sky Sports+
STATUS:CONFIRMED
END:VEVENT
BEGIN:VEVENT
UID:90abfcdef4c04cb12bbfa4276f98e2be@skysports.com
SEQUENCE:0
DTSTAMP:20260425T090209Z
DTSTART:20251014T180000Z
DTEND:20251014T200000Z
SUMMARY:Blackpool v Nottingham Forest U21
LOCATION:Bloomfield Road
DESCRIPTION:Blackpool v Nottingham Forest U21 - Bloomfield Road - Vertu Tr
 ophy - Live on Sky Sports+
STATUS:CONFIRMED
END:VEVENT
BEGIN:VEVENT
UID:19ae4f13e7b1f3b07a19a7894af96c80@skysports.com
SEQUENCE:0
DTSTAMP:20260425T090209Z
DTSTART:20251111T200000Z
DTEND:20251111T220000Z
SUMMARY:Tranmere Rovers v Blackpool
LOCATION:Prenton Park
DESCRIPTION:Tranmere Rovers v Blackpool - Prenton Park - Vertu Trophy - Li
 ve on Sky Sports+
STATUS:CONFIRMED
END:VEVENT
BEGIN:VEVENT
UID:c96b3b4ac952a9db7983418811d69d00@skysports.com
SEQUENCE:0
DTSTAMP:20260425T090209Z
DTSTART:20251101T150000Z
DTEND:20251101T170000Z
SUMMARY:Blackpool v Scunthorpe United
LOCATION:Bloomfield Road
DESCRIPTION:Blackpool v Scunthorpe United - Bloomfield Road - The FA Cup
STATUS:CONFIRMED
END:VEVENT
BEGIN:VEVENT
UID:ab8d39943dfa4889f9d11cfc86ff2c7d@skysports.com
SEQUENCE:0
DTSTAMP:20260425T090209Z
DTSTART:20251207T173000Z
DTEND:20251207T193000Z
SUMMARY:Blackpool v Carlisle United
LOCATION:Bloomfield Road
DESCRIPTION:Blackpool v Carlisle United - Bloomfield Road - The FA Cup
STATUS:CONFIRMED
END:VEVENT
BEGIN:VEVENT
UID:9e477280597a1a95f0d8f6ad57c31b46@skysports.com
SEQUENCE:0
DTSTAMP:20260425T090209Z
DTSTART:20251202T190000Z
DTEND:20251202T210000Z
SUMMARY:Harrogate Town v Blackpool
LOCATION:The Exercise Stadium
DESCRIPTION:Harrogate Town v Blackpool - The Exercise Stadium - Vertu Trop
 hy - Live on Sky Sports+
STATUS:CONFIRMED
END:VEVENT
BEGIN:VEVENT
UID:97d01676b3bec4d3449d9c7523b0efe8@skysports.com
SEQUENCE:0
DTSTAMP:20260425T090209Z
DTSTART:20260110T150000Z
DTEND:20260110T170000Z
SUMMARY:Ipswich Town v Blackpool
LOCATION:Portman Road
DESCRIPTION:Ipswich Town v Blackpool - Portman Road - The FA Cup
STATUS:CONFIRMED
END:VEVENT
END:VCALENDAR