BEGIN:VCALENDAR
VERSION:2.0
PRODID:-//Sky Sports SSDM//NONSGML Event Calendar//EN
URL:https://www.skysports.com/calendars/football/fixtures/teams/bournemout
 h
CALSCALE:GREGORIAN
METHOD:PUBLISH
NAME:Bournemouth Fixtures
X-WR-CALNAME:Bournemouth Fixtures
X-WR-CALDESC:Bournemouth fixtures provided by Sky Sports (https://www.skys
 ports.com)
REFRESH-INTERVAL;VALUE=DURATION:PT1H
X-PUBLISHED-TTL:PT1H
BEGIN:VEVENT
UID:6b2dd2027edb8431908b3f7d413447cc@skysports.com
SEQUENCE:0
DTSTAMP:20260425T090307Z
DTSTART:20250726T200000Z
DTEND:20250726T220000Z
SUMMARY:Everton v Bournemouth
LOCATION:MetLife Stadium
DESCRIPTION:Everton v Bournemouth - MetLife Stadium - Premier League Summe
 r Series - Live on Sky Sports Premier League
STATUS:CONFIRMED
END:VEVENT
BEGIN:VEVENT
UID:8561019cfdf121df278c83c6a5b1d296@skysports.com
SEQUENCE:0
DTSTAMP:20260425T090307Z
DTSTART:20250731T013000Z
DTEND:20250731T033000Z
SUMMARY:Manchester United v Bournemouth
LOCATION:Soldier Field
DESCRIPTION:Manchester United v Bournemouth - Soldier Field - Premier Leag
 ue Summer Series - Live on Sky Sports Premier League
STATUS:CONFIRMED
END:VEVENT
BEGIN:VEVENT
UID:ec7520a201944a7c0bf512964e2194c7@skysports.com
SEQUENCE:0
DTSTAMP:20260425T090307Z
DTSTART:20250803T180000Z
DTEND:20250803T200000Z
SUMMARY:Bournemouth v West Ham United
LOCATION:Mercedes-Benz Stadium
DESCRIPTION:Bournemouth v West Ham United - Mercedes-Benz Stadium - Premie
 r League Summer Series - Live on Sky Sports Premier League and Sky Sports 
 Main Event
STATUS:CONFIRMED
END:VEVENT
BEGIN:VEVENT
UID:aea39a0e66c802e17cc1482b335d93c4@skysports.com
SEQUENCE:0
DTSTAMP:20260425T090307Z
DTSTART:20250815T190000Z
DTEND:20250815T210000Z
SUMMARY:Liverpool v Bournemouth
LOCATION:Anfield
DESCRIPTION:Liverpool v Bournemouth - Anfield - Premier League - Live on S
 ky Sports Main Event and Sky Sports Premier League
STATUS:CONFIRMED
END:VEVENT
BEGIN:VEVENT
UID:517ed6692f78e43237ffcd40208ea536@skysports.com
SEQUENCE:0
DTSTAMP:20260425T090307Z
DTSTART:20250823T140000Z
DTEND:20250823T160000Z
SUMMARY:Bournemouth v Wolverhampton Wanderers
LOCATION:Vitality Stadium
DESCRIPTION:Bournemouth v Wolverhampton Wanderers - Vitality Stadium - Pre
 mier League
STATUS:CONFIRMED
END:VEVENT
BEGIN:VEVENT
UID:14d612a596d94fc73d0d45e22aefcfed@skysports.com
SEQUENCE:0
DTSTAMP:20260425T090307Z
DTSTART:20250830T140000Z
DTEND:20250830T160000Z
SUMMARY:Tottenham Hotspur v Bournemouth
LOCATION:Tottenham Hotspur Stadium
DESCRIPTION:Tottenham Hotspur v Bournemouth - Tottenham Hotspur Stadium - 
 Premier League
STATUS:CONFIRMED
END:VEVENT
BEGIN:VEVENT
UID:4db740cdb57f08b9cdb353df0236f199@skysports.com
SEQUENCE:0
DTSTAMP:20260425T090307Z
DTSTART:20250913T140000Z
DTEND:20250913T160000Z
SUMMARY:Bournemouth v Brighton and Hove Albion
LOCATION:Vitality Stadium
DESCRIPTION:Bournemouth v Brighton and Hove Albion - Vitality Stadium - Pr
 emier League
STATUS:CONFIRMED
END:VEVENT
BEGIN:VEVENT
UID:5641a9ab128e8296323e776e33f503eb@skysports.com
SEQUENCE:0
DTSTAMP:20260425T090307Z
DTSTART:20250921T130000Z
DTEND:20250921T150000Z
SUMMARY:Bournemouth v Newcastle United
LOCATION:Vitality Stadium
DESCRIPTION:Bournemouth v Newcastle United - Vitality Stadium - Premier Le
 ague - Live on Sky Sports Premier League
STATUS:CONFIRMED
END:VEVENT
BEGIN:VEVENT
UID:dc142b9c2c9eff5819d3ffe15eb2cd11@skysports.com
SEQUENCE:0
DTSTAMP:20260425T090307Z
DTSTART:20250927T140000Z
DTEND:20250927T160000Z
SUMMARY:Leeds United v Bournemouth
LOCATION:Elland Road
DESCRIPTION:Leeds United v Bournemouth - Elland Road - Premier League
STATUS:CONFIRMED
END:VEVENT
BEGIN:VEVENT
UID:ea95ddcc26ea50629eab555db60a0bce@skysports.com
SEQUENCE:0
DTSTAMP:20260425T090307Z
DTSTART:20251003T190000Z
DTEND:20251003T210000Z
SUMMARY:Bournemouth v Fulham
LOCATION:Vitality Stadium
DESCRIPTION:Bournemouth v Fulham - Vitality Stadium - Premier League - Liv
 e on Sky Sports Premier League and Sky Sports Main Event
STATUS:CONFIRMED
END:VEVENT
BEGIN:VEVENT
UID:927ea8b8afc77e39113140f3b6b24aab@skysports.com
SEQUENCE:0
DTSTAMP:20260425T090307Z
DTSTART:20251018T140000Z
DTEND:20251018T160000Z
SUMMARY:Crystal Palace v Bournemouth
LOCATION:Selhurst Park
DESCRIPTION:Crystal Palace v Bournemouth - Selhurst Park - Premier League
STATUS:CONFIRMED
END:VEVENT
BEGIN:VEVENT
UID:b462fd72aea19c85377ff09a52dec4f9@skysports.com
SEQUENCE:0
DTSTAMP:20260425T090307Z
DTSTART:20251026T140000Z
DTEND:20251026T160000Z
SUMMARY:Bournemouth v Nottingham Forest
LOCATION:Vitality Stadium
DESCRIPTION:Bournemouth v Nottingham Forest - Vitality Stadium - Premier L
 eague - Live on Sky Sports+
STATUS:CONFIRMED
END:VEVENT
BEGIN:VEVENT
UID:233c5d370ca93c49a4e20918d74faa92@skysports.com
SEQUENCE:0
DTSTAMP:20260425T090307Z
DTSTART:20251102T163000Z
DTEND:20251102T183000Z
SUMMARY:Manchester City v Bournemouth
LOCATION:Etihad Stadium
DESCRIPTION:Manchester City v Bournemouth - Etihad Stadium - Premier Leagu
 e - Live on Sky Sports Main Event and Sky Sports Premier League
STATUS:CONFIRMED
END:VEVENT
BEGIN:VEVENT
UID:afbb0c5d6bd689831eb2f91488d32681@skysports.com
SEQUENCE:0
DTSTAMP:20260425T090307Z
DTSTART:20251109T140000Z
DTEND:20251109T160000Z
SUMMARY:Aston Villa v Bournemouth
LOCATION:Villa Park
DESCRIPTION:Aston Villa v Bournemouth - Villa Park - Premier League - Live
  on Sky Sports Cricket
STATUS:CONFIRMED
END:VEVENT
BEGIN:VEVENT
UID:b143f16634fc6b0abc85b94f5f60d99a@skysports.com
SEQUENCE:0
DTSTAMP:20260425T090307Z
DTSTART:20251122T150000Z
DTEND:20251122T170000Z
SUMMARY:Bournemouth v West Ham United
LOCATION:Vitality Stadium
DESCRIPTION:Bournemouth v West Ham United - Vitality Stadium - Premier Lea
 gue
STATUS:CONFIRMED
END:VEVENT
BEGIN:VEVENT
UID:a1c5eae2838cdf47cd5b63c1dc1c30d3@skysports.com
SEQUENCE:0
DTSTAMP:20260425T090307Z
DTSTART:20251129T150000Z
DTEND:20251129T170000Z
SUMMARY:Sunderland v Bournemouth
LOCATION:Stadium of Light
DESCRIPTION:Sunderland v Bournemouth - Stadium of Light - Premier League
STATUS:CONFIRMED
END:VEVENT
BEGIN:VEVENT
UID:9d9542717b0507da7e4e4caee394ad55@skysports.com
SEQUENCE:0
DTSTAMP:20260425T090307Z
DTSTART:20251202T193000Z
DTEND:20251202T213000Z
SUMMARY:Bournemouth v Everton
LOCATION:Vitality Stadium
DESCRIPTION:Bournemouth v Everton - Vitality Stadium - Premier League - Li
 ve on Sky Sports+
STATUS:CONFIRMED
END:VEVENT
BEGIN:VEVENT
UID:8b68e8501c95eac8c13e8f2d93f89152@skysports.com
SEQUENCE:0
DTSTAMP:20260425T090307Z
DTSTART:20251206T150000Z
DTEND:20251206T170000Z
SUMMARY:Bournemouth v Chelsea
LOCATION:Vitality Stadium
DESCRIPTION:Bournemouth v Chelsea - Vitality Stadium - Premier League
STATUS:CONFIRMED
END:VEVENT
BEGIN:VEVENT
UID:636b324b49ca50975744e0bea6222b48@skysports.com
SEQUENCE:0
DTSTAMP:20260425T090307Z
DTSTART:20251215T200000Z
DTEND:20251215T220000Z
SUMMARY:Manchester United v Bournemouth
LOCATION:Old Trafford
DESCRIPTION:Manchester United v Bournemouth - Old Trafford - Premier Leagu
 e - Live on Sky Sports Main Event and Sky Sports Premier League
STATUS:CONFIRMED
END:VEVENT
BEGIN:VEVENT
UID:ab370027fc9dccdff2197c7509d053b3@skysports.com
SEQUENCE:0
DTSTAMP:20260425T090307Z
DTSTART:20251220T150000Z
DTEND:20251220T170000Z
SUMMARY:Bournemouth v Burnley
LOCATION:Vitality Stadium
DESCRIPTION:Bournemouth v Burnley - Vitality Stadium - Premier League
STATUS:CONFIRMED
END:VEVENT
BEGIN:VEVENT
UID:b7e6c72ad423b805d16419e8b0a7dd24@skysports.com
SEQUENCE:0
DTSTAMP:20260425T090307Z
DTSTART:20251227T150000Z
DTEND:20251227T170000Z
SUMMARY:Brentford v Bournemouth
LOCATION:Gtech Community Stadium
DESCRIPTION:Brentford v Bournemouth - Gtech Community Stadium - Premier Le
 ague
STATUS:CONFIRMED
END:VEVENT
BEGIN:VEVENT
UID:bfcd28b4a0db37c3224165d52a2c506e@skysports.com
SEQUENCE:0
DTSTAMP:20260425T090307Z
DTSTART:20251230T193000Z
DTEND:20251230T213000Z
SUMMARY:Chelsea v Bournemouth
LOCATION:Stamford Bridge
DESCRIPTION:Chelsea v Bournemouth - Stamford Bridge - Premier League - Liv
 e on Sky Sports Main Event
STATUS:CONFIRMED
END:VEVENT
BEGIN:VEVENT
UID:bc6b8835d65bc0736cbc7e7ee3f845fa@skysports.com
SEQUENCE:0
DTSTAMP:20260425T090307Z
DTSTART:20260103T173000Z
DTEND:20260103T193000Z
SUMMARY:Bournemouth v Arsenal
LOCATION:Vitality Stadium
DESCRIPTION:Bournemouth v Arsenal - Vitality Stadium - Premier League - Li
 ve on Sky Sports Main Event and Sky Sports Premier League
STATUS:CONFIRMED
END:VEVENT
BEGIN:VEVENT
UID:7983fbbd6771ea67a51deb83f85221f4@skysports.com
SEQUENCE:0
DTSTAMP:20260425T090307Z
DTSTART:20260107T193000Z
DTEND:20260107T213000Z
SUMMARY:Bournemouth v Tottenham Hotspur
LOCATION:Vitality Stadium
DESCRIPTION:Bournemouth v Tottenham Hotspur - Vitality Stadium - Premier L
 eague - Live on Sky Sports Golf
STATUS:CONFIRMED
END:VEVENT
BEGIN:VEVENT
UID:e7680cfbfa6898b69a53e4addde3e715@skysports.com
SEQUENCE:0
DTSTAMP:20260425T090307Z
DTSTART:20260119T200000Z
DTEND:20260119T220000Z
SUMMARY:Brighton and Hove Albion v Bournemouth
LOCATION:Amex Stadium
DESCRIPTION:Brighton and Hove Albion v Bournemouth - Amex Stadium - Premie
 r League - Live on Sky Sports Main Event and Sky Sports Premier League
STATUS:CONFIRMED
END:VEVENT
BEGIN:VEVENT
UID:a4aab87b74480395ede78143fde4e7fa@skysports.com
SEQUENCE:0
DTSTAMP:20260425T090307Z
DTSTART:20260124T173000Z
DTEND:20260124T193000Z
SUMMARY:Bournemouth v Liverpool
LOCATION:Vitality Stadium
DESCRIPTION:Bournemouth v Liverpool - Vitality Stadium - Premier League - 
 Live on Sky Sports Premier League and Sky Sports Main Event
STATUS:CONFIRMED
END:VEVENT
BEGIN:VEVENT
UID:46141a8e762c8f8cb38b60e0d87ff263@skysports.com
SEQUENCE:0
DTSTAMP:20260425T090307Z
DTSTART:20260131T150000Z
DTEND:20260131T170000Z
SUMMARY:Wolverhampton Wanderers v Bournemouth
LOCATION:Molineux
DESCRIPTION:Wolverhampton Wanderers v Bournemouth - Molineux - Premier Lea
 gue
STATUS:CONFIRMED
END:VEVENT
BEGIN:VEVENT
UID:dc8276fcd9f7b18147c9981ddc48b552@skysports.com
SEQUENCE:0
DTSTAMP:20260425T090307Z
DTSTART:20260207T150000Z
DTEND:20260207T170000Z
SUMMARY:Bournemouth v Aston Villa
LOCATION:Vitality Stadium
DESCRIPTION:Bournemouth v Aston Villa - Vitality Stadium - Premier League
STATUS:CONFIRMED
END:VEVENT
BEGIN:VEVENT
UID:6154ae45022776e695494252bf5b10df@skysports.com
SEQUENCE:0
DTSTAMP:20260425T090307Z
DTSTART:20260210T193000Z
DTEND:20260210T213000Z
SUMMARY:Everton v Bournemouth
LOCATION:Hill Dickinson Stadium
DESCRIPTION:Everton v Bournemouth - Hill Dickinson Stadium - Premier Leagu
 e
STATUS:CONFIRMED
END:VEVENT
BEGIN:VEVENT
UID:ca04607c0109d5201ac617008b31633a@skysports.com
SEQUENCE:0
DTSTAMP:20260425T090307Z
DTSTART:20260221T173000Z
DTEND:20260221T193000Z
SUMMARY:West Ham United v Bournemouth
LOCATION:London Stadium
DESCRIPTION:West Ham United v Bournemouth - London Stadium - Premier Leagu
 e - Live on Sky Sports Main Event and Sky Sports Premier League
STATUS:CONFIRMED
END:VEVENT
BEGIN:VEVENT
UID:157a9463f6f49b6c7d8e003a14d79618@skysports.com
SEQUENCE:0
DTSTAMP:20260425T090307Z
DTSTART:20260228T123000Z
DTEND:20260228T143000Z
SUMMARY:Bournemouth v Sunderland
LOCATION:Vitality Stadium
DESCRIPTION:Bournemouth v Sunderland - Vitality Stadium - Premier League
STATUS:CONFIRMED
END:VEVENT
BEGIN:VEVENT
UID:100396b8152dff994fd6b75eec62c11e@skysports.com
SEQUENCE:0
DTSTAMP:20260425T090307Z
DTSTART:20260303T193000Z
DTEND:20260303T213000Z
SUMMARY:Bournemouth v Brentford
LOCATION:Vitality Stadium
DESCRIPTION:Bournemouth v Brentford - Vitality Stadium - Premier League
STATUS:CONFIRMED
END:VEVENT
BEGIN:VEVENT
UID:c83f2816f688349e2ab7d704680588c7@skysports.com
SEQUENCE:0
DTSTAMP:20260425T090307Z
DTSTART:20260314T150000Z
DTEND:20260314T170000Z
SUMMARY:Burnley v Bournemouth
LOCATION:Turf Moor
DESCRIPTION:Burnley v Bournemouth - Turf Moor - Premier League
STATUS:CONFIRMED
END:VEVENT
BEGIN:VEVENT
UID:0475f0884f54ba32293df117bd3b4d12@skysports.com
SEQUENCE:0
DTSTAMP:20260425T090307Z
DTSTART:20260320T200000Z
DTEND:20260320T220000Z
SUMMARY:Bournemouth v Manchester United
LOCATION:Vitality Stadium
DESCRIPTION:Bournemouth v Manchester United - Vitality Stadium - Premier L
 eague - Live on Sky Sports Main Event and Sky Sports Premier League
STATUS:CONFIRMED
END:VEVENT
BEGIN:VEVENT
UID:df88e13a596eb6fba25ce549713f138c@skysports.com
SEQUENCE:0
DTSTAMP:20260425T090307Z
DTSTART:20260411T113000Z
DTEND:20260411T133000Z
SUMMARY:Arsenal v Bournemouth
LOCATION:Emirates Stadium
DESCRIPTION:Arsenal v Bournemouth - Emirates Stadium - Premier League
STATUS:CONFIRMED
END:VEVENT
BEGIN:VEVENT
UID:977e11aca3c7714d0d5fd05092c6c756@skysports.com
SEQUENCE:0
DTSTAMP:20260425T090307Z
DTSTART:20260418T140000Z
DTEND:20260418T160000Z
SUMMARY:Newcastle United v Bournemouth
LOCATION:St James' Park\, Newcastle
DESCRIPTION:Newcastle United v Bournemouth - St James' Park\, Newcastle - 
 Premier League
STATUS:CONFIRMED
END:VEVENT
BEGIN:VEVENT
UID:0c2b412ebed82e3990e849d5b6035d14@skysports.com
SEQUENCE:0
DTSTAMP:20260425T090307Z
DTSTART:20260422T190000Z
DTEND:20260422T210000Z
SUMMARY:Bournemouth v Leeds United
LOCATION:Vitality Stadium
DESCRIPTION:Bournemouth v Leeds United - Vitality Stadium - Premier League
  - Live on Sky Sports Premier League
STATUS:CONFIRMED
END:VEVENT
BEGIN:VEVENT
UID:75aa01a88c55129a970013045e6ce4aa@skysports.com
SEQUENCE:0
DTSTAMP:20260425T090307Z
DTSTART:20260503T130000Z
DTEND:20260503T150000Z
SUMMARY:Bournemouth v Crystal Palace
LOCATION:Vitality Stadium
DESCRIPTION:Bournemouth v Crystal Palace - Vitality Stadium - Premier Leag
 ue - Live on Sky Sports+
STATUS:CONFIRMED
END:VEVENT
BEGIN:VEVENT
UID:44e298b95f5814ef7d0a76d72eb13f2e@skysports.com
SEQUENCE:0
DTSTAMP:20260425T090307Z
DTSTART:20260509T140000Z
DTEND:20260509T160000Z
SUMMARY:Fulham v Bournemouth
LOCATION:Craven Cottage
DESCRIPTION:Fulham v Bournemouth - Craven Cottage - Premier League
STATUS:CONFIRMED
END:VEVENT
BEGIN:VEVENT
UID:f25a57453febff9db6c57f2928a7f12d@skysports.com
SEQUENCE:0
DTSTAMP:20260425T090307Z
DTSTART:20260517T140000Z
DTEND:20260517T160000Z
SUMMARY:Bournemouth v Manchester City
LOCATION:Vitality Stadium
DESCRIPTION:Bournemouth v Manchester City - Vitality Stadium - Premier Lea
 gue
STATUS:CONFIRMED
END:VEVENT
BEGIN:VEVENT
UID:98d2cc1064466333cd49c6a03fd95806@skysports.com
SEQUENCE:0
DTSTAMP:20260425T090307Z
DTSTART:20260524T150000Z
DTEND:20260524T170000Z
SUMMARY:Nottingham Forest v Bournemouth
LOCATION:The City Ground
DESCRIPTION:Nottingham Forest v Bournemouth - The City Ground - Premier Le
 ague
STATUS:CONFIRMED
END:VEVENT
BEGIN:VEVENT
UID:48edcf6ad1b28fba3fc3c2101558acd0@skysports.com
SEQUENCE:0
DTSTAMP:20260425T090307Z
DTSTART:20250826T184500Z
DTEND:20250826T204500Z
SUMMARY:Bournemouth v Brentford
LOCATION:Vitality Stadium
DESCRIPTION:Bournemouth v Brentford - Vitality Stadium - Carabao Cup - Liv
 e on Sky Sports+
STATUS:CONFIRMED
END:VEVENT
BEGIN:VEVENT
UID:f8d406a9fc13910615322454147080f1@skysports.com
SEQUENCE:0
DTSTAMP:20260425T090307Z
DTSTART:20260110T150000Z
DTEND:20260110T170000Z
SUMMARY:Newcastle United v Bournemouth
LOCATION:St James' Park\, Newcastle
DESCRIPTION:Newcastle United v Bournemouth - St James' Park\, Newcastle - 
 The FA Cup
STATUS:CONFIRMED
END:VEVENT
END:VCALENDAR