BEGIN:VCALENDAR
VERSION:2.0
PRODID:-//Sky Sports SSDM//NONSGML Event Calendar//EN
URL:https://www.skysports.com/calendars/football/fixtures/teams/brighton-a
 nd-hove-albion
CALSCALE:GREGORIAN
METHOD:PUBLISH
NAME:Brighton and Hove Albion Fixtures
X-WR-CALNAME:Brighton and Hove Albion Fixtures
X-WR-CALDESC:Brighton and Hove Albion fixtures provided by Sky Sports (htt
 ps://www.skysports.com)
REFRESH-INTERVAL;VALUE=DURATION:PT1H
X-PUBLISHED-TTL:PT1H
BEGIN:VEVENT
UID:5b8d02292f387d4f15a4fa1b81a5aa02@skysports.com
SEQUENCE:0
DTSTAMP:20260425T090104Z
DTSTART:20250816T140000Z
DTEND:20250816T160000Z
SUMMARY:Brighton and Hove Albion v Fulham
LOCATION:Amex Stadium
DESCRIPTION:Brighton and Hove Albion v Fulham - Amex Stadium - Premier Lea
 gue
STATUS:CONFIRMED
END:VEVENT
BEGIN:VEVENT
UID:77dc3e5247be9517d600c1ca327a6329@skysports.com
SEQUENCE:0
DTSTAMP:20260425T090104Z
DTSTART:20250824T130000Z
DTEND:20250824T150000Z
SUMMARY:Everton v Brighton and Hove Albion
LOCATION:Hill Dickinson Stadium
DESCRIPTION:Everton v Brighton and Hove Albion - Hill Dickinson Stadium - 
 Premier League - Live on Sky Sports Premier League and Sky Sports Main Eve
 nt
STATUS:CONFIRMED
END:VEVENT
BEGIN:VEVENT
UID:839b81cece7eed1b29453e50cbe7c652@skysports.com
SEQUENCE:0
DTSTAMP:20260425T090104Z
DTSTART:20250831T130000Z
DTEND:20250831T150000Z
SUMMARY:Brighton and Hove Albion v Manchester City
LOCATION:Amex Stadium
DESCRIPTION:Brighton and Hove Albion v Manchester City - Amex Stadium - Pr
 emier League - Live on Sky Sports Main Event
STATUS:CONFIRMED
END:VEVENT
BEGIN:VEVENT
UID:4db740cdb57f08b9cdb353df0236f199@skysports.com
SEQUENCE:0
DTSTAMP:20260425T090104Z
DTSTART:20250913T140000Z
DTEND:20250913T160000Z
SUMMARY:Bournemouth v Brighton and Hove Albion
LOCATION:Vitality Stadium
DESCRIPTION:Bournemouth v Brighton and Hove Albion - Vitality Stadium - Pr
 emier League
STATUS:CONFIRMED
END:VEVENT
BEGIN:VEVENT
UID:e295032e3317a192f824e3e5b2c129ee@skysports.com
SEQUENCE:0
DTSTAMP:20260425T090104Z
DTSTART:20250920T140000Z
DTEND:20250920T160000Z
SUMMARY:Brighton and Hove Albion v Tottenham Hotspur
LOCATION:Amex Stadium
DESCRIPTION:Brighton and Hove Albion v Tottenham Hotspur - Amex Stadium - 
 Premier League
STATUS:CONFIRMED
END:VEVENT
BEGIN:VEVENT
UID:b3313b194649c068107d1004d438402b@skysports.com
SEQUENCE:0
DTSTAMP:20260425T090104Z
DTSTART:20250927T140000Z
DTEND:20250927T160000Z
SUMMARY:Chelsea v Brighton and Hove Albion
LOCATION:Stamford Bridge
DESCRIPTION:Chelsea v Brighton and Hove Albion - Stamford Bridge - Premier
  League
STATUS:CONFIRMED
END:VEVENT
BEGIN:VEVENT
UID:ddb2b2d2f903db2193ff8754bcc95c4e@skysports.com
SEQUENCE:0
DTSTAMP:20260425T090104Z
DTSTART:20251005T130000Z
DTEND:20251005T150000Z
SUMMARY:Wolverhampton Wanderers v Brighton and Hove Albion
LOCATION:Molineux
DESCRIPTION:Wolverhampton Wanderers v Brighton and Hove Albion - Molineux 
 - Premier League - Live on Sky Sports Mix
STATUS:CONFIRMED
END:VEVENT
BEGIN:VEVENT
UID:2fc5b19deb349a20e73d4ea40cdd43f8@skysports.com
SEQUENCE:0
DTSTAMP:20260425T090104Z
DTSTART:20251018T140000Z
DTEND:20251018T160000Z
SUMMARY:Brighton and Hove Albion v Newcastle United
LOCATION:Amex Stadium
DESCRIPTION:Brighton and Hove Albion v Newcastle United - Amex Stadium - P
 remier League
STATUS:CONFIRMED
END:VEVENT
BEGIN:VEVENT
UID:bedf826a366236b1b41d854b500fcb00@skysports.com
SEQUENCE:0
DTSTAMP:20260425T090104Z
DTSTART:20251025T163000Z
DTEND:20251025T183000Z
SUMMARY:Manchester United v Brighton and Hove Albion
LOCATION:Old Trafford
DESCRIPTION:Manchester United v Brighton and Hove Albion - Old Trafford - 
 Premier League - Live on Sky Sports Premier League and Sky Sports Main Eve
 nt
STATUS:CONFIRMED
END:VEVENT
BEGIN:VEVENT
UID:2ce1ce4f8534f34f9f99c13daed12246@skysports.com
SEQUENCE:0
DTSTAMP:20260425T090104Z
DTSTART:20251101T150000Z
DTEND:20251101T170000Z
SUMMARY:Brighton and Hove Albion v Leeds United
LOCATION:Amex Stadium
DESCRIPTION:Brighton and Hove Albion v Leeds United - Amex Stadium - Premi
 er League
STATUS:CONFIRMED
END:VEVENT
BEGIN:VEVENT
UID:09ad588f9dd8c5fadf7cf48561d3c005@skysports.com
SEQUENCE:0
DTSTAMP:20260425T090104Z
DTSTART:20251109T140000Z
DTEND:20251109T160000Z
SUMMARY:Crystal Palace v Brighton and Hove Albion
LOCATION:Selhurst Park
DESCRIPTION:Crystal Palace v Brighton and Hove Albion - Selhurst Park - Pr
 emier League - Live on Sky Sports+
STATUS:CONFIRMED
END:VEVENT
BEGIN:VEVENT
UID:d1353f1b2e1cce063ee76539d002b203@skysports.com
SEQUENCE:0
DTSTAMP:20260425T090104Z
DTSTART:20251122T150000Z
DTEND:20251122T170000Z
SUMMARY:Brighton and Hove Albion v Brentford
LOCATION:Amex Stadium
DESCRIPTION:Brighton and Hove Albion v Brentford - Amex Stadium - Premier 
 League
STATUS:CONFIRMED
END:VEVENT
BEGIN:VEVENT
UID:1730bdbd7436a5b62913018fc0dcf3eb@skysports.com
SEQUENCE:0
DTSTAMP:20260425T090104Z
DTSTART:20251130T140500Z
DTEND:20251130T160500Z
SUMMARY:Nottingham Forest v Brighton and Hove Albion
LOCATION:The City Ground
DESCRIPTION:Nottingham Forest v Brighton and Hove Albion - The City Ground
  - Premier League - Live on Sky Sports Cricket
STATUS:CONFIRMED
END:VEVENT
BEGIN:VEVENT
UID:8181c9e87f228b71fe8ffba0741fb5df@skysports.com
SEQUENCE:0
DTSTAMP:20260425T090104Z
DTSTART:20251203T193000Z
DTEND:20251203T213000Z
SUMMARY:Brighton and Hove Albion v Aston Villa
LOCATION:Amex Stadium
DESCRIPTION:Brighton and Hove Albion v Aston Villa - Amex Stadium - Premie
 r League - Live on Sky Sports Cricket
STATUS:CONFIRMED
END:VEVENT
BEGIN:VEVENT
UID:5faac5e3b38e4ea63e61b6471665b5b6@skysports.com
SEQUENCE:0
DTSTAMP:20260425T090104Z
DTSTART:20251207T140000Z
DTEND:20251207T160000Z
SUMMARY:Brighton and Hove Albion v West Ham United
LOCATION:Amex Stadium
DESCRIPTION:Brighton and Hove Albion v West Ham United - Amex Stadium - Pr
 emier League - Live on Sky Sports Main Event and Sky Sports Premier League
STATUS:CONFIRMED
END:VEVENT
BEGIN:VEVENT
UID:975fcc86245589cd5c4e14e2fed1fd8f@skysports.com
SEQUENCE:0
DTSTAMP:20260425T090104Z
DTSTART:20251213T150000Z
DTEND:20251213T170000Z
SUMMARY:Liverpool v Brighton and Hove Albion
LOCATION:Anfield
DESCRIPTION:Liverpool v Brighton and Hove Albion - Anfield - Premier Leagu
 e
STATUS:CONFIRMED
END:VEVENT
BEGIN:VEVENT
UID:897bff369e3b92f9b8805ba919c52628@skysports.com
SEQUENCE:0
DTSTAMP:20260425T090104Z
DTSTART:20251220T150000Z
DTEND:20251220T170000Z
SUMMARY:Brighton and Hove Albion v Sunderland
LOCATION:Amex Stadium
DESCRIPTION:Brighton and Hove Albion v Sunderland - Amex Stadium - Premier
  League
STATUS:CONFIRMED
END:VEVENT
BEGIN:VEVENT
UID:55f08a4386d970f3548cb1727baa18b1@skysports.com
SEQUENCE:0
DTSTAMP:20260425T090104Z
DTSTART:20251227T150000Z
DTEND:20251227T170000Z
SUMMARY:Arsenal v Brighton and Hove Albion
LOCATION:Emirates Stadium
DESCRIPTION:Arsenal v Brighton and Hove Albion - Emirates Stadium - Premie
 r League
STATUS:CONFIRMED
END:VEVENT
BEGIN:VEVENT
UID:038de5e0d89b0c703d3b9ba948dd5878@skysports.com
SEQUENCE:0
DTSTAMP:20260425T090104Z
DTSTART:20251230T193000Z
DTEND:20251230T213000Z
SUMMARY:West Ham United v Brighton and Hove Albion
LOCATION:London Stadium
DESCRIPTION:West Ham United v Brighton and Hove Albion - London Stadium - 
 Premier League - Live on Sky Sports Golf
STATUS:CONFIRMED
END:VEVENT
BEGIN:VEVENT
UID:3e047a7eb9dc9be2bcc3c7ab7640f101@skysports.com
SEQUENCE:0
DTSTAMP:20260425T090104Z
DTSTART:20260103T150000Z
DTEND:20260103T170000Z
SUMMARY:Brighton and Hove Albion v Burnley
LOCATION:Amex Stadium
DESCRIPTION:Brighton and Hove Albion v Burnley - Amex Stadium - Premier Le
 ague
STATUS:CONFIRMED
END:VEVENT
BEGIN:VEVENT
UID:9881dd71621b5fb72da94ec32c8e3bed@skysports.com
SEQUENCE:0
DTSTAMP:20260425T090104Z
DTSTART:20260107T193000Z
DTEND:20260107T213000Z
SUMMARY:Manchester City v Brighton and Hove Albion
LOCATION:Etihad Stadium
DESCRIPTION:Manchester City v Brighton and Hove Albion - Etihad Stadium - 
 Premier League - Live on Sky Sports Main Event
STATUS:CONFIRMED
END:VEVENT
BEGIN:VEVENT
UID:e7680cfbfa6898b69a53e4addde3e715@skysports.com
SEQUENCE:0
DTSTAMP:20260425T090104Z
DTSTART:20260119T200000Z
DTEND:20260119T220000Z
SUMMARY:Brighton and Hove Albion v Bournemouth
LOCATION:Amex Stadium
DESCRIPTION:Brighton and Hove Albion v Bournemouth - Amex Stadium - Premie
 r League - Live on Sky Sports Main Event and Sky Sports Premier League
STATUS:CONFIRMED
END:VEVENT
BEGIN:VEVENT
UID:75933000968fc805455842951ee6907d@skysports.com
SEQUENCE:0
DTSTAMP:20260425T090104Z
DTSTART:20260124T150000Z
DTEND:20260124T170000Z
SUMMARY:Fulham v Brighton and Hove Albion
LOCATION:Craven Cottage
DESCRIPTION:Fulham v Brighton and Hove Albion - Craven Cottage - Premier L
 eague
STATUS:CONFIRMED
END:VEVENT
BEGIN:VEVENT
UID:b371f04d53d09c04a311dfba8bbc795a@skysports.com
SEQUENCE:0
DTSTAMP:20260425T090104Z
DTSTART:20260131T150000Z
DTEND:20260131T170000Z
SUMMARY:Brighton and Hove Albion v Everton
LOCATION:Amex Stadium
DESCRIPTION:Brighton and Hove Albion v Everton - Amex Stadium - Premier Le
 ague
STATUS:CONFIRMED
END:VEVENT
BEGIN:VEVENT
UID:7da37f467807f4f1b72900e2efe63705@skysports.com
SEQUENCE:0
DTSTAMP:20260425T090104Z
DTSTART:20260208T140000Z
DTEND:20260208T160000Z
SUMMARY:Brighton and Hove Albion v Crystal Palace
LOCATION:Amex Stadium
DESCRIPTION:Brighton and Hove Albion v Crystal Palace - Amex Stadium - Pre
 mier League - Live on Sky Sports Main Event and Sky Sports Premier League
STATUS:CONFIRMED
END:VEVENT
BEGIN:VEVENT
UID:7a10711da69a5cde464aaa44bc134afb@skysports.com
SEQUENCE:0
DTSTAMP:20260425T090104Z
DTSTART:20260211T193000Z
DTEND:20260211T213000Z
SUMMARY:Aston Villa v Brighton and Hove Albion
LOCATION:Villa Park
DESCRIPTION:Aston Villa v Brighton and Hove Albion - Villa Park - Premier 
 League
STATUS:CONFIRMED
END:VEVENT
BEGIN:VEVENT
UID:64c75b162c48e846cfa476aa19ccc357@skysports.com
SEQUENCE:0
DTSTAMP:20260425T090104Z
DTSTART:20260221T150000Z
DTEND:20260221T170000Z
SUMMARY:Brentford v Brighton and Hove Albion
LOCATION:Gtech Community Stadium
DESCRIPTION:Brentford v Brighton and Hove Albion - Gtech Community Stadium
  - Premier League
STATUS:CONFIRMED
END:VEVENT
BEGIN:VEVENT
UID:65ee0e3ffda8df90e5f74b552e53be31@skysports.com
SEQUENCE:0
DTSTAMP:20260425T090104Z
DTSTART:20260301T140000Z
DTEND:20260301T160000Z
SUMMARY:Brighton and Hove Albion v Nottingham Forest
LOCATION:Amex Stadium
DESCRIPTION:Brighton and Hove Albion v Nottingham Forest - Amex Stadium - 
 Premier League - Live on Sky Sports Tennis
STATUS:CONFIRMED
END:VEVENT
BEGIN:VEVENT
UID:7eab79a9db58b774c89cde94eb68374a@skysports.com
SEQUENCE:0
DTSTAMP:20260425T090104Z
DTSTART:20260304T193000Z
DTEND:20260304T213000Z
SUMMARY:Brighton and Hove Albion v Arsenal
LOCATION:Amex Stadium
DESCRIPTION:Brighton and Hove Albion v Arsenal - Amex Stadium - Premier Le
 ague
STATUS:CONFIRMED
END:VEVENT
BEGIN:VEVENT
UID:73e7e676fb1f38d76fbe45a6bbc42914@skysports.com
SEQUENCE:0
DTSTAMP:20260425T090104Z
DTSTART:20260314T150000Z
DTEND:20260314T170000Z
SUMMARY:Sunderland v Brighton and Hove Albion
LOCATION:Stadium of Light
DESCRIPTION:Sunderland v Brighton and Hove Albion - Stadium of Light - Pre
 mier League
STATUS:CONFIRMED
END:VEVENT
BEGIN:VEVENT
UID:3e41c67dd37f8ea720022d099ab29496@skysports.com
SEQUENCE:0
DTSTAMP:20260425T090104Z
DTSTART:20260321T123000Z
DTEND:20260321T143000Z
SUMMARY:Brighton and Hove Albion v Liverpool
LOCATION:Amex Stadium
DESCRIPTION:Brighton and Hove Albion v Liverpool - Amex Stadium - Premier 
 League
STATUS:CONFIRMED
END:VEVENT
BEGIN:VEVENT
UID:b491b35a33bef4e25c30d405d42654f2@skysports.com
SEQUENCE:0
DTSTAMP:20260425T090104Z
DTSTART:20260411T140000Z
DTEND:20260411T160000Z
SUMMARY:Burnley v Brighton and Hove Albion
LOCATION:Turf Moor
DESCRIPTION:Burnley v Brighton and Hove Albion - Turf Moor - Premier Leagu
 e
STATUS:CONFIRMED
END:VEVENT
BEGIN:VEVENT
UID:4040d24ec59b0bbb044a7e7a7b27767a@skysports.com
SEQUENCE:0
DTSTAMP:20260425T090104Z
DTSTART:20260418T163000Z
DTEND:20260418T183000Z
SUMMARY:Tottenham Hotspur v Brighton and Hove Albion
LOCATION:Tottenham Hotspur Stadium
DESCRIPTION:Tottenham Hotspur v Brighton and Hove Albion - Tottenham Hotsp
 ur Stadium - Premier League - Live on Sky Sports Premier League and Sky Sp
 orts Main Event
STATUS:CONFIRMED
END:VEVENT
BEGIN:VEVENT
UID:3258245292e864fedd04504e97823d2d@skysports.com
SEQUENCE:0
DTSTAMP:20260425T090104Z
DTSTART:20260421T190000Z
DTEND:20260421T210000Z
SUMMARY:Brighton and Hove Albion v Chelsea
LOCATION:Amex Stadium
DESCRIPTION:Brighton and Hove Albion v Chelsea - Amex Stadium - Premier Le
 ague - Live on Sky Sports Premier League and Sky Sports Main Event
STATUS:CONFIRMED
END:VEVENT
BEGIN:VEVENT
UID:b1954a41fc3c70f9d22f778ab01a3c0a@skysports.com
SEQUENCE:0
DTSTAMP:20260425T090104Z
DTSTART:20260502T140000Z
DTEND:20260502T160000Z
SUMMARY:Newcastle United v Brighton and Hove Albion
LOCATION:St James' Park\, Newcastle
DESCRIPTION:Newcastle United v Brighton and Hove Albion - St James' Park\,
  Newcastle - Premier League
STATUS:CONFIRMED
END:VEVENT
BEGIN:VEVENT
UID:a612ac0a7b08b2019461a2a7872d20ad@skysports.com
SEQUENCE:0
DTSTAMP:20260425T090104Z
DTSTART:20260509T140000Z
DTEND:20260509T160000Z
SUMMARY:Brighton and Hove Albion v Wolverhampton Wanderers
LOCATION:Amex Stadium
DESCRIPTION:Brighton and Hove Albion v Wolverhampton Wanderers - Amex Stad
 ium - Premier League
STATUS:CONFIRMED
END:VEVENT
BEGIN:VEVENT
UID:fbfca7b4fb2e1f930c4952c8e6159544@skysports.com
SEQUENCE:0
DTSTAMP:20260425T090104Z
DTSTART:20260517T140000Z
DTEND:20260517T160000Z
SUMMARY:Leeds United v Brighton and Hove Albion
LOCATION:Elland Road
DESCRIPTION:Leeds United v Brighton and Hove Albion - Elland Road - Premie
 r League
STATUS:CONFIRMED
END:VEVENT
BEGIN:VEVENT
UID:edf2bbc32bcaade65bfe7f0a5bb12796@skysports.com
SEQUENCE:0
DTSTAMP:20260425T090104Z
DTSTART:20260524T150000Z
DTEND:20260524T170000Z
SUMMARY:Brighton and Hove Albion v Manchester United
LOCATION:Amex Stadium
DESCRIPTION:Brighton and Hove Albion v Manchester United - Amex Stadium - 
 Premier League
STATUS:CONFIRMED
END:VEVENT
BEGIN:VEVENT
UID:226227a2019b37e5d87b1d44a157b9e9@skysports.com
SEQUENCE:0
DTSTAMP:20260425T090104Z
DTSTART:20250827T184500Z
DTEND:20250827T204500Z
SUMMARY:Oxford United v Brighton and Hove Albion
LOCATION:The Kassam Stadium
DESCRIPTION:Oxford United v Brighton and Hove Albion - The Kassam Stadium 
 - Carabao Cup - Live on Sky Sports+
STATUS:CONFIRMED
END:VEVENT
BEGIN:VEVENT
UID:bbf983241624ead6f47ecb5180ede39b@skysports.com
SEQUENCE:0
DTSTAMP:20260425T090104Z
DTSTART:20250923T184500Z
DTEND:20250923T204500Z
SUMMARY:Barnsley v Brighton and Hove Albion
LOCATION:Oakwell Stadium
DESCRIPTION:Barnsley v Brighton and Hove Albion - Oakwell Stadium - Caraba
 o Cup - Live on Sky Sports+
STATUS:CONFIRMED
END:VEVENT
BEGIN:VEVENT
UID:d9631b0965f344cc3583c5b55d24d5c2@skysports.com
SEQUENCE:0
DTSTAMP:20260425T090104Z
DTSTART:20251029T194500Z
DTEND:20251029T214500Z
SUMMARY:Arsenal v Brighton and Hove Albion
LOCATION:Emirates Stadium
DESCRIPTION:Arsenal v Brighton and Hove Albion - Emirates Stadium - Caraba
 o Cup - Live on Sky Sports+
STATUS:CONFIRMED
END:VEVENT
BEGIN:VEVENT
UID:eb140390b0bc6590f83002851454f164@skysports.com
SEQUENCE:0
DTSTAMP:20260425T090104Z
DTSTART:20260111T163000Z
DTEND:20260111T183000Z
SUMMARY:Manchester United v Brighton and Hove Albion
LOCATION:Old Trafford
DESCRIPTION:Manchester United v Brighton and Hove Albion - Old Trafford - 
 The FA Cup
STATUS:CONFIRMED
END:VEVENT
BEGIN:VEVENT
UID:5c8de5808f4ba4585374fa2f47b0fc5a@skysports.com
SEQUENCE:0
DTSTAMP:20260425T090104Z
DTSTART:20260214T200000Z
DTEND:20260214T220000Z
SUMMARY:Liverpool v Brighton and Hove Albion
LOCATION:Anfield
DESCRIPTION:Liverpool v Brighton and Hove Albion - Anfield - The FA Cup
STATUS:CONFIRMED
END:VEVENT
END:VCALENDAR