BEGIN:VCALENDAR
VERSION:2.0
PRODID:-//Sky Sports SSDM//NONSGML Event Calendar//EN
URL:https://www.skysports.com/calendars/football/fixtures/teams/bristol-ci
 ty
CALSCALE:GREGORIAN
METHOD:PUBLISH
NAME:Bristol City Fixtures
X-WR-CALNAME:Bristol City Fixtures
X-WR-CALDESC:Bristol City fixtures provided by Sky Sports (https://www.sky
 sports.com)
REFRESH-INTERVAL;VALUE=DURATION:PT1H
X-PUBLISHED-TTL:PT1H
BEGIN:VEVENT
UID:db00ee09c86f9364ef0f6cd575795dbc@skysports.com
SEQUENCE:0
DTSTAMP:20260425T090210Z
DTSTART:20250809T163000Z
DTEND:20250809T183000Z
SUMMARY:Sheffield United v Bristol City
LOCATION:Bramall Lane
DESCRIPTION:Sheffield United v Bristol City - Bramall Lane - Sky Bet Champ
 ionship - Live on Sky Sports Football
STATUS:CONFIRMED
END:VEVENT
BEGIN:VEVENT
UID:0d64a5c0ea46276422bf9800b6efc6ff@skysports.com
SEQUENCE:0
DTSTAMP:20260425T090210Z
DTSTART:20250816T140000Z
DTEND:20250816T160000Z
SUMMARY:Bristol City v Charlton Athletic
LOCATION:Ashton Gate Stadium
DESCRIPTION:Bristol City v Charlton Athletic - Ashton Gate Stadium - Sky B
 et Championship
STATUS:CONFIRMED
END:VEVENT
BEGIN:VEVENT
UID:36cd035a86988d4cc259cf153e90e7a5@skysports.com
SEQUENCE:0
DTSTAMP:20260425T090210Z
DTSTART:20250822T190000Z
DTEND:20250822T210000Z
SUMMARY:Derby County v Bristol City
LOCATION:Pride Park Stadium
DESCRIPTION:Derby County v Bristol City - Pride Park Stadium - Sky Bet Cha
 mpionship - Live on Sky Sports Football
STATUS:CONFIRMED
END:VEVENT
BEGIN:VEVENT
UID:bfd5d3e3b4bd8a8a07ed0259fa5de90e@skysports.com
SEQUENCE:0
DTSTAMP:20260425T090210Z
DTSTART:20250830T140000Z
DTEND:20250830T160000Z
SUMMARY:Bristol City v Hull City
LOCATION:Ashton Gate Stadium
DESCRIPTION:Bristol City v Hull City - Ashton Gate Stadium - Sky Bet Champ
 ionship
STATUS:CONFIRMED
END:VEVENT
BEGIN:VEVENT
UID:4b14e9644aa87566ad0cd8af34b1884f@skysports.com
SEQUENCE:0
DTSTAMP:20260425T090210Z
DTSTART:20250913T140000Z
DTEND:20250913T160000Z
SUMMARY:Sheffield Wednesday v Bristol City
LOCATION:Hillsborough
DESCRIPTION:Sheffield Wednesday v Bristol City - Hillsborough - Sky Bet Ch
 ampionship
STATUS:CONFIRMED
END:VEVENT
BEGIN:VEVENT
UID:fd1dc36dd85bcf36f834f3a02c205288@skysports.com
SEQUENCE:0
DTSTAMP:20260425T090210Z
DTSTART:20250921T140000Z
DTEND:20250921T160000Z
SUMMARY:Bristol City v Oxford United
LOCATION:Ashton Gate Stadium
DESCRIPTION:Bristol City v Oxford United - Ashton Gate Stadium - Sky Bet C
 hampionship - Live on Sky Sports+
STATUS:CONFIRMED
END:VEVENT
BEGIN:VEVENT
UID:dc2f5a66523d0b9ac5cfcf7e8e2eb905@skysports.com
SEQUENCE:0
DTSTAMP:20260425T090210Z
DTSTART:20250927T140000Z
DTEND:20250927T160000Z
SUMMARY:Preston North End v Bristol City
LOCATION:Deepdale
DESCRIPTION:Preston North End v Bristol City - Deepdale - Sky Bet Champion
 ship
STATUS:CONFIRMED
END:VEVENT
BEGIN:VEVENT
UID:565482465eb99186a895e0eb24f1b8f4@skysports.com
SEQUENCE:0
DTSTAMP:20260425T090210Z
DTSTART:20250930T184500Z
DTEND:20250930T204500Z
SUMMARY:Bristol City v Ipswich Town
LOCATION:Ashton Gate Stadium
DESCRIPTION:Bristol City v Ipswich Town - Ashton Gate Stadium - Sky Bet Ch
 ampionship - Live on Sky Sports+
STATUS:CONFIRMED
END:VEVENT
BEGIN:VEVENT
UID:f2c4c231ee5fae2cee79eac65930b260@skysports.com
SEQUENCE:0
DTSTAMP:20260425T090210Z
DTSTART:20251004T140000Z
DTEND:20251004T160000Z
SUMMARY:Bristol City v Queens Park Rangers
LOCATION:Ashton Gate Stadium
DESCRIPTION:Bristol City v Queens Park Rangers - Ashton Gate Stadium - Sky
  Bet Championship
STATUS:CONFIRMED
END:VEVENT
BEGIN:VEVENT
UID:e9db6f29e02332d9d2a068d5f9506b9a@skysports.com
SEQUENCE:0
DTSTAMP:20260425T090210Z
DTSTART:20251018T140000Z
DTEND:20251018T160000Z
SUMMARY:Norwich City v Bristol City
LOCATION:Carrow Road
DESCRIPTION:Norwich City v Bristol City - Carrow Road - Sky Bet Championsh
 ip
STATUS:CONFIRMED
END:VEVENT
BEGIN:VEVENT
UID:853795e9445b0846defef5ed1e360040@skysports.com
SEQUENCE:0
DTSTAMP:20260425T090210Z
DTSTART:20251021T190000Z
DTEND:20251021T210000Z
SUMMARY:Bristol City v Southampton
LOCATION:Ashton Gate Stadium
DESCRIPTION:Bristol City v Southampton - Ashton Gate Stadium - Sky Bet Cha
 mpionship - Live on Sky Sports Main Event HD and Sky Sports Football
STATUS:CONFIRMED
END:VEVENT
BEGIN:VEVENT
UID:b10db4e0ea5edfbd316f50ed750bb782@skysports.com
SEQUENCE:0
DTSTAMP:20260425T090210Z
DTSTART:20251025T140000Z
DTEND:20251025T160000Z
SUMMARY:Bristol City v Birmingham City
LOCATION:Ashton Gate Stadium
DESCRIPTION:Bristol City v Birmingham City - Ashton Gate Stadium - Sky Bet
  Championship
STATUS:CONFIRMED
END:VEVENT
BEGIN:VEVENT
UID:aa4984ae965cf2a2c65563e795e03b86@skysports.com
SEQUENCE:0
DTSTAMP:20260425T090210Z
DTSTART:20251101T150000Z
DTEND:20251101T170000Z
SUMMARY:Stoke City v Bristol City
LOCATION:Bet365 Stadium
DESCRIPTION:Stoke City v Bristol City - Bet365 Stadium - Sky Bet Champions
 hip
STATUS:CONFIRMED
END:VEVENT
BEGIN:VEVENT
UID:11a3fffd0e58b7f8823cd5df40651fe8@skysports.com
SEQUENCE:0
DTSTAMP:20260425T090210Z
DTSTART:20251104T194500Z
DTEND:20251104T214500Z
SUMMARY:Bristol City v Blackburn Rovers
LOCATION:Ashton Gate Stadium
DESCRIPTION:Bristol City v Blackburn Rovers - Ashton Gate Stadium - Sky Be
 t Championship - Live on Sky Sports+
STATUS:CONFIRMED
END:VEVENT
BEGIN:VEVENT
UID:bb65178912edacca66f2da96273523f9@skysports.com
SEQUENCE:0
DTSTAMP:20260425T090210Z
DTSTART:20251107T200000Z
DTEND:20251107T220000Z
SUMMARY:Watford v Bristol City
LOCATION:Vicarage Road
DESCRIPTION:Watford v Bristol City - Vicarage Road - Sky Bet Championship 
 - Live on Sky Sports Main Event and Sky Sports Football
STATUS:CONFIRMED
END:VEVENT
BEGIN:VEVENT
UID:57d3a495b643a5863cb20d17ecb5f95f@skysports.com
SEQUENCE:0
DTSTAMP:20260425T090210Z
DTSTART:20251122T123000Z
DTEND:20251122T143000Z
SUMMARY:Bristol City v Swansea City
LOCATION:Ashton Gate Stadium
DESCRIPTION:Bristol City v Swansea City - Ashton Gate Stadium - Sky Bet Ch
 ampionship - Live on Sky Sports+
STATUS:CONFIRMED
END:VEVENT
BEGIN:VEVENT
UID:513d775868d7c4cb8c9fdc77375303ae@skysports.com
SEQUENCE:0
DTSTAMP:20260425T090210Z
DTSTART:20251126T194500Z
DTEND:20251126T214500Z
SUMMARY:Wrexham v Bristol City
LOCATION:STōK Cae Ras
DESCRIPTION:Wrexham v Bristol City - STōK Cae Ras - Sky Bet Championship 
 - Live on Sky Sports+
STATUS:CONFIRMED
END:VEVENT
BEGIN:VEVENT
UID:af356aa55356b5761fa332e6add1ac21@skysports.com
SEQUENCE:0
DTSTAMP:20260425T090210Z
DTSTART:20251129T123000Z
DTEND:20251129T143000Z
SUMMARY:Portsmouth v Bristol City
LOCATION:Fratton Park
DESCRIPTION:Portsmouth v Bristol City - Fratton Park - Sky Bet Championshi
 p - Live on Sky Sports+
STATUS:CONFIRMED
END:VEVENT
BEGIN:VEVENT
UID:b471981ace7ec8d035469935965c29f6@skysports.com
SEQUENCE:0
DTSTAMP:20260425T090210Z
DTSTART:20251206T150000Z
DTEND:20251206T170000Z
SUMMARY:Bristol City v Millwall
LOCATION:Ashton Gate Stadium
DESCRIPTION:Bristol City v Millwall - Ashton Gate Stadium - Sky Bet Champi
 onship
STATUS:CONFIRMED
END:VEVENT
BEGIN:VEVENT
UID:d04835028b43cb6a2ced568bda14cdd7@skysports.com
SEQUENCE:0
DTSTAMP:20260425T090210Z
DTSTART:20251210T194500Z
DTEND:20251210T214500Z
SUMMARY:Bristol City v Leicester City
LOCATION:Ashton Gate Stadium
DESCRIPTION:Bristol City v Leicester City - Ashton Gate Stadium - Sky Bet 
 Championship - Live on Sky Sports+
STATUS:CONFIRMED
END:VEVENT
BEGIN:VEVENT
UID:756a659b6950a2fb0b3a136a8643ca7c@skysports.com
SEQUENCE:0
DTSTAMP:20260425T090210Z
DTSTART:20251213T150000Z
DTEND:20251213T170000Z
SUMMARY:Coventry City v Bristol City
LOCATION:The Coventry Building Society Arena
DESCRIPTION:Coventry City v Bristol City - The Coventry Building Society A
 rena - Sky Bet Championship
STATUS:CONFIRMED
END:VEVENT
BEGIN:VEVENT
UID:ae89d8606fac692c654064d1b905a683@skysports.com
SEQUENCE:0
DTSTAMP:20260425T090210Z
DTSTART:20251220T150000Z
DTEND:20251220T170000Z
SUMMARY:Bristol City v Middlesbrough
LOCATION:Ashton Gate Stadium
DESCRIPTION:Bristol City v Middlesbrough - Ashton Gate Stadium - Sky Bet C
 hampionship
STATUS:CONFIRMED
END:VEVENT
BEGIN:VEVENT
UID:456d85ef2d9f403a435b005e2211befe@skysports.com
SEQUENCE:0
DTSTAMP:20260425T090210Z
DTSTART:20251226T150000Z
DTEND:20251226T170000Z
SUMMARY:West Bromwich Albion v Bristol City
LOCATION:The Hawthorns
DESCRIPTION:West Bromwich Albion v Bristol City - The Hawthorns - Sky Bet 
 Championship - Live on Sky Sports+
STATUS:CONFIRMED
END:VEVENT
BEGIN:VEVENT
UID:2985edd7c53cc47ca70036d2b6384345@skysports.com
SEQUENCE:0
DTSTAMP:20260425T090210Z
DTSTART:20251229T194500Z
DTEND:20251229T214500Z
SUMMARY:Millwall v Bristol City
LOCATION:The Den
DESCRIPTION:Millwall v Bristol City - The Den - Sky Bet Championship
STATUS:CONFIRMED
END:VEVENT
BEGIN:VEVENT
UID:d4ef82cdbef88b5422827d1adb1b4b5b@skysports.com
SEQUENCE:0
DTSTAMP:20260425T090210Z
DTSTART:20260101T150000Z
DTEND:20260101T170000Z
SUMMARY:Bristol City v Portsmouth
LOCATION:Ashton Gate Stadium
DESCRIPTION:Bristol City v Portsmouth - Ashton Gate Stadium - Sky Bet Cham
 pionship - Live on Sky Sports+
STATUS:CONFIRMED
END:VEVENT
BEGIN:VEVENT
UID:0570c0928c8fed19b0f49852e5d567aa@skysports.com
SEQUENCE:0
DTSTAMP:20260425T090210Z
DTSTART:20260104T150000Z
DTEND:20260104T170000Z
SUMMARY:Bristol City v Preston North End
LOCATION:Ashton Gate Stadium
DESCRIPTION:Bristol City v Preston North End - Ashton Gate Stadium - Sky B
 et Championship
STATUS:CONFIRMED
END:VEVENT
BEGIN:VEVENT
UID:3fbbaadbf21d6fc3a5f95230cc96a5cc@skysports.com
SEQUENCE:0
DTSTAMP:20260425T090210Z
DTSTART:20260117T150000Z
DTEND:20260117T170000Z
SUMMARY:Oxford United v Bristol City
LOCATION:The Kassam Stadium
DESCRIPTION:Oxford United v Bristol City - The Kassam Stadium - Sky Bet Ch
 ampionship
STATUS:CONFIRMED
END:VEVENT
BEGIN:VEVENT
UID:fdc1d85ce9cf5af3e052fcf8ade5faa1@skysports.com
SEQUENCE:0
DTSTAMP:20260425T090210Z
DTSTART:20260120T194500Z
DTEND:20260120T214500Z
SUMMARY:Ipswich Town v Bristol City
LOCATION:Portman Road
DESCRIPTION:Ipswich Town v Bristol City - Portman Road - Sky Bet Champions
 hip - Live on Sky Sports+
STATUS:CONFIRMED
END:VEVENT
BEGIN:VEVENT
UID:14d8b74843bcccc5ff09bed8842efb06@skysports.com
SEQUENCE:0
DTSTAMP:20260425T090210Z
DTSTART:20260124T150000Z
DTEND:20260124T170000Z
SUMMARY:Bristol City v Sheffield Wednesday
LOCATION:Ashton Gate Stadium
DESCRIPTION:Bristol City v Sheffield Wednesday - Ashton Gate Stadium - Sky
  Bet Championship
STATUS:CONFIRMED
END:VEVENT
BEGIN:VEVENT
UID:75191b42df9b85fa4a2ed35e7d13c894@skysports.com
SEQUENCE:0
DTSTAMP:20260425T090210Z
DTSTART:20260130T200000Z
DTEND:20260130T220000Z
SUMMARY:Bristol City v Derby County
LOCATION:Ashton Gate Stadium
DESCRIPTION:Bristol City v Derby County - Ashton Gate Stadium - Sky Bet Ch
 ampionship - Live on Sky Sports Football and Sky Sports Main Event
STATUS:CONFIRMED
END:VEVENT
BEGIN:VEVENT
UID:3c3a7fe6788649bc9d3faba3992ca6b9@skysports.com
SEQUENCE:0
DTSTAMP:20260425T090210Z
DTSTART:20260207T150100Z
DTEND:20260207T170100Z
SUMMARY:Hull City v Bristol City
LOCATION:MKM Stadium
DESCRIPTION:Hull City v Bristol City - MKM Stadium - Sky Bet Championship
STATUS:CONFIRMED
END:VEVENT
BEGIN:VEVENT
UID:1315d82ceba549f940e24bb835592115@skysports.com
SEQUENCE:0
DTSTAMP:20260425T090210Z
DTSTART:20260217T194500Z
DTEND:20260217T214500Z
SUMMARY:Bristol City v Wrexham
LOCATION:Ashton Gate Stadium
DESCRIPTION:Bristol City v Wrexham - Ashton Gate Stadium - Sky Bet Champio
 nship - Live on Sky Sports+
STATUS:CONFIRMED
END:VEVENT
BEGIN:VEVENT
UID:98fd1c1fd9a5e5ef7cfe88e4d1199271@skysports.com
SEQUENCE:0
DTSTAMP:20260425T090210Z
DTSTART:20260221T123000Z
DTEND:20260221T143000Z
SUMMARY:Swansea City v Bristol City
LOCATION:Swansea.com Stadium
DESCRIPTION:Swansea City v Bristol City - Swansea.com Stadium - Sky Bet Ch
 ampionship - Live on Sky Sports+
STATUS:CONFIRMED
END:VEVENT
BEGIN:VEVENT
UID:98d583149ec7dc62cd3414e62998629f@skysports.com
SEQUENCE:0
DTSTAMP:20260425T090210Z
DTSTART:20260224T194500Z
DTEND:20260224T214500Z
SUMMARY:Blackburn Rovers v Bristol City
LOCATION:Ewood Park
DESCRIPTION:Blackburn Rovers v Bristol City - Ewood Park - Sky Bet Champio
 nship - Live on Sky Sports+
STATUS:CONFIRMED
END:VEVENT
BEGIN:VEVENT
UID:5671c68e75f7f8dc7706158f9056d7f7@skysports.com
SEQUENCE:0
DTSTAMP:20260425T090210Z
DTSTART:20260227T200000Z
DTEND:20260227T220000Z
SUMMARY:Bristol City v Watford
LOCATION:Ashton Gate Stadium
DESCRIPTION:Bristol City v Watford - Ashton Gate Stadium - Sky Bet Champio
 nship - Live on Sky Sports Football
STATUS:CONFIRMED
END:VEVENT
BEGIN:VEVENT
UID:387030a9426fce2b4fdb0cb2e56f9cd0@skysports.com
SEQUENCE:0
DTSTAMP:20260425T090210Z
DTSTART:20260307T150000Z
DTEND:20260307T170000Z
SUMMARY:Bristol City v Coventry City
LOCATION:Ashton Gate Stadium
DESCRIPTION:Bristol City v Coventry City - Ashton Gate Stadium - Sky Bet C
 hampionship
STATUS:CONFIRMED
END:VEVENT
BEGIN:VEVENT
UID:94ed8a54cc7134e908259e07ce8dc933@skysports.com
SEQUENCE:0
DTSTAMP:20260425T090210Z
DTSTART:20260310T194500Z
DTEND:20260310T214500Z
SUMMARY:Leicester City v Bristol City
LOCATION:The King Power Stadium
DESCRIPTION:Leicester City v Bristol City - The King Power Stadium - Sky B
 et Championship - Live on Sky Sports+
STATUS:CONFIRMED
END:VEVENT
BEGIN:VEVENT
UID:38479bd862e8c888ee163fdc32464590@skysports.com
SEQUENCE:0
DTSTAMP:20260425T090210Z
DTSTART:20260314T123000Z
DTEND:20260314T143000Z
SUMMARY:Middlesbrough v Bristol City
LOCATION:Riverside Stadium
DESCRIPTION:Middlesbrough v Bristol City - Riverside Stadium - Sky Bet Cha
 mpionship - Live on Sky Sports+
STATUS:CONFIRMED
END:VEVENT
BEGIN:VEVENT
UID:900f198163ef9eba1b4c2e98137c1661@skysports.com
SEQUENCE:0
DTSTAMP:20260425T090210Z
DTSTART:20260321T150000Z
DTEND:20260321T170000Z
SUMMARY:Bristol City v West Bromwich Albion
LOCATION:Ashton Gate Stadium
DESCRIPTION:Bristol City v West Bromwich Albion - Ashton Gate Stadium - Sk
 y Bet Championship
STATUS:CONFIRMED
END:VEVENT
BEGIN:VEVENT
UID:0f6396dac3e5e4a4088e8843bc1bf46b@skysports.com
SEQUENCE:0
DTSTAMP:20260425T090210Z
DTSTART:20260403T140000Z
DTEND:20260403T160000Z
SUMMARY:Charlton Athletic v Bristol City
LOCATION:The Valley
DESCRIPTION:Charlton Athletic v Bristol City - The Valley - Sky Bet Champi
 onship - Live on Sky Sports+
STATUS:CONFIRMED
END:VEVENT
BEGIN:VEVENT
UID:59356e893d0346fca814b46f24d6093a@skysports.com
SEQUENCE:0
DTSTAMP:20260425T090210Z
DTSTART:20260406T140000Z
DTEND:20260406T160000Z
SUMMARY:Bristol City v Sheffield United
LOCATION:Ashton Gate Stadium
DESCRIPTION:Bristol City v Sheffield United - Ashton Gate Stadium - Sky Be
 t Championship - Live on Sky Sports+
STATUS:CONFIRMED
END:VEVENT
BEGIN:VEVENT
UID:7b3cfeb31afc63e9d86d3b549c763f60@skysports.com
SEQUENCE:0
DTSTAMP:20260425T090210Z
DTSTART:20260411T113000Z
DTEND:20260411T133000Z
SUMMARY:Queens Park Rangers v Bristol City
LOCATION:Loftus Road Stadium
DESCRIPTION:Queens Park Rangers v Bristol City - Loftus Road Stadium - Sky
  Bet Championship - Live on Sky Sports+
STATUS:CONFIRMED
END:VEVENT
BEGIN:VEVENT
UID:0489334a2775235ba397d22920495866@skysports.com
SEQUENCE:0
DTSTAMP:20260425T090210Z
DTSTART:20260418T140000Z
DTEND:20260418T160000Z
SUMMARY:Bristol City v Norwich City
LOCATION:Ashton Gate Stadium
DESCRIPTION:Bristol City v Norwich City - Ashton Gate Stadium - Sky Bet Ch
 ampionship
STATUS:CONFIRMED
END:VEVENT
BEGIN:VEVENT
UID:a680a1a71e5e25a741153f22ae21f8c1@skysports.com
SEQUENCE:0
DTSTAMP:20260425T090210Z
DTSTART:20260421T184500Z
DTEND:20260421T204500Z
SUMMARY:Southampton v Bristol City
LOCATION:St. Mary's Stadium
DESCRIPTION:Southampton v Bristol City - St. Mary's Stadium - Sky Bet Cham
 pionship - Live on Sky Sports+
STATUS:CONFIRMED
END:VEVENT
BEGIN:VEVENT
UID:71529704a5484d9b0ca6271b3493e376@skysports.com
SEQUENCE:0
DTSTAMP:20260425T090210Z
DTSTART:20260425T140000Z
DTEND:20260425T160000Z
SUMMARY:Birmingham City v Bristol City
LOCATION:St. Andrew's Stadium
DESCRIPTION:Birmingham City v Bristol City - St. Andrew's Stadium - Sky Be
 t Championship
STATUS:CONFIRMED
END:VEVENT
BEGIN:VEVENT
UID:107b24e6556e5c873109fc1aa20bb9ca@skysports.com
SEQUENCE:0
DTSTAMP:20260425T090210Z
DTSTART:20260502T113000Z
DTEND:20260502T133000Z
SUMMARY:Bristol City v Stoke City
LOCATION:Ashton Gate Stadium
DESCRIPTION:Bristol City v Stoke City - Ashton Gate Stadium - Sky Bet Cham
 pionship
STATUS:CONFIRMED
END:VEVENT
BEGIN:VEVENT
UID:95557f194e813ea97ff16365cf339c67@skysports.com
SEQUENCE:0
DTSTAMP:20260425T090210Z
DTSTART:20250812T184500Z
DTEND:20250812T204500Z
SUMMARY:Bristol City v Milton Keynes Dons
LOCATION:Ashton Gate Stadium
DESCRIPTION:Bristol City v Milton Keynes Dons - Ashton Gate Stadium - Cara
 bao Cup - Live on Sky Sports+
STATUS:CONFIRMED
END:VEVENT
BEGIN:VEVENT
UID:57a17a6f4e835b5a0ee859c51fb0b2e1@skysports.com
SEQUENCE:0
DTSTAMP:20260425T090210Z
DTSTART:20250827T184500Z
DTEND:20250827T204500Z
SUMMARY:Fulham v Bristol City
LOCATION:Craven Cottage
DESCRIPTION:Fulham v Bristol City - Craven Cottage - Carabao Cup - Live on
  Sky Sports+
STATUS:CONFIRMED
END:VEVENT
BEGIN:VEVENT
UID:22ee9cec6c3d2e56236b1d670567c24b@skysports.com
SEQUENCE:0
DTSTAMP:20260425T090210Z
DTSTART:20260110T174500Z
DTEND:20260110T194500Z
SUMMARY:Bristol City v Watford
LOCATION:Ashton Gate Stadium
DESCRIPTION:Bristol City v Watford - Ashton Gate Stadium - The FA Cup
STATUS:CONFIRMED
END:VEVENT
BEGIN:VEVENT
UID:f0ec66b4b72b3926c92fa34783ac9e8b@skysports.com
SEQUENCE:0
DTSTAMP:20260425T090210Z
DTSTART:20260303T194500Z
DTEND:20260303T214500Z
SUMMARY:Port Vale v Bristol City
LOCATION:Vale Park
DESCRIPTION:Port Vale v Bristol City - Vale Park - The FA Cup
STATUS:CONFIRMED
END:VEVENT
END:VCALENDAR