BEGIN:VCALENDAR
VERSION:2.0
PRODID:-//Sky Sports SSDM//NONSGML Event Calendar//EN
URL:https://www.skysports.com/calendars/football/fixtures/teams/bristol-ro
 vers
CALSCALE:GREGORIAN
METHOD:PUBLISH
NAME:Bristol Rovers Fixtures
X-WR-CALNAME:Bristol Rovers Fixtures
X-WR-CALDESC:Bristol Rovers fixtures provided by Sky Sports (https://www.s
 kysports.com)
REFRESH-INTERVAL;VALUE=DURATION:PT1H
X-PUBLISHED-TTL:PT1H
BEGIN:VEVENT
UID:7ca4e394ac235eb168a342cf4799a6c5@skysports.com
SEQUENCE:0
DTSTAMP:20260425T090305Z
DTSTART:20250802T140000Z
DTEND:20250802T160000Z
SUMMARY:Bristol Rovers v Harrogate Town
LOCATION:Memorial Stadium
DESCRIPTION:Bristol Rovers v Harrogate Town - Memorial Stadium - Sky Bet L
 eague Two - Live on Sky Sports+
STATUS:CONFIRMED
END:VEVENT
BEGIN:VEVENT
UID:08ac88b5519ad6185dabf8999201de31@skysports.com
SEQUENCE:0
DTSTAMP:20260425T090305Z
DTSTART:20250809T140000Z
DTEND:20250809T160000Z
SUMMARY:Fleetwood Town v Bristol Rovers
LOCATION:Highbury Stadium
DESCRIPTION:Fleetwood Town v Bristol Rovers - Highbury Stadium - Sky Bet L
 eague Two
STATUS:CONFIRMED
END:VEVENT
BEGIN:VEVENT
UID:dd842d167173f22f4ddd3b7afc8142f3@skysports.com
SEQUENCE:0
DTSTAMP:20260425T090305Z
DTSTART:20250816T113000Z
DTEND:20250816T133000Z
SUMMARY:Chesterfield v Bristol Rovers
LOCATION:Technique Stadium
DESCRIPTION:Chesterfield v Bristol Rovers - Technique Stadium - Sky Bet Le
 ague Two - Live on Sky Sports+
STATUS:CONFIRMED
END:VEVENT
BEGIN:VEVENT
UID:1a23e5fb0b381795dd916aca4be2b069@skysports.com
SEQUENCE:0
DTSTAMP:20260425T090305Z
DTSTART:20250819T184500Z
DTEND:20250819T204500Z
SUMMARY:Bristol Rovers v Oldham Athletic
LOCATION:Memorial Stadium
DESCRIPTION:Bristol Rovers v Oldham Athletic - Memorial Stadium - Sky Bet 
 League Two - Live on Sky Sports+
STATUS:CONFIRMED
END:VEVENT
BEGIN:VEVENT
UID:3c1dd4efec191ff1997f6e7a8d71c991@skysports.com
SEQUENCE:0
DTSTAMP:20260425T090305Z
DTSTART:20250823T140000Z
DTEND:20250823T160000Z
SUMMARY:Bristol Rovers v Cambridge United
LOCATION:Memorial Stadium
DESCRIPTION:Bristol Rovers v Cambridge United - Memorial Stadium - Sky Bet
  League Two
STATUS:CONFIRMED
END:VEVENT
BEGIN:VEVENT
UID:7fd870ab10a9cdc08df9862ff818746f@skysports.com
SEQUENCE:0
DTSTAMP:20260425T090305Z
DTSTART:20250830T140000Z
DTEND:20250830T160000Z
SUMMARY:Grimsby Town v Bristol Rovers
LOCATION:Blundell Park
DESCRIPTION:Grimsby Town v Bristol Rovers - Blundell Park - Sky Bet League
  Two
STATUS:CONFIRMED
END:VEVENT
BEGIN:VEVENT
UID:265877ef667a206046fb61cd868b7760@skysports.com
SEQUENCE:0
DTSTAMP:20260425T090305Z
DTSTART:20250906T113000Z
DTEND:20250906T133000Z
SUMMARY:Newport County AFC v Bristol Rovers
LOCATION:Rodney Parade
DESCRIPTION:Newport County AFC v Bristol Rovers - Rodney Parade - Sky Bet 
 League Two - Live on Sky Sports Football
STATUS:CONFIRMED
END:VEVENT
BEGIN:VEVENT
UID:263743a16ea629ece8e38fbe706658c9@skysports.com
SEQUENCE:0
DTSTAMP:20260425T090305Z
DTSTART:20250913T140000Z
DTEND:20250913T160000Z
SUMMARY:Bristol Rovers v Barrow
LOCATION:Memorial Stadium
DESCRIPTION:Bristol Rovers v Barrow - Memorial Stadium - Sky Bet League Tw
 o
STATUS:CONFIRMED
END:VEVENT
BEGIN:VEVENT
UID:550e243a90a1ace8098ce83d12ebd090@skysports.com
SEQUENCE:0
DTSTAMP:20260425T090305Z
DTSTART:20250920T140000Z
DTEND:20250920T160000Z
SUMMARY:Colchester United v Bristol Rovers
LOCATION:JobServe Community Stadium
DESCRIPTION:Colchester United v Bristol Rovers - JobServe Community Stadiu
 m - Sky Bet League Two
STATUS:CONFIRMED
END:VEVENT
BEGIN:VEVENT
UID:602e6b0f29d7395f1110b64133cc3c17@skysports.com
SEQUENCE:0
DTSTAMP:20260425T090305Z
DTSTART:20250927T140000Z
DTEND:20250927T160000Z
SUMMARY:Bristol Rovers v Salford City
LOCATION:Memorial Stadium
DESCRIPTION:Bristol Rovers v Salford City - Memorial Stadium - Sky Bet Lea
 gue Two
STATUS:CONFIRMED
END:VEVENT
BEGIN:VEVENT
UID:5255b026b7fb27ea4ff805b91e505cff@skysports.com
SEQUENCE:0
DTSTAMP:20260425T090305Z
DTSTART:20251004T140000Z
DTEND:20251004T160000Z
SUMMARY:Walsall v Bristol Rovers
LOCATION:Poundland Bescot Stadium
DESCRIPTION:Walsall v Bristol Rovers - Poundland Bescot Stadium - Sky Bet 
 League Two
STATUS:CONFIRMED
END:VEVENT
BEGIN:VEVENT
UID:50a149fc583e8d8338565d078513e450@skysports.com
SEQUENCE:0
DTSTAMP:20260425T090305Z
DTSTART:20251011T140000Z
DTEND:20251011T160000Z
SUMMARY:Bristol Rovers v Milton Keynes Dons
LOCATION:Memorial Stadium
DESCRIPTION:Bristol Rovers v Milton Keynes Dons - Memorial Stadium - Sky B
 et League Two - Live on Sky Sports+
STATUS:CONFIRMED
END:VEVENT
BEGIN:VEVENT
UID:4a7c4a0d0648cccd0c29baac339914ed@skysports.com
SEQUENCE:0
DTSTAMP:20260425T090305Z
DTSTART:20251018T140000Z
DTEND:20251018T160000Z
SUMMARY:Bristol Rovers v Tranmere Rovers
LOCATION:Memorial Stadium
DESCRIPTION:Bristol Rovers v Tranmere Rovers - Memorial Stadium - Sky Bet 
 League Two
STATUS:CONFIRMED
END:VEVENT
BEGIN:VEVENT
UID:e337eed7fbca436ef4a0168f0190bfdf@skysports.com
SEQUENCE:0
DTSTAMP:20260425T090305Z
DTSTART:20251025T140000Z
DTEND:20251025T160000Z
SUMMARY:Crawley Town v Bristol Rovers
LOCATION:Broadfield Stadium
DESCRIPTION:Crawley Town v Bristol Rovers - Broadfield Stadium - Sky Bet L
 eague Two
STATUS:CONFIRMED
END:VEVENT
BEGIN:VEVENT
UID:8fe708ff7a72513fb129f38248cf3f29@skysports.com
SEQUENCE:0
DTSTAMP:20260425T090305Z
DTSTART:20251108T150000Z
DTEND:20251108T170000Z
SUMMARY:Bristol Rovers v Gillingham
LOCATION:Memorial Stadium
DESCRIPTION:Bristol Rovers v Gillingham - Memorial Stadium - Sky Bet Leagu
 e Two
STATUS:CONFIRMED
END:VEVENT
BEGIN:VEVENT
UID:c0f255bf96250d03f526e3fd1f7c3949@skysports.com
SEQUENCE:0
DTSTAMP:20260425T090305Z
DTSTART:20251115T150000Z
DTEND:20251115T170000Z
SUMMARY:Accrington Stanley v Bristol Rovers
LOCATION:Wham Stadium
DESCRIPTION:Accrington Stanley v Bristol Rovers - Wham Stadium - Sky Bet L
 eague Two - Live on Sky Sports+
STATUS:CONFIRMED
END:VEVENT
BEGIN:VEVENT
UID:8fbebd523809fb952665123d6bfd9d99@skysports.com
SEQUENCE:0
DTSTAMP:20260425T090305Z
DTSTART:20251122T150000Z
DTEND:20251122T170000Z
SUMMARY:Cheltenham Town v Bristol Rovers
LOCATION:EV Charger Points Stadium
DESCRIPTION:Cheltenham Town v Bristol Rovers - EV Charger Points Stadium -
  Sky Bet League Two
STATUS:CONFIRMED
END:VEVENT
BEGIN:VEVENT
UID:38d34597c522dc5b776d500536040192@skysports.com
SEQUENCE:0
DTSTAMP:20260425T090305Z
DTSTART:20251129T150000Z
DTEND:20251129T170000Z
SUMMARY:Bristol Rovers v Notts County
LOCATION:Memorial Stadium
DESCRIPTION:Bristol Rovers v Notts County - Memorial Stadium - Sky Bet Lea
 gue Two
STATUS:CONFIRMED
END:VEVENT
BEGIN:VEVENT
UID:5187c8059b64dc5281795bbb4e726ad2@skysports.com
SEQUENCE:0
DTSTAMP:20260425T090305Z
DTSTART:20251209T194500Z
DTEND:20251209T214500Z
SUMMARY:Barnet v Bristol Rovers
LOCATION:The Hive Stadium
DESCRIPTION:Barnet v Bristol Rovers - The Hive Stadium - Sky Bet League Tw
 o - Live on Sky Sports+
STATUS:CONFIRMED
END:VEVENT
BEGIN:VEVENT
UID:a41e29f41cd41a1f02bd50f7be3b2bb0@skysports.com
SEQUENCE:0
DTSTAMP:20260425T090305Z
DTSTART:20251213T123000Z
DTEND:20251213T143000Z
SUMMARY:Bristol Rovers v Swindon Town
LOCATION:Memorial Stadium
DESCRIPTION:Bristol Rovers v Swindon Town - Memorial Stadium - Sky Bet Lea
 gue Two - Live on Sky Sports+
STATUS:CONFIRMED
END:VEVENT
BEGIN:VEVENT
UID:9831160724c7b4ab36d50e785627c329@skysports.com
SEQUENCE:0
DTSTAMP:20260425T090305Z
DTSTART:20251219T194500Z
DTEND:20251219T214500Z
SUMMARY:Crewe Alexandra v Bristol Rovers
LOCATION:Mornflake Stadium
DESCRIPTION:Crewe Alexandra v Bristol Rovers - Mornflake Stadium - Sky Bet
  League Two
STATUS:CONFIRMED
END:VEVENT
BEGIN:VEVENT
UID:7c7f26afc5800a6d8398ce312a7bdf68@skysports.com
SEQUENCE:0
DTSTAMP:20260425T090305Z
DTSTART:20251226T150000Z
DTEND:20251226T170000Z
SUMMARY:Bristol Rovers v Bromley
LOCATION:Memorial Stadium
DESCRIPTION:Bristol Rovers v Bromley - Memorial Stadium - Sky Bet League T
 wo - Live on Sky Sports+
STATUS:CONFIRMED
END:VEVENT
BEGIN:VEVENT
UID:fa40ce4e9730c793ced07706873a8a91@skysports.com
SEQUENCE:0
DTSTAMP:20260425T090305Z
DTSTART:20251229T194500Z
DTEND:20251229T214500Z
SUMMARY:Bristol Rovers v Barnet
LOCATION:Memorial Stadium
DESCRIPTION:Bristol Rovers v Barnet - Memorial Stadium - Sky Bet League Tw
 o
STATUS:CONFIRMED
END:VEVENT
BEGIN:VEVENT
UID:75c588d7b542d703c99a631916c86411@skysports.com
SEQUENCE:0
DTSTAMP:20260425T090305Z
DTSTART:20260101T150000Z
DTEND:20260101T170000Z
SUMMARY:Shrewsbury Town v Bristol Rovers
LOCATION:The Croud Meadow
DESCRIPTION:Shrewsbury Town v Bristol Rovers - The Croud Meadow - Sky Bet 
 League Two - Live on Sky Sports+
STATUS:CONFIRMED
END:VEVENT
BEGIN:VEVENT
UID:0b5b742daeaab7df081e0d39dfa76367@skysports.com
SEQUENCE:0
DTSTAMP:20260425T090305Z
DTSTART:20260310T194500Z
DTEND:20260310T214500Z
SUMMARY:Barrow v Bristol Rovers
LOCATION:SO Legal Stadium
DESCRIPTION:Barrow v Bristol Rovers - SO Legal Stadium - Sky Bet League Tw
 o
STATUS:CONFIRMED
END:VEVENT
BEGIN:VEVENT
UID:ff5fca46fba84247d5e804d40c788dba@skysports.com
SEQUENCE:0
DTSTAMP:20260425T090305Z
DTSTART:20260203T194500Z
DTEND:20260203T214500Z
SUMMARY:Bristol Rovers v Walsall
LOCATION:Memorial Stadium
DESCRIPTION:Bristol Rovers v Walsall - Memorial Stadium - Sky Bet League T
 wo - Live on Sky Sports+
STATUS:CONFIRMED
END:VEVENT
BEGIN:VEVENT
UID:238008eadd42b1591c3b8d4453dbc96c@skysports.com
SEQUENCE:0
DTSTAMP:20260425T090305Z
DTSTART:20260117T150000Z
DTEND:20260117T170000Z
SUMMARY:Bristol Rovers v Colchester United
LOCATION:Memorial Stadium
DESCRIPTION:Bristol Rovers v Colchester United - Memorial Stadium - Sky Be
 t League Two
STATUS:CONFIRMED
END:VEVENT
BEGIN:VEVENT
UID:b1b208bee7c7b62427db2248ce94b7bb@skysports.com
SEQUENCE:0
DTSTAMP:20260425T090305Z
DTSTART:20260124T150000Z
DTEND:20260124T170000Z
SUMMARY:Salford City v Bristol Rovers
LOCATION:Moor Lane
DESCRIPTION:Salford City v Bristol Rovers - Moor Lane - Sky Bet League Two
STATUS:CONFIRMED
END:VEVENT
BEGIN:VEVENT
UID:ae063900354753b95ee4f0942881e4a8@skysports.com
SEQUENCE:0
DTSTAMP:20260425T090305Z
DTSTART:20260127T194500Z
DTEND:20260127T214500Z
SUMMARY:Milton Keynes Dons v Bristol Rovers
LOCATION:Stadium:mk
DESCRIPTION:Milton Keynes Dons v Bristol Rovers - Stadium:mk - Sky Bet Lea
 gue Two - Live on Sky Sports+
STATUS:CONFIRMED
END:VEVENT
BEGIN:VEVENT
UID:27b84bcb69c948ea68c4d2957d0e74fe@skysports.com
SEQUENCE:0
DTSTAMP:20260425T090305Z
DTSTART:20260131T123000Z
DTEND:20260131T143000Z
SUMMARY:Bristol Rovers v Newport County AFC
LOCATION:Memorial Stadium
DESCRIPTION:Bristol Rovers v Newport County AFC - Memorial Stadium - Sky B
 et League Two - Live on Sky Sports+
STATUS:CONFIRMED
END:VEVENT
BEGIN:VEVENT
UID:866032d82800e175a07e2ec2c240b8e6@skysports.com
SEQUENCE:0
DTSTAMP:20260425T090305Z
DTSTART:20260207T150100Z
DTEND:20260207T170100Z
SUMMARY:Bristol Rovers v Chesterfield
LOCATION:Memorial Stadium
DESCRIPTION:Bristol Rovers v Chesterfield - Memorial Stadium - Sky Bet Lea
 gue Two
STATUS:CONFIRMED
END:VEVENT
BEGIN:VEVENT
UID:8dda4745a0a259798fc1fcf254e1894b@skysports.com
SEQUENCE:0
DTSTAMP:20260425T090305Z
DTSTART:20260214T150000Z
DTEND:20260214T170000Z
SUMMARY:Cambridge United v Bristol Rovers
LOCATION:The Cledara Abbey Stadium
DESCRIPTION:Cambridge United v Bristol Rovers - The Cledara Abbey Stadium 
 - Sky Bet League Two
STATUS:CONFIRMED
END:VEVENT
BEGIN:VEVENT
UID:6075714d58a4d895435666dd3ee4d6a1@skysports.com
SEQUENCE:0
DTSTAMP:20260425T090305Z
DTSTART:20260217T194500Z
DTEND:20260217T214500Z
SUMMARY:Oldham Athletic v Bristol Rovers
LOCATION:Boundary Park
DESCRIPTION:Oldham Athletic v Bristol Rovers - Boundary Park - Sky Bet Lea
 gue Two - Live on Sky Sports+
STATUS:CONFIRMED
END:VEVENT
BEGIN:VEVENT
UID:4a1d95dce9eec7355dd7e41dc83af56b@skysports.com
SEQUENCE:0
DTSTAMP:20260425T090305Z
DTSTART:20260221T150000Z
DTEND:20260221T170000Z
SUMMARY:Bristol Rovers v Grimsby Town
LOCATION:Memorial Stadium
DESCRIPTION:Bristol Rovers v Grimsby Town - Memorial Stadium - Sky Bet Lea
 gue Two
STATUS:CONFIRMED
END:VEVENT
BEGIN:VEVENT
UID:b15e60295cf0ab1dda1c34389321f369@skysports.com
SEQUENCE:0
DTSTAMP:20260425T090305Z
DTSTART:20260228T123000Z
DTEND:20260228T143000Z
SUMMARY:Swindon Town v Bristol Rovers
LOCATION:The County Ground
DESCRIPTION:Swindon Town v Bristol Rovers - The County Ground - Sky Bet Le
 ague Two - Live on Sky Sports+
STATUS:CONFIRMED
END:VEVENT
BEGIN:VEVENT
UID:45b3d0e4a8d9de53cf0f4d15338752a0@skysports.com
SEQUENCE:0
DTSTAMP:20260425T090305Z
DTSTART:20260307T150000Z
DTEND:20260307T170000Z
SUMMARY:Bristol Rovers v Crewe Alexandra
LOCATION:Memorial Stadium
DESCRIPTION:Bristol Rovers v Crewe Alexandra - Memorial Stadium - Sky Bet 
 League Two
STATUS:CONFIRMED
END:VEVENT
BEGIN:VEVENT
UID:04f982271c8dacc600c0fce296775bb0@skysports.com
SEQUENCE:0
DTSTAMP:20260425T090305Z
DTSTART:20260314T150000Z
DTEND:20260314T170000Z
SUMMARY:Bromley v Bristol Rovers
LOCATION:Hayes Lane Stadium
DESCRIPTION:Bromley v Bristol Rovers - Hayes Lane Stadium - Sky Bet League
  Two
STATUS:CONFIRMED
END:VEVENT
BEGIN:VEVENT
UID:912aaee659c2b984f8c0baacf995c9d7@skysports.com
SEQUENCE:0
DTSTAMP:20260425T090305Z
DTSTART:20260317T194500Z
DTEND:20260317T214500Z
SUMMARY:Bristol Rovers v Shrewsbury Town
LOCATION:Memorial Stadium
DESCRIPTION:Bristol Rovers v Shrewsbury Town - Memorial Stadium - Sky Bet 
 League Two - Live on Sky Sports+
STATUS:CONFIRMED
END:VEVENT
BEGIN:VEVENT
UID:2863b15e10701a381732edb11e5a561b@skysports.com
SEQUENCE:0
DTSTAMP:20260425T090305Z
DTSTART:20260321T150000Z
DTEND:20260321T170000Z
SUMMARY:Gillingham v Bristol Rovers
LOCATION:MEMS Priestfield Stadium
DESCRIPTION:Gillingham v Bristol Rovers - MEMS Priestfield Stadium - Sky B
 et League Two
STATUS:CONFIRMED
END:VEVENT
BEGIN:VEVENT
UID:a407c9970d636924aba1c398ccec0bf0@skysports.com
SEQUENCE:0
DTSTAMP:20260425T090305Z
DTSTART:20260328T150000Z
DTEND:20260328T170000Z
SUMMARY:Bristol Rovers v Accrington Stanley
LOCATION:Memorial Stadium
DESCRIPTION:Bristol Rovers v Accrington Stanley - Memorial Stadium - Sky B
 et League Two - Live on Sky Sports+
STATUS:CONFIRMED
END:VEVENT
BEGIN:VEVENT
UID:56b36e223602b1cc592982adf113637b@skysports.com
SEQUENCE:0
DTSTAMP:20260425T090305Z
DTSTART:20260403T140000Z
DTEND:20260403T160000Z
SUMMARY:Bristol Rovers v Fleetwood Town
LOCATION:Memorial Stadium
DESCRIPTION:Bristol Rovers v Fleetwood Town - Memorial Stadium - Sky Bet L
 eague Two - Live on Sky Sports+
STATUS:CONFIRMED
END:VEVENT
BEGIN:VEVENT
UID:acdb8362e5425c0770f659f05f78ef86@skysports.com
SEQUENCE:0
DTSTAMP:20260425T090305Z
DTSTART:20260406T140000Z
DTEND:20260406T160000Z
SUMMARY:Harrogate Town v Bristol Rovers
LOCATION:The Exercise Stadium
DESCRIPTION:Harrogate Town v Bristol Rovers - The Exercise Stadium - Sky B
 et League Two - Live on Sky Sports+
STATUS:CONFIRMED
END:VEVENT
BEGIN:VEVENT
UID:dca4ef39a6f8638a8cf6e498b35ca4d0@skysports.com
SEQUENCE:0
DTSTAMP:20260425T090305Z
DTSTART:20260411T113000Z
DTEND:20260411T133000Z
SUMMARY:Bristol Rovers v Crawley Town
LOCATION:Memorial Stadium
DESCRIPTION:Bristol Rovers v Crawley Town - Memorial Stadium - Sky Bet Lea
 gue Two - Live on Sky Sports+
STATUS:CONFIRMED
END:VEVENT
BEGIN:VEVENT
UID:3c857bf43d99d65c709d5d1bc27e2131@skysports.com
SEQUENCE:0
DTSTAMP:20260425T090305Z
DTSTART:20260418T140000Z
DTEND:20260418T160000Z
SUMMARY:Tranmere Rovers v Bristol Rovers
LOCATION:Prenton Park
DESCRIPTION:Tranmere Rovers v Bristol Rovers - Prenton Park - Sky Bet Leag
 ue Two
STATUS:CONFIRMED
END:VEVENT
BEGIN:VEVENT
UID:4457ba38dd39c47efef76ba7cb707605@skysports.com
SEQUENCE:0
DTSTAMP:20260425T090305Z
DTSTART:20260425T140000Z
DTEND:20260425T160000Z
SUMMARY:Bristol Rovers v Cheltenham Town
LOCATION:Memorial Stadium
DESCRIPTION:Bristol Rovers v Cheltenham Town - Memorial Stadium - Sky Bet 
 League Two
STATUS:CONFIRMED
END:VEVENT
BEGIN:VEVENT
UID:51ad949710272f98590f8c2f612e9e1d@skysports.com
SEQUENCE:0
DTSTAMP:20260425T090305Z
DTSTART:20260502T140000Z
DTEND:20260502T160000Z
SUMMARY:Notts County v Bristol Rovers
LOCATION:Meadow Lane
DESCRIPTION:Notts County v Bristol Rovers - Meadow Lane - Sky Bet League T
 wo
STATUS:CONFIRMED
END:VEVENT
BEGIN:VEVENT
UID:8c0b286e5daef04146b5c5d757fe9b03@skysports.com
SEQUENCE:0
DTSTAMP:20260425T090305Z
DTSTART:20250812T184500Z
DTEND:20250812T204500Z
SUMMARY:Bristol Rovers v Cambridge United
LOCATION:Memorial Stadium
DESCRIPTION:Bristol Rovers v Cambridge United - Memorial Stadium - Carabao
  Cup - Live on Sky Sports+
STATUS:CONFIRMED
END:VEVENT
BEGIN:VEVENT
UID:bec6f097eb3046a10f693b029c857c60@skysports.com
SEQUENCE:0
DTSTAMP:20260425T090305Z
DTSTART:20251007T180000Z
DTEND:20251007T200000Z
SUMMARY:Cheltenham Town v Bristol Rovers
LOCATION:EV Charger Points Stadium
DESCRIPTION:Cheltenham Town v Bristol Rovers - EV Charger Points Stadium -
  Vertu Trophy - Live on Sky Sports+
STATUS:CONFIRMED
END:VEVENT
BEGIN:VEVENT
UID:fc6b55a5733f894488d39e587d43dec4@skysports.com
SEQUENCE:0
DTSTAMP:20260425T090305Z
DTSTART:20251111T190000Z
DTEND:20251111T210000Z
SUMMARY:Bristol Rovers v Plymouth Argyle
LOCATION:Memorial Stadium
DESCRIPTION:Bristol Rovers v Plymouth Argyle - Memorial Stadium - Vertu Tr
 ophy - Live on Sky Sports+
STATUS:CONFIRMED
END:VEVENT
BEGIN:VEVENT
UID:66b413bcceb71bdd4cec7408cfb29419@skysports.com
SEQUENCE:0
DTSTAMP:20260425T090305Z
DTSTART:20250826T180000Z
DTEND:20250826T200000Z
SUMMARY:Bristol Rovers v Tottenham Hotspur U21
LOCATION:Memorial Stadium
DESCRIPTION:Bristol Rovers v Tottenham Hotspur U21 - Memorial Stadium - Ve
 rtu Trophy - Live on Sky Sports+
STATUS:CONFIRMED
END:VEVENT
BEGIN:VEVENT
UID:dbe88098922aac107d922ea5c62256a4@skysports.com
SEQUENCE:0
DTSTAMP:20260425T090305Z
DTSTART:20251101T150000Z
DTEND:20251101T170000Z
SUMMARY:Bromley v Bristol Rovers
LOCATION:Hayes Lane Stadium
DESCRIPTION:Bromley v Bristol Rovers - Hayes Lane Stadium - The FA Cup
STATUS:CONFIRMED
END:VEVENT
BEGIN:VEVENT
UID:85e91c972ce31b99780703e7c6b886f6@skysports.com
SEQUENCE:0
DTSTAMP:20260425T090305Z
DTSTART:20251206T150000Z
DTEND:20251206T170000Z
SUMMARY:Port Vale v Bristol Rovers
LOCATION:Vale Park
DESCRIPTION:Port Vale v Bristol Rovers - Vale Park - The FA Cup
STATUS:CONFIRMED
END:VEVENT
BEGIN:VEVENT
UID:4edee58b9c218d37a9daf459ba8d4856@skysports.com
SEQUENCE:0
DTSTAMP:20260425T090305Z
DTSTART:20251202T190000Z
DTEND:20251202T210000Z
SUMMARY:Bristol Rovers v Cambridge United
LOCATION:Memorial Stadium
DESCRIPTION:Bristol Rovers v Cambridge United - Memorial Stadium - Vertu T
 rophy - Live on Sky Sports+
STATUS:CONFIRMED
END:VEVENT
BEGIN:VEVENT
UID:fe691189f0e224c8d314e0b83d6335f2@skysports.com
SEQUENCE:0
DTSTAMP:20260425T090305Z
DTSTART:20260113T190000Z
DTEND:20260113T210000Z
SUMMARY:Bristol Rovers v Plymouth Argyle
LOCATION:Memorial Stadium
DESCRIPTION:Bristol Rovers v Plymouth Argyle - Memorial Stadium - Vertu Tr
 ophy - Live on Sky Sports+
STATUS:CONFIRMED
END:VEVENT
END:VCALENDAR