BEGIN:VCALENDAR
VERSION:2.0
PRODID:-//Sky Sports SSDM//NONSGML Event Calendar//EN
URL:https://www.skysports.com/calendars/football/fixtures/teams/burnley
CALSCALE:GREGORIAN
METHOD:PUBLISH
NAME:Burnley Fixtures
X-WR-CALNAME:Burnley Fixtures
X-WR-CALDESC:Burnley fixtures provided by Sky Sports (https://www.skysport
 s.com)
REFRESH-INTERVAL;VALUE=DURATION:PT1H
X-PUBLISHED-TTL:PT1H
BEGIN:VEVENT
UID:b3f12fda3be018376decdaf3e71582a7@skysports.com
SEQUENCE:0
DTSTAMP:20260425T090018Z
DTSTART:20250816T140000Z
DTEND:20250816T160000Z
SUMMARY:Tottenham Hotspur v Burnley
LOCATION:Tottenham Hotspur Stadium
DESCRIPTION:Tottenham Hotspur v Burnley - Tottenham Hotspur Stadium - Prem
 ier League
STATUS:CONFIRMED
END:VEVENT
BEGIN:VEVENT
UID:b5cd575fa0ac968e5af2021c2c326873@skysports.com
SEQUENCE:0
DTSTAMP:20260425T090018Z
DTSTART:20250823T140000Z
DTEND:20250823T160000Z
SUMMARY:Burnley v Sunderland
LOCATION:Turf Moor
DESCRIPTION:Burnley v Sunderland - Turf Moor - Premier League
STATUS:CONFIRMED
END:VEVENT
BEGIN:VEVENT
UID:2351dc4375db4a3f2dbb59116437f2ac@skysports.com
SEQUENCE:0
DTSTAMP:20260425T090018Z
DTSTART:20250830T140000Z
DTEND:20250830T160000Z
SUMMARY:Manchester United v Burnley
LOCATION:Old Trafford
DESCRIPTION:Manchester United v Burnley - Old Trafford - Premier League
STATUS:CONFIRMED
END:VEVENT
BEGIN:VEVENT
UID:080eb4700ac284cfa99a4077de542748@skysports.com
SEQUENCE:0
DTSTAMP:20260425T090018Z
DTSTART:20250914T130000Z
DTEND:20250914T150000Z
SUMMARY:Burnley v Liverpool
LOCATION:Turf Moor
DESCRIPTION:Burnley v Liverpool - Turf Moor - Premier League - Live on Sky
  Sports Premier League and Sky Sports Main Event
STATUS:CONFIRMED
END:VEVENT
BEGIN:VEVENT
UID:5ddc07f0e7034918887a066067c31284@skysports.com
SEQUENCE:0
DTSTAMP:20260425T090018Z
DTSTART:20250920T140000Z
DTEND:20250920T160000Z
SUMMARY:Burnley v Nottingham Forest
LOCATION:Turf Moor
DESCRIPTION:Burnley v Nottingham Forest - Turf Moor - Premier League
STATUS:CONFIRMED
END:VEVENT
BEGIN:VEVENT
UID:731c7021b91ba567a5c259841a77bc40@skysports.com
SEQUENCE:0
DTSTAMP:20260425T090018Z
DTSTART:20250927T140000Z
DTEND:20250927T160000Z
SUMMARY:Manchester City v Burnley
LOCATION:Etihad Stadium
DESCRIPTION:Manchester City v Burnley - Etihad Stadium - Premier League
STATUS:CONFIRMED
END:VEVENT
BEGIN:VEVENT
UID:05a598ff64eaf32b526442b686aaadc0@skysports.com
SEQUENCE:0
DTSTAMP:20260425T090018Z
DTSTART:20251005T130000Z
DTEND:20251005T150000Z
SUMMARY:Aston Villa v Burnley
LOCATION:Villa Park
DESCRIPTION:Aston Villa v Burnley - Villa Park - Premier League - Live on 
 Sky Sports+
STATUS:CONFIRMED
END:VEVENT
BEGIN:VEVENT
UID:855da3c9dae9c62162ff960f15594156@skysports.com
SEQUENCE:0
DTSTAMP:20260425T090018Z
DTSTART:20251018T140000Z
DTEND:20251018T160000Z
SUMMARY:Burnley v Leeds United
LOCATION:Turf Moor
DESCRIPTION:Burnley v Leeds United - Turf Moor - Premier League
STATUS:CONFIRMED
END:VEVENT
BEGIN:VEVENT
UID:d21ccf1917ca869ee0b709df0f8b5784@skysports.com
SEQUENCE:0
DTSTAMP:20260425T090018Z
DTSTART:20251026T140000Z
DTEND:20251026T160000Z
SUMMARY:Wolverhampton Wanderers v Burnley
LOCATION:Molineux
DESCRIPTION:Wolverhampton Wanderers v Burnley - Molineux - Premier League 
 - Live on Sky Sports F1
STATUS:CONFIRMED
END:VEVENT
BEGIN:VEVENT
UID:b7aae6edb996d3307c22230477646624@skysports.com
SEQUENCE:0
DTSTAMP:20260425T090018Z
DTSTART:20251101T150000Z
DTEND:20251101T170000Z
SUMMARY:Burnley v Arsenal
LOCATION:Turf Moor
DESCRIPTION:Burnley v Arsenal - Turf Moor - Premier League
STATUS:CONFIRMED
END:VEVENT
BEGIN:VEVENT
UID:4a12eeeb3ead4af08c5950dcd88823fb@skysports.com
SEQUENCE:0
DTSTAMP:20260425T090018Z
DTSTART:20251108T150000Z
DTEND:20251108T170000Z
SUMMARY:West Ham United v Burnley
LOCATION:London Stadium
DESCRIPTION:West Ham United v Burnley - London Stadium - Premier League
STATUS:CONFIRMED
END:VEVENT
BEGIN:VEVENT
UID:17bc08e43934b256477f7ba076589c78@skysports.com
SEQUENCE:0
DTSTAMP:20260425T090018Z
DTSTART:20251122T123000Z
DTEND:20251122T143000Z
SUMMARY:Burnley v Chelsea
LOCATION:Turf Moor
DESCRIPTION:Burnley v Chelsea - Turf Moor - Premier League
STATUS:CONFIRMED
END:VEVENT
BEGIN:VEVENT
UID:67d949f716b5c3de0b8c7832fa70ff26@skysports.com
SEQUENCE:0
DTSTAMP:20260425T090018Z
DTSTART:20251129T150000Z
DTEND:20251129T170000Z
SUMMARY:Brentford v Burnley
LOCATION:Gtech Community Stadium
DESCRIPTION:Brentford v Burnley - Gtech Community Stadium - Premier League
STATUS:CONFIRMED
END:VEVENT
BEGIN:VEVENT
UID:584c0a7ec30e8fceb1049228c5503d81@skysports.com
SEQUENCE:0
DTSTAMP:20260425T090018Z
DTSTART:20251203T193000Z
DTEND:20251203T213000Z
SUMMARY:Burnley v Crystal Palace
LOCATION:Turf Moor
DESCRIPTION:Burnley v Crystal Palace - Turf Moor - Premier League - Live o
 n Sky Sports Tennis
STATUS:CONFIRMED
END:VEVENT
BEGIN:VEVENT
UID:86011498756433a13e25b50822641040@skysports.com
SEQUENCE:0
DTSTAMP:20260425T090018Z
DTSTART:20251206T150000Z
DTEND:20251206T170000Z
SUMMARY:Newcastle United v Burnley
LOCATION:St James' Park\, Newcastle
DESCRIPTION:Newcastle United v Burnley - St James' Park\, Newcastle - Prem
 ier League
STATUS:CONFIRMED
END:VEVENT
BEGIN:VEVENT
UID:b6780fdc6098a8ed43d0e04e2d26373f@skysports.com
SEQUENCE:0
DTSTAMP:20260425T090018Z
DTSTART:20251213T173000Z
DTEND:20251213T193000Z
SUMMARY:Burnley v Fulham
LOCATION:Turf Moor
DESCRIPTION:Burnley v Fulham - Turf Moor - Premier League - Live on Sky Sp
 orts Main Event and Sky Sports Premier League
STATUS:CONFIRMED
END:VEVENT
BEGIN:VEVENT
UID:ab370027fc9dccdff2197c7509d053b3@skysports.com
SEQUENCE:0
DTSTAMP:20260425T090018Z
DTSTART:20251220T150000Z
DTEND:20251220T170000Z
SUMMARY:Bournemouth v Burnley
LOCATION:Vitality Stadium
DESCRIPTION:Bournemouth v Burnley - Vitality Stadium - Premier League
STATUS:CONFIRMED
END:VEVENT
BEGIN:VEVENT
UID:ea0237ff8027b9adefe6af8e13b4e253@skysports.com
SEQUENCE:0
DTSTAMP:20260425T090018Z
DTSTART:20251227T150000Z
DTEND:20251227T170000Z
SUMMARY:Burnley v Everton
LOCATION:Turf Moor
DESCRIPTION:Burnley v Everton - Turf Moor - Premier League
STATUS:CONFIRMED
END:VEVENT
BEGIN:VEVENT
UID:f34738ca3953afa403cfd1c1ac8593b5@skysports.com
SEQUENCE:0
DTSTAMP:20260425T090018Z
DTSTART:20251230T193000Z
DTEND:20251230T213000Z
SUMMARY:Burnley v Newcastle United
LOCATION:Turf Moor
DESCRIPTION:Burnley v Newcastle United - Turf Moor - Premier League - Live
  on Sky Sports Tennis
STATUS:CONFIRMED
END:VEVENT
BEGIN:VEVENT
UID:3e047a7eb9dc9be2bcc3c7ab7640f101@skysports.com
SEQUENCE:0
DTSTAMP:20260425T090018Z
DTSTART:20260103T150000Z
DTEND:20260103T170000Z
SUMMARY:Brighton and Hove Albion v Burnley
LOCATION:Amex Stadium
DESCRIPTION:Brighton and Hove Albion v Burnley - Amex Stadium - Premier Le
 ague
STATUS:CONFIRMED
END:VEVENT
BEGIN:VEVENT
UID:8280942e4056f694f89e1943a3513721@skysports.com
SEQUENCE:0
DTSTAMP:20260425T090018Z
DTSTART:20260107T201500Z
DTEND:20260107T221500Z
SUMMARY:Burnley v Manchester United
LOCATION:Turf Moor
DESCRIPTION:Burnley v Manchester United - Turf Moor - Premier League - Liv
 e on Sky Sports Premier League
STATUS:CONFIRMED
END:VEVENT
BEGIN:VEVENT
UID:60d9dfa073e984171b10d211f2e062f8@skysports.com
SEQUENCE:0
DTSTAMP:20260425T090018Z
DTSTART:20260117T150000Z
DTEND:20260117T170000Z
SUMMARY:Liverpool v Burnley
LOCATION:Anfield
DESCRIPTION:Liverpool v Burnley - Anfield - Premier League
STATUS:CONFIRMED
END:VEVENT
BEGIN:VEVENT
UID:784293f79e5675639dbf4c7e931152ec@skysports.com
SEQUENCE:0
DTSTAMP:20260425T090018Z
DTSTART:20260124T150000Z
DTEND:20260124T170000Z
SUMMARY:Burnley v Tottenham Hotspur
LOCATION:Turf Moor
DESCRIPTION:Burnley v Tottenham Hotspur - Turf Moor - Premier League
STATUS:CONFIRMED
END:VEVENT
BEGIN:VEVENT
UID:7861b818d963d95035d01915ef9fff7d@skysports.com
SEQUENCE:0
DTSTAMP:20260425T090018Z
DTSTART:20260202T200000Z
DTEND:20260202T220000Z
SUMMARY:Sunderland v Burnley
LOCATION:Stadium of Light
DESCRIPTION:Sunderland v Burnley - Stadium of Light - Premier League - Liv
 e on Sky Sports Premier League and Sky Sports Main Event
STATUS:CONFIRMED
END:VEVENT
BEGIN:VEVENT
UID:911819e57a04c9d836d03410c139ebd6@skysports.com
SEQUENCE:0
DTSTAMP:20260425T090018Z
DTSTART:20260207T150000Z
DTEND:20260207T170000Z
SUMMARY:Burnley v West Ham United
LOCATION:Turf Moor
DESCRIPTION:Burnley v West Ham United - Turf Moor - Premier League
STATUS:CONFIRMED
END:VEVENT
BEGIN:VEVENT
UID:32bb6cb176ba370515119842b832df76@skysports.com
SEQUENCE:0
DTSTAMP:20260425T090018Z
DTSTART:20260211T193000Z
DTEND:20260211T213000Z
SUMMARY:Crystal Palace v Burnley
LOCATION:Selhurst Park
DESCRIPTION:Crystal Palace v Burnley - Selhurst Park - Premier League
STATUS:CONFIRMED
END:VEVENT
BEGIN:VEVENT
UID:642201c1f81f1dc1817823bd4ef39267@skysports.com
SEQUENCE:0
DTSTAMP:20260425T090018Z
DTSTART:20260221T150000Z
DTEND:20260221T170000Z
SUMMARY:Chelsea v Burnley
LOCATION:Stamford Bridge
DESCRIPTION:Chelsea v Burnley - Stamford Bridge - Premier League
STATUS:CONFIRMED
END:VEVENT
BEGIN:VEVENT
UID:010c73d96f04cd0f38edbcf0aeaa4cd3@skysports.com
SEQUENCE:0
DTSTAMP:20260425T090018Z
DTSTART:20260228T150000Z
DTEND:20260228T170000Z
SUMMARY:Burnley v Brentford
LOCATION:Turf Moor
DESCRIPTION:Burnley v Brentford - Turf Moor - Premier League
STATUS:CONFIRMED
END:VEVENT
BEGIN:VEVENT
UID:75c6135737b6024ee8fac33dc25f7ea3@skysports.com
SEQUENCE:0
DTSTAMP:20260425T090018Z
DTSTART:20260303T193000Z
DTEND:20260303T213000Z
SUMMARY:Everton v Burnley
LOCATION:Hill Dickinson Stadium
DESCRIPTION:Everton v Burnley - Hill Dickinson Stadium - Premier League
STATUS:CONFIRMED
END:VEVENT
BEGIN:VEVENT
UID:c83f2816f688349e2ab7d704680588c7@skysports.com
SEQUENCE:0
DTSTAMP:20260425T090018Z
DTSTART:20260314T150000Z
DTEND:20260314T170000Z
SUMMARY:Burnley v Bournemouth
LOCATION:Turf Moor
DESCRIPTION:Burnley v Bournemouth - Turf Moor - Premier League
STATUS:CONFIRMED
END:VEVENT
BEGIN:VEVENT
UID:b3f96b80d6e055050be06650bc4eb078@skysports.com
SEQUENCE:0
DTSTAMP:20260425T090018Z
DTSTART:20260321T150000Z
DTEND:20260321T170000Z
SUMMARY:Fulham v Burnley
LOCATION:Craven Cottage
DESCRIPTION:Fulham v Burnley - Craven Cottage - Premier League
STATUS:CONFIRMED
END:VEVENT
BEGIN:VEVENT
UID:b491b35a33bef4e25c30d405d42654f2@skysports.com
SEQUENCE:0
DTSTAMP:20260425T090018Z
DTSTART:20260411T140000Z
DTEND:20260411T160000Z
SUMMARY:Burnley v Brighton and Hove Albion
LOCATION:Turf Moor
DESCRIPTION:Burnley v Brighton and Hove Albion - Turf Moor - Premier Leagu
 e
STATUS:CONFIRMED
END:VEVENT
BEGIN:VEVENT
UID:9460717ac8c02ed388dfb98a68339dcb@skysports.com
SEQUENCE:0
DTSTAMP:20260425T090018Z
DTSTART:20260419T130000Z
DTEND:20260419T150000Z
SUMMARY:Nottingham Forest v Burnley
LOCATION:The City Ground
DESCRIPTION:Nottingham Forest v Burnley - The City Ground - Premier League
  - Live on Sky Sports+
STATUS:CONFIRMED
END:VEVENT
BEGIN:VEVENT
UID:a82b7dd5c50d61f4d0ab43c3db12e0c5@skysports.com
SEQUENCE:0
DTSTAMP:20260425T090018Z
DTSTART:20260422T190000Z
DTEND:20260422T210000Z
SUMMARY:Burnley v Manchester City
LOCATION:Turf Moor
DESCRIPTION:Burnley v Manchester City - Turf Moor - Premier League - Live 
 on Sky Sports Main Event
STATUS:CONFIRMED
END:VEVENT
BEGIN:VEVENT
UID:69efe689391596c41e7530877a848309@skysports.com
SEQUENCE:0
DTSTAMP:20260425T090018Z
DTSTART:20260501T190000Z
DTEND:20260501T210000Z
SUMMARY:Leeds United v Burnley
LOCATION:Elland Road
DESCRIPTION:Leeds United v Burnley - Elland Road - Premier League - Live o
 n Sky Sports Main Event and Sky Sports Premier League
STATUS:CONFIRMED
END:VEVENT
BEGIN:VEVENT
UID:c9acba4734f7ec9dba555d972f518f23@skysports.com
SEQUENCE:0
DTSTAMP:20260425T090018Z
DTSTART:20260510T130000Z
DTEND:20260510T150000Z
SUMMARY:Burnley v Aston Villa
LOCATION:Turf Moor
DESCRIPTION:Burnley v Aston Villa - Turf Moor - Premier League - Live on S
 ky Sports+
STATUS:CONFIRMED
END:VEVENT
BEGIN:VEVENT
UID:8cb2b61fbfcbf9564852b106cf0be084@skysports.com
SEQUENCE:0
DTSTAMP:20260425T090018Z
DTSTART:20260517T140000Z
DTEND:20260517T160000Z
SUMMARY:Arsenal v Burnley
LOCATION:Emirates Stadium
DESCRIPTION:Arsenal v Burnley - Emirates Stadium - Premier League
STATUS:CONFIRMED
END:VEVENT
BEGIN:VEVENT
UID:8bc9db1b0928c046e115c8e645d89047@skysports.com
SEQUENCE:0
DTSTAMP:20260425T090018Z
DTSTART:20260524T150000Z
DTEND:20260524T170000Z
SUMMARY:Burnley v Wolverhampton Wanderers
LOCATION:Turf Moor
DESCRIPTION:Burnley v Wolverhampton Wanderers - Turf Moor - Premier League
STATUS:CONFIRMED
END:VEVENT
BEGIN:VEVENT
UID:0fdbe42fe02ea0e9adc05843c1155f4c@skysports.com
SEQUENCE:0
DTSTAMP:20260425T090018Z
DTSTART:20250826T184500Z
DTEND:20250826T204500Z
SUMMARY:Burnley v Derby County
LOCATION:Turf Moor
DESCRIPTION:Burnley v Derby County - Turf Moor - Carabao Cup - Live on Sky
  Sports+
STATUS:CONFIRMED
END:VEVENT
BEGIN:VEVENT
UID:0def49577b0343fac68c1302f28df0de@skysports.com
SEQUENCE:0
DTSTAMP:20260425T090018Z
DTSTART:20250923T184500Z
DTEND:20250923T204500Z
SUMMARY:Burnley v Cardiff City
LOCATION:Turf Moor
DESCRIPTION:Burnley v Cardiff City - Turf Moor - Carabao Cup - Live on Sky
  Sports+
STATUS:CONFIRMED
END:VEVENT
BEGIN:VEVENT
UID:d22cca05be1f2c980e225561852b8ce5@skysports.com
SEQUENCE:0
DTSTAMP:20260425T090018Z
DTSTART:20260110T150000Z
DTEND:20260110T170000Z
SUMMARY:Burnley v Millwall
LOCATION:Turf Moor
DESCRIPTION:Burnley v Millwall - Turf Moor - The FA Cup
STATUS:CONFIRMED
END:VEVENT
BEGIN:VEVENT
UID:edca7b4b8da0f35ba335c75bc5a55558@skysports.com
SEQUENCE:0
DTSTAMP:20260425T090018Z
DTSTART:20260214T150000Z
DTEND:20260214T170000Z
SUMMARY:Burnley v Mansfield Town
LOCATION:Turf Moor
DESCRIPTION:Burnley v Mansfield Town - Turf Moor - The FA Cup
STATUS:CONFIRMED
END:VEVENT
END:VCALENDAR