BEGIN:VCALENDAR
VERSION:2.0
PRODID:-//Sky Sports SSDM//NONSGML Event Calendar//EN
URL:https://www.skysports.com/calendars/football/fixtures/teams/burton-alb
 ion
CALSCALE:GREGORIAN
METHOD:PUBLISH
NAME:Burton Albion Fixtures
X-WR-CALNAME:Burton Albion Fixtures
X-WR-CALDESC:Burton Albion fixtures provided by Sky Sports (https://www.sk
 ysports.com)
REFRESH-INTERVAL;VALUE=DURATION:PT1H
X-PUBLISHED-TTL:PT1H
BEGIN:VEVENT
UID:adbf8a735bcc720dca6d90344b240726@skysports.com
SEQUENCE:0
DTSTAMP:20260425T090308Z
DTSTART:20250802T140000Z
DTEND:20250802T160000Z
SUMMARY:Burton Albion v Mansfield Town
LOCATION:Pirelli Stadium
DESCRIPTION:Burton Albion v Mansfield Town - Pirelli Stadium - Sky Bet Lea
 gue One - Live on Sky Sports+
STATUS:CONFIRMED
END:VEVENT
BEGIN:VEVENT
UID:4f91d57303cbfb30fcca104abc1a882a@skysports.com
SEQUENCE:0
DTSTAMP:20260425T090308Z
DTSTART:20250809T140000Z
DTEND:20250809T160000Z
SUMMARY:Barnsley v Burton Albion
LOCATION:Oakwell Stadium
DESCRIPTION:Barnsley v Burton Albion - Oakwell Stadium - Sky Bet League On
 e
STATUS:CONFIRMED
END:VEVENT
BEGIN:VEVENT
UID:eaaa5f18ac2662441eefbebb42f0599a@skysports.com
SEQUENCE:0
DTSTAMP:20260425T090308Z
DTSTART:20250816T113000Z
DTEND:20250816T133000Z
SUMMARY:Burton Albion v Port Vale
LOCATION:Pirelli Stadium
DESCRIPTION:Burton Albion v Port Vale - Pirelli Stadium - Sky Bet League O
 ne - Live on Sky Sports+
STATUS:CONFIRMED
END:VEVENT
BEGIN:VEVENT
UID:81687bf3317e472597e049d7484dc2a6@skysports.com
SEQUENCE:0
DTSTAMP:20260425T090308Z
DTSTART:20251104T194500Z
DTEND:20251104T214500Z
SUMMARY:Rotherham United v Burton Albion
LOCATION:New York Stadium
DESCRIPTION:Rotherham United v Burton Albion - New York Stadium - Sky Bet 
 League One - Live on Sky Sports+
STATUS:CONFIRMED
END:VEVENT
BEGIN:VEVENT
UID:67a735cb7288f064669580b70396b9de@skysports.com
SEQUENCE:0
DTSTAMP:20260425T090308Z
DTSTART:20250823T140000Z
DTEND:20250823T160000Z
SUMMARY:Stockport County v Burton Albion
LOCATION:Edgeley Park
DESCRIPTION:Stockport County v Burton Albion - Edgeley Park - Sky Bet Leag
 ue One
STATUS:CONFIRMED
END:VEVENT
BEGIN:VEVENT
UID:5ff1eafe51a3fa4d43933c0cdfac7b6d@skysports.com
SEQUENCE:0
DTSTAMP:20260425T090308Z
DTSTART:20250830T140000Z
DTEND:20250830T160000Z
SUMMARY:Burton Albion v Luton Town
LOCATION:Pirelli Stadium
DESCRIPTION:Burton Albion v Luton Town - Pirelli Stadium - Sky Bet League 
 One
STATUS:CONFIRMED
END:VEVENT
BEGIN:VEVENT
UID:eca8d11dee29fc9c2321870e89e8aaf1@skysports.com
SEQUENCE:0
DTSTAMP:20260425T090308Z
DTSTART:20250930T184500Z
DTEND:20250930T204500Z
SUMMARY:Cardiff City v Burton Albion
LOCATION:Cardiff City Stadium
DESCRIPTION:Cardiff City v Burton Albion - Cardiff City Stadium - Sky Bet 
 League One - Live on Sky Sports+
STATUS:CONFIRMED
END:VEVENT
BEGIN:VEVENT
UID:23b979153f6603f0992fb8c080e0785f@skysports.com
SEQUENCE:0
DTSTAMP:20260425T090308Z
DTSTART:20250913T140000Z
DTEND:20250913T160000Z
SUMMARY:Burton Albion v Lincoln City
LOCATION:Pirelli Stadium
DESCRIPTION:Burton Albion v Lincoln City - Pirelli Stadium - Sky Bet Leagu
 e One
STATUS:CONFIRMED
END:VEVENT
BEGIN:VEVENT
UID:967eddb201a0f1d1193bc12c2582c4fe@skysports.com
SEQUENCE:0
DTSTAMP:20260425T090308Z
DTSTART:20250920T140000Z
DTEND:20250920T160000Z
SUMMARY:Huddersfield Town v Burton Albion
LOCATION:The Accu Stadium
DESCRIPTION:Huddersfield Town v Burton Albion - The Accu Stadium - Sky Bet
  League One
STATUS:CONFIRMED
END:VEVENT
BEGIN:VEVENT
UID:490006f2e3d4c9320220761afc4f9971@skysports.com
SEQUENCE:0
DTSTAMP:20260425T090308Z
DTSTART:20250927T140000Z
DTEND:20250927T160000Z
SUMMARY:Burton Albion v Plymouth Argyle
LOCATION:Pirelli Stadium
DESCRIPTION:Burton Albion v Plymouth Argyle - Pirelli Stadium - Sky Bet Le
 ague One
STATUS:CONFIRMED
END:VEVENT
BEGIN:VEVENT
UID:6ed55c2ae01eafdb7763936dc0480419@skysports.com
SEQUENCE:0
DTSTAMP:20260425T090308Z
DTSTART:20251004T113000Z
DTEND:20251004T133000Z
SUMMARY:Doncaster Rovers v Burton Albion
LOCATION:Eco-Power Stadium
DESCRIPTION:Doncaster Rovers v Burton Albion - Eco-Power Stadium - Sky Bet
  League One - Live on Sky Sports+
STATUS:CONFIRMED
END:VEVENT
BEGIN:VEVENT
UID:ba81cf8f2611a46211c491600df43a64@skysports.com
SEQUENCE:0
DTSTAMP:20260425T090308Z
DTSTART:20251011T140000Z
DTEND:20251011T160000Z
SUMMARY:Burton Albion v Bolton Wanderers
LOCATION:Pirelli Stadium
DESCRIPTION:Burton Albion v Bolton Wanderers - Pirelli Stadium - Sky Bet L
 eague One - Live on Sky Sports+
STATUS:CONFIRMED
END:VEVENT
BEGIN:VEVENT
UID:1c16ca185a43a8971f3125e1225be14e@skysports.com
SEQUENCE:0
DTSTAMP:20260425T090308Z
DTSTART:20251018T113000Z
DTEND:20251018T133000Z
SUMMARY:Burton Albion v Peterborough United
LOCATION:Pirelli Stadium
DESCRIPTION:Burton Albion v Peterborough United - Pirelli Stadium - Sky Be
 t League One - Live on Sky Sports+
STATUS:CONFIRMED
END:VEVENT
BEGIN:VEVENT
UID:b7369a9503c1168b76b2ad01c1213acb@skysports.com
SEQUENCE:0
DTSTAMP:20260425T090308Z
DTSTART:20251025T140000Z
DTEND:20251025T160000Z
SUMMARY:AFC Wimbledon v Burton Albion
LOCATION:The Cherry Red Records Stadium
DESCRIPTION:AFC Wimbledon v Burton Albion - The Cherry Red Records Stadium
  - Sky Bet League One
STATUS:CONFIRMED
END:VEVENT
BEGIN:VEVENT
UID:509f816e97da4e42a437dca40544d06c@skysports.com
SEQUENCE:0
DTSTAMP:20260425T090308Z
DTSTART:20251108T150000Z
DTEND:20251108T170000Z
SUMMARY:Bradford City v Burton Albion
LOCATION:University of Bradford Stadium
DESCRIPTION:Bradford City v Burton Albion - University of Bradford Stadium
  - Sky Bet League One
STATUS:CONFIRMED
END:VEVENT
BEGIN:VEVENT
UID:e5494c23b87e4b2b8f9f52dd88a8d54d@skysports.com
SEQUENCE:0
DTSTAMP:20260425T090308Z
DTSTART:20251115T150000Z
DTEND:20251115T170000Z
SUMMARY:Burton Albion v Blackpool
LOCATION:Pirelli Stadium
DESCRIPTION:Burton Albion v Blackpool - Pirelli Stadium - Sky Bet League O
 ne - Live on Sky Sports+
STATUS:CONFIRMED
END:VEVENT
BEGIN:VEVENT
UID:4093e61e059ee921e3032c875854735e@skysports.com
SEQUENCE:0
DTSTAMP:20260425T090308Z
DTSTART:20260303T194500Z
DTEND:20260303T214500Z
SUMMARY:Exeter City v Burton Albion
LOCATION:St James Park
DESCRIPTION:Exeter City v Burton Albion - St James Park - Sky Bet League O
 ne - Live on Sky Sports+
STATUS:CONFIRMED
END:VEVENT
BEGIN:VEVENT
UID:56b7412406ac087b92ee62d59cdc10e5@skysports.com
SEQUENCE:0
DTSTAMP:20260425T090308Z
DTSTART:20251129T150000Z
DTEND:20251129T170000Z
SUMMARY:Burton Albion v Leyton Orient
LOCATION:Pirelli Stadium
DESCRIPTION:Burton Albion v Leyton Orient - Pirelli Stadium - Sky Bet Leag
 ue One
STATUS:CONFIRMED
END:VEVENT
BEGIN:VEVENT
UID:55a20765bd1b2a5cd55c3d9a11a41478@skysports.com
SEQUENCE:0
DTSTAMP:20260425T090308Z
DTSTART:20251202T194500Z
DTEND:20251202T214500Z
SUMMARY:Wigan Athletic v Burton Albion
LOCATION:DW Stadium
DESCRIPTION:Wigan Athletic v Burton Albion - DW Stadium - Sky Bet League O
 ne - Live on Sky Sports+
STATUS:CONFIRMED
END:VEVENT
BEGIN:VEVENT
UID:a06be336fc07e51e3c5fe0be9403b268@skysports.com
SEQUENCE:0
DTSTAMP:20260425T090308Z
DTSTART:20251213T150000Z
DTEND:20251213T170000Z
SUMMARY:Burton Albion v Wycombe Wanderers
LOCATION:Pirelli Stadium
DESCRIPTION:Burton Albion v Wycombe Wanderers - Pirelli Stadium - Sky Bet 
 League One
STATUS:CONFIRMED
END:VEVENT
BEGIN:VEVENT
UID:aa3815e4764291c97e1e0926015a7003@skysports.com
SEQUENCE:0
DTSTAMP:20260425T090308Z
DTSTART:20251220T123000Z
DTEND:20251220T143000Z
SUMMARY:Stevenage v Burton Albion
LOCATION:Lamex Stadium
DESCRIPTION:Stevenage v Burton Albion - Lamex Stadium - Sky Bet League One
  - Live on Sky Sports+
STATUS:CONFIRMED
END:VEVENT
BEGIN:VEVENT
UID:9ee23c7715d5b37ca5492ea47056ebef@skysports.com
SEQUENCE:0
DTSTAMP:20260425T090308Z
DTSTART:20251226T150000Z
DTEND:20251226T170000Z
SUMMARY:Burton Albion v Northampton Town
LOCATION:Pirelli Stadium
DESCRIPTION:Burton Albion v Northampton Town - Pirelli Stadium - Sky Bet L
 eague One - Live on Sky Sports+
STATUS:CONFIRMED
END:VEVENT
BEGIN:VEVENT
UID:f9f7efd3a4f028e9c779a577eb72e6aa@skysports.com
SEQUENCE:0
DTSTAMP:20260425T090308Z
DTSTART:20251229T194500Z
DTEND:20251229T214500Z
SUMMARY:Burton Albion v Wigan Athletic
LOCATION:Pirelli Stadium
DESCRIPTION:Burton Albion v Wigan Athletic - Pirelli Stadium - Sky Bet Lea
 gue One
STATUS:CONFIRMED
END:VEVENT
BEGIN:VEVENT
UID:aa2300ea9840552f5b339d23086499f8@skysports.com
SEQUENCE:0
DTSTAMP:20260425T090308Z
DTSTART:20260101T150000Z
DTEND:20260101T170000Z
SUMMARY:Reading v Burton Albion
LOCATION:Select Car Leasing Stadium
DESCRIPTION:Reading v Burton Albion - Select Car Leasing Stadium - Sky Bet
  League One - Live on Sky Sports+
STATUS:CONFIRMED
END:VEVENT
BEGIN:VEVENT
UID:ae3620d2ff87f409c2c64b589b19ddec@skysports.com
SEQUENCE:0
DTSTAMP:20260425T090308Z
DTSTART:20260104T150000Z
DTEND:20260104T170000Z
SUMMARY:Plymouth Argyle v Burton Albion
LOCATION:Home Park
DESCRIPTION:Plymouth Argyle v Burton Albion - Home Park - Sky Bet League O
 ne
STATUS:CONFIRMED
END:VEVENT
BEGIN:VEVENT
UID:fae6d2eabe61af55c0752e6c43b24c06@skysports.com
SEQUENCE:0
DTSTAMP:20260425T090308Z
DTSTART:20260203T194500Z
DTEND:20260203T214500Z
SUMMARY:Burton Albion v Doncaster Rovers
LOCATION:Pirelli Stadium
DESCRIPTION:Burton Albion v Doncaster Rovers - Pirelli Stadium - Sky Bet L
 eague One
STATUS:CONFIRMED
END:VEVENT
BEGIN:VEVENT
UID:87ccfcbd927b310ab6d9a01b96669f9c@skysports.com
SEQUENCE:0
DTSTAMP:20260425T090308Z
DTSTART:20260117T150000Z
DTEND:20260117T170000Z
SUMMARY:Burton Albion v Huddersfield Town
LOCATION:Pirelli Stadium
DESCRIPTION:Burton Albion v Huddersfield Town - Pirelli Stadium - Sky Bet 
 League One
STATUS:CONFIRMED
END:VEVENT
BEGIN:VEVENT
UID:28c71cfa9aaf3dbdf415fc1b64e55a15@skysports.com
SEQUENCE:0
DTSTAMP:20260425T090308Z
DTSTART:20260122T200000Z
DTEND:20260122T220000Z
SUMMARY:Lincoln City v Burton Albion
LOCATION:LNER Stadium
DESCRIPTION:Lincoln City v Burton Albion - LNER Stadium - Sky Bet League O
 ne - Live on Sky Sports Football
STATUS:CONFIRMED
END:VEVENT
BEGIN:VEVENT
UID:f4ddb9ceedf475ab6d8924db8bd32e92@skysports.com
SEQUENCE:0
DTSTAMP:20260425T090308Z
DTSTART:20260127T194500Z
DTEND:20260127T214500Z
SUMMARY:Bolton Wanderers v Burton Albion
LOCATION:University of Bolton Stadium
DESCRIPTION:Bolton Wanderers v Burton Albion - University of Bolton Stadiu
 m - Sky Bet League One - Live on Sky Sports+
STATUS:CONFIRMED
END:VEVENT
BEGIN:VEVENT
UID:ebf50787fdb8cbd6781b61574e80a499@skysports.com
SEQUENCE:0
DTSTAMP:20260425T090308Z
DTSTART:20260131T150000Z
DTEND:20260131T170000Z
SUMMARY:Burton Albion v Cardiff City
LOCATION:Pirelli Stadium
DESCRIPTION:Burton Albion v Cardiff City - Pirelli Stadium - Sky Bet Leagu
 e One
STATUS:CONFIRMED
END:VEVENT
BEGIN:VEVENT
UID:30e2c09f9d95f87cadd69c8c6c597070@skysports.com
SEQUENCE:0
DTSTAMP:20260425T090308Z
DTSTART:20260207T123100Z
DTEND:20260207T143100Z
SUMMARY:Port Vale v Burton Albion
LOCATION:Vale Park
DESCRIPTION:Port Vale v Burton Albion - Vale Park - Sky Bet League One - L
 ive on Sky Sports+
STATUS:CONFIRMED
END:VEVENT
BEGIN:VEVENT
UID:f31e54b2018d6f1fce4630bfea74cedc@skysports.com
SEQUENCE:0
DTSTAMP:20260425T090308Z
DTSTART:20260224T194500Z
DTEND:20260224T214500Z
SUMMARY:Burton Albion v Stockport County
LOCATION:Pirelli Stadium
DESCRIPTION:Burton Albion v Stockport County - Pirelli Stadium - Sky Bet L
 eague One
STATUS:CONFIRMED
END:VEVENT
BEGIN:VEVENT
UID:d67d233095902ab91414bff9ba5ddf45@skysports.com
SEQUENCE:0
DTSTAMP:20260425T090308Z
DTSTART:20260217T194500Z
DTEND:20260217T214500Z
SUMMARY:Burton Albion v Rotherham United
LOCATION:Pirelli Stadium
DESCRIPTION:Burton Albion v Rotherham United - Pirelli Stadium - Sky Bet L
 eague One - Live on Sky Sports+
STATUS:CONFIRMED
END:VEVENT
BEGIN:VEVENT
UID:07bd9b96f426edd8f3c8dc03e7d5cb46@skysports.com
SEQUENCE:0
DTSTAMP:20260425T090308Z
DTSTART:20260221T150000Z
DTEND:20260221T170000Z
SUMMARY:Luton Town v Burton Albion
LOCATION:Kenilworth Road
DESCRIPTION:Luton Town v Burton Albion - Kenilworth Road - Sky Bet League 
 One
STATUS:CONFIRMED
END:VEVENT
BEGIN:VEVENT
UID:6bab5f6dd429b1ebe0e2679cfa8a3188@skysports.com
SEQUENCE:0
DTSTAMP:20260425T090308Z
DTSTART:20260228T150000Z
DTEND:20260228T170000Z
SUMMARY:Wycombe Wanderers v Burton Albion
LOCATION:Adams Park
DESCRIPTION:Wycombe Wanderers v Burton Albion - Adams Park - Sky Bet Leagu
 e One
STATUS:CONFIRMED
END:VEVENT
BEGIN:VEVENT
UID:e9b3adc9dda5944df38428381f122e5e@skysports.com
SEQUENCE:0
DTSTAMP:20260425T090308Z
DTSTART:20260307T150000Z
DTEND:20260307T170000Z
SUMMARY:Burton Albion v Stevenage
LOCATION:Pirelli Stadium
DESCRIPTION:Burton Albion v Stevenage - Pirelli Stadium - Sky Bet League O
 ne
STATUS:CONFIRMED
END:VEVENT
BEGIN:VEVENT
UID:9b86e3cfd6ed203d6cbe4ed6f564f67b@skysports.com
SEQUENCE:0
DTSTAMP:20260425T090308Z
DTSTART:20260314T150000Z
DTEND:20260314T170000Z
SUMMARY:Northampton Town v Burton Albion
LOCATION:Sixfields Stadium
DESCRIPTION:Northampton Town v Burton Albion - Sixfields Stadium - Sky Bet
  League One
STATUS:CONFIRMED
END:VEVENT
BEGIN:VEVENT
UID:1014ff8216e2f8e6ff0f74bea4112da1@skysports.com
SEQUENCE:0
DTSTAMP:20260425T090308Z
DTSTART:20260317T194500Z
DTEND:20260317T214500Z
SUMMARY:Burton Albion v Reading
LOCATION:Pirelli Stadium
DESCRIPTION:Burton Albion v Reading - Pirelli Stadium - Sky Bet League One
  - Live on Sky Sports+
STATUS:CONFIRMED
END:VEVENT
BEGIN:VEVENT
UID:3c733b2e6d12cc5cfe74133b5bba899f@skysports.com
SEQUENCE:0
DTSTAMP:20260425T090308Z
DTSTART:20260321T150000Z
DTEND:20260321T170000Z
SUMMARY:Burton Albion v Bradford City
LOCATION:Pirelli Stadium
DESCRIPTION:Burton Albion v Bradford City - Pirelli Stadium - Sky Bet Leag
 ue One
STATUS:CONFIRMED
END:VEVENT
BEGIN:VEVENT
UID:d162fd9cc41d63443c8629ee30a4dada@skysports.com
SEQUENCE:0
DTSTAMP:20260425T090308Z
DTSTART:20260328T150000Z
DTEND:20260328T170000Z
SUMMARY:Blackpool v Burton Albion
LOCATION:Bloomfield Road
DESCRIPTION:Blackpool v Burton Albion - Bloomfield Road - Sky Bet League O
 ne - Live on Sky Sports+
STATUS:CONFIRMED
END:VEVENT
BEGIN:VEVENT
UID:6d8a11619e0802c796709710a0053aad@skysports.com
SEQUENCE:0
DTSTAMP:20260425T090308Z
DTSTART:20260403T140000Z
DTEND:20260403T160000Z
SUMMARY:Burton Albion v Barnsley
LOCATION:Pirelli Stadium
DESCRIPTION:Burton Albion v Barnsley - Pirelli Stadium - Sky Bet League On
 e - Live on Sky Sports+
STATUS:CONFIRMED
END:VEVENT
BEGIN:VEVENT
UID:4e3cf8b9f62db15a9c604e5dc1a871fb@skysports.com
SEQUENCE:0
DTSTAMP:20260425T090308Z
DTSTART:20260406T140000Z
DTEND:20260406T160000Z
SUMMARY:Mansfield Town v Burton Albion
LOCATION:One Call Stadium
DESCRIPTION:Mansfield Town v Burton Albion - One Call Stadium - Sky Bet Le
 ague One - Live on Sky Sports+
STATUS:CONFIRMED
END:VEVENT
BEGIN:VEVENT
UID:1f9825d578e40a9f1c38b40c2b2b7a1d@skysports.com
SEQUENCE:0
DTSTAMP:20260425T090308Z
DTSTART:20260411T140000Z
DTEND:20260411T160000Z
SUMMARY:Burton Albion v AFC Wimbledon
LOCATION:Pirelli Stadium
DESCRIPTION:Burton Albion v AFC Wimbledon - Pirelli Stadium - Sky Bet Leag
 ue One
STATUS:CONFIRMED
END:VEVENT
BEGIN:VEVENT
UID:9458768caab1cdb9d0bc05b55ab1dc9c@skysports.com
SEQUENCE:0
DTSTAMP:20260425T090308Z
DTSTART:20260419T120000Z
DTEND:20260419T140000Z
SUMMARY:Peterborough United v Burton Albion
LOCATION:Weston Homes Stadium
DESCRIPTION:Peterborough United v Burton Albion - Weston Homes Stadium - S
 ky Bet League One
STATUS:CONFIRMED
END:VEVENT
BEGIN:VEVENT
UID:a6ba14e5d49659915156e3b5bb3f1285@skysports.com
SEQUENCE:0
DTSTAMP:20260425T090308Z
DTSTART:20260425T140000Z
DTEND:20260425T160000Z
SUMMARY:Burton Albion v Exeter City
LOCATION:Pirelli Stadium
DESCRIPTION:Burton Albion v Exeter City - Pirelli Stadium - Sky Bet League
  One
STATUS:CONFIRMED
END:VEVENT
BEGIN:VEVENT
UID:14ea9d0636a339fb354d50c43175bf99@skysports.com
SEQUENCE:0
DTSTAMP:20260425T090308Z
DTSTART:20260502T140000Z
DTEND:20260502T160000Z
SUMMARY:Leyton Orient v Burton Albion
LOCATION:BetWright Stadium
DESCRIPTION:Leyton Orient v Burton Albion - BetWright Stadium - Sky Bet Le
 ague One
STATUS:CONFIRMED
END:VEVENT
BEGIN:VEVENT
UID:017292d6b2892444632ed1bcf6de19be@skysports.com
SEQUENCE:0
DTSTAMP:20260425T090308Z
DTSTART:20250819T184500Z
DTEND:20250819T204500Z
SUMMARY:Tranmere Rovers v Burton Albion
LOCATION:Prenton Park
DESCRIPTION:Tranmere Rovers v Burton Albion - Prenton Park - Carabao Cup -
  Live on Sky Sports+
STATUS:CONFIRMED
END:VEVENT
BEGIN:VEVENT
UID:dd64515b468d10e166dd03004502cfd9@skysports.com
SEQUENCE:0
DTSTAMP:20260425T090308Z
DTSTART:20250902T180000Z
DTEND:20250902T200000Z
SUMMARY:Burton Albion v Liverpool U21
LOCATION:Pirelli Stadium
DESCRIPTION:Burton Albion v Liverpool U21 - Pirelli Stadium - Vertu Trophy
  - Live on Sky Sports+
STATUS:CONFIRMED
END:VEVENT
BEGIN:VEVENT
UID:952a81135b1192711405af1070a0b5d4@skysports.com
SEQUENCE:0
DTSTAMP:20260425T090308Z
DTSTART:20251007T180000Z
DTEND:20251007T200000Z
SUMMARY:Chesterfield v Burton Albion
LOCATION:Technique Stadium
DESCRIPTION:Chesterfield v Burton Albion - Technique Stadium - Vertu Troph
 y - Live on Sky Sports+
STATUS:CONFIRMED
END:VEVENT
BEGIN:VEVENT
UID:17b57a8a7a81f0762f3a9af298d92f3c@skysports.com
SEQUENCE:0
DTSTAMP:20260425T090308Z
DTSTART:20251111T190000Z
DTEND:20251111T210000Z
SUMMARY:Burton Albion v Crewe Alexandra
LOCATION:Pirelli Stadium
DESCRIPTION:Burton Albion v Crewe Alexandra - Pirelli Stadium - Vertu Trop
 hy - Live on Sky Sports+
STATUS:CONFIRMED
END:VEVENT
BEGIN:VEVENT
UID:d509dfa5c395f0fd07154a867d9e4ad8@skysports.com
SEQUENCE:0
DTSTAMP:20260425T090308Z
DTSTART:20250826T184500Z
DTEND:20250826T204500Z
SUMMARY:Burton Albion v Lincoln City
LOCATION:Pirelli Stadium
DESCRIPTION:Burton Albion v Lincoln City - Pirelli Stadium - Carabao Cup -
  Live on Sky Sports+
STATUS:CONFIRMED
END:VEVENT
BEGIN:VEVENT
UID:f979f1bb9f98ee35e40fd81f13c9be63@skysports.com
SEQUENCE:0
DTSTAMP:20260425T090308Z
DTSTART:20251101T150000Z
DTEND:20251101T170000Z
SUMMARY:Burton Albion v St Albans
LOCATION:Pirelli Stadium
DESCRIPTION:Burton Albion v St Albans - Pirelli Stadium - The FA Cup
STATUS:CONFIRMED
END:VEVENT
BEGIN:VEVENT
UID:6cf11c1c4496f1c233d76aa16c6149c1@skysports.com
SEQUENCE:0
DTSTAMP:20260425T090308Z
DTSTART:20251208T193000Z
DTEND:20251208T213000Z
SUMMARY:Brackley Town v Burton Albion
LOCATION:St. James Park
DESCRIPTION:Brackley Town v Burton Albion - St. James Park - The FA Cup
STATUS:CONFIRMED
END:VEVENT
BEGIN:VEVENT
UID:e39c31adf1175f89c402674c853625bc@skysports.com
SEQUENCE:0
DTSTAMP:20260425T090308Z
DTSTART:20260110T150000Z
DTEND:20260110T170000Z
SUMMARY:Boreham Wood v Burton Albion
LOCATION:Managata Pay UK Stadium
DESCRIPTION:Boreham Wood v Burton Albion - Managata Pay UK Stadium - The F
 A Cup
STATUS:CONFIRMED
END:VEVENT
BEGIN:VEVENT
UID:115137afddf8133b7a29ab3f8230a092@skysports.com
SEQUENCE:0
DTSTAMP:20260425T090308Z
DTSTART:20260214T121500Z
DTEND:20260214T141500Z
SUMMARY:Burton Albion v West Ham United
LOCATION:Pirelli Stadium
DESCRIPTION:Burton Albion v West Ham United - Pirelli Stadium - The FA Cup
STATUS:CONFIRMED
END:VEVENT
END:VCALENDAR