BEGIN:VCALENDAR
VERSION:2.0
PRODID:-//Sky Sports SSDM//NONSGML Event Calendar//EN
URL:https://www.skysports.com/calendars/football/fixtures/teams/cagliari
CALSCALE:GREGORIAN
METHOD:PUBLISH
NAME:Cagliari Fixtures
X-WR-CALNAME:Cagliari Fixtures
X-WR-CALDESC:Cagliari fixtures provided by Sky Sports (https://www.skyspor
 ts.com)
REFRESH-INTERVAL;VALUE=DURATION:PT1H
X-PUBLISHED-TTL:PT1H
BEGIN:VEVENT
UID:4a5f8eaed7543710734eb1d4f8528754@skysports.com
SEQUENCE:0
DTSTAMP:20260425T091111Z
DTSTART:20250824T163000Z
DTEND:20250824T183000Z
SUMMARY:Cagliari v Fiorentina
LOCATION:Sardegna Arena
DESCRIPTION:Cagliari v Fiorentina - Sardegna Arena - Italian Serie A
STATUS:CONFIRMED
END:VEVENT
BEGIN:VEVENT
UID:ba2ec80e5ef5933b388d1d603126834d@skysports.com
SEQUENCE:0
DTSTAMP:20260425T091111Z
DTSTART:20250830T184500Z
DTEND:20250830T204500Z
SUMMARY:Napoli v Cagliari
LOCATION:Diego Armando Maradona
DESCRIPTION:Napoli v Cagliari - Diego Armando Maradona - Italian Serie A
STATUS:CONFIRMED
END:VEVENT
BEGIN:VEVENT
UID:2edfe8c2471b48694150a06ecb11ad9c@skysports.com
SEQUENCE:0
DTSTAMP:20260425T091111Z
DTSTART:20250913T130000Z
DTEND:20250913T150000Z
SUMMARY:Cagliari v Parma
LOCATION:Sardegna Arena
DESCRIPTION:Cagliari v Parma - Sardegna Arena - Italian Serie A
STATUS:CONFIRMED
END:VEVENT
BEGIN:VEVENT
UID:9d071ea409bbe9df4d9f79cd3d764563@skysports.com
SEQUENCE:0
DTSTAMP:20260425T091111Z
DTSTART:20250919T184500Z
DTEND:20250919T204500Z
SUMMARY:Lecce v Cagliari
LOCATION:Via Del Mare
DESCRIPTION:Lecce v Cagliari - Via Del Mare - Italian Serie A
STATUS:CONFIRMED
END:VEVENT
BEGIN:VEVENT
UID:a51930bfaa9b2aa441e2750550e4222d@skysports.com
SEQUENCE:0
DTSTAMP:20260425T091111Z
DTSTART:20250927T184500Z
DTEND:20250927T204500Z
SUMMARY:Cagliari v Inter Milan
LOCATION:Sardegna Arena
DESCRIPTION:Cagliari v Inter Milan - Sardegna Arena - Italian Serie A
STATUS:CONFIRMED
END:VEVENT
BEGIN:VEVENT
UID:9699cb75b57a4cbe74ab5335d6cba626@skysports.com
SEQUENCE:0
DTSTAMP:20260425T091111Z
DTSTART:20251005T103000Z
DTEND:20251005T123000Z
SUMMARY:Udinese v Cagliari
LOCATION:Dacia Arena
DESCRIPTION:Udinese v Cagliari - Dacia Arena - Italian Serie A
STATUS:CONFIRMED
END:VEVENT
BEGIN:VEVENT
UID:8670614f4edf25116b8993d3cc5bb1ac@skysports.com
SEQUENCE:0
DTSTAMP:20260425T091111Z
DTSTART:20251019T130000Z
DTEND:20251019T150000Z
SUMMARY:Cagliari v Bologna
LOCATION:Sardegna Arena
DESCRIPTION:Cagliari v Bologna - Sardegna Arena - Italian Serie A
STATUS:CONFIRMED
END:VEVENT
BEGIN:VEVENT
UID:049eb34c8efebfa270e8ced6a591445e@skysports.com
SEQUENCE:0
DTSTAMP:20260425T091111Z
DTSTART:20251026T140000Z
DTEND:20251026T160000Z
SUMMARY:Verona v Cagliari
LOCATION:Marc'Antonio Bentegodi
DESCRIPTION:Verona v Cagliari - Marc'Antonio Bentegodi - Italian Serie A
STATUS:CONFIRMED
END:VEVENT
BEGIN:VEVENT
UID:8a0c484f1dc39cb81a483e28f0f392cf@skysports.com
SEQUENCE:0
DTSTAMP:20260425T091111Z
DTSTART:20251030T173000Z
DTEND:20251030T193000Z
SUMMARY:Cagliari v Sassuolo
LOCATION:Sardegna Arena
DESCRIPTION:Cagliari v Sassuolo - Sardegna Arena - Italian Serie A
STATUS:CONFIRMED
END:VEVENT
BEGIN:VEVENT
UID:77c3256f21fe9d5a3fa35ba53192be65@skysports.com
SEQUENCE:0
DTSTAMP:20260425T091111Z
DTSTART:20251103T194500Z
DTEND:20251103T214500Z
SUMMARY:Lazio v Cagliari
LOCATION:Olimpico
DESCRIPTION:Lazio v Cagliari - Olimpico - Italian Serie A
STATUS:CONFIRMED
END:VEVENT
BEGIN:VEVENT
UID:03e05e9177e8a8fc5d6b860398a04cc6@skysports.com
SEQUENCE:0
DTSTAMP:20260425T091111Z
DTSTART:20251108T140000Z
DTEND:20251108T160000Z
SUMMARY:Como v Cagliari
LOCATION:Giuseppe Sinigaglia
DESCRIPTION:Como v Cagliari - Giuseppe Sinigaglia - Italian Serie A
STATUS:CONFIRMED
END:VEVENT
BEGIN:VEVENT
UID:02297364cc3b2c01407f498c4fc00ecb@skysports.com
SEQUENCE:0
DTSTAMP:20260425T091111Z
DTSTART:20251122T140000Z
DTEND:20251122T160000Z
SUMMARY:Cagliari v Genoa
LOCATION:Sardegna Arena
DESCRIPTION:Cagliari v Genoa - Sardegna Arena - Italian Serie A
STATUS:CONFIRMED
END:VEVENT
BEGIN:VEVENT
UID:f4c8f5911f6cfc42c19c684a50183c72@skysports.com
SEQUENCE:0
DTSTAMP:20260425T091111Z
DTSTART:20251129T170000Z
DTEND:20251129T190000Z
SUMMARY:Juventus v Cagliari
LOCATION:Juventus Stadium
DESCRIPTION:Juventus v Cagliari - Juventus Stadium - Italian Serie A
STATUS:CONFIRMED
END:VEVENT
BEGIN:VEVENT
UID:87b65b5e8edc0ff9b55d952e1b351d8e@skysports.com
SEQUENCE:0
DTSTAMP:20260425T091111Z
DTSTART:20251207T140000Z
DTEND:20251207T160000Z
SUMMARY:Cagliari v Roma
LOCATION:Sardegna Arena
DESCRIPTION:Cagliari v Roma - Sardegna Arena - Italian Serie A
STATUS:CONFIRMED
END:VEVENT
BEGIN:VEVENT
UID:602367beeee1dbd315fbd5528355ea68@skysports.com
SEQUENCE:0
DTSTAMP:20260425T091111Z
DTSTART:20251213T194500Z
DTEND:20251213T214500Z
SUMMARY:Atalanta v Cagliari
LOCATION:Gewiss Stadium
DESCRIPTION:Atalanta v Cagliari - Gewiss Stadium - Italian Serie A
STATUS:CONFIRMED
END:VEVENT
BEGIN:VEVENT
UID:0a8a2d0526867488e12e750867769c1e@skysports.com
SEQUENCE:0
DTSTAMP:20260425T091111Z
DTSTART:20251221T113000Z
DTEND:20251221T133000Z
SUMMARY:Cagliari v Pisa
LOCATION:Sardegna Arena
DESCRIPTION:Cagliari v Pisa - Sardegna Arena - Italian Serie A
STATUS:CONFIRMED
END:VEVENT
BEGIN:VEVENT
UID:0a3c2d6ccfc4a2868b9b61b28438c54a@skysports.com
SEQUENCE:0
DTSTAMP:20260425T091111Z
DTSTART:20251227T140000Z
DTEND:20251227T160000Z
SUMMARY:Torino v Cagliari
LOCATION:Olimpico di Torino
DESCRIPTION:Torino v Cagliari - Olimpico di Torino - Italian Serie A
STATUS:CONFIRMED
END:VEVENT
BEGIN:VEVENT
UID:2a15d9711451879b2aae5bf748e5c1a5@skysports.com
SEQUENCE:0
DTSTAMP:20260425T091111Z
DTSTART:20260102T194500Z
DTEND:20260102T214500Z
SUMMARY:Cagliari v AC Milan
LOCATION:Sardegna Arena
DESCRIPTION:Cagliari v AC Milan - Sardegna Arena - Italian Serie A
STATUS:CONFIRMED
END:VEVENT
BEGIN:VEVENT
UID:8d167bfdda624c9f9d7489618bfba718@skysports.com
SEQUENCE:0
DTSTAMP:20260425T091111Z
DTSTART:20260108T173000Z
DTEND:20260108T193000Z
SUMMARY:Cremonese v Cagliari
LOCATION:Giovanni Zini
DESCRIPTION:Cremonese v Cagliari - Giovanni Zini - Italian Serie A
STATUS:CONFIRMED
END:VEVENT
BEGIN:VEVENT
UID:b596a08292500266f00bb66e06b0c7f3@skysports.com
SEQUENCE:0
DTSTAMP:20260425T091111Z
DTSTART:20260112T173000Z
DTEND:20260112T193000Z
SUMMARY:Genoa v Cagliari
LOCATION:Luigi Ferraris
DESCRIPTION:Genoa v Cagliari - Luigi Ferraris - Italian Serie A
STATUS:CONFIRMED
END:VEVENT
BEGIN:VEVENT
UID:0c5e2086ffa4ba240e7bf5bf7703b11a@skysports.com
SEQUENCE:0
DTSTAMP:20260425T091111Z
DTSTART:20260117T194500Z
DTEND:20260117T214500Z
SUMMARY:Cagliari v Juventus
LOCATION:Sardegna Arena
DESCRIPTION:Cagliari v Juventus - Sardegna Arena - Italian Serie A
STATUS:CONFIRMED
END:VEVENT
BEGIN:VEVENT
UID:d56a63fb2fcdb69cb71462582b072529@skysports.com
SEQUENCE:0
DTSTAMP:20260425T091111Z
DTSTART:20260124T170000Z
DTEND:20260124T190000Z
SUMMARY:Fiorentina v Cagliari
LOCATION:Artemio Franchi
DESCRIPTION:Fiorentina v Cagliari - Artemio Franchi - Italian Serie A
STATUS:CONFIRMED
END:VEVENT
BEGIN:VEVENT
UID:94d296bd1abbf330d863a775fab3c979@skysports.com
SEQUENCE:0
DTSTAMP:20260425T091111Z
DTSTART:20260131T194500Z
DTEND:20260131T214500Z
SUMMARY:Cagliari v Verona
LOCATION:Sardegna Arena
DESCRIPTION:Cagliari v Verona - Sardegna Arena - Italian Serie A
STATUS:CONFIRMED
END:VEVENT
BEGIN:VEVENT
UID:bf163423bdb4f552ad34a859592ccd7d@skysports.com
SEQUENCE:0
DTSTAMP:20260425T091111Z
DTSTART:20260209T194500Z
DTEND:20260209T214500Z
SUMMARY:Roma v Cagliari
LOCATION:Olimpico
DESCRIPTION:Roma v Cagliari - Olimpico - Italian Serie A
STATUS:CONFIRMED
END:VEVENT
BEGIN:VEVENT
UID:80e064d9034ec3c0c19c1b27bad03a91@skysports.com
SEQUENCE:0
DTSTAMP:20260425T091111Z
DTSTART:20260216T194500Z
DTEND:20260216T214500Z
SUMMARY:Cagliari v Lecce
LOCATION:Sardegna Arena
DESCRIPTION:Cagliari v Lecce - Sardegna Arena - Italian Serie A
STATUS:CONFIRMED
END:VEVENT
BEGIN:VEVENT
UID:721151a2b18a8d7a604c25bb9bc2ca2f@skysports.com
SEQUENCE:0
DTSTAMP:20260425T091111Z
DTSTART:20260221T194500Z
DTEND:20260221T214500Z
SUMMARY:Cagliari v Lazio
LOCATION:Sardegna Arena
DESCRIPTION:Cagliari v Lazio - Sardegna Arena - Italian Serie A
STATUS:CONFIRMED
END:VEVENT
BEGIN:VEVENT
UID:2d92823b07d5745b0c78aebb3b359768@skysports.com
SEQUENCE:0
DTSTAMP:20260425T091111Z
DTSTART:20260227T194500Z
DTEND:20260227T214500Z
SUMMARY:Parma v Cagliari
LOCATION:Ennio Tardini
DESCRIPTION:Parma v Cagliari - Ennio Tardini - Italian Serie A
STATUS:CONFIRMED
END:VEVENT
BEGIN:VEVENT
UID:7f0518ebbbe23e3f9d7b3b212d0cb392@skysports.com
SEQUENCE:0
DTSTAMP:20260425T091111Z
DTSTART:20260307T140000Z
DTEND:20260307T160000Z
SUMMARY:Cagliari v Como
LOCATION:Sardegna Arena
DESCRIPTION:Cagliari v Como - Sardegna Arena - Italian Serie A
STATUS:CONFIRMED
END:VEVENT
BEGIN:VEVENT
UID:9628762f795e59e3d766f23dabb3366b@skysports.com
SEQUENCE:0
DTSTAMP:20260425T091111Z
DTSTART:20260315T140000Z
DTEND:20260315T160000Z
SUMMARY:Pisa v Cagliari
LOCATION:Arena Garibaldi Romeo Anconetani
DESCRIPTION:Pisa v Cagliari - Arena Garibaldi Romeo Anconetani - Italian S
 erie A
STATUS:CONFIRMED
END:VEVENT
BEGIN:VEVENT
UID:1bee87bedea7d68141e41502cdb37686@skysports.com
SEQUENCE:0
DTSTAMP:20260425T091111Z
DTSTART:20260320T173000Z
DTEND:20260320T193000Z
SUMMARY:Cagliari v Napoli
LOCATION:Sardegna Arena
DESCRIPTION:Cagliari v Napoli - Sardegna Arena - Italian Serie A
STATUS:CONFIRMED
END:VEVENT
BEGIN:VEVENT
UID:4173f20687887aa27082fad4fb765c4c@skysports.com
SEQUENCE:0
DTSTAMP:20260425T091111Z
DTSTART:20260404T130000Z
DTEND:20260404T150000Z
SUMMARY:Sassuolo v Cagliari
LOCATION:Citta del Tricolore
DESCRIPTION:Sassuolo v Cagliari - Citta del Tricolore - Italian Serie A
STATUS:CONFIRMED
END:VEVENT
BEGIN:VEVENT
UID:f63660c3902b5865aa3b143c76ee06b9@skysports.com
SEQUENCE:0
DTSTAMP:20260425T091111Z
DTSTART:20260411T130000Z
DTEND:20260411T150000Z
SUMMARY:Cagliari v Cremonese
LOCATION:Sardegna Arena
DESCRIPTION:Cagliari v Cremonese - Sardegna Arena - Italian Serie A
STATUS:CONFIRMED
END:VEVENT
BEGIN:VEVENT
UID:622bcddb8b01402f3c8a5872a754a93a@skysports.com
SEQUENCE:0
DTSTAMP:20260425T091111Z
DTSTART:20260417T184500Z
DTEND:20260417T204500Z
SUMMARY:Inter Milan v Cagliari
LOCATION:Giuseppe Meazza
DESCRIPTION:Inter Milan v Cagliari - Giuseppe Meazza - Italian Serie A
STATUS:CONFIRMED
END:VEVENT
BEGIN:VEVENT
UID:d16ed3360ce2f7aa352602cfb933406e@skysports.com
SEQUENCE:0
DTSTAMP:20260425T091111Z
DTSTART:20260427T163000Z
DTEND:20260427T183000Z
SUMMARY:Cagliari v Atalanta
LOCATION:Sardegna Arena
DESCRIPTION:Cagliari v Atalanta - Sardegna Arena - Italian Serie A
STATUS:CONFIRMED
END:VEVENT
BEGIN:VEVENT
UID:f0cb76c3d56c638864c99f075eb0a167@skysports.com
SEQUENCE:0
DTSTAMP:20260425T091111Z
DTSTART:20260503T103000Z
DTEND:20260503T123000Z
SUMMARY:Bologna v Cagliari
LOCATION:Renato Dall'Ara
DESCRIPTION:Bologna v Cagliari - Renato Dall'Ara - Italian Serie A
STATUS:CONFIRMED
END:VEVENT
BEGIN:VEVENT
UID:8b221e29f1bd0966d58885d0e7b49efc@skysports.com
SEQUENCE:0
DTSTAMP:20260425T091111Z
DTSTART:20260509T130000Z
DTEND:20260509T150000Z
SUMMARY:Cagliari v Udinese
LOCATION:Sardegna Arena
DESCRIPTION:Cagliari v Udinese - Sardegna Arena - Italian Serie A
STATUS:CONFIRMED
END:VEVENT
BEGIN:VEVENT
UID:0bd9c8ec40dc639a3f6a11d5442920a6@skysports.com
SEQUENCE:0
DTSTAMP:20260425T091111Z
DTSTART:20260517T130000Z
DTEND:20260517T150000Z
SUMMARY:Cagliari v Torino
LOCATION:Sardegna Arena
DESCRIPTION:Cagliari v Torino - Sardegna Arena - Italian Serie A
STATUS:CONFIRMED
END:VEVENT
BEGIN:VEVENT
UID:c30ec69dce5958fab1ac057fd4a599a2@skysports.com
SEQUENCE:0
DTSTAMP:20260425T091111Z
DTSTART:20260524T130000Z
DTEND:20260524T150000Z
SUMMARY:AC Milan v Cagliari
LOCATION:Giuseppe Meazza
DESCRIPTION:AC Milan v Cagliari - Giuseppe Meazza - Italian Serie A
STATUS:CONFIRMED
END:VEVENT
BEGIN:VEVENT
UID:3f0c2318280f4da47011e81a8ccc2c77@skysports.com
SEQUENCE:0
DTSTAMP:20260425T091111Z
DTSTART:20250723T173000Z
DTEND:20250723T193000Z
SUMMARY:Galatasaray v Cagliari
LOCATION:Raiffeisen Arena
DESCRIPTION:Galatasaray v Cagliari - Raiffeisen Arena - Friendly Match
STATUS:CONFIRMED
END:VEVENT
BEGIN:VEVENT
UID:8bba3de9ae8541305ae01e7be333c913@skysports.com
SEQUENCE:0
DTSTAMP:20260425T091111Z
DTSTART:20250816T184500Z
DTEND:20250816T204500Z
SUMMARY:Cagliari v Virtus Entella
LOCATION:Sardegna Arena
DESCRIPTION:Cagliari v Virtus Entella - Sardegna Arena - Coppa Italia
STATUS:CONFIRMED
END:VEVENT
BEGIN:VEVENT
UID:2a0a03c120f8d153b3a330fb8c409159@skysports.com
SEQUENCE:0
DTSTAMP:20260425T091111Z
DTSTART:20250923T150000Z
DTEND:20250923T170000Z
SUMMARY:Cagliari v Frosinone
LOCATION:Sardegna Arena
DESCRIPTION:Cagliari v Frosinone - Sardegna Arena - Coppa Italia
STATUS:CONFIRMED
END:VEVENT
BEGIN:VEVENT
UID:4fa2efbf40123b6e58faa87ad8e2aa78@skysports.com
SEQUENCE:0
DTSTAMP:20260425T091111Z
DTSTART:20251203T170000Z
DTEND:20251203T190000Z
SUMMARY:Napoli v Cagliari
LOCATION:Diego Armando Maradona
DESCRIPTION:Napoli v Cagliari - Diego Armando Maradona - Coppa Italia
STATUS:CONFIRMED
END:VEVENT
END:VCALENDAR