BEGIN:VCALENDAR
VERSION:2.0
PRODID:-//Sky Sports SSDM//NONSGML Event Calendar//EN
URL:https://www.skysports.com/calendars/football/fixtures/teams/cardiff-ci
 ty
CALSCALE:GREGORIAN
METHOD:PUBLISH
NAME:Cardiff City Fixtures
X-WR-CALNAME:Cardiff City Fixtures
X-WR-CALDESC:Cardiff City fixtures provided by Sky Sports (https://www.sky
 sports.com)
REFRESH-INTERVAL;VALUE=DURATION:PT1H
X-PUBLISHED-TTL:PT1H
BEGIN:VEVENT
UID:e98af50103f31750abf5db59e7c03de9@skysports.com
SEQUENCE:0
DTSTAMP:20260425T090106Z
DTSTART:20250802T113000Z
DTEND:20250802T133000Z
SUMMARY:Cardiff City v Peterborough United
LOCATION:Cardiff City Stadium
DESCRIPTION:Cardiff City v Peterborough United - Cardiff City Stadium - Sk
 y Bet League One - Live on Sky Sports Football
STATUS:CONFIRMED
END:VEVENT
BEGIN:VEVENT
UID:9ab6d4bf14faa319542252fb4148b8f8@skysports.com
SEQUENCE:0
DTSTAMP:20260425T090106Z
DTSTART:20250807T190000Z
DTEND:20250807T210000Z
SUMMARY:Port Vale v Cardiff City
LOCATION:Vale Park
DESCRIPTION:Port Vale v Cardiff City - Vale Park - Sky Bet League One - Li
 ve on Sky Sports Football
STATUS:CONFIRMED
END:VEVENT
BEGIN:VEVENT
UID:070533dd57d705b79621c55fd4948000@skysports.com
SEQUENCE:0
DTSTAMP:20260425T090106Z
DTSTART:20250816T140000Z
DTEND:20250816T160000Z
SUMMARY:Cardiff City v Rotherham United
LOCATION:Cardiff City Stadium
DESCRIPTION:Cardiff City v Rotherham United - Cardiff City Stadium - Sky B
 et League One
STATUS:CONFIRMED
END:VEVENT
BEGIN:VEVENT
UID:de0e036cf382f6448be923ab4f5bf418@skysports.com
SEQUENCE:0
DTSTAMP:20260425T090106Z
DTSTART:20250819T184500Z
DTEND:20250819T204500Z
SUMMARY:AFC Wimbledon v Cardiff City
LOCATION:The Cherry Red Records Stadium
DESCRIPTION:AFC Wimbledon v Cardiff City - The Cherry Red Records Stadium 
 - Sky Bet League One - Live on Sky Sports+
STATUS:CONFIRMED
END:VEVENT
BEGIN:VEVENT
UID:1bd21f86284d3cb74bbf5859de1a7f3e@skysports.com
SEQUENCE:0
DTSTAMP:20260425T090106Z
DTSTART:20250823T113000Z
DTEND:20250823T133000Z
SUMMARY:Luton Town v Cardiff City
LOCATION:Kenilworth Road
DESCRIPTION:Luton Town v Cardiff City - Kenilworth Road - Sky Bet League O
 ne - Live on Sky Sports+
STATUS:CONFIRMED
END:VEVENT
BEGIN:VEVENT
UID:f2e346bc60a53ae61ddcb3823a6a2d3c@skysports.com
SEQUENCE:0
DTSTAMP:20260425T090106Z
DTSTART:20250830T113000Z
DTEND:20250830T133000Z
SUMMARY:Cardiff City v Plymouth Argyle
LOCATION:Cardiff City Stadium
DESCRIPTION:Cardiff City v Plymouth Argyle - Cardiff City Stadium - Sky Be
 t League One - Live on Sky Sports+
STATUS:CONFIRMED
END:VEVENT
BEGIN:VEVENT
UID:eca8d11dee29fc9c2321870e89e8aaf1@skysports.com
SEQUENCE:0
DTSTAMP:20260425T090106Z
DTSTART:20250930T184500Z
DTEND:20250930T204500Z
SUMMARY:Cardiff City v Burton Albion
LOCATION:Cardiff City Stadium
DESCRIPTION:Cardiff City v Burton Albion - Cardiff City Stadium - Sky Bet 
 League One - Live on Sky Sports+
STATUS:CONFIRMED
END:VEVENT
BEGIN:VEVENT
UID:bafc70e5b2f050bda78b593060199451@skysports.com
SEQUENCE:0
DTSTAMP:20260425T090106Z
DTSTART:20250913T140000Z
DTEND:20250913T160000Z
SUMMARY:Stockport County v Cardiff City
LOCATION:Edgeley Park
DESCRIPTION:Stockport County v Cardiff City - Edgeley Park - Sky Bet Leagu
 e One
STATUS:CONFIRMED
END:VEVENT
BEGIN:VEVENT
UID:612af51c2dbf7128eef506e5862c60cb@skysports.com
SEQUENCE:0
DTSTAMP:20260425T090106Z
DTSTART:20250920T140000Z
DTEND:20250920T160000Z
SUMMARY:Cardiff City v Bradford City
LOCATION:Cardiff City Stadium
DESCRIPTION:Cardiff City v Bradford City - Cardiff City Stadium - Sky Bet 
 League One
STATUS:CONFIRMED
END:VEVENT
BEGIN:VEVENT
UID:0505669499dcd2954b45ebbf6d42fb48@skysports.com
SEQUENCE:0
DTSTAMP:20260425T090106Z
DTSTART:20250927T140000Z
DTEND:20250927T160000Z
SUMMARY:Wigan Athletic v Cardiff City
LOCATION:DW Stadium
DESCRIPTION:Wigan Athletic v Cardiff City - DW Stadium - Sky Bet League On
 e
STATUS:CONFIRMED
END:VEVENT
BEGIN:VEVENT
UID:15d88d88ed18e8a74f2289b534950ddb@skysports.com
SEQUENCE:0
DTSTAMP:20260425T090106Z
DTSTART:20251004T140000Z
DTEND:20251004T160000Z
SUMMARY:Cardiff City v Leyton Orient
LOCATION:Cardiff City Stadium
DESCRIPTION:Cardiff City v Leyton Orient - Cardiff City Stadium - Sky Bet 
 League One
STATUS:CONFIRMED
END:VEVENT
BEGIN:VEVENT
UID:3db85aed9727c321e1ad0fd54a493820@skysports.com
SEQUENCE:0
DTSTAMP:20260425T090106Z
DTSTART:20260310T194500Z
DTEND:20260310T214500Z
SUMMARY:Barnsley v Cardiff City
LOCATION:Oakwell Stadium
DESCRIPTION:Barnsley v Cardiff City - Oakwell Stadium - Sky Bet League One
  - Live on Sky Sports+
STATUS:CONFIRMED
END:VEVENT
BEGIN:VEVENT
UID:56db3b65895301feaaa6b10bbf7b0e18@skysports.com
SEQUENCE:0
DTSTAMP:20260425T090106Z
DTSTART:20251018T140000Z
DTEND:20251018T160000Z
SUMMARY:Cardiff City v Reading
LOCATION:Cardiff City Stadium
DESCRIPTION:Cardiff City v Reading - Cardiff City Stadium - Sky Bet League
  One
STATUS:CONFIRMED
END:VEVENT
BEGIN:VEVENT
UID:5f7060ac026f7f12379050feadd7cf9f@skysports.com
SEQUENCE:0
DTSTAMP:20260425T090106Z
DTSTART:20251025T113000Z
DTEND:20251025T133000Z
SUMMARY:Bolton Wanderers v Cardiff City
LOCATION:University of Bolton Stadium
DESCRIPTION:Bolton Wanderers v Cardiff City - University of Bolton Stadium
  - Sky Bet League One - Live on Sky Sports+
STATUS:CONFIRMED
END:VEVENT
BEGIN:VEVENT
UID:53b5f67653d86f7bf794857db05d562f@skysports.com
SEQUENCE:0
DTSTAMP:20260425T090106Z
DTSTART:20251108T150000Z
DTEND:20251108T170000Z
SUMMARY:Blackpool v Cardiff City
LOCATION:Bloomfield Road
DESCRIPTION:Blackpool v Cardiff City - Bloomfield Road - Sky Bet League On
 e
STATUS:CONFIRMED
END:VEVENT
BEGIN:VEVENT
UID:3618a732b7ef48e2b113846690b07fe7@skysports.com
SEQUENCE:0
DTSTAMP:20260425T090106Z
DTSTART:20251206T123000Z
DTEND:20251206T143000Z
SUMMARY:Cardiff City v Huddersfield Town
LOCATION:Cardiff City Stadium
DESCRIPTION:Cardiff City v Huddersfield Town - Cardiff City Stadium - Sky 
 Bet League One - Live on Sky Sports+
STATUS:CONFIRMED
END:VEVENT
BEGIN:VEVENT
UID:d63d656d32db3e0c8fc3a908833d48de@skysports.com
SEQUENCE:0
DTSTAMP:20260425T090106Z
DTSTART:20251122T150000Z
DTEND:20251122T170000Z
SUMMARY:Northampton Town v Cardiff City
LOCATION:Sixfields Stadium
DESCRIPTION:Northampton Town v Cardiff City - Sixfields Stadium - Sky Bet 
 League One
STATUS:CONFIRMED
END:VEVENT
BEGIN:VEVENT
UID:b42c0daebfb91367f1bab8c0b8428bfe@skysports.com
SEQUENCE:0
DTSTAMP:20260425T090106Z
DTSTART:20251129T150000Z
DTEND:20251129T170000Z
SUMMARY:Cardiff City v Mansfield Town
LOCATION:Cardiff City Stadium
DESCRIPTION:Cardiff City v Mansfield Town - Cardiff City Stadium - Sky Bet
  League One
STATUS:CONFIRMED
END:VEVENT
BEGIN:VEVENT
UID:bfbb490ddbfb1653633cdb5b81f37444@skysports.com
SEQUENCE:0
DTSTAMP:20260425T090106Z
DTSTART:20251209T200000Z
DTEND:20251209T220000Z
SUMMARY:Stevenage v Cardiff City
LOCATION:Lamex Stadium
DESCRIPTION:Stevenage v Cardiff City - Lamex Stadium - Sky Bet League One 
 - Live on Sky Sports+
STATUS:CONFIRMED
END:VEVENT
BEGIN:VEVENT
UID:b0238632107e72b4014972896cd99e79@skysports.com
SEQUENCE:0
DTSTAMP:20260425T090106Z
DTSTART:20251213T150000Z
DTEND:20251213T170000Z
SUMMARY:Cardiff City v Doncaster Rovers
LOCATION:Cardiff City Stadium
DESCRIPTION:Cardiff City v Doncaster Rovers - Cardiff City Stadium - Sky B
 et League One
STATUS:CONFIRMED
END:VEVENT
BEGIN:VEVENT
UID:05e9d08aa0c6c79055c604bfe50702ea@skysports.com
SEQUENCE:0
DTSTAMP:20260425T090106Z
DTSTART:20251220T150000Z
DTEND:20251220T170000Z
SUMMARY:Lincoln City v Cardiff City
LOCATION:LNER Stadium
DESCRIPTION:Lincoln City v Cardiff City - LNER Stadium - Sky Bet League On
 e
STATUS:CONFIRMED
END:VEVENT
BEGIN:VEVENT
UID:3d43f5bbacc76179548a380500f22ca3@skysports.com
SEQUENCE:0
DTSTAMP:20260425T090106Z
DTSTART:20251226T150000Z
DTEND:20251226T170000Z
SUMMARY:Cardiff City v Exeter City
LOCATION:Cardiff City Stadium
DESCRIPTION:Cardiff City v Exeter City - Cardiff City Stadium - Sky Bet Le
 ague One - Live on Sky Sports+
STATUS:CONFIRMED
END:VEVENT
BEGIN:VEVENT
UID:35f5781f56a21cf8856fe8c7db2c67e0@skysports.com
SEQUENCE:0
DTSTAMP:20260425T090106Z
DTSTART:20251229T194500Z
DTEND:20251229T214500Z
SUMMARY:Cardiff City v Stevenage
LOCATION:Cardiff City Stadium
DESCRIPTION:Cardiff City v Stevenage - Cardiff City Stadium - Sky Bet Leag
 ue One
STATUS:CONFIRMED
END:VEVENT
BEGIN:VEVENT
UID:e8d138f280133782477d87ce37bcd2eb@skysports.com
SEQUENCE:0
DTSTAMP:20260425T090106Z
DTSTART:20260101T150000Z
DTEND:20260101T170000Z
SUMMARY:Wycombe Wanderers v Cardiff City
LOCATION:Adams Park
DESCRIPTION:Wycombe Wanderers v Cardiff City - Adams Park - Sky Bet League
  One - Live on Sky Sports Football
STATUS:CONFIRMED
END:VEVENT
BEGIN:VEVENT
UID:de865505643b52520847b17b951297cf@skysports.com
SEQUENCE:0
DTSTAMP:20260425T090106Z
DTSTART:20260104T150000Z
DTEND:20260104T170000Z
SUMMARY:Cardiff City v Wigan Athletic
LOCATION:Cardiff City Stadium
DESCRIPTION:Cardiff City v Wigan Athletic - Cardiff City Stadium - Sky Bet
  League One
STATUS:CONFIRMED
END:VEVENT
BEGIN:VEVENT
UID:087e5762d45a446db46f0d7fae5acd0e@skysports.com
SEQUENCE:0
DTSTAMP:20260425T090106Z
DTSTART:20260110T150000Z
DTEND:20260110T170000Z
SUMMARY:Leyton Orient v Cardiff City
LOCATION:BetWright Stadium
DESCRIPTION:Leyton Orient v Cardiff City - BetWright Stadium - Sky Bet Lea
 gue One
STATUS:CONFIRMED
END:VEVENT
BEGIN:VEVENT
UID:bbfed387d3dd1a7f2b89e864151e4312@skysports.com
SEQUENCE:0
DTSTAMP:20260425T090106Z
DTSTART:20260117T123000Z
DTEND:20260117T143000Z
SUMMARY:Bradford City v Cardiff City
LOCATION:University of Bradford Stadium
DESCRIPTION:Bradford City v Cardiff City - University of Bradford Stadium 
 - Sky Bet League One - Live on Sky Sports+
STATUS:CONFIRMED
END:VEVENT
BEGIN:VEVENT
UID:634b03aa26a2e7f3312ed18f8255fef2@skysports.com
SEQUENCE:0
DTSTAMP:20260425T090106Z
DTSTART:20260124T123000Z
DTEND:20260124T143000Z
SUMMARY:Cardiff City v Stockport County
LOCATION:Cardiff City Stadium
DESCRIPTION:Cardiff City v Stockport County - Cardiff City Stadium - Sky B
 et League One - Live on Sky Sports+
STATUS:CONFIRMED
END:VEVENT
BEGIN:VEVENT
UID:4389969973b45aa402396318847038eb@skysports.com
SEQUENCE:0
DTSTAMP:20260425T090106Z
DTSTART:20260127T194500Z
DTEND:20260127T214500Z
SUMMARY:Cardiff City v Barnsley
LOCATION:Cardiff City Stadium
DESCRIPTION:Cardiff City v Barnsley - Cardiff City Stadium - Sky Bet Leagu
 e One - Live on Sky Sports+
STATUS:CONFIRMED
END:VEVENT
BEGIN:VEVENT
UID:ebf50787fdb8cbd6781b61574e80a499@skysports.com
SEQUENCE:0
DTSTAMP:20260425T090106Z
DTSTART:20260131T150000Z
DTEND:20260131T170000Z
SUMMARY:Burton Albion v Cardiff City
LOCATION:Pirelli Stadium
DESCRIPTION:Burton Albion v Cardiff City - Pirelli Stadium - Sky Bet Leagu
 e One
STATUS:CONFIRMED
END:VEVENT
BEGIN:VEVENT
UID:4db4ddc76a92ffaa8f77b1402dcdb64e@skysports.com
SEQUENCE:0
DTSTAMP:20260425T090106Z
DTSTART:20260207T150100Z
DTEND:20260207T170100Z
SUMMARY:Rotherham United v Cardiff City
LOCATION:New York Stadium
DESCRIPTION:Rotherham United v Cardiff City - New York Stadium - Sky Bet L
 eague One
STATUS:CONFIRMED
END:VEVENT
BEGIN:VEVENT
UID:863dc254168ab0b43fc83a3870e6b728@skysports.com
SEQUENCE:0
DTSTAMP:20260425T090106Z
DTSTART:20260214T150000Z
DTEND:20260214T170000Z
SUMMARY:Cardiff City v Luton Town
LOCATION:Cardiff City Stadium
DESCRIPTION:Cardiff City v Luton Town - Cardiff City Stadium - Sky Bet Lea
 gue One
STATUS:CONFIRMED
END:VEVENT
BEGIN:VEVENT
UID:cdcc02acb2c5209ab0fb565e80a37d33@skysports.com
SEQUENCE:0
DTSTAMP:20260425T090106Z
DTSTART:20260217T194500Z
DTEND:20260217T214500Z
SUMMARY:Cardiff City v AFC Wimbledon
LOCATION:Cardiff City Stadium
DESCRIPTION:Cardiff City v AFC Wimbledon - Cardiff City Stadium - Sky Bet 
 League One - Live on Sky Sports+
STATUS:CONFIRMED
END:VEVENT
BEGIN:VEVENT
UID:6db8c690a038461c8f2788be97c0cd59@skysports.com
SEQUENCE:0
DTSTAMP:20260425T090106Z
DTSTART:20260221T123000Z
DTEND:20260221T143000Z
SUMMARY:Plymouth Argyle v Cardiff City
LOCATION:Home Park
DESCRIPTION:Plymouth Argyle v Cardiff City - Home Park - Sky Bet League On
 e - Live on Sky Sports+
STATUS:CONFIRMED
END:VEVENT
BEGIN:VEVENT
UID:989b21cacc2372de02479ff2aa5c8a3e@skysports.com
SEQUENCE:0
DTSTAMP:20260425T090106Z
DTSTART:20260228T150000Z
DTEND:20260228T170000Z
SUMMARY:Doncaster Rovers v Cardiff City
LOCATION:Eco-Power Stadium
DESCRIPTION:Doncaster Rovers v Cardiff City - Eco-Power Stadium - Sky Bet 
 League One
STATUS:CONFIRMED
END:VEVENT
BEGIN:VEVENT
UID:bf9fa34ec2604640cc27a89e341d59cd@skysports.com
SEQUENCE:0
DTSTAMP:20260425T090106Z
DTSTART:20260307T123000Z
DTEND:20260307T143000Z
SUMMARY:Cardiff City v Lincoln City
LOCATION:Cardiff City Stadium
DESCRIPTION:Cardiff City v Lincoln City - Cardiff City Stadium - Sky Bet L
 eague One - Live on Sky Sports+
STATUS:CONFIRMED
END:VEVENT
BEGIN:VEVENT
UID:258fa7250db5ad2c79b3e9b8f73f6e7b@skysports.com
SEQUENCE:0
DTSTAMP:20260425T090106Z
DTSTART:20260314T150000Z
DTEND:20260314T170000Z
SUMMARY:Exeter City v Cardiff City
LOCATION:St James Park
DESCRIPTION:Exeter City v Cardiff City - St James Park - Sky Bet League On
 e
STATUS:CONFIRMED
END:VEVENT
BEGIN:VEVENT
UID:0e367b37bea3ce3c2844501282f50b72@skysports.com
SEQUENCE:0
DTSTAMP:20260425T090106Z
DTSTART:20260317T194500Z
DTEND:20260317T214500Z
SUMMARY:Cardiff City v Wycombe Wanderers
LOCATION:Cardiff City Stadium
DESCRIPTION:Cardiff City v Wycombe Wanderers - Cardiff City Stadium - Sky 
 Bet League One - Live on Sky Sports+
STATUS:CONFIRMED
END:VEVENT
BEGIN:VEVENT
UID:978bf091a001e9b74afc8e584d27670f@skysports.com
SEQUENCE:0
DTSTAMP:20260425T090106Z
DTSTART:20260321T123000Z
DTEND:20260321T143000Z
SUMMARY:Cardiff City v Blackpool
LOCATION:Cardiff City Stadium
DESCRIPTION:Cardiff City v Blackpool - Cardiff City Stadium - Sky Bet Leag
 ue One - Live on Sky Sports+
STATUS:CONFIRMED
END:VEVENT
BEGIN:VEVENT
UID:007bdb6477170a0efb58c26b79d5dcec@skysports.com
SEQUENCE:0
DTSTAMP:20260425T090106Z
DTSTART:20260414T184500Z
DTEND:20260414T204500Z
SUMMARY:Huddersfield Town v Cardiff City
LOCATION:The Accu Stadium
DESCRIPTION:Huddersfield Town v Cardiff City - The Accu Stadium - Sky Bet 
 League One - Live on Sky Sports+
STATUS:CONFIRMED
END:VEVENT
BEGIN:VEVENT
UID:55bd92264e899dc5cf3d57c321f271f4@skysports.com
SEQUENCE:0
DTSTAMP:20260425T090106Z
DTSTART:20260422T184500Z
DTEND:20260422T204500Z
SUMMARY:Cardiff City v Port Vale
LOCATION:Cardiff City Stadium
DESCRIPTION:Cardiff City v Port Vale - Cardiff City Stadium - Sky Bet Leag
 ue One - Live on Sky Sports+
STATUS:CONFIRMED
END:VEVENT
BEGIN:VEVENT
UID:c3ef18326df9e8e9608f5fffd179aa25@skysports.com
SEQUENCE:0
DTSTAMP:20260425T090106Z
DTSTART:20260406T140000Z
DTEND:20260406T160000Z
SUMMARY:Peterborough United v Cardiff City
LOCATION:Weston Homes Stadium
DESCRIPTION:Peterborough United v Cardiff City - Weston Homes Stadium - Sk
 y Bet League One - Live on Sky Sports+
STATUS:CONFIRMED
END:VEVENT
BEGIN:VEVENT
UID:5d0e733ee44e98658de843d531d05c1f@skysports.com
SEQUENCE:0
DTSTAMP:20260425T090106Z
DTSTART:20260411T113000Z
DTEND:20260411T133000Z
SUMMARY:Cardiff City v Bolton Wanderers
LOCATION:Cardiff City Stadium
DESCRIPTION:Cardiff City v Bolton Wanderers - Cardiff City Stadium - Sky B
 et League One - Live on Sky Sports+
STATUS:CONFIRMED
END:VEVENT
BEGIN:VEVENT
UID:76ad8d2ca84bc52a83ab54133d76e7d0@skysports.com
SEQUENCE:0
DTSTAMP:20260425T090106Z
DTSTART:20260418T140000Z
DTEND:20260418T160000Z
SUMMARY:Reading v Cardiff City
LOCATION:Select Car Leasing Stadium
DESCRIPTION:Reading v Cardiff City - Select Car Leasing Stadium - Sky Bet 
 League One
STATUS:CONFIRMED
END:VEVENT
BEGIN:VEVENT
UID:8f7b4fffbfd1b506aafc353c22705155@skysports.com
SEQUENCE:0
DTSTAMP:20260425T090106Z
DTSTART:20260425T140000Z
DTEND:20260425T160000Z
SUMMARY:Cardiff City v Northampton Town
LOCATION:Cardiff City Stadium
DESCRIPTION:Cardiff City v Northampton Town - Cardiff City Stadium - Sky B
 et League One
STATUS:CONFIRMED
END:VEVENT
BEGIN:VEVENT
UID:1f3bc20bbd396a2fd5a2b275db8165aa@skysports.com
SEQUENCE:0
DTSTAMP:20260425T090106Z
DTSTART:20260502T140000Z
DTEND:20260502T160000Z
SUMMARY:Mansfield Town v Cardiff City
LOCATION:One Call Stadium
DESCRIPTION:Mansfield Town v Cardiff City - One Call Stadium - Sky Bet Lea
 gue One
STATUS:CONFIRMED
END:VEVENT
BEGIN:VEVENT
UID:d207886ddadf0fcdc1f1ed648c31fe13@skysports.com
SEQUENCE:0
DTSTAMP:20260425T090106Z
DTSTART:20250812T184500Z
DTEND:20250812T204500Z
SUMMARY:Cardiff City v Swindon Town
LOCATION:Cardiff City Stadium
DESCRIPTION:Cardiff City v Swindon Town - Cardiff City Stadium - Carabao C
 up - Live on Sky Sports+
STATUS:CONFIRMED
END:VEVENT
BEGIN:VEVENT
UID:82d0d584e0175df50f50db9211e29ee1@skysports.com
SEQUENCE:0
DTSTAMP:20260425T090106Z
DTSTART:20250916T180000Z
DTEND:20250916T200000Z
SUMMARY:Exeter City v Cardiff City
LOCATION:St James Park
DESCRIPTION:Exeter City v Cardiff City - St James Park - Vertu Trophy - Li
 ve on Sky Sports+
STATUS:CONFIRMED
END:VEVENT
BEGIN:VEVENT
UID:c0e70e8bbb45c7c9c315dad63cc06955@skysports.com
SEQUENCE:0
DTSTAMP:20260425T090106Z
DTSTART:20251007T184500Z
DTEND:20251007T204500Z
SUMMARY:Cardiff City v Newport County AFC
LOCATION:Cardiff City Stadium
DESCRIPTION:Cardiff City v Newport County AFC - Cardiff City Stadium - Ver
 tu Trophy - Live on Sky Sports+
STATUS:CONFIRMED
END:VEVENT
BEGIN:VEVENT
UID:c601f5fe41ccce9bfc4c1bf93bd8f58a@skysports.com
SEQUENCE:0
DTSTAMP:20260425T090106Z
DTSTART:20250826T184500Z
DTEND:20250826T204500Z
SUMMARY:Cardiff City v Cheltenham Town
LOCATION:Cardiff City Stadium
DESCRIPTION:Cardiff City v Cheltenham Town - Cardiff City Stadium - Caraba
 o Cup - Live on Sky Sports+
STATUS:CONFIRMED
END:VEVENT
BEGIN:VEVENT
UID:507985e4e88de4b12206c97bd1518d50@skysports.com
SEQUENCE:0
DTSTAMP:20260425T090106Z
DTSTART:20251111T194500Z
DTEND:20251111T214500Z
SUMMARY:Cardiff City v Arsenal U21
LOCATION:Cardiff City Stadium
DESCRIPTION:Cardiff City v Arsenal U21 - Cardiff City Stadium - Vertu Trop
 hy - Live on Sky Sports+
STATUS:CONFIRMED
END:VEVENT
BEGIN:VEVENT
UID:0def49577b0343fac68c1302f28df0de@skysports.com
SEQUENCE:0
DTSTAMP:20260425T090106Z
DTSTART:20250923T184500Z
DTEND:20250923T204500Z
SUMMARY:Burnley v Cardiff City
LOCATION:Turf Moor
DESCRIPTION:Burnley v Cardiff City - Turf Moor - Carabao Cup - Live on Sky
  Sports+
STATUS:CONFIRMED
END:VEVENT
BEGIN:VEVENT
UID:84a59edd35a3413cbf402f4b7ccb8821@skysports.com
SEQUENCE:0
DTSTAMP:20260425T090106Z
DTSTART:20251028T200000Z
DTEND:20251028T220000Z
SUMMARY:Wrexham v Cardiff City
LOCATION:STōK Cae Ras
DESCRIPTION:Wrexham v Cardiff City - STōK Cae Ras - Carabao Cup - Live on
  Sky Sports Main Event and Sky Sports Football
STATUS:CONFIRMED
END:VEVENT
BEGIN:VEVENT
UID:0a9cd5bde742349004aa104fa2eef5e8@skysports.com
SEQUENCE:0
DTSTAMP:20260425T090106Z
DTSTART:20251101T150000Z
DTEND:20251101T170000Z
SUMMARY:Peterborough United v Cardiff City
LOCATION:Weston Homes Stadium
DESCRIPTION:Peterborough United v Cardiff City - Weston Homes Stadium - Th
 e FA Cup
STATUS:CONFIRMED
END:VEVENT
BEGIN:VEVENT
UID:12cec5f48ac42e5e9e3e95c84a8407dd@skysports.com
SEQUENCE:0
DTSTAMP:20260425T090106Z
DTSTART:20251216T200000Z
DTEND:20251216T220000Z
SUMMARY:Cardiff City v Chelsea
LOCATION:Cardiff City Stadium
DESCRIPTION:Cardiff City v Chelsea - Cardiff City Stadium - Carabao Cup - 
 Live on Sky Sports Football and Sky Sports Main Event
STATUS:CONFIRMED
END:VEVENT
BEGIN:VEVENT
UID:2ce036ff5278adbcd6ff6005ee5c32a7@skysports.com
SEQUENCE:0
DTSTAMP:20260425T090106Z
DTSTART:20251202T190000Z
DTEND:20251202T210000Z
SUMMARY:Cardiff City v AFC Wimbledon
LOCATION:Cardiff City Stadium
DESCRIPTION:Cardiff City v AFC Wimbledon - Cardiff City Stadium - Vertu Tr
 ophy - Live on Sky Sports+
STATUS:CONFIRMED
END:VEVENT
END:VCALENDAR