BEGIN:VCALENDAR
VERSION:2.0
PRODID:-//Sky Sports SSDM//NONSGML Event Calendar//EN
URL:https://www.skysports.com/calendars/football/fixtures/teams/carlisle-u
 nited
CALSCALE:GREGORIAN
METHOD:PUBLISH
NAME:Carlisle United Fixtures
X-WR-CALNAME:Carlisle United Fixtures
X-WR-CALDESC:Carlisle United fixtures provided by Sky Sports (https://www.
 skysports.com)
REFRESH-INTERVAL;VALUE=DURATION:PT1H
X-PUBLISHED-TTL:PT1H
BEGIN:VEVENT
UID:14fbd04e668743f3dad6ccce57d03d10@skysports.com
SEQUENCE:0
DTSTAMP:20260425T090020Z
DTSTART:20250809T140000Z
DTEND:20250809T160000Z
SUMMARY:Woking v Carlisle United
LOCATION:The Laithwaite Community Stadium
DESCRIPTION:Woking v Carlisle United - The Laithwaite Community Stadium - 
 National League
STATUS:CONFIRMED
END:VEVENT
BEGIN:VEVENT
UID:61a5c60f4dfd0859e55b170c576f1e99@skysports.com
SEQUENCE:0
DTSTAMP:20260425T090020Z
DTSTART:20250816T140000Z
DTEND:20250816T160000Z
SUMMARY:Carlisle United v Boreham Wood
LOCATION:Brunton Park
DESCRIPTION:Carlisle United v Boreham Wood - Brunton Park - National Leagu
 e
STATUS:CONFIRMED
END:VEVENT
BEGIN:VEVENT
UID:181760a33254bd901ba8027b4bfc3ec9@skysports.com
SEQUENCE:0
DTSTAMP:20260425T090020Z
DTSTART:20250819T184500Z
DTEND:20250819T204500Z
SUMMARY:Carlisle United v Solihull Moors
LOCATION:Brunton Park
DESCRIPTION:Carlisle United v Solihull Moors - Brunton Park - National Lea
 gue
STATUS:CONFIRMED
END:VEVENT
BEGIN:VEVENT
UID:dcc4dd249e48fab12fdc0d752982ffb7@skysports.com
SEQUENCE:0
DTSTAMP:20260425T090020Z
DTSTART:20250823T163000Z
DTEND:20250823T183000Z
SUMMARY:Wealdstone v Carlisle United
LOCATION:Ruislip Manor Sports &amp\; Social Club
DESCRIPTION:Wealdstone v Carlisle United - Ruislip Manor Sports &amp\; Soc
 ial Club - National League
STATUS:CONFIRMED
END:VEVENT
BEGIN:VEVENT
UID:ce4d261a395cd3a0556a597263c719e3@skysports.com
SEQUENCE:0
DTSTAMP:20260425T090020Z
DTSTART:20250825T140000Z
DTEND:20250825T160000Z
SUMMARY:Carlisle United v Braintree Town
LOCATION:Brunton Park
DESCRIPTION:Carlisle United v Braintree Town - Brunton Park - National Lea
 gue
STATUS:CONFIRMED
END:VEVENT
BEGIN:VEVENT
UID:9f265dd6b1f3ac6f704bc2cf958bab8b@skysports.com
SEQUENCE:0
DTSTAMP:20260425T090020Z
DTSTART:20250830T140000Z
DTEND:20250830T160000Z
SUMMARY:Sutton United v Carlisle United
LOCATION:VBS Community Stadium
DESCRIPTION:Sutton United v Carlisle United - VBS Community Stadium - Nati
 onal League
STATUS:CONFIRMED
END:VEVENT
BEGIN:VEVENT
UID:549a19b0d40c3c15a8d057687c3afca6@skysports.com
SEQUENCE:0
DTSTAMP:20260425T090020Z
DTSTART:20250903T184500Z
DTEND:20250903T204500Z
SUMMARY:Brackley Town v Carlisle United
LOCATION:St. James Park
DESCRIPTION:Brackley Town v Carlisle United - St. James Park - National Le
 ague
STATUS:CONFIRMED
END:VEVENT
BEGIN:VEVENT
UID:34c17d939598a5c0aa0993792ded9990@skysports.com
SEQUENCE:0
DTSTAMP:20260425T090020Z
DTSTART:20250906T140000Z
DTEND:20250906T160000Z
SUMMARY:Carlisle United v Truro City
LOCATION:Brunton Park
DESCRIPTION:Carlisle United v Truro City - Brunton Park - National League
STATUS:CONFIRMED
END:VEVENT
BEGIN:VEVENT
UID:9ae85e942478deeb254e6bbc96846726@skysports.com
SEQUENCE:0
DTSTAMP:20260425T090020Z
DTSTART:20250913T140000Z
DTEND:20250913T160000Z
SUMMARY:Carlisle United v Aldershot Town
LOCATION:Brunton Park
DESCRIPTION:Carlisle United v Aldershot Town - Brunton Park - National Lea
 gue
STATUS:CONFIRMED
END:VEVENT
BEGIN:VEVENT
UID:adff2b24349e103505cc688ea8eb7941@skysports.com
SEQUENCE:0
DTSTAMP:20260425T090020Z
DTSTART:20250920T140000Z
DTEND:20250920T160000Z
SUMMARY:Altrincham v Carlisle United
LOCATION:J. Davidson Stadium
DESCRIPTION:Altrincham v Carlisle United - J. Davidson Stadium - National 
 League
STATUS:CONFIRMED
END:VEVENT
BEGIN:VEVENT
UID:e823288671cddae5fb1d9a103baaf82c@skysports.com
SEQUENCE:0
DTSTAMP:20260425T090020Z
DTSTART:20250923T184500Z
DTEND:20250923T204500Z
SUMMARY:York City v Carlisle United
LOCATION:LNER Community Stadium
DESCRIPTION:York City v Carlisle United - LNER Community Stadium - Nationa
 l League
STATUS:CONFIRMED
END:VEVENT
BEGIN:VEVENT
UID:c1727f43e1f308933024d44bc30d275b@skysports.com
SEQUENCE:0
DTSTAMP:20260425T090020Z
DTSTART:20250927T140000Z
DTEND:20250927T160000Z
SUMMARY:Carlisle United v Rochdale
LOCATION:Brunton Park
DESCRIPTION:Carlisle United v Rochdale - Brunton Park - National League
STATUS:CONFIRMED
END:VEVENT
BEGIN:VEVENT
UID:ed823138eaba3d9cdb0cc338733e94b5@skysports.com
SEQUENCE:0
DTSTAMP:20260425T090020Z
DTSTART:20251001T184500Z
DTEND:20251001T204500Z
SUMMARY:Carlisle United v Hartlepool United
LOCATION:Brunton Park
DESCRIPTION:Carlisle United v Hartlepool United - Brunton Park - National 
 League
STATUS:CONFIRMED
END:VEVENT
BEGIN:VEVENT
UID:638167f5e3e3cefaa02661045933381a@skysports.com
SEQUENCE:0
DTSTAMP:20260425T090020Z
DTSTART:20251004T163000Z
DTEND:20251004T183000Z
SUMMARY:Scunthorpe United v Carlisle United
LOCATION:Sands Venue Stadium
DESCRIPTION:Scunthorpe United v Carlisle United - Sands Venue Stadium - Na
 tional League
STATUS:CONFIRMED
END:VEVENT
BEGIN:VEVENT
UID:b32d645f764b63ef50cc6c85c4118513@skysports.com
SEQUENCE:0
DTSTAMP:20260425T090020Z
DTSTART:20251018T163000Z
DTEND:20251018T183000Z
SUMMARY:Carlisle United v Forest Green Rovers
LOCATION:Brunton Park
DESCRIPTION:Carlisle United v Forest Green Rovers - Brunton Park - Nationa
 l League
STATUS:CONFIRMED
END:VEVENT
BEGIN:VEVENT
UID:7c077618c55854b4b464fd7e06cd4009@skysports.com
SEQUENCE:0
DTSTAMP:20260425T090020Z
DTSTART:20251025T140000Z
DTEND:20251025T160000Z
SUMMARY:Yeovil Town v Carlisle United
LOCATION:Huish Park
DESCRIPTION:Yeovil Town v Carlisle United - Huish Park - National League
STATUS:CONFIRMED
END:VEVENT
BEGIN:VEVENT
UID:fbb818e90d89aa8c7450f331fc3a6be7@skysports.com
SEQUENCE:0
DTSTAMP:20260425T090020Z
DTSTART:20251104T194500Z
DTEND:20251104T214500Z
SUMMARY:Carlisle United v FC Halifax
LOCATION:Brunton Park
DESCRIPTION:Carlisle United v FC Halifax - Brunton Park - National League
STATUS:CONFIRMED
END:VEVENT
BEGIN:VEVENT
UID:de63e021ac2e5d6e8a701083ec8e8c58@skysports.com
SEQUENCE:0
DTSTAMP:20260425T090020Z
DTSTART:20251108T173000Z
DTEND:20251108T193000Z
SUMMARY:Southend United v Carlisle United
LOCATION:Roots Hall
DESCRIPTION:Southend United v Carlisle United - Roots Hall - National Leag
 ue
STATUS:CONFIRMED
END:VEVENT
BEGIN:VEVENT
UID:eee97e07a03497bbd4a0c7294e434a9f@skysports.com
SEQUENCE:0
DTSTAMP:20260425T090020Z
DTSTART:20251115T150300Z
DTEND:20251115T170300Z
SUMMARY:Carlisle United v Eastleigh
LOCATION:Brunton Park
DESCRIPTION:Carlisle United v Eastleigh - Brunton Park - National League
STATUS:CONFIRMED
END:VEVENT
BEGIN:VEVENT
UID:63c2da6f10c048441bf666ebcdab292e@skysports.com
SEQUENCE:0
DTSTAMP:20260425T090020Z
DTSTART:20251122T173000Z
DTEND:20251122T193000Z
SUMMARY:Boston United v Carlisle United
LOCATION:The Jakemans Community Stadium
DESCRIPTION:Boston United v Carlisle United - The Jakemans Community Stadi
 um - National League
STATUS:CONFIRMED
END:VEVENT
BEGIN:VEVENT
UID:cdc419e603fc517d490dbd5f0632c9aa@skysports.com
SEQUENCE:0
DTSTAMP:20260425T090020Z
DTSTART:20251129T150000Z
DTEND:20251129T170000Z
SUMMARY:Carlisle United v Tamworth
LOCATION:Brunton Park
DESCRIPTION:Carlisle United v Tamworth - Brunton Park - National League
STATUS:CONFIRMED
END:VEVENT
BEGIN:VEVENT
UID:5882dd5ff9a80e58b0168c58a01657b4@skysports.com
SEQUENCE:0
DTSTAMP:20260425T090020Z
DTSTART:20251210T194500Z
DTEND:20251210T214500Z
SUMMARY:Carlisle United v Woking
LOCATION:Brunton Park
DESCRIPTION:Carlisle United v Woking - Brunton Park - National League
STATUS:CONFIRMED
END:VEVENT
BEGIN:VEVENT
UID:85d62f5ab3659edaf78609106f46145e@skysports.com
SEQUENCE:0
DTSTAMP:20260425T090020Z
DTSTART:20251221T160000Z
DTEND:20251221T180000Z
SUMMARY:Boreham Wood v Carlisle United
LOCATION:Managata Pay UK Stadium
DESCRIPTION:Boreham Wood v Carlisle United - Managata Pay UK Stadium - Nat
 ional League
STATUS:CONFIRMED
END:VEVENT
BEGIN:VEVENT
UID:9644428b9ce341e8401788848484ce18@skysports.com
SEQUENCE:0
DTSTAMP:20260425T090020Z
DTSTART:20251226T150000Z
DTEND:20251226T170000Z
SUMMARY:Gateshead v Carlisle United
LOCATION:Gateshead International Stadium
DESCRIPTION:Gateshead v Carlisle United - Gateshead International Stadium 
 - National League
STATUS:CONFIRMED
END:VEVENT
BEGIN:VEVENT
UID:26514b7c0584688aa3c5ff766aba10bb@skysports.com
SEQUENCE:0
DTSTAMP:20260425T090020Z
DTSTART:20251230T194500Z
DTEND:20251230T214500Z
SUMMARY:Carlisle United v Morecambe
LOCATION:Brunton Park
DESCRIPTION:Carlisle United v Morecambe - Brunton Park - National League
STATUS:CONFIRMED
END:VEVENT
BEGIN:VEVENT
UID:d2380de4335f8260cbf5c7fe2a0255b9@skysports.com
SEQUENCE:0
DTSTAMP:20260425T090020Z
DTSTART:20260103T150000Z
DTEND:20260103T170000Z
SUMMARY:Carlisle United v Wealdstone
LOCATION:Brunton Park
DESCRIPTION:Carlisle United v Wealdstone - Brunton Park - National League
STATUS:CONFIRMED
END:VEVENT
BEGIN:VEVENT
UID:256f3005e1549d4a17a3f87455fc0a41@skysports.com
SEQUENCE:0
DTSTAMP:20260425T090020Z
DTSTART:20260117T150000Z
DTEND:20260117T170000Z
SUMMARY:Solihull Moors v Carlisle United
LOCATION:The Autotech Stadium
DESCRIPTION:Solihull Moors v Carlisle United - The Autotech Stadium - Nati
 onal League
STATUS:CONFIRMED
END:VEVENT
BEGIN:VEVENT
UID:5dc62a5d7f341ae214d0af3f4f205277@skysports.com
SEQUENCE:0
DTSTAMP:20260425T090020Z
DTSTART:20260121T194500Z
DTEND:20260121T214500Z
SUMMARY:Carlisle United v York City
LOCATION:Brunton Park
DESCRIPTION:Carlisle United v York City - Brunton Park - National League
STATUS:CONFIRMED
END:VEVENT
BEGIN:VEVENT
UID:10a7935750982318acb30fe65de45537@skysports.com
SEQUENCE:0
DTSTAMP:20260425T090020Z
DTSTART:20260310T194500Z
DTEND:20260310T214500Z
SUMMARY:Aldershot Town v Carlisle United
LOCATION:The EBB Stadium at the Recreation Ground
DESCRIPTION:Aldershot Town v Carlisle United - The EBB Stadium at the Recr
 eation Ground - National League
STATUS:CONFIRMED
END:VEVENT
BEGIN:VEVENT
UID:1e73ea5c81a7ceb319a4d948b60961f0@skysports.com
SEQUENCE:0
DTSTAMP:20260425T090020Z
DTSTART:20260131T150000Z
DTEND:20260131T170000Z
SUMMARY:Carlisle United v Altrincham
LOCATION:Brunton Park
DESCRIPTION:Carlisle United v Altrincham - Brunton Park - National League
STATUS:CONFIRMED
END:VEVENT
BEGIN:VEVENT
UID:e25451c2e6b68e9c68b84f88d1abcfe5@skysports.com
SEQUENCE:0
DTSTAMP:20260425T090020Z
DTSTART:20260207T150000Z
DTEND:20260207T170000Z
SUMMARY:Rochdale v Carlisle United
LOCATION:Spotland
DESCRIPTION:Rochdale v Carlisle United - Spotland - National League
STATUS:CONFIRMED
END:VEVENT
BEGIN:VEVENT
UID:8b4a96b14a4b71dca036d3451f99dedd@skysports.com
SEQUENCE:0
DTSTAMP:20260425T090020Z
DTSTART:20260210T194500Z
DTEND:20260210T214500Z
SUMMARY:Carlisle United v Scunthorpe United
LOCATION:Brunton Park
DESCRIPTION:Carlisle United v Scunthorpe United - Brunton Park - National 
 League
STATUS:CONFIRMED
END:VEVENT
BEGIN:VEVENT
UID:4905b5dec8beadedc094d5276492bd17@skysports.com
SEQUENCE:0
DTSTAMP:20260425T090020Z
DTSTART:20260214T173000Z
DTEND:20260214T193000Z
SUMMARY:Forest Green Rovers v Carlisle United
LOCATION:The innocent New Lawn Stadium
DESCRIPTION:Forest Green Rovers v Carlisle United - The innocent New Lawn 
 Stadium - National League
STATUS:CONFIRMED
END:VEVENT
BEGIN:VEVENT
UID:b282186a8590c377497219c075551dbf@skysports.com
SEQUENCE:0
DTSTAMP:20260425T090020Z
DTSTART:20260221T150000Z
DTEND:20260221T170000Z
SUMMARY:Carlisle United v Yeovil Town
LOCATION:Brunton Park
DESCRIPTION:Carlisle United v Yeovil Town - Brunton Park - National League
STATUS:CONFIRMED
END:VEVENT
BEGIN:VEVENT
UID:151a8af3cc052b43741b7107d36ac867@skysports.com
SEQUENCE:0
DTSTAMP:20260425T090020Z
DTSTART:20260225T194500Z
DTEND:20260225T214500Z
SUMMARY:Hartlepool United v Carlisle United
LOCATION:Suit Direct Stadium
DESCRIPTION:Hartlepool United v Carlisle United - Suit Direct Stadium - Na
 tional League
STATUS:CONFIRMED
END:VEVENT
BEGIN:VEVENT
UID:85dc3d4c13d88133c4c3b27566703d50@skysports.com
SEQUENCE:0
DTSTAMP:20260425T090020Z
DTSTART:20260228T150000Z
DTEND:20260228T170000Z
SUMMARY:Eastleigh v Carlisle United
LOCATION:Silverlake Stadium
DESCRIPTION:Eastleigh v Carlisle United - Silverlake Stadium - National Le
 ague
STATUS:CONFIRMED
END:VEVENT
BEGIN:VEVENT
UID:b1eae42fa9bbb183958aa0d3f58b18e8@skysports.com
SEQUENCE:0
DTSTAMP:20260425T090020Z
DTSTART:20260307T173000Z
DTEND:20260307T193000Z
SUMMARY:Carlisle United v Southend United
LOCATION:Brunton Park
DESCRIPTION:Carlisle United v Southend United - Brunton Park - National Le
 ague
STATUS:CONFIRMED
END:VEVENT
BEGIN:VEVENT
UID:e38771494f991395f16a79685b724841@skysports.com
SEQUENCE:0
DTSTAMP:20260425T090020Z
DTSTART:20260314T150000Z
DTEND:20260314T170000Z
SUMMARY:Tamworth v Carlisle United
LOCATION:The Lamb Ground
DESCRIPTION:Tamworth v Carlisle United - The Lamb Ground - National League
STATUS:CONFIRMED
END:VEVENT
BEGIN:VEVENT
UID:96f9b2ec791d9a6cb1cd2dcbcd28bb03@skysports.com
SEQUENCE:0
DTSTAMP:20260425T090020Z
DTSTART:20260321T150000Z
DTEND:20260321T170000Z
SUMMARY:Carlisle United v Boston United
LOCATION:Brunton Park
DESCRIPTION:Carlisle United v Boston United - Brunton Park - National Leag
 ue
STATUS:CONFIRMED
END:VEVENT
BEGIN:VEVENT
UID:9f0c5d0b465de9e7c6cab4c7b5887eed@skysports.com
SEQUENCE:0
DTSTAMP:20260425T090020Z
DTSTART:20260324T194500Z
DTEND:20260324T214500Z
SUMMARY:FC Halifax v Carlisle United
LOCATION:The MBi Shay Stadium
DESCRIPTION:FC Halifax v Carlisle United - The MBi Shay Stadium - National
  League
STATUS:CONFIRMED
END:VEVENT
BEGIN:VEVENT
UID:d51fd228f6c525a2c489768e2ea7f43b@skysports.com
SEQUENCE:0
DTSTAMP:20260425T090020Z
DTSTART:20260328T150000Z
DTEND:20260328T170000Z
SUMMARY:Braintree Town v Carlisle United
LOCATION:Amlin Stadium
DESCRIPTION:Braintree Town v Carlisle United - Amlin Stadium - National Le
 ague
STATUS:CONFIRMED
END:VEVENT
BEGIN:VEVENT
UID:92b20dd2095d48f1e61e23d18f7d1080@skysports.com
SEQUENCE:0
DTSTAMP:20260425T090020Z
DTSTART:20260403T140000Z
DTEND:20260403T160000Z
SUMMARY:Carlisle United v Gateshead
LOCATION:Brunton Park
DESCRIPTION:Carlisle United v Gateshead - Brunton Park - National League
STATUS:CONFIRMED
END:VEVENT
BEGIN:VEVENT
UID:ae2832c87da506193ce45733c543df38@skysports.com
SEQUENCE:0
DTSTAMP:20260425T090020Z
DTSTART:20260406T140000Z
DTEND:20260406T160000Z
SUMMARY:Morecambe v Carlisle United
LOCATION:Mazuma Stadium
DESCRIPTION:Morecambe v Carlisle United - Mazuma Stadium - National League
STATUS:CONFIRMED
END:VEVENT
BEGIN:VEVENT
UID:6350a4fada60b5d6726860b7b8eb3163@skysports.com
SEQUENCE:0
DTSTAMP:20260425T090020Z
DTSTART:20260411T140000Z
DTEND:20260411T160000Z
SUMMARY:Carlisle United v Sutton United
LOCATION:Brunton Park
DESCRIPTION:Carlisle United v Sutton United - Brunton Park - National Leag
 ue
STATUS:CONFIRMED
END:VEVENT
BEGIN:VEVENT
UID:23059733f4421071a9f373b50bce446b@skysports.com
SEQUENCE:0
DTSTAMP:20260425T090020Z
DTSTART:20260418T140000Z
DTEND:20260418T160000Z
SUMMARY:Truro City v Carlisle United
LOCATION:Truro Sports Hub
DESCRIPTION:Truro City v Carlisle United - Truro Sports Hub - National Lea
 gue
STATUS:CONFIRMED
END:VEVENT
BEGIN:VEVENT
UID:2b3a6ec5ba20d512bc7e18bb655bb335@skysports.com
SEQUENCE:0
DTSTAMP:20260425T090020Z
DTSTART:20260425T113000Z
DTEND:20260425T133000Z
SUMMARY:Carlisle United v Brackley Town
LOCATION:Brunton Park
DESCRIPTION:Carlisle United v Brackley Town - Brunton Park - National Leag
 ue
STATUS:CONFIRMED
END:VEVENT
BEGIN:VEVENT
UID:6e3487b2b55e701af3d5d72797aef35a@skysports.com
SEQUENCE:0
DTSTAMP:20260425T090020Z
DTSTART:20251101T150000Z
DTEND:20251101T170000Z
SUMMARY:Reading v Carlisle United
LOCATION:Select Car Leasing Stadium
DESCRIPTION:Reading v Carlisle United - Select Car Leasing Stadium - The F
 A Cup
STATUS:CONFIRMED
END:VEVENT
BEGIN:VEVENT
UID:ab8d39943dfa4889f9d11cfc86ff2c7d@skysports.com
SEQUENCE:0
DTSTAMP:20260425T090020Z
DTSTART:20251207T173000Z
DTEND:20251207T193000Z
SUMMARY:Blackpool v Carlisle United
LOCATION:Bloomfield Road
DESCRIPTION:Blackpool v Carlisle United - Bloomfield Road - The FA Cup
STATUS:CONFIRMED
END:VEVENT
BEGIN:VEVENT
UID:18e67a0bec5705d088a9158baf9fe5f3@skysports.com
SEQUENCE:0
DTSTAMP:20260425T090020Z
DTSTART:20251213T150000Z
DTEND:20251213T170000Z
SUMMARY:Harborough Town v Carlisle United
LOCATION:Bowden Park
DESCRIPTION:Harborough Town v Carlisle United - Bowden Park - The FA Troph
 y
STATUS:CONFIRMED
END:VEVENT
BEGIN:VEVENT
UID:6705a9aee2869db372964d024eb0b257@skysports.com
SEQUENCE:0
DTSTAMP:20260425T090020Z
DTSTART:20260110T150000Z
DTEND:20260110T170000Z
SUMMARY:Chatham Town v Carlisle United
LOCATION:The Sports Ground
DESCRIPTION:Chatham Town v Carlisle United - The Sports Ground - The FA Tr
 ophy
STATUS:CONFIRMED
END:VEVENT
END:VCALENDAR