BEGIN:VCALENDAR
VERSION:2.0
PRODID:-//Sky Sports SSDM//NONSGML Event Calendar//EN
URL:https://www.skysports.com/calendars/football/fixtures/teams/celtic
CALSCALE:GREGORIAN
METHOD:PUBLISH
NAME:Celtic Fixtures
X-WR-CALNAME:Celtic Fixtures
X-WR-CALDESC:Celtic fixtures provided by Sky Sports (https://www.skysports
 .com)
REFRESH-INTERVAL;VALUE=DURATION:PT1H
X-PUBLISHED-TTL:PT1H
BEGIN:VEVENT
UID:71ca0c242c42a8dc30a2cdb0d5664cda@skysports.com
SEQUENCE:0
DTSTAMP:20260425T090407Z
DTSTART:20250724T183000Z
DTEND:20250724T203000Z
SUMMARY:Ajax v Celtic
LOCATION:Giuseppe Sinigaglia
DESCRIPTION:Ajax v Celtic - Giuseppe Sinigaglia - Friendly Match
STATUS:CONFIRMED
END:VEVENT
BEGIN:VEVENT
UID:47eeb87b415e66c74fcccc8ed50d5bc2@skysports.com
SEQUENCE:0
DTSTAMP:20260425T090407Z
DTSTART:20250803T153000Z
DTEND:20250803T173000Z
SUMMARY:Celtic v St Mirren
LOCATION:Celtic Park
DESCRIPTION:Celtic v St Mirren - Celtic Park - Scottish Premiership - Live
  on Sky Sports Football and Sky Sports Main Event
STATUS:CONFIRMED
END:VEVENT
BEGIN:VEVENT
UID:481527a06d14765ecb9398bf144c5c9a@skysports.com
SEQUENCE:0
DTSTAMP:20260425T090407Z
DTSTART:20250810T113000Z
DTEND:20250810T133000Z
SUMMARY:Aberdeen v Celtic
LOCATION:Pittodrie
DESCRIPTION:Aberdeen v Celtic - Pittodrie - Scottish Premiership - Live on
  Sky Sports Football
STATUS:CONFIRMED
END:VEVENT
BEGIN:VEVENT
UID:c22471f97303a51a925d337d441f29ce@skysports.com
SEQUENCE:0
DTSTAMP:20260425T090407Z
DTSTART:20250823T140000Z
DTEND:20250823T160000Z
SUMMARY:Celtic v Livingston
LOCATION:Celtic Park
DESCRIPTION:Celtic v Livingston - Celtic Park - Scottish Premiership
STATUS:CONFIRMED
END:VEVENT
BEGIN:VEVENT
UID:f05d62622224a7d062b00d0a04cbc1b5@skysports.com
SEQUENCE:0
DTSTAMP:20260425T090407Z
DTSTART:20250831T110000Z
DTEND:20250831T130000Z
SUMMARY:Rangers v Celtic
LOCATION:Ibrox Stadium
DESCRIPTION:Rangers v Celtic - Ibrox Stadium - Scottish Premiership - Live
  on Sky Sports Football
STATUS:CONFIRMED
END:VEVENT
BEGIN:VEVENT
UID:000e173316e2033d9b70a9d2f83fe123@skysports.com
SEQUENCE:0
DTSTAMP:20260425T090407Z
DTSTART:20250914T140000Z
DTEND:20250914T160000Z
SUMMARY:Kilmarnock v Celtic
LOCATION:The BBSP Stadium\, Rugby Park
DESCRIPTION:Kilmarnock v Celtic - The BBSP Stadium and Rugby Park - Scotti
 sh Premiership - Live on Sky Sports Football
STATUS:CONFIRMED
END:VEVENT
BEGIN:VEVENT
UID:dddf0c60876c931dc150dd3141e3ee70@skysports.com
SEQUENCE:0
DTSTAMP:20260425T090407Z
DTSTART:20250927T140000Z
DTEND:20250927T160000Z
SUMMARY:Celtic v Hibernian
LOCATION:Celtic Park
DESCRIPTION:Celtic v Hibernian - Celtic Park - Scottish Premiership
STATUS:CONFIRMED
END:VEVENT
BEGIN:VEVENT
UID:b44288921769d002a3c8295ba8b93dde@skysports.com
SEQUENCE:0
DTSTAMP:20260425T090407Z
DTSTART:20251005T140000Z
DTEND:20251005T160000Z
SUMMARY:Celtic v Motherwell
LOCATION:Celtic Park
DESCRIPTION:Celtic v Motherwell - Celtic Park - Scottish Premiership
STATUS:CONFIRMED
END:VEVENT
BEGIN:VEVENT
UID:c13fcf65e626a469bf762e8340c1e8f7@skysports.com
SEQUENCE:0
DTSTAMP:20260425T090407Z
DTSTART:20251019T110000Z
DTEND:20251019T130000Z
SUMMARY:Dundee v Celtic
LOCATION:The Scot Foam Stadium at Dens Park
DESCRIPTION:Dundee v Celtic - The Scot Foam Stadium at Dens Park - Scottis
 h Premiership - Live on Sky Sports Football HD
STATUS:CONFIRMED
END:VEVENT
BEGIN:VEVENT
UID:34e84ed6dbbb680b84807b43985bad33@skysports.com
SEQUENCE:0
DTSTAMP:20260425T090407Z
DTSTART:20251026T120000Z
DTEND:20251026T140000Z
SUMMARY:Hearts v Celtic
LOCATION:Tynecastle
DESCRIPTION:Hearts v Celtic - Tynecastle - Scottish Premiership - Live on 
 Sky Sports Football
STATUS:CONFIRMED
END:VEVENT
BEGIN:VEVENT
UID:b068413c156651ebe9c7b03c827e13ae@skysports.com
SEQUENCE:0
DTSTAMP:20260425T090407Z
DTSTART:20251029T194500Z
DTEND:20251029T214500Z
SUMMARY:Celtic v Falkirk
LOCATION:Celtic Park
DESCRIPTION:Celtic v Falkirk - Celtic Park - Scottish Premiership
STATUS:CONFIRMED
END:VEVENT
BEGIN:VEVENT
UID:9fcd4330aa1ae199956382de0ffd4056@skysports.com
SEQUENCE:0
DTSTAMP:20260425T090407Z
DTSTART:20251217T200000Z
DTEND:20251217T220000Z
SUMMARY:Dundee United v Celtic
LOCATION:CalForth Construction Arena at Tannadice Park
DESCRIPTION:Dundee United v Celtic - CalForth Construction Arena at Tannad
 ice Park - Scottish Premiership - Live on Sky Sports Football
STATUS:CONFIRMED
END:VEVENT
BEGIN:VEVENT
UID:8bf3a33d34e34e482a6de0e16457c913@skysports.com
SEQUENCE:0
DTSTAMP:20260425T090407Z
DTSTART:20251109T160000Z
DTEND:20251109T180000Z
SUMMARY:Celtic v Kilmarnock
LOCATION:Celtic Park
DESCRIPTION:Celtic v Kilmarnock - Celtic Park - Scottish Premiership
STATUS:CONFIRMED
END:VEVENT
BEGIN:VEVENT
UID:a2da3a5d8b34a164822c08d02f10c878@skysports.com
SEQUENCE:0
DTSTAMP:20260425T090407Z
DTSTART:20251122T200000Z
DTEND:20251122T220000Z
SUMMARY:St Mirren v Celtic
LOCATION:The SMiSA Stadium
DESCRIPTION:St Mirren v Celtic - The SMiSA Stadium - Scottish Premiership 
 - Live on Sky Sports Football
STATUS:CONFIRMED
END:VEVENT
BEGIN:VEVENT
UID:27ba2069f0511b9d22c9ad4b5f7c900f@skysports.com
SEQUENCE:0
DTSTAMP:20260425T090407Z
DTSTART:20251130T120000Z
DTEND:20251130T140000Z
SUMMARY:Hibernian v Celtic
LOCATION:Easter Road
DESCRIPTION:Hibernian v Celtic - Easter Road - Scottish Premiership - Live
  on Sky Sports Football and Sky Sports Main Event
STATUS:CONFIRMED
END:VEVENT
BEGIN:VEVENT
UID:a2e5b08e47516b4893a3b5a7439011ad@skysports.com
SEQUENCE:0
DTSTAMP:20260425T090407Z
DTSTART:20251203T194500Z
DTEND:20251203T214500Z
SUMMARY:Celtic v Dundee
LOCATION:Celtic Park
DESCRIPTION:Celtic v Dundee - Celtic Park - Scottish Premiership
STATUS:CONFIRMED
END:VEVENT
BEGIN:VEVENT
UID:a8e650b0eff77f02071e1665c8b7a41f@skysports.com
SEQUENCE:0
DTSTAMP:20260425T090407Z
DTSTART:20251207T150000Z
DTEND:20251207T170000Z
SUMMARY:Celtic v Hearts
LOCATION:Celtic Park
DESCRIPTION:Celtic v Hearts - Celtic Park - Scottish Premiership - Live on
  Sky Sports Football
STATUS:CONFIRMED
END:VEVENT
BEGIN:VEVENT
UID:be395c28c8ef4ee318df3681f95a4d8c@skysports.com
SEQUENCE:0
DTSTAMP:20260425T090407Z
DTSTART:20260114T194500Z
DTEND:20260114T214500Z
SUMMARY:Falkirk v Celtic
LOCATION:Falkirk Stadium
DESCRIPTION:Falkirk v Celtic - Falkirk Stadium - Scottish Premiership
STATUS:CONFIRMED
END:VEVENT
BEGIN:VEVENT
UID:9e655ac054c074bb87c1bf2e4f0bb14c@skysports.com
SEQUENCE:0
DTSTAMP:20260425T090407Z
DTSTART:20251221T150000Z
DTEND:20251221T170000Z
SUMMARY:Celtic v Aberdeen
LOCATION:Celtic Park
DESCRIPTION:Celtic v Aberdeen - Celtic Park - Scottish Premiership
STATUS:CONFIRMED
END:VEVENT
BEGIN:VEVENT
UID:cdce765a73223368819b056a46cd11a2@skysports.com
SEQUENCE:0
DTSTAMP:20260425T090407Z
DTSTART:20251227T150000Z
DTEND:20251227T170000Z
SUMMARY:Livingston v Celtic
LOCATION:Tony Macaroni Arena
DESCRIPTION:Livingston v Celtic - Tony Macaroni Arena - Scottish Premiersh
 ip - Live on Sky Sports Football
STATUS:CONFIRMED
END:VEVENT
BEGIN:VEVENT
UID:2f5bd061a3b27598d505c07ba8343a16@skysports.com
SEQUENCE:0
DTSTAMP:20260425T090407Z
DTSTART:20251230T200000Z
DTEND:20251230T220000Z
SUMMARY:Motherwell v Celtic
LOCATION:Fir Park
DESCRIPTION:Motherwell v Celtic - Fir Park - Scottish Premiership
STATUS:CONFIRMED
END:VEVENT
BEGIN:VEVENT
UID:c6111fa808f2e205af3076669848f14d@skysports.com
SEQUENCE:0
DTSTAMP:20260425T090407Z
DTSTART:20260103T123000Z
DTEND:20260103T143000Z
SUMMARY:Celtic v Rangers
LOCATION:Celtic Park
DESCRIPTION:Celtic v Rangers - Celtic Park - Scottish Premiership - Live o
 n Sky Sports Football
STATUS:CONFIRMED
END:VEVENT
BEGIN:VEVENT
UID:fc35e2c72372badb025fc275526057ef@skysports.com
SEQUENCE:0
DTSTAMP:20260425T090407Z
DTSTART:20260110T150000Z
DTEND:20260110T170000Z
SUMMARY:Celtic v Dundee United
LOCATION:Celtic Park
DESCRIPTION:Celtic v Dundee United - Celtic Park - Scottish Premiership
STATUS:CONFIRMED
END:VEVENT
BEGIN:VEVENT
UID:a173e931d29eeeb91360327827505381@skysports.com
SEQUENCE:0
DTSTAMP:20260425T090407Z
DTSTART:20260125T150000Z
DTEND:20260125T170000Z
SUMMARY:Hearts v Celtic
LOCATION:Tynecastle
DESCRIPTION:Hearts v Celtic - Tynecastle - Scottish Premiership - Live on 
 Sky Sports Football
STATUS:CONFIRMED
END:VEVENT
BEGIN:VEVENT
UID:be5b808d3698c7ed19096d6a2cf6805e@skysports.com
SEQUENCE:0
DTSTAMP:20260425T090407Z
DTSTART:20260201T150000Z
DTEND:20260201T170000Z
SUMMARY:Celtic v Falkirk
LOCATION:Celtic Park
DESCRIPTION:Celtic v Falkirk - Celtic Park - Scottish Premiership
STATUS:CONFIRMED
END:VEVENT
BEGIN:VEVENT
UID:8a063964591776f6cb01efa0a8f6a610@skysports.com
SEQUENCE:0
DTSTAMP:20260425T090407Z
DTSTART:20260304T200000Z
DTEND:20260304T220000Z
SUMMARY:Aberdeen v Celtic
LOCATION:Pittodrie
DESCRIPTION:Aberdeen v Celtic - Pittodrie - Scottish Premiership - Live on
  Sky Sports Football
STATUS:CONFIRMED
END:VEVENT
BEGIN:VEVENT
UID:8d8f747a0fa4ba0cf7c74e56c1c907e6@skysports.com
SEQUENCE:0
DTSTAMP:20260425T090407Z
DTSTART:20260211T194500Z
DTEND:20260211T214500Z
SUMMARY:Celtic v Livingston
LOCATION:Celtic Park
DESCRIPTION:Celtic v Livingston - Celtic Park - Scottish Premiership
STATUS:CONFIRMED
END:VEVENT
BEGIN:VEVENT
UID:a324dbb25edc483ce7f968a971054421@skysports.com
SEQUENCE:0
DTSTAMP:20260425T090407Z
DTSTART:20260215T140000Z
DTEND:20260215T160000Z
SUMMARY:Kilmarnock v Celtic
LOCATION:The BBSP Stadium\, Rugby Park
DESCRIPTION:Kilmarnock v Celtic - The BBSP Stadium\, Rugby Park - Scottish
  Premiership - Live on Sky Sports Football and Sky Sports Main Event
STATUS:CONFIRMED
END:VEVENT
BEGIN:VEVENT
UID:431dd815f00e84242112fa0b1ca15762@skysports.com
SEQUENCE:0
DTSTAMP:20260425T090407Z
DTSTART:20260222T150000Z
DTEND:20260222T170000Z
SUMMARY:Celtic v Hibernian
LOCATION:Celtic Park
DESCRIPTION:Celtic v Hibernian - Celtic Park - Scottish Premiership
STATUS:CONFIRMED
END:VEVENT
BEGIN:VEVENT
UID:57c02f2bf2a87f7acc695ba6636ee03d@skysports.com
SEQUENCE:0
DTSTAMP:20260425T090407Z
DTSTART:20260301T120000Z
DTEND:20260301T140000Z
SUMMARY:Rangers v Celtic
LOCATION:Ibrox Stadium
DESCRIPTION:Rangers v Celtic - Ibrox Stadium - Scottish Premiership - Live
  on Sky Sports Football
STATUS:CONFIRMED
END:VEVENT
BEGIN:VEVENT
UID:c8e8eb628b1a0e1364b073c1f21d0ff1@skysports.com
SEQUENCE:0
DTSTAMP:20260425T090407Z
DTSTART:20260314T150000Z
DTEND:20260314T170000Z
SUMMARY:Celtic v Motherwell
LOCATION:Celtic Park
DESCRIPTION:Celtic v Motherwell - Celtic Park - Scottish Premiership
STATUS:CONFIRMED
END:VEVENT
BEGIN:VEVENT
UID:4af8b7641f5800e40d7c2878baed249c@skysports.com
SEQUENCE:0
DTSTAMP:20260425T090407Z
DTSTART:20260322T123000Z
DTEND:20260322T143000Z
SUMMARY:Dundee United v Celtic
LOCATION:CalForth Construction Arena at Tannadice Park
DESCRIPTION:Dundee United v Celtic - CalForth Construction Arena at Tannad
 ice Park - Scottish Premiership - Live on Sky Sports Football
STATUS:CONFIRMED
END:VEVENT
BEGIN:VEVENT
UID:afc4319bc2c532498f2e38f8b09c5c0d@skysports.com
SEQUENCE:0
DTSTAMP:20260425T090407Z
DTSTART:20260405T153000Z
DTEND:20260405T173000Z
SUMMARY:Dundee v Celtic
LOCATION:The Scot Foam Stadium at Dens Park
DESCRIPTION:Dundee v Celtic - The Scot Foam Stadium at Dens Park - Scottis
 h Premiership - Live on Sky Sports Main Event and Sky Sports Football
STATUS:CONFIRMED
END:VEVENT
BEGIN:VEVENT
UID:afd6d474db3c63b9d8efe131d4b0ec21@skysports.com
SEQUENCE:0
DTSTAMP:20260425T090407Z
DTSTART:20260411T140000Z
DTEND:20260411T160000Z
SUMMARY:Celtic v St Mirren
LOCATION:Celtic Park
DESCRIPTION:Celtic v St Mirren - Celtic Park - Scottish Premiership
STATUS:CONFIRMED
END:VEVENT
BEGIN:VEVENT
UID:ba82f77db6e3b02d92ea6b58c4178548@skysports.com
SEQUENCE:0
DTSTAMP:20260425T090407Z
DTSTART:20250719T140000Z
DTEND:20250719T160000Z
SUMMARY:Celtic v Newcastle United
LOCATION:Celtic Park
DESCRIPTION:Celtic v Newcastle United - Celtic Park - Friendly Matches
STATUS:CONFIRMED
END:VEVENT
BEGIN:VEVENT
UID:972bb60849842aec22310abee0ac432e@skysports.com
SEQUENCE:0
DTSTAMP:20260425T090407Z
DTSTART:20250815T184500Z
DTEND:20250815T204500Z
SUMMARY:Celtic v Falkirk
LOCATION:Celtic Park
DESCRIPTION:Celtic v Falkirk - Celtic Park - Premier Sports Cup
STATUS:CONFIRMED
END:VEVENT
BEGIN:VEVENT
UID:be1bfbdd36afb7f4b489f17cb92d56dd@skysports.com
SEQUENCE:0
DTSTAMP:20260425T090407Z
DTSTART:20250820T190000Z
DTEND:20250820T210000Z
SUMMARY:Celtic v Kairat Almaty
LOCATION:Celtic Park
DESCRIPTION:Celtic v Kairat Almaty - Celtic Park - UEFA Champions League Q
 ualifying
STATUS:CONFIRMED
END:VEVENT
BEGIN:VEVENT
UID:7ccb3ea83e07b5dd041fea7bc327cfcc@skysports.com
SEQUENCE:0
DTSTAMP:20260425T090407Z
DTSTART:20250826T164500Z
DTEND:20250826T184500Z
SUMMARY:Kairat Almaty v Celtic
LOCATION:Almaty Central Stadium
DESCRIPTION:Kairat Almaty v Celtic - Almaty Central Stadium - UEFA Champio
 ns League Qualifying
STATUS:CONFIRMED
END:VEVENT
BEGIN:VEVENT
UID:4047a6ecd384aba947b1a7d08f222763@skysports.com
SEQUENCE:0
DTSTAMP:20260425T090407Z
DTSTART:20250921T143000Z
DTEND:20250921T163000Z
SUMMARY:Partick Thistle v Celtic
LOCATION:The Energy Check Stadium at Firhill
DESCRIPTION:Partick Thistle v Celtic - The Energy Check Stadium at Firhill
  - Premier Sports Cup
STATUS:CONFIRMED
END:VEVENT
BEGIN:VEVENT
UID:1501672d7fdf15c6854a8c6e28475146@skysports.com
SEQUENCE:0
DTSTAMP:20260425T090407Z
DTSTART:20250924T190000Z
DTEND:20250924T210000Z
SUMMARY:Crvena Zvezda v Celtic
LOCATION:Crvena Zvezda Stadium
DESCRIPTION:Crvena Zvezda v Celtic - Crvena Zvezda Stadium - UEFA Europa L
 eague
STATUS:CONFIRMED
END:VEVENT
BEGIN:VEVENT
UID:ca651a13b3d5b96e283aa53c1c8779bd@skysports.com
SEQUENCE:0
DTSTAMP:20260425T090407Z
DTSTART:20251002T164500Z
DTEND:20251002T184500Z
SUMMARY:Celtic v Braga
LOCATION:Celtic Park
DESCRIPTION:Celtic v Braga - Celtic Park - UEFA Europa League
STATUS:CONFIRMED
END:VEVENT
BEGIN:VEVENT
UID:e986d1b5fae4fe08002a264f10615d4d@skysports.com
SEQUENCE:0
DTSTAMP:20260425T090407Z
DTSTART:20251023T190000Z
DTEND:20251023T210000Z
SUMMARY:Celtic v Sturm Graz
LOCATION:Celtic Park
DESCRIPTION:Celtic v Sturm Graz - Celtic Park - UEFA Europa League
STATUS:CONFIRMED
END:VEVENT
BEGIN:VEVENT
UID:af098afc0303e7114f4c4a0d538b5140@skysports.com
SEQUENCE:0
DTSTAMP:20260425T090407Z
DTSTART:20251106T174500Z
DTEND:20251106T194500Z
SUMMARY:FC Midtjylland v Celtic
LOCATION:MCH Arena
DESCRIPTION:FC Midtjylland v Celtic - MCH Arena - UEFA Europa League
STATUS:CONFIRMED
END:VEVENT
BEGIN:VEVENT
UID:47856c7120159b99436ecdd28652c510@skysports.com
SEQUENCE:0
DTSTAMP:20260425T090407Z
DTSTART:20251127T174500Z
DTEND:20251127T194500Z
SUMMARY:Feyenoord v Celtic
LOCATION:De Kuip
DESCRIPTION:Feyenoord v Celtic - De Kuip - UEFA Europa League
STATUS:CONFIRMED
END:VEVENT
BEGIN:VEVENT
UID:00ae71d1639e3dafc4669d028983caa3@skysports.com
SEQUENCE:0
DTSTAMP:20260425T090407Z
DTSTART:20251211T200000Z
DTEND:20251211T220000Z
SUMMARY:Celtic v Roma
LOCATION:Celtic Park
DESCRIPTION:Celtic v Roma - Celtic Park - UEFA Europa League
STATUS:CONFIRMED
END:VEVENT
BEGIN:VEVENT
UID:20a7e31f01029f26144ce380233e57c6@skysports.com
SEQUENCE:0
DTSTAMP:20260425T090407Z
DTSTART:20260122T174500Z
DTEND:20260122T194500Z
SUMMARY:Bologna v Celtic
LOCATION:Renato Dall'Ara
DESCRIPTION:Bologna v Celtic - Renato Dall'Ara - UEFA Europa League
STATUS:CONFIRMED
END:VEVENT
BEGIN:VEVENT
UID:ca5272e04b34ff0ad2e21f4bf520a50b@skysports.com
SEQUENCE:0
DTSTAMP:20260425T090407Z
DTSTART:20260129T200000Z
DTEND:20260129T220000Z
SUMMARY:Celtic v FC Utrecht
LOCATION:Celtic Park
DESCRIPTION:Celtic v FC Utrecht - Celtic Park - UEFA Europa League
STATUS:CONFIRMED
END:VEVENT
BEGIN:VEVENT
UID:47d86c33d99d8d926cb3a2f12f755a99@skysports.com
SEQUENCE:0
DTSTAMP:20260425T090407Z
DTSTART:20251102T140000Z
DTEND:20251102T160000Z
SUMMARY:Celtic v Rangers
LOCATION:Hampden Park
DESCRIPTION:Celtic v Rangers - Hampden Park - Premier Sports Cup
STATUS:CONFIRMED
END:VEVENT
BEGIN:VEVENT
UID:6ea94d3b238eed38d3f0b1dd53663e5d@skysports.com
SEQUENCE:0
DTSTAMP:20260425T090407Z
DTSTART:20251214T153000Z
DTEND:20251214T173000Z
SUMMARY:St Mirren v Celtic
LOCATION:Hampden Park
DESCRIPTION:St Mirren v Celtic - Hampden Park - Premier Sports Cup
STATUS:CONFIRMED
END:VEVENT
BEGIN:VEVENT
UID:cdb08f8585af9f14c4e6a188ad00fd62@skysports.com
SEQUENCE:0
DTSTAMP:20260425T090407Z
DTSTART:20260118T173000Z
DTEND:20260118T193000Z
SUMMARY:Auchinleck Talbot v Celtic
LOCATION:The BBSP Stadium\, Rugby Park
DESCRIPTION:Auchinleck Talbot v Celtic - The BBSP Stadium\, Rugby Park - S
 cottish Cup
STATUS:CONFIRMED
END:VEVENT
BEGIN:VEVENT
UID:f6aaef1a65740a15f53d21d8ed7782f5@skysports.com
SEQUENCE:0
DTSTAMP:20260425T090407Z
DTSTART:20260207T173000Z
DTEND:20260207T193000Z
SUMMARY:Celtic v Dundee
LOCATION:Celtic Park
DESCRIPTION:Celtic v Dundee - Celtic Park - Scottish Cup
STATUS:CONFIRMED
END:VEVENT
BEGIN:VEVENT
UID:d9a38df4a8b58131c644499ea5dc41e0@skysports.com
SEQUENCE:0
DTSTAMP:20260425T090407Z
DTSTART:20260219T200000Z
DTEND:20260219T220000Z
SUMMARY:Celtic v Stuttgart
LOCATION:Celtic Park
DESCRIPTION:Celtic v Stuttgart - Celtic Park - UEFA Europa League
STATUS:CONFIRMED
END:VEVENT
BEGIN:VEVENT
UID:c864f94618bbd99be7769db191dcf4a0@skysports.com
SEQUENCE:0
DTSTAMP:20260425T090407Z
DTSTART:20260226T174500Z
DTEND:20260226T194500Z
SUMMARY:Stuttgart v Celtic
LOCATION:MHP Arena
DESCRIPTION:Stuttgart v Celtic - MHP Arena - UEFA Europa League
STATUS:CONFIRMED
END:VEVENT
BEGIN:VEVENT
UID:2e662c6d8f9aeb21cf05e839542a1e66@skysports.com
SEQUENCE:0
DTSTAMP:20260425T090407Z
DTSTART:20260308T130000Z
DTEND:20260308T150000Z
SUMMARY:Rangers v Celtic
LOCATION:Ibrox Stadium
DESCRIPTION:Rangers v Celtic - Ibrox Stadium - Scottish Cup
STATUS:CONFIRMED
END:VEVENT
BEGIN:VEVENT
UID:2459fc4d3b69ab5af5c93aca4d4ead16@skysports.com
SEQUENCE:0
DTSTAMP:20260425T090407Z
DTSTART:20260419T130000Z
DTEND:20260419T150000Z
SUMMARY:Celtic v St Mirren
LOCATION:Hampden Park
DESCRIPTION:Celtic v St Mirren - Hampden Park - Scottish Cup
STATUS:CONFIRMED
END:VEVENT
BEGIN:VEVENT
UID:976d438a91e102280dc3de2ccc882a9e@skysports.com
SEQUENCE:0
DTSTAMP:20260425T090407Z
DTSTART:20260425T163000Z
DTEND:20260425T183000Z
SUMMARY:Celtic v Falkirk
LOCATION:Celtic Park
DESCRIPTION:Celtic v Falkirk - Celtic Park - Scottish Premiership - Live o
 n Sky Sports Football
STATUS:CONFIRMED
END:VEVENT
BEGIN:VEVENT
UID:7d1c7ca9de598ffc4780905fb44799a5@skysports.com
SEQUENCE:0
DTSTAMP:20260425T090407Z
DTSTART:20260503T110000Z
DTEND:20260503T130000Z
SUMMARY:Hibernian v Celtic
LOCATION:Easter Road
DESCRIPTION:Hibernian v Celtic - Easter Road - Scottish Premiership - Live
  on Sky Sports Football
STATUS:CONFIRMED
END:VEVENT
BEGIN:VEVENT
UID:c9da0d86585678c28bbd6b601cf17277@skysports.com
SEQUENCE:0
DTSTAMP:20260425T090407Z
DTSTART:20260510T110000Z
DTEND:20260510T130000Z
SUMMARY:Celtic v Rangers
LOCATION:Celtic Park
DESCRIPTION:Celtic v Rangers - Celtic Park - Scottish Premiership - Live o
 n Sky Sports Football
STATUS:CONFIRMED
END:VEVENT
BEGIN:VEVENT
UID:45b32bd310fae658000a42f3f0fa5243@skysports.com
SEQUENCE:0
DTSTAMP:20260425T090407Z
DTSTART:20260513T190000Z
DTEND:20260513T210000Z
SUMMARY:Motherwell v Celtic
LOCATION:Fir Park
DESCRIPTION:Motherwell v Celtic - Fir Park - Scottish Premiership
STATUS:CONFIRMED
END:VEVENT
BEGIN:VEVENT
UID:74772987684ef9cc0cf3c5bf9174b53b@skysports.com
SEQUENCE:0
DTSTAMP:20260425T090407Z
DTSTART:20260516T113000Z
DTEND:20260516T133000Z
SUMMARY:Celtic v Hearts
LOCATION:Celtic Park
DESCRIPTION:Celtic v Hearts - Celtic Park - Scottish Premiership
STATUS:CONFIRMED
END:VEVENT
BEGIN:VEVENT
UID:e555000ed4d952c5e0bc0d56a88a9096@skysports.com
SEQUENCE:0
DTSTAMP:20260425T090407Z
DTSTART:20260523T140000Z
DTEND:20260523T160000Z
SUMMARY:Celtic v Dunfermline Athletic
LOCATION:Hampden Park
DESCRIPTION:Celtic v Dunfermline Athletic - Hampden Park - Scottish Cup
STATUS:CONFIRMED
END:VEVENT
END:VCALENDAR