BEGIN:VCALENDAR
VERSION:2.0
PRODID:-//Sky Sports SSDM//NONSGML Event Calendar//EN
URL:https://www.skysports.com/calendars/football/fixtures/teams/chelsea-wo
 men
CALSCALE:GREGORIAN
METHOD:PUBLISH
NAME:Chelsea Women Fixtures
X-WR-CALNAME:Chelsea Women Fixtures
X-WR-CALDESC:Chelsea Women fixtures provided by Sky Sports (https://www.sk
 ysports.com)
REFRESH-INTERVAL;VALUE=DURATION:PT1H
X-PUBLISHED-TTL:PT1H
BEGIN:VEVENT
UID:95f9b17ea48549e5be9d0c0e7ebd7768@skysports.com
SEQUENCE:0
DTSTAMP:20260425T092106Z
DTSTART:20250905T183000Z
DTEND:20250905T203000Z
SUMMARY:Chelsea Women v Manchester City Women
LOCATION:Stamford Bridge
DESCRIPTION:Chelsea Women v Manchester City Women - Stamford Bridge - Wome
 n's Super League - Live on Sky Sports Football\, Sky Sports Main Event\, S
 ky Showcase and Sky Sports Mix
STATUS:CONFIRMED
END:VEVENT
BEGIN:VEVENT
UID:be093ea95cf0fcdedcb0206de8e40b9b@skysports.com
SEQUENCE:0
DTSTAMP:20260425T092106Z
DTSTART:20250914T110000Z
DTEND:20250914T130000Z
SUMMARY:Aston Villa Women v Chelsea Women
LOCATION:Villa Park
DESCRIPTION:Aston Villa Women v Chelsea Women - Villa Park - Women's Super
  League - Live on Sky Sports Mix
STATUS:CONFIRMED
END:VEVENT
BEGIN:VEVENT
UID:48f50f9472eec037dfb946428c36a88b@skysports.com
SEQUENCE:0
DTSTAMP:20260425T092106Z
DTSTART:20250921T110000Z
DTEND:20250921T130000Z
SUMMARY:Chelsea Women v Leicester City Women
LOCATION:Kingsmeadow Stadium
DESCRIPTION:Chelsea Women v Leicester City Women - Kingsmeadow Stadium - W
 omen's Super League - Live on Sky Sports Football
STATUS:CONFIRMED
END:VEVENT
BEGIN:VEVENT
UID:f4102e4b74ab1ef2651dd59950254786@skysports.com
SEQUENCE:0
DTSTAMP:20260425T092106Z
DTSTART:20250928T133000Z
DTEND:20250928T153000Z
SUMMARY:West Ham United Women v Chelsea Women
LOCATION:Victoria Road
DESCRIPTION:West Ham United Women v Chelsea Women - Victoria Road - Barcla
 ys Women's Super League
STATUS:CONFIRMED
END:VEVENT
BEGIN:VEVENT
UID:1e0a97a15c0910a81253453ba7802d29@skysports.com
SEQUENCE:0
DTSTAMP:20260425T092106Z
DTSTART:20251003T183000Z
DTEND:20251003T203000Z
SUMMARY:Manchester United Women v Chelsea Women
LOCATION:Leigh Sports Village
DESCRIPTION:Manchester United Women v Chelsea Women - Leigh Sports Village
  - Barclays Women's Super League
STATUS:CONFIRMED
END:VEVENT
BEGIN:VEVENT
UID:c3d7051f69f0cc802f42633e8b2e59d3@skysports.com
SEQUENCE:0
DTSTAMP:20260425T092106Z
DTSTART:20251012T110000Z
DTEND:20251012T130000Z
SUMMARY:Chelsea Women v Tottenham Hotspur Women
LOCATION:Kingsmeadow Stadium
DESCRIPTION:Chelsea Women v Tottenham Hotspur Women - Kingsmeadow Stadium 
 - Barclays Women's Super League - Live on Sky Sports Main Event
STATUS:CONFIRMED
END:VEVENT
BEGIN:VEVENT
UID:fdd9ecdca904ee92e98fafa13cd7cbea@skysports.com
SEQUENCE:0
DTSTAMP:20260425T092106Z
DTSTART:20251101T120000Z
DTEND:20251101T140000Z
SUMMARY:Chelsea Women v London City Lionesses
LOCATION:Stamford Bridge
DESCRIPTION:Chelsea Women v London City Lionesses - Stamford Bridge - Barc
 lays Women's Super League - Live on Sky Sports Premier League HD
STATUS:CONFIRMED
END:VEVENT
BEGIN:VEVENT
UID:a0813b90b0e2f3ba845ba249049836e2@skysports.com
SEQUENCE:0
DTSTAMP:20260425T092106Z
DTSTART:20251108T120000Z
DTEND:20251108T140000Z
SUMMARY:Arsenal Women v Chelsea Women
LOCATION:Emirates Stadium
DESCRIPTION:Arsenal Women v Chelsea Women - Emirates Stadium - Barclays Wo
 men's Super League - Live on Sky Sports Main Event and Sky Sports Premier 
 League HD
STATUS:CONFIRMED
END:VEVENT
BEGIN:VEVENT
UID:6da5031504b76a7ecaea4cb008a08cc6@skysports.com
SEQUENCE:0
DTSTAMP:20260425T092106Z
DTSTART:20251116T120000Z
DTEND:20251116T140000Z
SUMMARY:Liverpool Women v Chelsea Women
LOCATION:Totally Wicked Stadium
DESCRIPTION:Liverpool Women v Chelsea Women - Totally Wicked Stadium - Bar
 clays Women's Super League - Live on Sky Sports Premier League
STATUS:CONFIRMED
END:VEVENT
BEGIN:VEVENT
UID:2b92b5f3812bfb56e0dab2d9d2b6912c@skysports.com
SEQUENCE:0
DTSTAMP:20260425T092106Z
DTSTART:20251207T143000Z
DTEND:20251207T163000Z
SUMMARY:Chelsea Women v Everton Women
LOCATION:Kingsmeadow Stadium
DESCRIPTION:Chelsea Women v Everton Women - Kingsmeadow Stadium - Barclays
  Women's Super League
STATUS:CONFIRMED
END:VEVENT
BEGIN:VEVENT
UID:671eb059ad0c11f15646afd09dc77fde@skysports.com
SEQUENCE:0
DTSTAMP:20260425T092106Z
DTSTART:20251214T115500Z
DTEND:20251214T135500Z
SUMMARY:Brighton and Hove Albion Women v Chelsea Women
LOCATION:Broadfield Stadium
DESCRIPTION:Brighton and Hove Albion Women v Chelsea Women - Broadfield St
 adium - Barclays Women's Super League - Live on Sky Sports Football and Sk
 y Sports Main Event
STATUS:CONFIRMED
END:VEVENT
BEGIN:VEVENT
UID:060477ceb119e363e676a84a0420109e@skysports.com
SEQUENCE:0
DTSTAMP:20260425T092106Z
DTSTART:20260111T120000Z
DTEND:20260111T140000Z
SUMMARY:Chelsea Women v West Ham United Women
LOCATION:Kingsmeadow Stadium
DESCRIPTION:Chelsea Women v West Ham United Women - Kingsmeadow Stadium - 
 Barclays Women's Super League - Live on Sky Sports Mix
STATUS:CONFIRMED
END:VEVENT
BEGIN:VEVENT
UID:8875e5363bf51ac557e1b7877cfc3596@skysports.com
SEQUENCE:0
DTSTAMP:20260425T092106Z
DTSTART:20260124T123000Z
DTEND:20260124T143000Z
SUMMARY:Chelsea Women v Arsenal Women
LOCATION:Stamford Bridge
DESCRIPTION:Chelsea Women v Arsenal Women - Stamford Bridge - Barclays Wom
 en's Super League
STATUS:CONFIRMED
END:VEVENT
BEGIN:VEVENT
UID:021d1a54a3e8ae7e1a6250d0033f5ecb@skysports.com
SEQUENCE:0
DTSTAMP:20260425T092106Z
DTSTART:20260201T143000Z
DTEND:20260201T163000Z
SUMMARY:Manchester City Women v Chelsea Women
LOCATION:Etihad Stadium
DESCRIPTION:Manchester City Women v Chelsea Women - Etihad Stadium - Barcl
 ays Women's Super League
STATUS:CONFIRMED
END:VEVENT
BEGIN:VEVENT
UID:5bfdc79fc91cc1a20c27c3f6155dfe46@skysports.com
SEQUENCE:0
DTSTAMP:20260425T092106Z
DTSTART:20260208T142500Z
DTEND:20260208T162500Z
SUMMARY:Tottenham Hotspur Women v Chelsea Women
LOCATION:Tottenham Hotspur Stadium
DESCRIPTION:Tottenham Hotspur Women v Chelsea Women - Tottenham Hotspur St
 adium - Barclays Women's Super League
STATUS:CONFIRMED
END:VEVENT
BEGIN:VEVENT
UID:13a5edb664b7415ba2a3ebf0f4a9d098@skysports.com
SEQUENCE:0
DTSTAMP:20260425T092106Z
DTSTART:20260215T120000Z
DTEND:20260215T140000Z
SUMMARY:Chelsea Women v Liverpool Women
LOCATION:Kingsmeadow Stadium
DESCRIPTION:Chelsea Women v Liverpool Women - Kingsmeadow Stadium - Barcla
 ys Women's Super League - Live on Sky Sports Premier League and Sky Sports
  Main Event
STATUS:CONFIRMED
END:VEVENT
BEGIN:VEVENT
UID:1260dc874154cced38fb89c446122613@skysports.com
SEQUENCE:0
DTSTAMP:20260425T092106Z
DTSTART:20260318T190000Z
DTEND:20260318T210000Z
SUMMARY:Chelsea Women v Brighton and Hove Albion Women
LOCATION:Kingsmeadow Stadium
DESCRIPTION:Chelsea Women v Brighton and Hove Albion Women - Kingsmeadow S
 tadium - Barclays Women's Super League - Live on Sky Sports Premier League
 \, Sky Sports Main Event and Sky Sports Mix
STATUS:CONFIRMED
END:VEVENT
BEGIN:VEVENT
UID:f88ffd769a266f8a0418ff6fdf545dbb@skysports.com
SEQUENCE:0
DTSTAMP:20260425T092106Z
DTSTART:20260321T120000Z
DTEND:20260321T140000Z
SUMMARY:London City Lionesses v Chelsea Women
LOCATION:The Den
DESCRIPTION:London City Lionesses v Chelsea Women - The Den - Barclays Wom
 en's Super League - Live on Sky Sports Mix
STATUS:CONFIRMED
END:VEVENT
BEGIN:VEVENT
UID:fd85870656d96987c8c85164dfa71ad9@skysports.com
SEQUENCE:0
DTSTAMP:20260425T092106Z
DTSTART:20260329T110000Z
DTEND:20260329T130000Z
SUMMARY:Chelsea Women v Aston Villa Women
LOCATION:Kingsmeadow Stadium
DESCRIPTION:Chelsea Women v Aston Villa Women - Kingsmeadow Stadium - Barc
 lays Women's Super League - Live on Sky Sports Main Event\, Sky Sports Foo
 tball and Sky Sports Mix
STATUS:CONFIRMED
END:VEVENT
BEGIN:VEVENT
UID:7f45411880264558dc3d958e3a36a326@skysports.com
SEQUENCE:0
DTSTAMP:20260425T092106Z
DTSTART:20260426T110000Z
DTEND:20260426T130000Z
SUMMARY:Everton Women v Chelsea Women
LOCATION:Goodison Park
DESCRIPTION:Everton Women v Chelsea Women - Goodison Park - Barclays Women
 's Super League - Live on Sky Sports+
STATUS:CONFIRMED
END:VEVENT
BEGIN:VEVENT
UID:9ec0ee3146305ef6ccc3d03aa03ee1ba@skysports.com
SEQUENCE:0
DTSTAMP:20260425T092106Z
DTSTART:20260503T133000Z
DTEND:20260503T153000Z
SUMMARY:Leicester City Women v Chelsea Women
LOCATION:The King Power Stadium
DESCRIPTION:Leicester City Women v Chelsea Women - The King Power Stadium 
 - Barclays Women's Super League
STATUS:CONFIRMED
END:VEVENT
BEGIN:VEVENT
UID:385a916c2504f92f2baa742b5cc95119@skysports.com
SEQUENCE:0
DTSTAMP:20260425T092106Z
DTSTART:20260516T120000Z
DTEND:20260516T140000Z
SUMMARY:Chelsea Women v Manchester United Women
LOCATION:Stamford Bridge
DESCRIPTION:Chelsea Women v Manchester United Women - Stamford Bridge - Ba
 rclays Women's Super League
STATUS:CONFIRMED
END:VEVENT
BEGIN:VEVENT
UID:68e952ba84790b72bee5af5a1d409670@skysports.com
SEQUENCE:0
DTSTAMP:20260425T092106Z
DTSTART:20251008T164500Z
DTEND:20251008T184500Z
SUMMARY:FC Twente Women v Chelsea Women
LOCATION:De Grolsch Veste
DESCRIPTION:FC Twente Women v Chelsea Women - De Grolsch Veste - Women's C
 hampions League
STATUS:CONFIRMED
END:VEVENT
BEGIN:VEVENT
UID:a85e084d7dff02b4ed817b92abf2cfcc@skysports.com
SEQUENCE:0
DTSTAMP:20260425T092106Z
DTSTART:20251015T190000Z
DTEND:20251015T210000Z
SUMMARY:Chelsea Women v Paris FC Women
LOCATION:Stamford Bridge
DESCRIPTION:Chelsea Women v Paris FC Women - Stamford Bridge - Women's Cha
 mpions League
STATUS:CONFIRMED
END:VEVENT
BEGIN:VEVENT
UID:8af4a22c1bdf290eee30d4ab34b47e4f@skysports.com
SEQUENCE:0
DTSTAMP:20260425T092106Z
DTSTART:20251111T200000Z
DTEND:20251111T220000Z
SUMMARY:St. Pölten Women v Chelsea Women
LOCATION:NV Arena
DESCRIPTION:St. Pölten Women v Chelsea Women - NV Arena - Women's Champio
 ns League
STATUS:CONFIRMED
END:VEVENT
BEGIN:VEVENT
UID:a81b70c9e95a4099b057d991f2fe270c@skysports.com
SEQUENCE:0
DTSTAMP:20260425T092106Z
DTSTART:20251120T200000Z
DTEND:20251120T220000Z
SUMMARY:Chelsea Women v Barcelona Women
LOCATION:Stamford Bridge
DESCRIPTION:Chelsea Women v Barcelona Women - Stamford Bridge - Women's Ch
 ampions League
STATUS:CONFIRMED
END:VEVENT
BEGIN:VEVENT
UID:157521d1748d45a5f908f81a086d946f@skysports.com
SEQUENCE:0
DTSTAMP:20260425T092106Z
DTSTART:20251210T200000Z
DTEND:20251210T220000Z
SUMMARY:Chelsea Women v Roma Women
LOCATION:Stamford Bridge
DESCRIPTION:Chelsea Women v Roma Women - Stamford Bridge - Women's Champio
 ns League
STATUS:CONFIRMED
END:VEVENT
BEGIN:VEVENT
UID:77ad1bf56259e5418e42230ee312b93f@skysports.com
SEQUENCE:0
DTSTAMP:20260425T092106Z
DTSTART:20251217T200000Z
DTEND:20251217T220000Z
SUMMARY:VfL Wolfsburg Women v Chelsea Women
LOCATION:AOK Stadion
DESCRIPTION:VfL Wolfsburg Women v Chelsea Women - AOK Stadion - Women's Ch
 ampions League
STATUS:CONFIRMED
END:VEVENT
BEGIN:VEVENT
UID:3136b20425d8ea3de39083f1fdc029e3@skysports.com
SEQUENCE:0
DTSTAMP:20260425T092106Z
DTSTART:20251221T130000Z
DTEND:20251221T150000Z
SUMMARY:Liverpool Women v Chelsea Women
LOCATION:Totally Wicked Stadium
DESCRIPTION:Liverpool Women v Chelsea Women - Totally Wicked Stadium - Wom
 en's League Cup
STATUS:CONFIRMED
END:VEVENT
BEGIN:VEVENT
UID:2dc24a1e9bd358b8cd1d7c3670b49c7d@skysports.com
SEQUENCE:0
DTSTAMP:20260425T092106Z
DTSTART:20260117T123000Z
DTEND:20260117T143000Z
SUMMARY:Chelsea Women v Crystal Palace Women
LOCATION:Kingsmeadow Stadium
DESCRIPTION:Chelsea Women v Crystal Palace Women - Kingsmeadow Stadium - T
 he Women's FA Cup
STATUS:CONFIRMED
END:VEVENT
BEGIN:VEVENT
UID:670fa1938fce88f1d8f9ec2bc0e1e529@skysports.com
SEQUENCE:0
DTSTAMP:20260425T092106Z
DTSTART:20260324T200000Z
DTEND:20260324T220000Z
SUMMARY:Arsenal Women v Chelsea Women
LOCATION:Emirates Stadium
DESCRIPTION:Arsenal Women v Chelsea Women - Emirates Stadium - Women's Cha
 mpions League
STATUS:CONFIRMED
END:VEVENT
BEGIN:VEVENT
UID:dc862400fd35d00332dccaed50574a63@skysports.com
SEQUENCE:0
DTSTAMP:20260425T092106Z
DTSTART:20260401T190000Z
DTEND:20260401T210000Z
SUMMARY:Chelsea Women v Arsenal Women
LOCATION:Stamford Bridge
DESCRIPTION:Chelsea Women v Arsenal Women - Stamford Bridge - Women's Cham
 pions League
STATUS:CONFIRMED
END:VEVENT
BEGIN:VEVENT
UID:6a981eb11540fc5cfd8c263a056d6fe4@skysports.com
SEQUENCE:0
DTSTAMP:20260425T092106Z
DTSTART:20260121T190000Z
DTEND:20260121T210000Z
SUMMARY:Manchester City Women v Chelsea Women
LOCATION:City Football Academy
DESCRIPTION:Manchester City Women v Chelsea Women - City Football Academy 
 - Women's League Cup - Live on Sky Sports Mix
STATUS:CONFIRMED
END:VEVENT
BEGIN:VEVENT
UID:acd6539eb6e63e4f73e6eddf4f4b6db6@skysports.com
SEQUENCE:0
DTSTAMP:20260425T092106Z
DTSTART:20260315T141500Z
DTEND:20260315T161500Z
SUMMARY:Chelsea Women v Manchester United Women
LOCATION:Ashton Gate Stadium
DESCRIPTION:Chelsea Women v Manchester United Women - Ashton Gate Stadium 
 - Women's League Cup - Live on Sky Sports+ and Sky Sports Mix
STATUS:CONFIRMED
END:VEVENT
BEGIN:VEVENT
UID:df39aa09a3a012c0cc1412935be0d50d@skysports.com
SEQUENCE:0
DTSTAMP:20260425T092106Z
DTSTART:20260222T133000Z
DTEND:20260222T153000Z
SUMMARY:Chelsea Women v Manchester United Women
LOCATION:Kingsmeadow Stadium
DESCRIPTION:Chelsea Women v Manchester United Women - Kingsmeadow Stadium 
 - The Women's FA Cup
STATUS:CONFIRMED
END:VEVENT
BEGIN:VEVENT
UID:58b8cee0b5f23f299120b3e1e9e27eb3@skysports.com
SEQUENCE:0
DTSTAMP:20260425T092106Z
DTSTART:20260406T123000Z
DTEND:20260406T143000Z
SUMMARY:Chelsea Women v Tottenham Hotspur Women
LOCATION:Kingsmeadow Stadium
DESCRIPTION:Chelsea Women v Tottenham Hotspur Women - Kingsmeadow Stadium 
 - The Women's FA Cup
STATUS:CONFIRMED
END:VEVENT
BEGIN:VEVENT
UID:6af73a87b0a31ba0b0f32fc421a04078@skysports.com
SEQUENCE:0
DTSTAMP:20260425T092106Z
DTSTART:20260510T143000Z
DTEND:20260510T163000Z
SUMMARY:Chelsea Women v Manchester City Women
LOCATION:Stamford Bridge
DESCRIPTION:Chelsea Women v Manchester City Women - Stamford Bridge - The 
 Women's FA Cup
STATUS:CONFIRMED
END:VEVENT
END:VCALENDAR