BEGIN:VCALENDAR
VERSION:2.0
PRODID:-//Sky Sports SSDM//NONSGML Event Calendar//EN
URL:https://www.skysports.com/calendars/football/fixtures/teams/czech-repu
 blic
CALSCALE:GREGORIAN
METHOD:PUBLISH
NAME:Czech Republic Fixtures
X-WR-CALNAME:Czech Republic Fixtures
X-WR-CALDESC:Czech Republic fixtures provided by Sky Sports (https://www.s
 kysports.com)
REFRESH-INTERVAL;VALUE=DURATION:PT1H
X-PUBLISHED-TTL:PT1H
BEGIN:VEVENT
UID:bf7431d46e6cab9a872a6a1fbbd15691@skysports.com
SEQUENCE:0
DTSTAMP:20260425T091902Z
DTSTART:20260612T020000Z
DTEND:20260612T040000Z
SUMMARY:Korea Republic v Czech Republic
LOCATION:Estadio Chivas
DESCRIPTION:Korea Republic v Czech Republic - Estadio Chivas - FIFA World 
 Cup
STATUS:CONFIRMED
END:VEVENT
BEGIN:VEVENT
UID:2896abfd973c508091d98680cf44b325@skysports.com
SEQUENCE:0
DTSTAMP:20260425T091902Z
DTSTART:20260618T160000Z
DTEND:20260618T180000Z
SUMMARY:Czech Republic v South Africa
LOCATION:Mercedes-Benz Stadium
DESCRIPTION:Czech Republic v South Africa - Mercedes-Benz Stadium - FIFA W
 orld Cup
STATUS:CONFIRMED
END:VEVENT
BEGIN:VEVENT
UID:beb71f54b23bb52b840567646ded5991@skysports.com
SEQUENCE:0
DTSTAMP:20260425T091902Z
DTSTART:20260625T010000Z
DTEND:20260625T030000Z
SUMMARY:Czech Republic v Mexico
LOCATION:Azteca Stadium
DESCRIPTION:Czech Republic v Mexico - Azteca Stadium - FIFA World Cup
STATUS:CONFIRMED
END:VEVENT
BEGIN:VEVENT
UID:89f423c99564e658cb2b2db03fda829a@skysports.com
SEQUENCE:0
DTSTAMP:20260425T091902Z
DTSTART:20260326T194500Z
DTEND:20260326T214500Z
SUMMARY:Czech Republic v Republic of Ireland
LOCATION:Eden Arena
DESCRIPTION:Czech Republic v Republic of Ireland - Eden Arena - FIFA World
  Cup European Qualifying
STATUS:CONFIRMED
END:VEVENT
BEGIN:VEVENT
UID:a720247758e55e86d8e3172d73011762@skysports.com
SEQUENCE:0
DTSTAMP:20260425T091902Z
DTSTART:20260331T184500Z
DTEND:20260331T204500Z
SUMMARY:Czech Republic v Denmark
LOCATION:epet ARENA
DESCRIPTION:Czech Republic v Denmark - epet ARENA - FIFA World Cup Europea
 n Qualifying
STATUS:CONFIRMED
END:VEVENT
BEGIN:VEVENT
UID:dc50f7b1d8ee969b32e297a26346f24a@skysports.com
SEQUENCE:0
DTSTAMP:20260425T091902Z
DTSTART:20260926T184500Z
DTEND:20260926T204500Z
SUMMARY:Czech Republic v Croatia
LOCATION:TBC
DESCRIPTION:Czech Republic v Croatia - TBC - UEFA Nations League
STATUS:CONFIRMED
END:VEVENT
BEGIN:VEVENT
UID:5db8419ab67c55c681ba4524bf18a1b6@skysports.com
SEQUENCE:0
DTSTAMP:20260425T091902Z
DTSTART:20260929T184500Z
DTEND:20260929T204500Z
SUMMARY:Czech Republic v England
LOCATION:TBC
DESCRIPTION:Czech Republic v England - TBC - UEFA Nations League
STATUS:CONFIRMED
END:VEVENT
BEGIN:VEVENT
UID:2dc1f1a7282c20f974668a97ad8fc9e2@skysports.com
SEQUENCE:0
DTSTAMP:20260425T091902Z
DTSTART:20261003T184500Z
DTEND:20261003T204500Z
SUMMARY:Spain v Czech Republic
LOCATION:TBC
DESCRIPTION:Spain v Czech Republic - TBC - UEFA Nations League
STATUS:CONFIRMED
END:VEVENT
BEGIN:VEVENT
UID:a79cf9e10726f3036ef7e233ff9e7257@skysports.com
SEQUENCE:0
DTSTAMP:20260425T091902Z
DTSTART:20261006T184500Z
DTEND:20261006T204500Z
SUMMARY:England v Czech Republic
LOCATION:TBC
DESCRIPTION:England v Czech Republic - TBC - UEFA Nations League
STATUS:CONFIRMED
END:VEVENT
BEGIN:VEVENT
UID:4a30cfa5971ec2d05fc4bde48c28ec81@skysports.com
SEQUENCE:0
DTSTAMP:20260425T091902Z
DTSTART:20261112T194500Z
DTEND:20261112T214500Z
SUMMARY:Czech Republic v Spain
LOCATION:TBC
DESCRIPTION:Czech Republic v Spain - TBC - UEFA Nations League
STATUS:CONFIRMED
END:VEVENT
BEGIN:VEVENT
UID:69f25330d61dafed5ff714c5693eb54b@skysports.com
SEQUENCE:0
DTSTAMP:20260425T091902Z
DTSTART:20261115T194500Z
DTEND:20261115T214500Z
SUMMARY:Croatia v Czech Republic
LOCATION:TBC
DESCRIPTION:Croatia v Czech Republic - TBC - UEFA Nations League
STATUS:CONFIRMED
END:VEVENT
BEGIN:VEVENT
UID:018a0ae77a49cd380ce5bd10f22658f5@skysports.com
SEQUENCE:0
DTSTAMP:20260425T091902Z
DTSTART:20260605T000000Z
DTEND:20260605T020000Z
SUMMARY:Guatemala v Czech Republic
LOCATION:Red Bull Arena (USA)
DESCRIPTION:Guatemala v Czech Republic - Red Bull Arena (USA) - Internatio
 nal Match
STATUS:CONFIRMED
END:VEVENT
END:VCALENDAR