BEGIN:VCALENDAR
VERSION:2.0
PRODID:-//Sky Sports SSDM//NONSGML Event Calendar//EN
URL:https://www.skysports.com/calendars/football/fixtures/teams/denmark
CALSCALE:GREGORIAN
METHOD:PUBLISH
NAME:Denmark Fixtures
X-WR-CALNAME:Denmark Fixtures
X-WR-CALDESC:Denmark fixtures provided by Sky Sports (https://www.skysport
 s.com)
REFRESH-INTERVAL;VALUE=DURATION:PT1H
X-PUBLISHED-TTL:PT1H
BEGIN:VEVENT
UID:11289d67336c2015465098583f99b557@skysports.com
SEQUENCE:0
DTSTAMP:20260425T091902Z
DTSTART:20260326T194500Z
DTEND:20260326T214500Z
SUMMARY:Denmark v North Macedonia
LOCATION:Telia Parken
DESCRIPTION:Denmark v North Macedonia - Telia Parken - FIFA World Cup Euro
 pean Qualifying
STATUS:CONFIRMED
END:VEVENT
BEGIN:VEVENT
UID:a720247758e55e86d8e3172d73011762@skysports.com
SEQUENCE:0
DTSTAMP:20260425T091902Z
DTSTART:20260331T184500Z
DTEND:20260331T204500Z
SUMMARY:Czech Republic v Denmark
LOCATION:epet ARENA
DESCRIPTION:Czech Republic v Denmark - epet ARENA - FIFA World Cup Europea
 n Qualifying
STATUS:CONFIRMED
END:VEVENT
BEGIN:VEVENT
UID:1bf116aef03f6814787d2be29cdc55b6@skysports.com
SEQUENCE:0
DTSTAMP:20260425T091902Z
DTSTART:20260924T184500Z
DTEND:20260924T204500Z
SUMMARY:Norway v Denmark
LOCATION:TBC
DESCRIPTION:Norway v Denmark - TBC - UEFA Nations League
STATUS:CONFIRMED
END:VEVENT
BEGIN:VEVENT
UID:ec18422a407b48c5c9e98a25d5bdc9e6@skysports.com
SEQUENCE:0
DTSTAMP:20260425T091902Z
DTSTART:20260927T160000Z
DTEND:20260927T180000Z
SUMMARY:Denmark v Wales
LOCATION:TBC
DESCRIPTION:Denmark v Wales - TBC - UEFA Nations League
STATUS:CONFIRMED
END:VEVENT
BEGIN:VEVENT
UID:6cdf8d6a3bca3d66d7ba86c91e4661ac@skysports.com
SEQUENCE:0
DTSTAMP:20260425T091902Z
DTSTART:20261001T184500Z
DTEND:20261001T204500Z
SUMMARY:Denmark v Portugal
LOCATION:TBC
DESCRIPTION:Denmark v Portugal - TBC - UEFA Nations League
STATUS:CONFIRMED
END:VEVENT
BEGIN:VEVENT
UID:b4a7b29899ac9292731457f77bb8f97a@skysports.com
SEQUENCE:0
DTSTAMP:20260425T091902Z
DTSTART:20261004T184500Z
DTEND:20261004T204500Z
SUMMARY:Wales v Denmark
LOCATION:TBC
DESCRIPTION:Wales v Denmark - TBC - UEFA Nations League
STATUS:CONFIRMED
END:VEVENT
BEGIN:VEVENT
UID:fcb6e393664b666b64002949848d7c4b@skysports.com
SEQUENCE:0
DTSTAMP:20260425T091902Z
DTSTART:20261114T194500Z
DTEND:20261114T214500Z
SUMMARY:Portugal v Denmark
LOCATION:TBC
DESCRIPTION:Portugal v Denmark - TBC - UEFA Nations League
STATUS:CONFIRMED
END:VEVENT
BEGIN:VEVENT
UID:e909eb68daf1bccb02d9be7bdc572bcd@skysports.com
SEQUENCE:0
DTSTAMP:20260425T091902Z
DTSTART:20261117T194500Z
DTEND:20261117T214500Z
SUMMARY:Denmark v Norway
LOCATION:TBC
DESCRIPTION:Denmark v Norway - TBC - UEFA Nations League
STATUS:CONFIRMED
END:VEVENT
END:VCALENDAR