BEGIN:VCALENDAR
VERSION:2.0
PRODID:-//Sky Sports SSDM//NONSGML Event Calendar//EN
URL:https://www.skysports.com/calendars/football/fixtures/teams/derby-coun
 ty
CALSCALE:GREGORIAN
METHOD:PUBLISH
NAME:Derby County Fixtures
X-WR-CALNAME:Derby County Fixtures
X-WR-CALDESC:Derby County fixtures provided by Sky Sports (https://www.sky
 sports.com)
REFRESH-INTERVAL;VALUE=DURATION:PT1H
X-PUBLISHED-TTL:PT1H
BEGIN:VEVENT
UID:1d37f7213d706591a26d98a78962e829@skysports.com
SEQUENCE:0
DTSTAMP:20260425T090307Z
DTSTART:20250809T140000Z
DTEND:20250809T160000Z
SUMMARY:Stoke City v Derby County
LOCATION:Bet365 Stadium
DESCRIPTION:Stoke City v Derby County - Bet365 Stadium - Sky Bet Champions
 hip - Live on Sky Sports+
STATUS:CONFIRMED
END:VEVENT
BEGIN:VEVENT
UID:0c6fe1ad60740452f5a6353e5b158a0c@skysports.com
SEQUENCE:0
DTSTAMP:20260425T090307Z
DTSTART:20250816T113000Z
DTEND:20250816T133000Z
SUMMARY:Derby County v Coventry City
LOCATION:Pride Park Stadium
DESCRIPTION:Derby County v Coventry City - Pride Park Stadium - Sky Bet Ch
 ampionship - Live on Sky Sports+
STATUS:CONFIRMED
END:VEVENT
BEGIN:VEVENT
UID:36cd035a86988d4cc259cf153e90e7a5@skysports.com
SEQUENCE:0
DTSTAMP:20260425T090307Z
DTSTART:20250822T190000Z
DTEND:20250822T210000Z
SUMMARY:Derby County v Bristol City
LOCATION:Pride Park Stadium
DESCRIPTION:Derby County v Bristol City - Pride Park Stadium - Sky Bet Cha
 mpionship - Live on Sky Sports Football
STATUS:CONFIRMED
END:VEVENT
BEGIN:VEVENT
UID:4b1e8cdd535a32b65b59668332c0a8ef@skysports.com
SEQUENCE:0
DTSTAMP:20260425T090307Z
DTSTART:20250830T140000Z
DTEND:20250830T160000Z
SUMMARY:Ipswich Town v Derby County
LOCATION:Portman Road
DESCRIPTION:Ipswich Town v Derby County - Portman Road - Sky Bet Champions
 hip
STATUS:CONFIRMED
END:VEVENT
BEGIN:VEVENT
UID:e592f704f7d4dda278dda05466defb20@skysports.com
SEQUENCE:0
DTSTAMP:20260425T090307Z
DTSTART:20250913T140000Z
DTEND:20250913T160000Z
SUMMARY:West Bromwich Albion v Derby County
LOCATION:The Hawthorns
DESCRIPTION:West Bromwich Albion v Derby County - The Hawthorns - Sky Bet 
 Championship
STATUS:CONFIRMED
END:VEVENT
BEGIN:VEVENT
UID:530ec3d5aeb037376d1410d610dda6a1@skysports.com
SEQUENCE:0
DTSTAMP:20260425T090307Z
DTSTART:20250920T140000Z
DTEND:20250920T160000Z
SUMMARY:Derby County v Preston North End
LOCATION:Pride Park Stadium
DESCRIPTION:Derby County v Preston North End - Pride Park Stadium - Sky Be
 t Championship
STATUS:CONFIRMED
END:VEVENT
BEGIN:VEVENT
UID:7756d95f803a7d290c42ea1264dd98c7@skysports.com
SEQUENCE:0
DTSTAMP:20260425T090307Z
DTSTART:20250927T113000Z
DTEND:20250927T133000Z
SUMMARY:Wrexham v Derby County
LOCATION:STōK Cae Ras
DESCRIPTION:Wrexham v Derby County - STōK Cae Ras - Sky Bet Championship 
 - Live on Sky Sports+
STATUS:CONFIRMED
END:VEVENT
BEGIN:VEVENT
UID:08dab5e8f306242db7a9ae2b8d94e2f4@skysports.com
SEQUENCE:0
DTSTAMP:20260425T090307Z
DTSTART:20250930T190000Z
DTEND:20250930T210000Z
SUMMARY:Derby County v Charlton Athletic
LOCATION:Pride Park Stadium
DESCRIPTION:Derby County v Charlton Athletic - Pride Park Stadium - Sky Be
 t Championship - Live on Sky Sports Football
STATUS:CONFIRMED
END:VEVENT
BEGIN:VEVENT
UID:5e70caa7ba6e279fb1b8c1f10811f22b@skysports.com
SEQUENCE:0
DTSTAMP:20260425T090307Z
DTSTART:20251004T140000Z
DTEND:20251004T160000Z
SUMMARY:Derby County v Southampton
LOCATION:Pride Park Stadium
DESCRIPTION:Derby County v Southampton - Pride Park Stadium - Sky Bet Cham
 pionship
STATUS:CONFIRMED
END:VEVENT
BEGIN:VEVENT
UID:02980fa87605cc9df07558b9c66ea969@skysports.com
SEQUENCE:0
DTSTAMP:20260425T090307Z
DTSTART:20251018T113000Z
DTEND:20251018T133000Z
SUMMARY:Oxford United v Derby County
LOCATION:The Kassam Stadium
DESCRIPTION:Oxford United v Derby County - The Kassam Stadium - Sky Bet Ch
 ampionship - Live on Sky Sports+
STATUS:CONFIRMED
END:VEVENT
BEGIN:VEVENT
UID:f9da83466e22f6055b4bc3c949bba532@skysports.com
SEQUENCE:0
DTSTAMP:20260425T090307Z
DTSTART:20251021T184500Z
DTEND:20251021T204500Z
SUMMARY:Derby County v Norwich City
LOCATION:Pride Park Stadium
DESCRIPTION:Derby County v Norwich City - Pride Park Stadium - Sky Bet Cha
 mpionship - Live on Sky Sports+
STATUS:CONFIRMED
END:VEVENT
BEGIN:VEVENT
UID:d0e37cecfdf4c51383e17cb418da762a@skysports.com
SEQUENCE:0
DTSTAMP:20260425T090307Z
DTSTART:20251025T140000Z
DTEND:20251025T160000Z
SUMMARY:Derby County v Queens Park Rangers
LOCATION:Pride Park Stadium
DESCRIPTION:Derby County v Queens Park Rangers - Pride Park Stadium - Sky 
 Bet Championship
STATUS:CONFIRMED
END:VEVENT
BEGIN:VEVENT
UID:dc6c5967fa3dde7cb4dbea10cd68d199@skysports.com
SEQUENCE:0
DTSTAMP:20260425T090307Z
DTSTART:20251101T150000Z
DTEND:20251101T170000Z
SUMMARY:Sheffield United v Derby County
LOCATION:Bramall Lane
DESCRIPTION:Sheffield United v Derby County - Bramall Lane - Sky Bet Champ
 ionship
STATUS:CONFIRMED
END:VEVENT
BEGIN:VEVENT
UID:ccb87db93ec5ce7936d980e5f5995bd9@skysports.com
SEQUENCE:0
DTSTAMP:20260425T090307Z
DTSTART:20251104T194500Z
DTEND:20251104T214500Z
SUMMARY:Derby County v Hull City
LOCATION:Pride Park Stadium
DESCRIPTION:Derby County v Hull City - Pride Park Stadium - Sky Bet Champi
 onship - Live on Sky Sports+
STATUS:CONFIRMED
END:VEVENT
BEGIN:VEVENT
UID:996bde2adc22b9957d225255433706a1@skysports.com
SEQUENCE:0
DTSTAMP:20260425T090307Z
DTSTART:20251108T123000Z
DTEND:20251108T143000Z
SUMMARY:Blackburn Rovers v Derby County
LOCATION:Ewood Park
DESCRIPTION:Blackburn Rovers v Derby County - Ewood Park - Sky Bet Champio
 nship - Live on Sky Sports Football
STATUS:CONFIRMED
END:VEVENT
BEGIN:VEVENT
UID:a4424ed2a54d704dd48ab9bb2cb2834d@skysports.com
SEQUENCE:0
DTSTAMP:20260425T090307Z
DTSTART:20251122T150000Z
DTEND:20251122T170000Z
SUMMARY:Derby County v Watford
LOCATION:Pride Park Stadium
DESCRIPTION:Derby County v Watford - Pride Park Stadium - Sky Bet Champion
 ship
STATUS:CONFIRMED
END:VEVENT
BEGIN:VEVENT
UID:3c67f02c1daed0f67946ce64f13d6f64@skysports.com
SEQUENCE:0
DTSTAMP:20260425T090307Z
DTSTART:20251125T194500Z
DTEND:20251125T214500Z
SUMMARY:Swansea City v Derby County
LOCATION:Swansea.com Stadium
DESCRIPTION:Swansea City v Derby County - Swansea.com Stadium - Sky Bet Ch
 ampionship - Live on Sky Sports+
STATUS:CONFIRMED
END:VEVENT
BEGIN:VEVENT
UID:b72d2d5aa50475201aa7f65676dabab8@skysports.com
SEQUENCE:0
DTSTAMP:20260425T090307Z
DTSTART:20251129T150000Z
DTEND:20251129T170000Z
SUMMARY:Middlesbrough v Derby County
LOCATION:Riverside Stadium
DESCRIPTION:Middlesbrough v Derby County - Riverside Stadium - Sky Bet Cha
 mpionship
STATUS:CONFIRMED
END:VEVENT
BEGIN:VEVENT
UID:65baff0bf2648853f5f0eaf319c50dc1@skysports.com
SEQUENCE:0
DTSTAMP:20260425T090307Z
DTSTART:20251206T123000Z
DTEND:20251206T143000Z
SUMMARY:Derby County v Leicester City
LOCATION:Pride Park Stadium
DESCRIPTION:Derby County v Leicester City - Pride Park Stadium - Sky Bet C
 hampionship - Live on Sky Sports Football
STATUS:CONFIRMED
END:VEVENT
BEGIN:VEVENT
UID:2ace541bfdbff252b187c90c3309d0ac@skysports.com
SEQUENCE:0
DTSTAMP:20260425T090307Z
DTSTART:20251210T194500Z
DTEND:20251210T214500Z
SUMMARY:Derby County v Millwall
LOCATION:Pride Park Stadium
DESCRIPTION:Derby County v Millwall - Pride Park Stadium - Sky Bet Champio
 nship - Live on Sky Sports+
STATUS:CONFIRMED
END:VEVENT
BEGIN:VEVENT
UID:8324b9d8de5a39d01e62261b639edb1d@skysports.com
SEQUENCE:0
DTSTAMP:20260425T090307Z
DTSTART:20251215T200000Z
DTEND:20251215T220000Z
SUMMARY:Sheffield Wednesday v Derby County
LOCATION:Hillsborough
DESCRIPTION:Sheffield Wednesday v Derby County - Hillsborough - Sky Bet Ch
 ampionship - Live on Sky Sports Football
STATUS:CONFIRMED
END:VEVENT
BEGIN:VEVENT
UID:329f1de99d3e99486c86e086b4dfe5a9@skysports.com
SEQUENCE:0
DTSTAMP:20260425T090307Z
DTSTART:20251220T150000Z
DTEND:20251220T170000Z
SUMMARY:Derby County v Portsmouth
LOCATION:Pride Park Stadium
DESCRIPTION:Derby County v Portsmouth - Pride Park Stadium - Sky Bet Champ
 ionship
STATUS:CONFIRMED
END:VEVENT
BEGIN:VEVENT
UID:764918995f4233a3801660e21743cf30@skysports.com
SEQUENCE:0
DTSTAMP:20260425T090307Z
DTSTART:20251226T123000Z
DTEND:20251226T143000Z
SUMMARY:Birmingham City v Derby County
LOCATION:St. Andrew's Stadium
DESCRIPTION:Birmingham City v Derby County - St. Andrew's Stadium - Sky Be
 t Championship - Live on Sky Sports Main Event and Sky Sports Football
STATUS:CONFIRMED
END:VEVENT
BEGIN:VEVENT
UID:4af4de009c927776ba237e7274bd3abe@skysports.com
SEQUENCE:0
DTSTAMP:20260425T090307Z
DTSTART:20251229T194500Z
DTEND:20251229T214500Z
SUMMARY:Leicester City v Derby County
LOCATION:The King Power Stadium
DESCRIPTION:Leicester City v Derby County - The King Power Stadium - Sky B
 et Championship - Live on Sky Sports+
STATUS:CONFIRMED
END:VEVENT
BEGIN:VEVENT
UID:98fadcb08185dcca90fc1992f1946112@skysports.com
SEQUENCE:0
DTSTAMP:20260425T090307Z
DTSTART:20260101T150000Z
DTEND:20260101T170000Z
SUMMARY:Derby County v Middlesbrough
LOCATION:Pride Park Stadium
DESCRIPTION:Derby County v Middlesbrough - Pride Park Stadium - Sky Bet Ch
 ampionship - Live on Sky Sports+
STATUS:CONFIRMED
END:VEVENT
BEGIN:VEVENT
UID:852a4882d9b9f143fa6c3b7e58ec833f@skysports.com
SEQUENCE:0
DTSTAMP:20260425T090307Z
DTSTART:20260104T150000Z
DTEND:20260104T170000Z
SUMMARY:Derby County v Wrexham
LOCATION:Pride Park Stadium
DESCRIPTION:Derby County v Wrexham - Pride Park Stadium - Sky Bet Champion
 ship
STATUS:CONFIRMED
END:VEVENT
BEGIN:VEVENT
UID:e3c7fef6bb17483868f49c5c57991182@skysports.com
SEQUENCE:0
DTSTAMP:20260425T090307Z
DTSTART:20260117T150000Z
DTEND:20260117T170000Z
SUMMARY:Preston North End v Derby County
LOCATION:Deepdale
DESCRIPTION:Preston North End v Derby County - Deepdale - Sky Bet Champion
 ship
STATUS:CONFIRMED
END:VEVENT
BEGIN:VEVENT
UID:9ff0161dc527aae5c7fe759a9d7fe4d7@skysports.com
SEQUENCE:0
DTSTAMP:20260425T090307Z
DTSTART:20260120T194500Z
DTEND:20260120T214500Z
SUMMARY:Charlton Athletic v Derby County
LOCATION:The Valley
DESCRIPTION:Charlton Athletic v Derby County - The Valley - Sky Bet Champi
 onship - Live on Sky Sports+
STATUS:CONFIRMED
END:VEVENT
BEGIN:VEVENT
UID:70fd49ebd4519892919b5a8400482f66@skysports.com
SEQUENCE:0
DTSTAMP:20260425T090307Z
DTSTART:20260123T200000Z
DTEND:20260123T220000Z
SUMMARY:Derby County v West Bromwich Albion
LOCATION:Pride Park Stadium
DESCRIPTION:Derby County v West Bromwich Albion - Pride Park Stadium - Sky
  Bet Championship - Live on Sky Sports Main Event and Sky Sports Football
STATUS:CONFIRMED
END:VEVENT
BEGIN:VEVENT
UID:75191b42df9b85fa4a2ed35e7d13c894@skysports.com
SEQUENCE:0
DTSTAMP:20260425T090307Z
DTSTART:20260130T200000Z
DTEND:20260130T220000Z
SUMMARY:Bristol City v Derby County
LOCATION:Ashton Gate Stadium
DESCRIPTION:Bristol City v Derby County - Ashton Gate Stadium - Sky Bet Ch
 ampionship - Live on Sky Sports Football and Sky Sports Main Event
STATUS:CONFIRMED
END:VEVENT
BEGIN:VEVENT
UID:1b92d4f7871df63d3a1f9348ecd26692@skysports.com
SEQUENCE:0
DTSTAMP:20260425T090307Z
DTSTART:20260207T123100Z
DTEND:20260207T143100Z
SUMMARY:Derby County v Ipswich Town
LOCATION:Pride Park Stadium
DESCRIPTION:Derby County v Ipswich Town - Pride Park Stadium - Sky Bet Cha
 mpionship - Live on Sky Sports Main Event and Sky Sports Football
STATUS:CONFIRMED
END:VEVENT
BEGIN:VEVENT
UID:161a7a733c0c1f6bee1c2177493bf528@skysports.com
SEQUENCE:0
DTSTAMP:20260425T090307Z
DTSTART:20260214T150000Z
DTEND:20260214T170000Z
SUMMARY:Derby County v Swansea City
LOCATION:Pride Park Stadium
DESCRIPTION:Derby County v Swansea City - Pride Park Stadium - Sky Bet Cha
 mpionship
STATUS:CONFIRMED
END:VEVENT
BEGIN:VEVENT
UID:ef238e53a598cd8ab3d7a3c6033c6200@skysports.com
SEQUENCE:0
DTSTAMP:20260425T090307Z
DTSTART:20260221T150000Z
DTEND:20260221T170000Z
SUMMARY:Watford v Derby County
LOCATION:Vicarage Road
DESCRIPTION:Watford v Derby County - Vicarage Road - Sky Bet Championship
STATUS:CONFIRMED
END:VEVENT
BEGIN:VEVENT
UID:ac3fd36c1ab2ffba547077612129f49a@skysports.com
SEQUENCE:0
DTSTAMP:20260425T090307Z
DTSTART:20260224T194500Z
DTEND:20260224T214500Z
SUMMARY:Hull City v Derby County
LOCATION:MKM Stadium
DESCRIPTION:Hull City v Derby County - MKM Stadium - Sky Bet Championship 
 - Live on Sky Sports+
STATUS:CONFIRMED
END:VEVENT
BEGIN:VEVENT
UID:a6bd80ecb8b79ed8b576a909c66fa585@skysports.com
SEQUENCE:0
DTSTAMP:20260425T090307Z
DTSTART:20260228T123000Z
DTEND:20260228T143000Z
SUMMARY:Derby County v Blackburn Rovers
LOCATION:Pride Park Stadium
DESCRIPTION:Derby County v Blackburn Rovers - Pride Park Stadium - Sky Bet
  Championship - Live on Sky Sports+
STATUS:CONFIRMED
END:VEVENT
BEGIN:VEVENT
UID:49f233c58c4e219bba5ab4bed07d2636@skysports.com
SEQUENCE:0
DTSTAMP:20260425T090307Z
DTSTART:20260307T150000Z
DTEND:20260307T170000Z
SUMMARY:Derby County v Sheffield Wednesday
LOCATION:Pride Park Stadium
DESCRIPTION:Derby County v Sheffield Wednesday - Pride Park Stadium - Sky 
 Bet Championship
STATUS:CONFIRMED
END:VEVENT
BEGIN:VEVENT
UID:2d5add2676300940a52901662bd0ff91@skysports.com
SEQUENCE:0
DTSTAMP:20260425T090307Z
DTSTART:20260310T194500Z
DTEND:20260310T214500Z
SUMMARY:Millwall v Derby County
LOCATION:The Den
DESCRIPTION:Millwall v Derby County - The Den - Sky Bet Championship - Liv
 e on Sky Sports+
STATUS:CONFIRMED
END:VEVENT
BEGIN:VEVENT
UID:961dc6333f04839ee5b73849766f94f8@skysports.com
SEQUENCE:0
DTSTAMP:20260425T090307Z
DTSTART:20260316T200000Z
DTEND:20260316T220000Z
SUMMARY:Portsmouth v Derby County
LOCATION:Fratton Park
DESCRIPTION:Portsmouth v Derby County - Fratton Park - Sky Bet Championshi
 p - Live on Sky Sports Football
STATUS:CONFIRMED
END:VEVENT
BEGIN:VEVENT
UID:9cb9379ceceb195ba629bb9866a82197@skysports.com
SEQUENCE:0
DTSTAMP:20260425T090307Z
DTSTART:20260321T123000Z
DTEND:20260321T143000Z
SUMMARY:Derby County v Birmingham City
LOCATION:Pride Park Stadium
DESCRIPTION:Derby County v Birmingham City - Pride Park Stadium - Sky Bet 
 Championship - Live on Sky Sports+
STATUS:CONFIRMED
END:VEVENT
BEGIN:VEVENT
UID:460e8ff76b81e201bf61441f05ec9ab5@skysports.com
SEQUENCE:0
DTSTAMP:20260425T090307Z
DTSTART:20260403T190000Z
DTEND:20260403T210000Z
SUMMARY:Coventry City v Derby County
LOCATION:The Coventry Building Society Arena
DESCRIPTION:Coventry City v Derby County - The Coventry Building Society A
 rena - Sky Bet Championship - Live on Sky Sports Main Event and Sky Sports
  Football
STATUS:CONFIRMED
END:VEVENT
BEGIN:VEVENT
UID:9b08be05d5d6026420c6d30aae37b349@skysports.com
SEQUENCE:0
DTSTAMP:20260425T090307Z
DTSTART:20260406T140000Z
DTEND:20260406T160000Z
SUMMARY:Derby County v Stoke City
LOCATION:Pride Park Stadium
DESCRIPTION:Derby County v Stoke City - Pride Park Stadium - Sky Bet Champ
 ionship - Live on Sky Sports+
STATUS:CONFIRMED
END:VEVENT
BEGIN:VEVENT
UID:a389174701fac22c7d082330dabbe4e9@skysports.com
SEQUENCE:0
DTSTAMP:20260425T090307Z
DTSTART:20260411T140000Z
DTEND:20260411T160000Z
SUMMARY:Southampton v Derby County
LOCATION:St. Mary's Stadium
DESCRIPTION:Southampton v Derby County - St. Mary's Stadium - Sky Bet Cham
 pionship
STATUS:CONFIRMED
END:VEVENT
BEGIN:VEVENT
UID:53d9617069aa8a07987b063fcd822545@skysports.com
SEQUENCE:0
DTSTAMP:20260425T090307Z
DTSTART:20260418T113000Z
DTEND:20260418T133000Z
SUMMARY:Derby County v Oxford United
LOCATION:Pride Park Stadium
DESCRIPTION:Derby County v Oxford United - Pride Park Stadium - Sky Bet Ch
 ampionship - Live on Sky Sports+
STATUS:CONFIRMED
END:VEVENT
BEGIN:VEVENT
UID:7dc891ba28b7136e9a689b35bb82e413@skysports.com
SEQUENCE:0
DTSTAMP:20260425T090307Z
DTSTART:20260421T184500Z
DTEND:20260421T204500Z
SUMMARY:Norwich City v Derby County
LOCATION:Carrow Road
DESCRIPTION:Norwich City v Derby County - Carrow Road - Sky Bet Championsh
 ip - Live on Sky Sports+
STATUS:CONFIRMED
END:VEVENT
BEGIN:VEVENT
UID:197c702b837ce8ac13ebbb3412c6e650@skysports.com
SEQUENCE:0
DTSTAMP:20260425T090307Z
DTSTART:20260425T140000Z
DTEND:20260425T160000Z
SUMMARY:Queens Park Rangers v Derby County
LOCATION:Loftus Road Stadium
DESCRIPTION:Queens Park Rangers v Derby County - Loftus Road Stadium - Sky
  Bet Championship
STATUS:CONFIRMED
END:VEVENT
BEGIN:VEVENT
UID:4dd07851479bbc6556da7794d200802b@skysports.com
SEQUENCE:0
DTSTAMP:20260425T090307Z
DTSTART:20260502T113000Z
DTEND:20260502T133000Z
SUMMARY:Derby County v Sheffield United
LOCATION:Pride Park Stadium
DESCRIPTION:Derby County v Sheffield United - Pride Park Stadium - Sky Bet
  Championship
STATUS:CONFIRMED
END:VEVENT
BEGIN:VEVENT
UID:09f80749380fd0c7c414a4ab18fdc208@skysports.com
SEQUENCE:0
DTSTAMP:20260425T090307Z
DTSTART:20250812T184500Z
DTEND:20250812T204500Z
SUMMARY:West Bromwich Albion v Derby County
LOCATION:The Hawthorns
DESCRIPTION:West Bromwich Albion v Derby County - The Hawthorns - Carabao 
 Cup - Live on Sky Sports+
STATUS:CONFIRMED
END:VEVENT
BEGIN:VEVENT
UID:b5cb93a5d6881d9b689d5896004f0513@skysports.com
SEQUENCE:0
DTSTAMP:20260425T090307Z
DTSTART:20250718T160000Z
DTEND:20250718T180000Z
SUMMARY:Red Bull Salzburg v Derby County
LOCATION:TBC
DESCRIPTION:Red Bull Salzburg v Derby County - TBC - Friendly Match
STATUS:CONFIRMED
END:VEVENT
BEGIN:VEVENT
UID:0fdbe42fe02ea0e9adc05843c1155f4c@skysports.com
SEQUENCE:0
DTSTAMP:20260425T090307Z
DTSTART:20250826T184500Z
DTEND:20250826T204500Z
SUMMARY:Burnley v Derby County
LOCATION:Turf Moor
DESCRIPTION:Burnley v Derby County - Turf Moor - Carabao Cup - Live on Sky
  Sports+
STATUS:CONFIRMED
END:VEVENT
BEGIN:VEVENT
UID:d733ef9029d0e958488e2390eeb24591@skysports.com
SEQUENCE:0
DTSTAMP:20260425T090307Z
DTSTART:20260111T120000Z
DTEND:20260111T140000Z
SUMMARY:Derby County v Leeds United
LOCATION:Pride Park Stadium
DESCRIPTION:Derby County v Leeds United - Pride Park Stadium - The FA Cup
STATUS:CONFIRMED
END:VEVENT
END:VCALENDAR