BEGIN:VCALENDAR
VERSION:2.0
PRODID:-//Sky Sports SSDM//NONSGML Event Calendar//EN
URL:https://www.skysports.com/calendars/football/fixtures/teams/dundee
CALSCALE:GREGORIAN
METHOD:PUBLISH
NAME:Dundee Fixtures
X-WR-CALNAME:Dundee Fixtures
X-WR-CALDESC:Dundee fixtures provided by Sky Sports (https://www.skysports
 .com)
REFRESH-INTERVAL;VALUE=DURATION:PT1H
X-PUBLISHED-TTL:PT1H
BEGIN:VEVENT
UID:9808f98d28805cc82716ab688f362447@skysports.com
SEQUENCE:0
DTSTAMP:20260425T090210Z
DTSTART:20250712T140000Z
DTEND:20250712T160000Z
SUMMARY:Dundee v Airdrieonians
LOCATION:The Scot Foam Stadium at Dens Park
DESCRIPTION:Dundee v Airdrieonians - The Scot Foam Stadium at Dens Park - 
 Premier Sports Cup
STATUS:CONFIRMED
END:VEVENT
BEGIN:VEVENT
UID:7545a3bdd329f06a677d778713e07468@skysports.com
SEQUENCE:0
DTSTAMP:20260425T090210Z
DTSTART:20250719T140000Z
DTEND:20250719T160000Z
SUMMARY:Alloa Athletic v Dundee
LOCATION:Indodrill Stadium
DESCRIPTION:Alloa Athletic v Dundee - Indodrill Stadium - Premier Sports C
 up
STATUS:CONFIRMED
END:VEVENT
BEGIN:VEVENT
UID:de1dd68c451efcfeabcbda8e5089523a@skysports.com
SEQUENCE:0
DTSTAMP:20260425T090210Z
DTSTART:20250722T184500Z
DTEND:20250722T204500Z
SUMMARY:Bonnyrigg Rose v Dundee
LOCATION:Ferguson Park
DESCRIPTION:Bonnyrigg Rose v Dundee - Ferguson Park - Premier Sports Cup
STATUS:CONFIRMED
END:VEVENT
BEGIN:VEVENT
UID:f2f443e75bf2dd021af46ab397ab34d4@skysports.com
SEQUENCE:0
DTSTAMP:20260425T090210Z
DTSTART:20250726T140000Z
DTEND:20250726T160000Z
SUMMARY:Dundee v Montrose
LOCATION:The Scot Foam Stadium at Dens Park
DESCRIPTION:Dundee v Montrose - The Scot Foam Stadium at Dens Park - Premi
 er Sports Cup
STATUS:CONFIRMED
END:VEVENT
BEGIN:VEVENT
UID:c9b628db34309f0a6d76fe9a5b7194d1@skysports.com
SEQUENCE:0
DTSTAMP:20260425T090210Z
DTSTART:20250803T140000Z
DTEND:20250803T160000Z
SUMMARY:Dundee v Hibernian
LOCATION:The Scot Foam Stadium at Dens Park
DESCRIPTION:Dundee v Hibernian - The Scot Foam Stadium at Dens Park - Scot
 tish Premiership
STATUS:CONFIRMED
END:VEVENT
BEGIN:VEVENT
UID:a82c3e3cb7572e99932612546adfa355@skysports.com
SEQUENCE:0
DTSTAMP:20260425T090210Z
DTSTART:20250809T164500Z
DTEND:20250809T184500Z
SUMMARY:Rangers v Dundee
LOCATION:Ibrox Stadium
DESCRIPTION:Rangers v Dundee - Ibrox Stadium - Scottish Premiership
STATUS:CONFIRMED
END:VEVENT
BEGIN:VEVENT
UID:4db1b7cd1275ebc7f09e17d74a90121b@skysports.com
SEQUENCE:0
DTSTAMP:20260425T090210Z
DTSTART:20250823T140000Z
DTEND:20250823T160000Z
SUMMARY:Kilmarnock v Dundee
LOCATION:The BBSP Stadium\, Rugby Park
DESCRIPTION:Kilmarnock v Dundee - The BBSP Stadium\, Rugby Park - Scottish
  Premiership
STATUS:CONFIRMED
END:VEVENT
BEGIN:VEVENT
UID:22316c60e3ace1ebed1e7e0a62f59f0b@skysports.com
SEQUENCE:0
DTSTAMP:20260425T090210Z
DTSTART:20250831T130000Z
DTEND:20250831T150000Z
SUMMARY:Dundee v Dundee United
LOCATION:The Scot Foam Stadium at Dens Park
DESCRIPTION:Dundee v Dundee United - The Scot Foam Stadium at Dens Park - 
 Scottish Premiership
STATUS:CONFIRMED
END:VEVENT
BEGIN:VEVENT
UID:195984fde0d5c1436561e40345a7b4ef@skysports.com
SEQUENCE:0
DTSTAMP:20260425T090210Z
DTSTART:20250913T140000Z
DTEND:20250913T160000Z
SUMMARY:Dundee v Motherwell
LOCATION:The Scot Foam Stadium at Dens Park
DESCRIPTION:Dundee v Motherwell - The Scot Foam Stadium at Dens Park - Sco
 ttish Premiership
STATUS:CONFIRMED
END:VEVENT
BEGIN:VEVENT
UID:b0c88788e2361abe1713c0bc71130bd6@skysports.com
SEQUENCE:0
DTSTAMP:20260425T090210Z
DTSTART:20250927T140000Z
DTEND:20250927T160000Z
SUMMARY:St Mirren v Dundee
LOCATION:The SMiSA Stadium
DESCRIPTION:St Mirren v Dundee - The SMiSA Stadium - Scottish Premiership
STATUS:CONFIRMED
END:VEVENT
BEGIN:VEVENT
UID:1eec4878fea3dc65755984e6b9db1e2d@skysports.com
SEQUENCE:0
DTSTAMP:20260425T090210Z
DTSTART:20251005T140000Z
DTEND:20251005T160000Z
SUMMARY:Aberdeen v Dundee
LOCATION:Pittodrie
DESCRIPTION:Aberdeen v Dundee - Pittodrie - Scottish Premiership
STATUS:CONFIRMED
END:VEVENT
BEGIN:VEVENT
UID:c13fcf65e626a469bf762e8340c1e8f7@skysports.com
SEQUENCE:0
DTSTAMP:20260425T090210Z
DTSTART:20251019T110000Z
DTEND:20251019T130000Z
SUMMARY:Dundee v Celtic
LOCATION:The Scot Foam Stadium at Dens Park
DESCRIPTION:Dundee v Celtic - The Scot Foam Stadium at Dens Park - Scottis
 h Premiership - Live on Sky Sports Football HD
STATUS:CONFIRMED
END:VEVENT
BEGIN:VEVENT
UID:235724e20b077a6b4624a84017f31ccd@skysports.com
SEQUENCE:0
DTSTAMP:20260425T090210Z
DTSTART:20251025T140000Z
DTEND:20251025T160000Z
SUMMARY:Falkirk v Dundee
LOCATION:Falkirk Stadium
DESCRIPTION:Falkirk v Dundee - Falkirk Stadium - Scottish Premiership
STATUS:CONFIRMED
END:VEVENT
BEGIN:VEVENT
UID:8718d30ae7279c92aa9f6e95cb4ac933@skysports.com
SEQUENCE:0
DTSTAMP:20260425T090210Z
DTSTART:20250920T140000Z
DTEND:20250920T160000Z
SUMMARY:Dundee v Livingston
LOCATION:The Scot Foam Stadium at Dens Park
DESCRIPTION:Dundee v Livingston - The Scot Foam Stadium at Dens Park - Sco
 ttish Premiership
STATUS:CONFIRMED
END:VEVENT
BEGIN:VEVENT
UID:086101a8efc7b5909878ea75ad606df8@skysports.com
SEQUENCE:0
DTSTAMP:20260425T090210Z
DTSTART:20251101T150000Z
DTEND:20251101T170000Z
SUMMARY:Hearts v Dundee
LOCATION:Tynecastle
DESCRIPTION:Hearts v Dundee - Tynecastle - Scottish Premiership
STATUS:CONFIRMED
END:VEVENT
BEGIN:VEVENT
UID:05e38ba3376f4ccbed080011b721a15b@skysports.com
SEQUENCE:0
DTSTAMP:20260425T090210Z
DTSTART:20251109T150000Z
DTEND:20251109T170000Z
SUMMARY:Dundee v Rangers
LOCATION:The Scot Foam Stadium at Dens Park
DESCRIPTION:Dundee v Rangers - The Scot Foam Stadium at Dens Park - Scotti
 sh Premiership - Live on Sky Sports Football
STATUS:CONFIRMED
END:VEVENT
BEGIN:VEVENT
UID:fe3822de3cec53a01036db6c9eb189e8@skysports.com
SEQUENCE:0
DTSTAMP:20260425T090210Z
DTSTART:20251122T150000Z
DTEND:20251122T170000Z
SUMMARY:Hibernian v Dundee
LOCATION:Easter Road
DESCRIPTION:Hibernian v Dundee - Easter Road - Scottish Premiership
STATUS:CONFIRMED
END:VEVENT
BEGIN:VEVENT
UID:ccd9c55a0962a89cca51e93683f2e387@skysports.com
SEQUENCE:0
DTSTAMP:20260425T090210Z
DTSTART:20251129T150000Z
DTEND:20251129T170000Z
SUMMARY:Dundee v St Mirren
LOCATION:The Scot Foam Stadium at Dens Park
DESCRIPTION:Dundee v St Mirren - The Scot Foam Stadium at Dens Park - Scot
 tish Premiership
STATUS:CONFIRMED
END:VEVENT
BEGIN:VEVENT
UID:a2e5b08e47516b4893a3b5a7439011ad@skysports.com
SEQUENCE:0
DTSTAMP:20260425T090210Z
DTSTART:20251203T194500Z
DTEND:20251203T214500Z
SUMMARY:Celtic v Dundee
LOCATION:Celtic Park
DESCRIPTION:Celtic v Dundee - Celtic Park - Scottish Premiership
STATUS:CONFIRMED
END:VEVENT
BEGIN:VEVENT
UID:7ca51345082466f79cb43a3c0e3c6f92@skysports.com
SEQUENCE:0
DTSTAMP:20260425T090210Z
DTSTART:20251206T150000Z
DTEND:20251206T170000Z
SUMMARY:Dundee v Aberdeen
LOCATION:The Scot Foam Stadium at Dens Park
DESCRIPTION:Dundee v Aberdeen - The Scot Foam Stadium at Dens Park - Scott
 ish Premiership
STATUS:CONFIRMED
END:VEVENT
BEGIN:VEVENT
UID:ea1f98cfef4ee6bcad6e69d2bcfc4ecb@skysports.com
SEQUENCE:0
DTSTAMP:20260425T090210Z
DTSTART:20251213T150000Z
DTEND:20251213T170000Z
SUMMARY:Livingston v Dundee
LOCATION:Tony Macaroni Arena
DESCRIPTION:Livingston v Dundee - Tony Macaroni Arena - Scottish Premiersh
 ip
STATUS:CONFIRMED
END:VEVENT
BEGIN:VEVENT
UID:c268af24a315ca040e02cb660ae9aeec@skysports.com
SEQUENCE:0
DTSTAMP:20260425T090210Z
DTSTART:20251220T150000Z
DTEND:20251220T170000Z
SUMMARY:Motherwell v Dundee
LOCATION:Fir Park
DESCRIPTION:Motherwell v Dundee - Fir Park - Scottish Premiership
STATUS:CONFIRMED
END:VEVENT
BEGIN:VEVENT
UID:8798ff92ae253111609f20c87f9fb6c2@skysports.com
SEQUENCE:0
DTSTAMP:20260425T090210Z
DTSTART:20251227T150000Z
DTEND:20251227T170000Z
SUMMARY:Dundee v Falkirk
LOCATION:The Scot Foam Stadium at Dens Park
DESCRIPTION:Dundee v Falkirk - The Scot Foam Stadium at Dens Park - Scotti
 sh Premiership
STATUS:CONFIRMED
END:VEVENT
BEGIN:VEVENT
UID:b6eee74bb5d1e43ae20b5a4689df9834@skysports.com
SEQUENCE:0
DTSTAMP:20260425T090210Z
DTSTART:20251230T194500Z
DTEND:20251230T214500Z
SUMMARY:Dundee v Kilmarnock
LOCATION:The Scot Foam Stadium at Dens Park
DESCRIPTION:Dundee v Kilmarnock - The Scot Foam Stadium at Dens Park - Sco
 ttish Premiership
STATUS:CONFIRMED
END:VEVENT
BEGIN:VEVENT
UID:4e6188e2f74d6582126077f5d289b7d2@skysports.com
SEQUENCE:0
DTSTAMP:20260425T090210Z
DTSTART:20260103T150000Z
DTEND:20260103T170000Z
SUMMARY:Dundee United v Dundee
LOCATION:CalForth Construction Arena at Tannadice Park
DESCRIPTION:Dundee United v Dundee - CalForth Construction Arena at Tannad
 ice Park - Scottish Premiership - Live on Sky Sports Football
STATUS:CONFIRMED
END:VEVENT
BEGIN:VEVENT
UID:372e78388c8ec93b3c2850712fb820b9@skysports.com
SEQUENCE:0
DTSTAMP:20260425T090210Z
DTSTART:20260111T140000Z
DTEND:20260111T160000Z
SUMMARY:Dundee v Hearts
LOCATION:The Scot Foam Stadium at Dens Park
DESCRIPTION:Dundee v Hearts - The Scot Foam Stadium at Dens Park - Scottis
 h Premiership - Live on Sky Sports Football
STATUS:CONFIRMED
END:VEVENT
BEGIN:VEVENT
UID:1df709f03fbc58398b20230caa78f5d7@skysports.com
SEQUENCE:0
DTSTAMP:20260425T090210Z
DTSTART:20260125T150000Z
DTEND:20260125T170000Z
SUMMARY:Rangers v Dundee
LOCATION:Ibrox Stadium
DESCRIPTION:Rangers v Dundee - Ibrox Stadium - Scottish Premiership
STATUS:CONFIRMED
END:VEVENT
BEGIN:VEVENT
UID:151c0d26ab58973a0a0b8c56b57a1cac@skysports.com
SEQUENCE:0
DTSTAMP:20260425T090210Z
DTSTART:20260131T150000Z
DTEND:20260131T170000Z
SUMMARY:St Mirren v Dundee
LOCATION:The SMiSA Stadium
DESCRIPTION:St Mirren v Dundee - The SMiSA Stadium - Scottish Premiership
STATUS:CONFIRMED
END:VEVENT
BEGIN:VEVENT
UID:a8bd5a340c46a8f68ba19bf146656a5e@skysports.com
SEQUENCE:0
DTSTAMP:20260425T090210Z
DTSTART:20260307T150000Z
DTEND:20260307T170000Z
SUMMARY:Dundee v Motherwell
LOCATION:The Scot Foam Stadium at Dens Park
DESCRIPTION:Dundee v Motherwell - The Scot Foam Stadium at Dens Park - Sco
 ttish Premiership
STATUS:CONFIRMED
END:VEVENT
BEGIN:VEVENT
UID:1a366087128a4784fdbcf1078dc4a7f9@skysports.com
SEQUENCE:0
DTSTAMP:20260425T090210Z
DTSTART:20260211T194500Z
DTEND:20260211T214500Z
SUMMARY:Falkirk v Dundee
LOCATION:Falkirk Stadium
DESCRIPTION:Falkirk v Dundee - Falkirk Stadium - Scottish Premiership
STATUS:CONFIRMED
END:VEVENT
BEGIN:VEVENT
UID:05a1ad83c8a3e142d97c24813760bb1e@skysports.com
SEQUENCE:0
DTSTAMP:20260425T090210Z
DTSTART:20260214T150000Z
DTEND:20260214T170000Z
SUMMARY:Dundee v Livingston
LOCATION:The Scot Foam Stadium at Dens Park
DESCRIPTION:Dundee v Livingston - The Scot Foam Stadium at Dens Park - Sco
 ttish Premiership
STATUS:CONFIRMED
END:VEVENT
BEGIN:VEVENT
UID:b588abdbbbe859bb80ab77fe6f48ca07@skysports.com
SEQUENCE:0
DTSTAMP:20260425T090210Z
DTSTART:20260221T150000Z
DTEND:20260221T170000Z
SUMMARY:Aberdeen v Dundee
LOCATION:Pittodrie
DESCRIPTION:Aberdeen v Dundee - Pittodrie - Scottish Premiership
STATUS:CONFIRMED
END:VEVENT
BEGIN:VEVENT
UID:b64c426f43ddea9209ed7310f948fd5f@skysports.com
SEQUENCE:0
DTSTAMP:20260425T090210Z
DTSTART:20260228T150000Z
DTEND:20260228T170000Z
SUMMARY:Dundee v Hibernian
LOCATION:The Scot Foam Stadium at Dens Park
DESCRIPTION:Dundee v Hibernian - The Scot Foam Stadium at Dens Park - Scot
 tish Premiership
STATUS:CONFIRMED
END:VEVENT
BEGIN:VEVENT
UID:a38bb6292a5320387b4ad4e922f51296@skysports.com
SEQUENCE:0
DTSTAMP:20260425T090210Z
DTSTART:20260315T140000Z
DTEND:20260315T160000Z
SUMMARY:Dundee v Dundee United
LOCATION:The Scot Foam Stadium at Dens Park
DESCRIPTION:Dundee v Dundee United - The Scot Foam Stadium at Dens Park - 
 Scottish Premiership
STATUS:CONFIRMED
END:VEVENT
BEGIN:VEVENT
UID:d35cf4ec4e5205c9ec4020059e0ce606@skysports.com
SEQUENCE:0
DTSTAMP:20260425T090210Z
DTSTART:20260321T150000Z
DTEND:20260321T170000Z
SUMMARY:Hearts v Dundee
LOCATION:Tynecastle
DESCRIPTION:Hearts v Dundee - Tynecastle - Scottish Premiership
STATUS:CONFIRMED
END:VEVENT
BEGIN:VEVENT
UID:afc4319bc2c532498f2e38f8b09c5c0d@skysports.com
SEQUENCE:0
DTSTAMP:20260425T090210Z
DTSTART:20260405T153000Z
DTEND:20260405T173000Z
SUMMARY:Dundee v Celtic
LOCATION:The Scot Foam Stadium at Dens Park
DESCRIPTION:Dundee v Celtic - The Scot Foam Stadium at Dens Park - Scottis
 h Premiership - Live on Sky Sports Main Event and Sky Sports Football
STATUS:CONFIRMED
END:VEVENT
BEGIN:VEVENT
UID:af3e7a2e445b937d10a4a4c3902ce6ee@skysports.com
SEQUENCE:0
DTSTAMP:20260425T090210Z
DTSTART:20260411T140000Z
DTEND:20260411T160000Z
SUMMARY:Kilmarnock v Dundee
LOCATION:The BBSP Stadium\, Rugby Park
DESCRIPTION:Kilmarnock v Dundee - The BBSP Stadium\, Rugby Park - Scottish
  Premiership
STATUS:CONFIRMED
END:VEVENT
BEGIN:VEVENT
UID:03bf0260d04c3c2668d41835689ce508@skysports.com
SEQUENCE:0
DTSTAMP:20260425T090210Z
DTSTART:20260117T150000Z
DTEND:20260117T170000Z
SUMMARY:Kilmarnock v Dundee
LOCATION:The BBSP Stadium\, Rugby Park
DESCRIPTION:Kilmarnock v Dundee - The BBSP Stadium\, Rugby Park - Scottish
  Cup
STATUS:CONFIRMED
END:VEVENT
BEGIN:VEVENT
UID:f6aaef1a65740a15f53d21d8ed7782f5@skysports.com
SEQUENCE:0
DTSTAMP:20260425T090210Z
DTSTART:20260207T173000Z
DTEND:20260207T193000Z
SUMMARY:Celtic v Dundee
LOCATION:Celtic Park
DESCRIPTION:Celtic v Dundee - Celtic Park - Scottish Cup
STATUS:CONFIRMED
END:VEVENT
BEGIN:VEVENT
UID:3dbf2d6f51e33f8711f50436ca5dbc66@skysports.com
SEQUENCE:0
DTSTAMP:20260425T090210Z
DTSTART:20260426T130000Z
DTEND:20260426T150000Z
SUMMARY:Dundee United v Dundee
LOCATION:CalForth Construction Arena at Tannadice Park
DESCRIPTION:Dundee United v Dundee - CalForth Construction Arena at Tannad
 ice Park - Scottish Premiership
STATUS:CONFIRMED
END:VEVENT
BEGIN:VEVENT
UID:7ef002094bedbb8b8f036a5493d779b8@skysports.com
SEQUENCE:0
DTSTAMP:20260425T090210Z
DTSTART:20260502T140000Z
DTEND:20260502T160000Z
SUMMARY:Dundee v St Mirren
LOCATION:The Scot Foam Stadium at Dens Park
DESCRIPTION:Dundee v St Mirren - The Scot Foam Stadium at Dens Park - Scot
 tish Premiership
STATUS:CONFIRMED
END:VEVENT
BEGIN:VEVENT
UID:69d393b2a02de89ae18d497820dabaaf@skysports.com
SEQUENCE:0
DTSTAMP:20260425T090210Z
DTSTART:20260509T140000Z
DTEND:20260509T160000Z
SUMMARY:Dundee v Livingston
LOCATION:The Scot Foam Stadium at Dens Park
DESCRIPTION:Dundee v Livingston - The Scot Foam Stadium at Dens Park - Sco
 ttish Premiership
STATUS:CONFIRMED
END:VEVENT
BEGIN:VEVENT
UID:ca9e3f483e538e60b614181d159e0440@skysports.com
SEQUENCE:0
DTSTAMP:20260425T090210Z
DTSTART:20260512T184500Z
DTEND:20260512T204500Z
SUMMARY:Kilmarnock v Dundee
LOCATION:The BBSP Stadium\, Rugby Park
DESCRIPTION:Kilmarnock v Dundee - The BBSP Stadium\, Rugby Park - Scottish
  Premiership
STATUS:CONFIRMED
END:VEVENT
BEGIN:VEVENT
UID:7ab45ec2a2e8e97207fb72fc1fe2cbe2@skysports.com
SEQUENCE:0
DTSTAMP:20260425T090210Z
DTSTART:20260517T130000Z
DTEND:20260517T150000Z
SUMMARY:Dundee v Aberdeen
LOCATION:The Scot Foam Stadium at Dens Park
DESCRIPTION:Dundee v Aberdeen - The Scot Foam Stadium at Dens Park - Scott
 ish Premiership
STATUS:CONFIRMED
END:VEVENT
END:VCALENDAR