BEGIN:VCALENDAR
VERSION:2.0
PRODID:-//Sky Sports SSDM//NONSGML Event Calendar//EN
URL:https://www.skysports.com/calendars/football/fixtures/teams/dundee-uni
 ted
CALSCALE:GREGORIAN
METHOD:PUBLISH
NAME:Dundee United Fixtures
X-WR-CALNAME:Dundee United Fixtures
X-WR-CALDESC:Dundee United fixtures provided by Sky Sports (https://www.sk
 ysports.com)
REFRESH-INTERVAL;VALUE=DURATION:PT1H
X-PUBLISHED-TTL:PT1H
BEGIN:VEVENT
UID:dd838e0fd273af18edf8d560978cc2b4@skysports.com
SEQUENCE:0
DTSTAMP:20260425T092206Z
DTSTART:20250803T130000Z
DTEND:20250803T150000Z
SUMMARY:Falkirk v Dundee United
LOCATION:Falkirk Stadium
DESCRIPTION:Falkirk v Dundee United - Falkirk Stadium - Scottish Premiersh
 ip - Live on Sky Sports Football
STATUS:CONFIRMED
END:VEVENT
BEGIN:VEVENT
UID:74b2465f1d89a37668f21bd1e70a4ab2@skysports.com
SEQUENCE:0
DTSTAMP:20260425T092206Z
DTSTART:20250810T140000Z
DTEND:20250810T160000Z
SUMMARY:Dundee United v Hearts
LOCATION:CalForth Construction Arena at Tannadice Park
DESCRIPTION:Dundee United v Hearts - CalForth Construction Arena at Tannad
 ice Park - Scottish Premiership
STATUS:CONFIRMED
END:VEVENT
BEGIN:VEVENT
UID:b18d3c0a5d6c86d5be89f7f525a1b0cb@skysports.com
SEQUENCE:0
DTSTAMP:20260425T092206Z
DTSTART:20250923T184500Z
DTEND:20250923T204500Z
SUMMARY:Dundee United v Aberdeen
LOCATION:CalForth Construction Arena at Tannadice Park
DESCRIPTION:Dundee United v Aberdeen - CalForth Construction Arena at Tann
 adice Park - Scottish Premiership
STATUS:CONFIRMED
END:VEVENT
BEGIN:VEVENT
UID:22316c60e3ace1ebed1e7e0a62f59f0b@skysports.com
SEQUENCE:0
DTSTAMP:20260425T092206Z
DTSTART:20250831T130000Z
DTEND:20250831T150000Z
SUMMARY:Dundee v Dundee United
LOCATION:The Scot Foam Stadium at Dens Park
DESCRIPTION:Dundee v Dundee United - The Scot Foam Stadium at Dens Park - 
 Scottish Premiership
STATUS:CONFIRMED
END:VEVENT
BEGIN:VEVENT
UID:aaefe3fe7704ea6b9e1ba7be9a6d642f@skysports.com
SEQUENCE:0
DTSTAMP:20260425T092206Z
DTSTART:20250913T164500Z
DTEND:20250913T184500Z
SUMMARY:Hibernian v Dundee United
LOCATION:Easter Road
DESCRIPTION:Hibernian v Dundee United - Easter Road - Scottish Premiership
STATUS:CONFIRMED
END:VEVENT
BEGIN:VEVENT
UID:8cedb962489c2febfb68c5df1b00dd39@skysports.com
SEQUENCE:0
DTSTAMP:20260425T092206Z
DTSTART:20250927T140000Z
DTEND:20250927T160000Z
SUMMARY:Dundee United v Kilmarnock
LOCATION:CalForth Construction Arena at Tannadice Park
DESCRIPTION:Dundee United v Kilmarnock - CalForth Construction Arena at Ta
 nnadice Park - Scottish Premiership
STATUS:CONFIRMED
END:VEVENT
BEGIN:VEVENT
UID:72d9df2bda83768190d80e358011e5b1@skysports.com
SEQUENCE:0
DTSTAMP:20260425T092206Z
DTSTART:20251004T140000Z
DTEND:20251004T160000Z
SUMMARY:Dundee United v Livingston
LOCATION:CalForth Construction Arena at Tannadice Park
DESCRIPTION:Dundee United v Livingston - CalForth Construction Arena at Ta
 nnadice Park - Scottish Premiership
STATUS:CONFIRMED
END:VEVENT
BEGIN:VEVENT
UID:783e66e21d8feaceaedc4638d47f9bd5@skysports.com
SEQUENCE:0
DTSTAMP:20260425T092206Z
DTSTART:20251018T140000Z
DTEND:20251018T160000Z
SUMMARY:Rangers v Dundee United
LOCATION:Ibrox Stadium
DESCRIPTION:Rangers v Dundee United - Ibrox Stadium - Scottish Premiership
STATUS:CONFIRMED
END:VEVENT
BEGIN:VEVENT
UID:f39353282666a326156f327f560d79f0@skysports.com
SEQUENCE:0
DTSTAMP:20260425T092206Z
DTSTART:20251025T140000Z
DTEND:20251025T160000Z
SUMMARY:Dundee United v St Mirren
LOCATION:CalForth Construction Arena at Tannadice Park
DESCRIPTION:Dundee United v St Mirren - CalForth Construction Arena at Tan
 nadice Park - Scottish Premiership
STATUS:CONFIRMED
END:VEVENT
BEGIN:VEVENT
UID:186939ffc23c3b27764810ac9ef01281@skysports.com
SEQUENCE:0
DTSTAMP:20260425T092206Z
DTSTART:20251029T194500Z
DTEND:20251029T214500Z
SUMMARY:Motherwell v Dundee United
LOCATION:Fir Park
DESCRIPTION:Motherwell v Dundee United - Fir Park - Scottish Premiership
STATUS:CONFIRMED
END:VEVENT
BEGIN:VEVENT
UID:9fcd4330aa1ae199956382de0ffd4056@skysports.com
SEQUENCE:0
DTSTAMP:20260425T092206Z
DTSTART:20251217T200000Z
DTEND:20251217T220000Z
SUMMARY:Dundee United v Celtic
LOCATION:CalForth Construction Arena at Tannadice Park
DESCRIPTION:Dundee United v Celtic - CalForth Construction Arena at Tannad
 ice Park - Scottish Premiership - Live on Sky Sports Football
STATUS:CONFIRMED
END:VEVENT
BEGIN:VEVENT
UID:f19c0ceb79143bb121f7e8064c744b71@skysports.com
SEQUENCE:0
DTSTAMP:20260425T092206Z
DTSTART:20251109T150000Z
DTEND:20251109T170000Z
SUMMARY:Hearts v Dundee United
LOCATION:Tynecastle
DESCRIPTION:Hearts v Dundee United - Tynecastle - Scottish Premiership
STATUS:CONFIRMED
END:VEVENT
BEGIN:VEVENT
UID:de659ff7e6e50b971d7afdbc460d2ad7@skysports.com
SEQUENCE:0
DTSTAMP:20260425T092206Z
DTSTART:20251122T150000Z
DTEND:20251122T170000Z
SUMMARY:Dundee United v Falkirk
LOCATION:CalForth Construction Arena at Tannadice Park
DESCRIPTION:Dundee United v Falkirk - CalForth Construction Arena at Tanna
 dice Park - Scottish Premiership
STATUS:CONFIRMED
END:VEVENT
BEGIN:VEVENT
UID:2897d0937178d31878b9b3506d1c0c52@skysports.com
SEQUENCE:0
DTSTAMP:20260425T092206Z
DTSTART:20251129T174500Z
DTEND:20251129T194500Z
SUMMARY:Kilmarnock v Dundee United
LOCATION:The BBSP Stadium\, Rugby Park
DESCRIPTION:Kilmarnock v Dundee United - The BBSP Stadium\, Rugby Park - S
 cottish Premiership
STATUS:CONFIRMED
END:VEVENT
BEGIN:VEVENT
UID:5da57875d41875887122f16834b1c9f1@skysports.com
SEQUENCE:0
DTSTAMP:20260425T092206Z
DTSTART:20251203T194500Z
DTEND:20251203T214500Z
SUMMARY:Dundee United v Rangers
LOCATION:CalForth Construction Arena at Tannadice Park
DESCRIPTION:Dundee United v Rangers - CalForth Construction Arena at Tanna
 dice Park - Scottish Premiership
STATUS:CONFIRMED
END:VEVENT
BEGIN:VEVENT
UID:1297d78e8fca752ef44f1defe27d7d3f@skysports.com
SEQUENCE:0
DTSTAMP:20260425T092206Z
DTSTART:20251206T150000Z
DTEND:20251206T170000Z
SUMMARY:St Mirren v Dundee United
LOCATION:The SMiSA Stadium
DESCRIPTION:St Mirren v Dundee United - The SMiSA Stadium - Scottish Premi
 ership
STATUS:CONFIRMED
END:VEVENT
BEGIN:VEVENT
UID:9948d08a05409aafb1b984f1557de750@skysports.com
SEQUENCE:0
DTSTAMP:20260425T092206Z
DTSTART:20251213T150000Z
DTEND:20251213T170000Z
SUMMARY:Dundee United v Motherwell
LOCATION:CalForth Construction Arena at Tannadice Park
DESCRIPTION:Dundee United v Motherwell - CalForth Construction Arena at Ta
 nnadice Park - Scottish Premiership
STATUS:CONFIRMED
END:VEVENT
BEGIN:VEVENT
UID:b90de135d52466020d9a6d7b99119d5c@skysports.com
SEQUENCE:0
DTSTAMP:20260425T092206Z
DTSTART:20251220T150000Z
DTEND:20251220T170000Z
SUMMARY:Dundee United v Hibernian
LOCATION:CalForth Construction Arena at Tannadice Park
DESCRIPTION:Dundee United v Hibernian - CalForth Construction Arena at Tan
 nadice Park - Scottish Premiership
STATUS:CONFIRMED
END:VEVENT
BEGIN:VEVENT
UID:3817636db10a9f8e38dcd7623a04730b@skysports.com
SEQUENCE:0
DTSTAMP:20260425T092206Z
DTSTART:20251227T174500Z
DTEND:20251227T194500Z
SUMMARY:Aberdeen v Dundee United
LOCATION:Pittodrie
DESCRIPTION:Aberdeen v Dundee United - Pittodrie - Scottish Premiership
STATUS:CONFIRMED
END:VEVENT
BEGIN:VEVENT
UID:6f6657d92390a966b3cb2f4ddaf09c99@skysports.com
SEQUENCE:0
DTSTAMP:20260425T092206Z
DTSTART:20251230T194500Z
DTEND:20251230T214500Z
SUMMARY:Livingston v Dundee United
LOCATION:Tony Macaroni Arena
DESCRIPTION:Livingston v Dundee United - Tony Macaroni Arena - Scottish Pr
 emiership
STATUS:CONFIRMED
END:VEVENT
BEGIN:VEVENT
UID:4e6188e2f74d6582126077f5d289b7d2@skysports.com
SEQUENCE:0
DTSTAMP:20260425T092206Z
DTSTART:20260103T150000Z
DTEND:20260103T170000Z
SUMMARY:Dundee United v Dundee
LOCATION:CalForth Construction Arena at Tannadice Park
DESCRIPTION:Dundee United v Dundee - CalForth Construction Arena at Tannad
 ice Park - Scottish Premiership - Live on Sky Sports Football
STATUS:CONFIRMED
END:VEVENT
BEGIN:VEVENT
UID:fc35e2c72372badb025fc275526057ef@skysports.com
SEQUENCE:0
DTSTAMP:20260425T092206Z
DTSTART:20260110T150000Z
DTEND:20260110T170000Z
SUMMARY:Celtic v Dundee United
LOCATION:Celtic Park
DESCRIPTION:Celtic v Dundee United - Celtic Park - Scottish Premiership
STATUS:CONFIRMED
END:VEVENT
BEGIN:VEVENT
UID:9171901ccb7d52fc44c285c619e9b066@skysports.com
SEQUENCE:0
DTSTAMP:20260425T092206Z
DTSTART:20260303T194500Z
DTEND:20260303T214500Z
SUMMARY:Dundee United v St Mirren
LOCATION:CalForth Construction Arena at Tannadice Park
DESCRIPTION:Dundee United v St Mirren - CalForth Construction Arena at Tan
 nadice Park - Scottish Premiership
STATUS:CONFIRMED
END:VEVENT
BEGIN:VEVENT
UID:ac37931090426a12333673f45dc1b210@skysports.com
SEQUENCE:0
DTSTAMP:20260425T092206Z
DTSTART:20260131T200000Z
DTEND:20260131T220000Z
SUMMARY:Dundee United v Hearts
LOCATION:CalForth Construction Arena at Tannadice Park
DESCRIPTION:Dundee United v Hearts - CalForth Construction Arena at Tannad
 ice Park - Scottish Premiership - Live on Sky Sports Main Event and Sky Sp
 orts Football
STATUS:CONFIRMED
END:VEVENT
BEGIN:VEVENT
UID:f467de369d734abc14daa57a5b11586b@skysports.com
SEQUENCE:0
DTSTAMP:20260425T092206Z
DTSTART:20260204T194500Z
DTEND:20260204T214500Z
SUMMARY:Hibernian v Dundee United
LOCATION:Easter Road
DESCRIPTION:Hibernian v Dundee United - Easter Road - Scottish Premiership
STATUS:CONFIRMED
END:VEVENT
BEGIN:VEVENT
UID:22ae017de2ffc58c501c22f1c251cbad@skysports.com
SEQUENCE:0
DTSTAMP:20260425T092206Z
DTSTART:20260224T194500Z
DTEND:20260224T214500Z
SUMMARY:Dundee United v Aberdeen
LOCATION:CalForth Construction Arena at Tannadice Park
DESCRIPTION:Dundee United v Aberdeen - CalForth Construction Arena at Tann
 adice Park - Scottish Premiership
STATUS:CONFIRMED
END:VEVENT
BEGIN:VEVENT
UID:5e790ac2e611250f0cb1a86695f6e9ec@skysports.com
SEQUENCE:0
DTSTAMP:20260425T092206Z
DTSTART:20260214T150000Z
DTEND:20260214T170000Z
SUMMARY:Falkirk v Dundee United
LOCATION:Falkirk Stadium
DESCRIPTION:Falkirk v Dundee United - Falkirk Stadium - Scottish Premiersh
 ip
STATUS:CONFIRMED
END:VEVENT
BEGIN:VEVENT
UID:6a7923a120835017aac19c23f35c8750@skysports.com
SEQUENCE:0
DTSTAMP:20260425T092206Z
DTSTART:20260221T150000Z
DTEND:20260221T170000Z
SUMMARY:Dundee United v Kilmarnock
LOCATION:CalForth Construction Arena at Tannadice Park
DESCRIPTION:Dundee United v Kilmarnock - CalForth Construction Arena at Ta
 nnadice Park - Scottish Premiership
STATUS:CONFIRMED
END:VEVENT
BEGIN:VEVENT
UID:b421b6d25b74042cd81c50c63b5db097@skysports.com
SEQUENCE:0
DTSTAMP:20260425T092206Z
DTSTART:20260228T150000Z
DTEND:20260228T170000Z
SUMMARY:Motherwell v Dundee United
LOCATION:Fir Park
DESCRIPTION:Motherwell v Dundee United - Fir Park - Scottish Premiership
STATUS:CONFIRMED
END:VEVENT
BEGIN:VEVENT
UID:a38bb6292a5320387b4ad4e922f51296@skysports.com
SEQUENCE:0
DTSTAMP:20260425T092206Z
DTSTART:20260315T140000Z
DTEND:20260315T160000Z
SUMMARY:Dundee v Dundee United
LOCATION:The Scot Foam Stadium at Dens Park
DESCRIPTION:Dundee v Dundee United - The Scot Foam Stadium at Dens Park - 
 Scottish Premiership
STATUS:CONFIRMED
END:VEVENT
BEGIN:VEVENT
UID:4af8b7641f5800e40d7c2878baed249c@skysports.com
SEQUENCE:0
DTSTAMP:20260425T092206Z
DTSTART:20260322T123000Z
DTEND:20260322T143000Z
SUMMARY:Dundee United v Celtic
LOCATION:CalForth Construction Arena at Tannadice Park
DESCRIPTION:Dundee United v Celtic - CalForth Construction Arena at Tannad
 ice Park - Scottish Premiership - Live on Sky Sports Football
STATUS:CONFIRMED
END:VEVENT
BEGIN:VEVENT
UID:7aa572684c3470c3eca6b2880ba4e5ab@skysports.com
SEQUENCE:0
DTSTAMP:20260425T092206Z
DTSTART:20260404T140000Z
DTEND:20260404T160000Z
SUMMARY:Rangers v Dundee United
LOCATION:Ibrox Stadium
DESCRIPTION:Rangers v Dundee United - Ibrox Stadium - Scottish Premiership
STATUS:CONFIRMED
END:VEVENT
BEGIN:VEVENT
UID:c5911aaa40899b70ba97972ab51f87de@skysports.com
SEQUENCE:0
DTSTAMP:20260425T092206Z
DTSTART:20260411T140000Z
DTEND:20260411T160000Z
SUMMARY:Dundee United v Livingston
LOCATION:CalForth Construction Arena at Tannadice Park
DESCRIPTION:Dundee United v Livingston - CalForth Construction Arena at Ta
 nnadice Park - Scottish Premiership
STATUS:CONFIRMED
END:VEVENT
BEGIN:VEVENT
UID:7f7f1753faf34bd3d1decc75b02414a7@skysports.com
SEQUENCE:0
DTSTAMP:20260425T092206Z
DTSTART:20250724T184500Z
DTEND:20250724T204500Z
SUMMARY:Dundee United v UNA Strassen
LOCATION:CalForth Construction Arena at Tannadice Park
DESCRIPTION:Dundee United v UNA Strassen - CalForth Construction Arena at 
 Tannadice Park - UEFA Conference League Qualifying
STATUS:CONFIRMED
END:VEVENT
BEGIN:VEVENT
UID:5982c6c0d7c00d11eb34a43b830652dd@skysports.com
SEQUENCE:0
DTSTAMP:20260425T092206Z
DTSTART:20250731T170000Z
DTEND:20250731T190000Z
SUMMARY:UNA Strassen v Dundee United
LOCATION:Stade Parc des Sports Oberkorn
DESCRIPTION:UNA Strassen v Dundee United - Stade Parc des Sports Oberkorn 
 - UEFA Conference League Qualifying
STATUS:CONFIRMED
END:VEVENT
BEGIN:VEVENT
UID:915c5fff7a703ea2d9b9eeba22ee2c56@skysports.com
SEQUENCE:0
DTSTAMP:20260425T092206Z
DTSTART:20250817T140000Z
DTEND:20250817T160000Z
SUMMARY:Kilmarnock v Dundee United
LOCATION:The BBSP Stadium\, Rugby Park
DESCRIPTION:Kilmarnock v Dundee United - The BBSP Stadium\, Rugby Park - P
 remier Sports Cup
STATUS:CONFIRMED
END:VEVENT
BEGIN:VEVENT
UID:e63f252d850b09f337529f3d25b0016e@skysports.com
SEQUENCE:0
DTSTAMP:20260425T092206Z
DTSTART:20250807T190000Z
DTEND:20250807T210000Z
SUMMARY:SK Rapid Wien v Dundee United
LOCATION:Allianz Stadion
DESCRIPTION:SK Rapid Wien v Dundee United - Allianz Stadion - UEFA Confere
 nce League Qualifying
STATUS:CONFIRMED
END:VEVENT
BEGIN:VEVENT
UID:4cbf1b36d4a4ef5fd515f4a01f1f070b@skysports.com
SEQUENCE:0
DTSTAMP:20260425T092206Z
DTSTART:20250814T184500Z
DTEND:20250814T204500Z
SUMMARY:Dundee United v SK Rapid Wien
LOCATION:CalForth Construction Arena at Tannadice Park
DESCRIPTION:Dundee United v SK Rapid Wien - CalForth Construction Arena at
  Tannadice Park - UEFA Conference League Qualifying
STATUS:CONFIRMED
END:VEVENT
BEGIN:VEVENT
UID:c52e946a57434f7046a4c3fd8c1b7d61@skysports.com
SEQUENCE:0
DTSTAMP:20260425T092206Z
DTSTART:20260117T150000Z
DTEND:20260117T170000Z
SUMMARY:Dundee United v Ayr United
LOCATION:CalForth Construction Arena at Tannadice Park
DESCRIPTION:Dundee United v Ayr United - CalForth Construction Arena at Ta
 nnadice Park - Scottish Cup
STATUS:CONFIRMED
END:VEVENT
BEGIN:VEVENT
UID:193a5f37cbc9f82dab65b2542fec61f4@skysports.com
SEQUENCE:0
DTSTAMP:20260425T092206Z
DTSTART:20260217T194500Z
DTEND:20260217T214500Z
SUMMARY:Dundee United v Spartans
LOCATION:CalForth Construction Arena at Tannadice Park
DESCRIPTION:Dundee United v Spartans - CalForth Construction Arena at Tann
 adice Park - Scottish Cup
STATUS:CONFIRMED
END:VEVENT
BEGIN:VEVENT
UID:416e82901919e63abc98bfb64458d606@skysports.com
SEQUENCE:0
DTSTAMP:20260425T092206Z
DTSTART:20260306T194500Z
DTEND:20260306T214500Z
SUMMARY:Falkirk v Dundee United
LOCATION:Falkirk Stadium
DESCRIPTION:Falkirk v Dundee United - Falkirk Stadium - Scottish Cup
STATUS:CONFIRMED
END:VEVENT
BEGIN:VEVENT
UID:3dbf2d6f51e33f8711f50436ca5dbc66@skysports.com
SEQUENCE:0
DTSTAMP:20260425T092206Z
DTSTART:20260426T130000Z
DTEND:20260426T150000Z
SUMMARY:Dundee United v Dundee
LOCATION:CalForth Construction Arena at Tannadice Park
DESCRIPTION:Dundee United v Dundee - CalForth Construction Arena at Tannad
 ice Park - Scottish Premiership
STATUS:CONFIRMED
END:VEVENT
BEGIN:VEVENT
UID:86a4a6be28b3715fc1cc638ce520e7ae@skysports.com
SEQUENCE:0
DTSTAMP:20260425T092206Z
DTSTART:20260502T140000Z
DTEND:20260502T160000Z
SUMMARY:Kilmarnock v Dundee United
LOCATION:The BBSP Stadium\, Rugby Park
DESCRIPTION:Kilmarnock v Dundee United - The BBSP Stadium\, Rugby Park - S
 cottish Premiership
STATUS:CONFIRMED
END:VEVENT
BEGIN:VEVENT
UID:cbf4b83e7bded60167f42ba2231185e8@skysports.com
SEQUENCE:0
DTSTAMP:20260425T092206Z
DTSTART:20260509T140000Z
DTEND:20260509T160000Z
SUMMARY:Aberdeen v Dundee United
LOCATION:Pittodrie
DESCRIPTION:Aberdeen v Dundee United - Pittodrie - Scottish Premiership
STATUS:CONFIRMED
END:VEVENT
BEGIN:VEVENT
UID:0b9e81286fc462aaf5d30a0621571354@skysports.com
SEQUENCE:0
DTSTAMP:20260425T092206Z
DTSTART:20260512T184500Z
DTEND:20260512T204500Z
SUMMARY:Dundee United v Livingston
LOCATION:CalForth Construction Arena at Tannadice Park
DESCRIPTION:Dundee United v Livingston - CalForth Construction Arena at Ta
 nnadice Park - Scottish Premiership
STATUS:CONFIRMED
END:VEVENT
BEGIN:VEVENT
UID:fd4bee8ee1de009361ab1ce551a41f30@skysports.com
SEQUENCE:0
DTSTAMP:20260425T092206Z
DTSTART:20260517T130000Z
DTEND:20260517T150000Z
SUMMARY:St Mirren v Dundee United
LOCATION:The SMiSA Stadium
DESCRIPTION:St Mirren v Dundee United - The SMiSA Stadium - Scottish Premi
 ership
STATUS:CONFIRMED
END:VEVENT
END:VCALENDAR