BEGIN:VCALENDAR
VERSION:2.0
PRODID:-//Sky Sports SSDM//NONSGML Event Calendar//EN
URL:https://www.skysports.com/calendars/football/fixtures/teams/empoli
CALSCALE:GREGORIAN
METHOD:PUBLISH
NAME:Empoli Fixtures
X-WR-CALNAME:Empoli Fixtures
X-WR-CALDESC:Empoli fixtures provided by Sky Sports (https://www.skysports
 .com)
REFRESH-INTERVAL;VALUE=DURATION:PT1H
X-PUBLISHED-TTL:PT1H
BEGIN:VEVENT
UID:f1d33e2e1a674885cf289b0b6b2999ed@skysports.com
SEQUENCE:0
DTSTAMP:20260425T091009Z
DTSTART:20250815T160000Z
DTEND:20250815T180000Z
SUMMARY:Empoli v Reggiana
LOCATION:Stadio Carlo Castellani – Computer Gross Arena
DESCRIPTION:Empoli v Reggiana - Stadio Carlo Castellani – Computer Gross
  Arena - Coppa Italia
STATUS:CONFIRMED
END:VEVENT
BEGIN:VEVENT
UID:21bebb8c7ef270f154e9af41536a97fd@skysports.com
SEQUENCE:0
DTSTAMP:20260425T091009Z
DTSTART:20250823T170000Z
DTEND:20250823T190000Z
SUMMARY:Empoli v Padova
LOCATION:Stadio Carlo Castellani – Computer Gross Arena
DESCRIPTION:Empoli v Padova - Stadio Carlo Castellani – Computer Gross A
 rena - Italian Serie B
STATUS:CONFIRMED
END:VEVENT
BEGIN:VEVENT
UID:c69d03dc888499bd431779c379d0ea2e@skysports.com
SEQUENCE:0
DTSTAMP:20260425T091009Z
DTSTART:20250829T183000Z
DTEND:20250829T203000Z
SUMMARY:Reggiana v Empoli
LOCATION:Citta del Tricolore
DESCRIPTION:Reggiana v Empoli - Citta del Tricolore - Italian Serie B
STATUS:CONFIRMED
END:VEVENT
BEGIN:VEVENT
UID:9a288c250912eb3e7ceb6691f845246c@skysports.com
SEQUENCE:0
DTSTAMP:20260425T091009Z
DTSTART:20250914T173000Z
DTEND:20250914T193000Z
SUMMARY:Empoli v Spezia
LOCATION:Stadio Carlo Castellani – Computer Gross Arena
DESCRIPTION:Empoli v Spezia - Stadio Carlo Castellani – Computer Gross A
 rena - Italian Serie B
STATUS:CONFIRMED
END:VEVENT
BEGIN:VEVENT
UID:62b2c21c17701700cac7c9a200b0df4d@skysports.com
SEQUENCE:0
DTSTAMP:20260425T091009Z
DTSTART:20250921T151500Z
DTEND:20250921T171500Z
SUMMARY:Pescara v Empoli
LOCATION:Adriatico
DESCRIPTION:Pescara v Empoli - Adriatico - Italian Serie B
STATUS:CONFIRMED
END:VEVENT
BEGIN:VEVENT
UID:633d59d9f05090536f5f81a6dad4e9bd@skysports.com
SEQUENCE:0
DTSTAMP:20260425T091009Z
DTSTART:20250928T173000Z
DTEND:20250928T193000Z
SUMMARY:Empoli v Carrarese
LOCATION:Stadio Carlo Castellani – Computer Gross Arena
DESCRIPTION:Empoli v Carrarese - Stadio Carlo Castellani – Computer Gros
 s Arena - Italian Serie B
STATUS:CONFIRMED
END:VEVENT
BEGIN:VEVENT
UID:01f1b9bc079001801c879a40ed53cc91@skysports.com
SEQUENCE:0
DTSTAMP:20260425T091009Z
DTSTART:20251001T183000Z
DTEND:20251001T203000Z
SUMMARY:Empoli v Monza
LOCATION:Stadio Carlo Castellani – Computer Gross Arena
DESCRIPTION:Empoli v Monza - Stadio Carlo Castellani – Computer Gross Ar
 ena - Italian Serie B
STATUS:CONFIRMED
END:VEVENT
BEGIN:VEVENT
UID:8f800ad2f5df545588d2d389033ddf8c@skysports.com
SEQUENCE:0
DTSTAMP:20260425T091009Z
DTSTART:20251005T130000Z
DTEND:20251005T150000Z
SUMMARY:Südtirol v Empoli
LOCATION:Druso
DESCRIPTION:Südtirol v Empoli - Druso - Italian Serie B
STATUS:CONFIRMED
END:VEVENT
BEGIN:VEVENT
UID:b594b92afeee2139352434f93724abf7@skysports.com
SEQUENCE:0
DTSTAMP:20260425T091009Z
DTSTART:20251019T151500Z
DTEND:20251019T171500Z
SUMMARY:Empoli v Venezia
LOCATION:Stadio Carlo Castellani – Computer Gross Arena
DESCRIPTION:Empoli v Venezia - Stadio Carlo Castellani – Computer Gross 
 Arena - Italian Serie B
STATUS:CONFIRMED
END:VEVENT
BEGIN:VEVENT
UID:671582eaf9b0cf6f0568fe6897bb7661@skysports.com
SEQUENCE:0
DTSTAMP:20260425T091009Z
DTSTART:20251024T183000Z
DTEND:20251024T203000Z
SUMMARY:Modena v Empoli
LOCATION:Alberto Braglia
DESCRIPTION:Modena v Empoli - Alberto Braglia - Italian Serie B
STATUS:CONFIRMED
END:VEVENT
BEGIN:VEVENT
UID:61278b74c99eaf8000c9c6e7ae9533d5@skysports.com
SEQUENCE:0
DTSTAMP:20260425T091009Z
DTSTART:20251028T193000Z
DTEND:20251028T213000Z
SUMMARY:Empoli v Sampdoria
LOCATION:Stadio Carlo Castellani – Computer Gross Arena
DESCRIPTION:Empoli v Sampdoria - Stadio Carlo Castellani – Computer Gros
 s Arena - Italian Serie B
STATUS:CONFIRMED
END:VEVENT
BEGIN:VEVENT
UID:da45e68a4de8f367f8df4a6c8cee757b@skysports.com
SEQUENCE:0
DTSTAMP:20260425T091009Z
DTSTART:20251101T161500Z
DTEND:20251101T181500Z
SUMMARY:Virtus Entella v Empoli
LOCATION:Comunale Aldo Gastaldi
DESCRIPTION:Virtus Entella v Empoli - Comunale Aldo Gastaldi - Italian Ser
 ie B
STATUS:CONFIRMED
END:VEVENT
BEGIN:VEVENT
UID:5384948e5b7c168f7b6174fd6aa55932@skysports.com
SEQUENCE:0
DTSTAMP:20260425T091009Z
DTSTART:20251108T140000Z
DTEND:20251108T160000Z
SUMMARY:Empoli v Catanzaro
LOCATION:Stadio Carlo Castellani – Computer Gross Arena
DESCRIPTION:Empoli v Catanzaro - Stadio Carlo Castellani – Computer Gros
 s Arena - Italian Serie B
STATUS:CONFIRMED
END:VEVENT
BEGIN:VEVENT
UID:f3b29d3ffac4a6e2527509b0b8d51224@skysports.com
SEQUENCE:0
DTSTAMP:20260425T091009Z
DTSTART:20251122T140000Z
DTEND:20251122T160000Z
SUMMARY:Avellino v Empoli
LOCATION:Partenio
DESCRIPTION:Avellino v Empoli - Partenio - Italian Serie B
STATUS:CONFIRMED
END:VEVENT
BEGIN:VEVENT
UID:8dda57c8778f1caed572ac9f289e8d7e@skysports.com
SEQUENCE:0
DTSTAMP:20260425T091009Z
DTSTART:20251129T140000Z
DTEND:20251129T160000Z
SUMMARY:Empoli v Bari
LOCATION:Stadio Carlo Castellani – Computer Gross Arena
DESCRIPTION:Empoli v Bari - Stadio Carlo Castellani – Computer Gross Are
 na - Italian Serie B
STATUS:CONFIRMED
END:VEVENT
BEGIN:VEVENT
UID:c0acda5b601908f4ae406dfd276cc8e6@skysports.com
SEQUENCE:0
DTSTAMP:20260425T091009Z
DTSTART:20251207T161500Z
DTEND:20251207T181500Z
SUMMARY:Empoli v Palermo
LOCATION:Stadio Carlo Castellani – Computer Gross Arena
DESCRIPTION:Empoli v Palermo - Stadio Carlo Castellani – Computer Gross 
 Arena - Italian Serie B
STATUS:CONFIRMED
END:VEVENT
BEGIN:VEVENT
UID:0d4bbe4ee6d2272eaf9a1b04269e5153@skysports.com
SEQUENCE:0
DTSTAMP:20260425T091009Z
DTSTART:20251213T140000Z
DTEND:20251213T160000Z
SUMMARY:Juve Stabia v Empoli
LOCATION:Romeo Menti di Castellammare
DESCRIPTION:Juve Stabia v Empoli - Romeo Menti di Castellammare - Italian 
 Serie B
STATUS:CONFIRMED
END:VEVENT
BEGIN:VEVENT
UID:fa2e0cc14641ab75ade72e3c8e7668b8@skysports.com
SEQUENCE:0
DTSTAMP:20260425T091009Z
DTSTART:20251221T161500Z
DTEND:20251221T181500Z
SUMMARY:Mantova v Empoli
LOCATION:Stadio Danilo Martelli – Pata Stadium
DESCRIPTION:Mantova v Empoli - Stadio Danilo Martelli – Pata Stadium - I
 talian Serie B
STATUS:CONFIRMED
END:VEVENT
BEGIN:VEVENT
UID:deb5904ff26914ea5924558c9eeca025@skysports.com
SEQUENCE:0
DTSTAMP:20260425T091009Z
DTSTART:20251227T140000Z
DTEND:20251227T160000Z
SUMMARY:Empoli v Frosinone
LOCATION:Stadio Carlo Castellani – Computer Gross Arena
DESCRIPTION:Empoli v Frosinone - Stadio Carlo Castellani – Computer Gros
 s Arena - Italian Serie B
STATUS:CONFIRMED
END:VEVENT
BEGIN:VEVENT
UID:7698c29b131f16a857728cfecb8b730e@skysports.com
SEQUENCE:0
DTSTAMP:20260425T091009Z
DTSTART:20260110T183000Z
DTEND:20260110T203000Z
SUMMARY:Cesena v Empoli
LOCATION:Orogel Stadium-Dino Manuzzi
DESCRIPTION:Cesena v Empoli - Orogel Stadium-Dino Manuzzi - Italian Serie 
 B
STATUS:CONFIRMED
END:VEVENT
BEGIN:VEVENT
UID:dfede2599e59d63e89598564a60b4d21@skysports.com
SEQUENCE:0
DTSTAMP:20260425T091009Z
DTSTART:20260117T140000Z
DTEND:20260117T160000Z
SUMMARY:Empoli v Südtirol
LOCATION:Stadio Carlo Castellani – Computer Gross Arena
DESCRIPTION:Empoli v Südtirol - Stadio Carlo Castellani – Computer Gros
 s Arena - Italian Serie B
STATUS:CONFIRMED
END:VEVENT
BEGIN:VEVENT
UID:3965cdfd130313618c09817eeed4b227@skysports.com
SEQUENCE:0
DTSTAMP:20260425T091009Z
DTSTART:20260123T193000Z
DTEND:20260123T213000Z
SUMMARY:Carrarese v Empoli
LOCATION:Dei Marmi
DESCRIPTION:Carrarese v Empoli - Dei Marmi - Italian Serie B
STATUS:CONFIRMED
END:VEVENT
BEGIN:VEVENT
UID:ee1a56df6efafacb465597fb6fc9e82c@skysports.com
SEQUENCE:0
DTSTAMP:20260425T091009Z
DTSTART:20260131T140000Z
DTEND:20260131T160000Z
SUMMARY:Empoli v Modena
LOCATION:Stadio Carlo Castellani – Computer Gross Arena
DESCRIPTION:Empoli v Modena - Stadio Carlo Castellani – Computer Gross A
 rena - Italian Serie B
STATUS:CONFIRMED
END:VEVENT
BEGIN:VEVENT
UID:bd53a0cf47c74ba852b359c48b23bf39@skysports.com
SEQUENCE:0
DTSTAMP:20260425T091009Z
DTSTART:20260207T161500Z
DTEND:20260207T181500Z
SUMMARY:Palermo v Empoli
LOCATION:Renzo Barbera
DESCRIPTION:Palermo v Empoli - Renzo Barbera - Italian Serie B
STATUS:CONFIRMED
END:VEVENT
BEGIN:VEVENT
UID:0eeb18e772ad5c797a0426da3be727d3@skysports.com
SEQUENCE:0
DTSTAMP:20260425T091009Z
DTSTART:20260211T190000Z
DTEND:20260211T210000Z
SUMMARY:Empoli v Juve Stabia
LOCATION:Stadio Carlo Castellani – Computer Gross Arena
DESCRIPTION:Empoli v Juve Stabia - Stadio Carlo Castellani – Computer Gr
 oss Arena - Italian Serie B
STATUS:CONFIRMED
END:VEVENT
BEGIN:VEVENT
UID:bbec40357f35325ab2cef90605ca84b4@skysports.com
SEQUENCE:0
DTSTAMP:20260425T091009Z
DTSTART:20260215T161500Z
DTEND:20260215T181500Z
SUMMARY:Empoli v Reggiana
LOCATION:Stadio Carlo Castellani – Computer Gross Arena
DESCRIPTION:Empoli v Reggiana - Stadio Carlo Castellani – Computer Gross
  Arena - Italian Serie B
STATUS:CONFIRMED
END:VEVENT
BEGIN:VEVENT
UID:e7c22ac8d479b7c5cb411857d89b48aa@skysports.com
SEQUENCE:0
DTSTAMP:20260425T091009Z
DTSTART:20260220T193000Z
DTEND:20260220T213000Z
SUMMARY:Frosinone v Empoli
LOCATION:Stadio Benito Stirpe
DESCRIPTION:Frosinone v Empoli - Stadio Benito Stirpe - Italian Serie B
STATUS:CONFIRMED
END:VEVENT
BEGIN:VEVENT
UID:5a6e7afe54eb5c467c2597a140384d78@skysports.com
SEQUENCE:0
DTSTAMP:20260425T091009Z
DTSTART:20260228T140000Z
DTEND:20260228T160000Z
SUMMARY:Empoli v Cesena
LOCATION:Stadio Carlo Castellani – Computer Gross Arena
DESCRIPTION:Empoli v Cesena - Stadio Carlo Castellani – Computer Gross A
 rena - Italian Serie B
STATUS:CONFIRMED
END:VEVENT
BEGIN:VEVENT
UID:0ff28732f258292dad9cbd57e3554d13@skysports.com
SEQUENCE:0
DTSTAMP:20260425T091009Z
DTSTART:20260304T190000Z
DTEND:20260304T210000Z
SUMMARY:Bari v Empoli
LOCATION:San Nicola
DESCRIPTION:Bari v Empoli - San Nicola - Italian Serie B
STATUS:CONFIRMED
END:VEVENT
BEGIN:VEVENT
UID:b0c323c2913ff4be3518a4f44d69f04f@skysports.com
SEQUENCE:0
DTSTAMP:20260425T091009Z
DTSTART:20260308T140000Z
DTEND:20260308T160000Z
SUMMARY:Catanzaro v Empoli
LOCATION:Nicola Ceravolo
DESCRIPTION:Catanzaro v Empoli - Nicola Ceravolo - Italian Serie B
STATUS:CONFIRMED
END:VEVENT
BEGIN:VEVENT
UID:855a1e8619c7b63b08e9bb76b303801e@skysports.com
SEQUENCE:0
DTSTAMP:20260425T091009Z
DTSTART:20260314T140000Z
DTEND:20260314T160000Z
SUMMARY:Empoli v Mantova
LOCATION:Stadio Carlo Castellani – Computer Gross Arena
DESCRIPTION:Empoli v Mantova - Stadio Carlo Castellani – Computer Gross 
 Arena - Italian Serie B
STATUS:CONFIRMED
END:VEVENT
BEGIN:VEVENT
UID:e83ee36c395bf36003f511a362ff176a@skysports.com
SEQUENCE:0
DTSTAMP:20260425T091009Z
DTSTART:20260317T190000Z
DTEND:20260317T210000Z
SUMMARY:Spezia v Empoli
LOCATION:Alberto Picco
DESCRIPTION:Spezia v Empoli - Alberto Picco - Italian Serie B
STATUS:CONFIRMED
END:VEVENT
BEGIN:VEVENT
UID:4312e149a287707f2c23014d3f5b7eb4@skysports.com
SEQUENCE:0
DTSTAMP:20260425T091009Z
DTSTART:20260322T140000Z
DTEND:20260322T160000Z
SUMMARY:Empoli v Pescara
LOCATION:Stadio Carlo Castellani – Computer Gross Arena
DESCRIPTION:Empoli v Pescara - Stadio Carlo Castellani – Computer Gross 
 Arena - Italian Serie B
STATUS:CONFIRMED
END:VEVENT
BEGIN:VEVENT
UID:810da326f1237053a39457deeae37ec5@skysports.com
SEQUENCE:0
DTSTAMP:20260425T091009Z
DTSTART:20260406T151500Z
DTEND:20260406T171500Z
SUMMARY:Sampdoria v Empoli
LOCATION:Luigi Ferraris
DESCRIPTION:Sampdoria v Empoli - Luigi Ferraris - Italian Serie B
STATUS:CONFIRMED
END:VEVENT
BEGIN:VEVENT
UID:38dbb435ef4baa3bd19042628078baff@skysports.com
SEQUENCE:0
DTSTAMP:20260425T091009Z
DTSTART:20260412T130000Z
DTEND:20260412T150000Z
SUMMARY:Padova v Empoli
LOCATION:Euganeo
DESCRIPTION:Padova v Empoli - Euganeo - Italian Serie B
STATUS:CONFIRMED
END:VEVENT
BEGIN:VEVENT
UID:a7e949364ea66560840396f139cda4b9@skysports.com
SEQUENCE:0
DTSTAMP:20260425T091009Z
DTSTART:20260419T173000Z
DTEND:20260419T193000Z
SUMMARY:Empoli v Virtus Entella
LOCATION:Stadio Carlo Castellani – Computer Gross Arena
DESCRIPTION:Empoli v Virtus Entella - Stadio Carlo Castellani – Computer
  Gross Arena - Italian Serie B
STATUS:CONFIRMED
END:VEVENT
BEGIN:VEVENT
UID:64793003f044e199ba713a2bc76586d9@skysports.com
SEQUENCE:0
DTSTAMP:20260425T091009Z
DTSTART:20260425T151500Z
DTEND:20260425T171500Z
SUMMARY:Venezia v Empoli
LOCATION:Pier Luigi Penzo
DESCRIPTION:Venezia v Empoli - Pier Luigi Penzo - Italian Serie B
STATUS:CONFIRMED
END:VEVENT
BEGIN:VEVENT
UID:ef6859727b87e6cd559fd35c4b3e72bd@skysports.com
SEQUENCE:0
DTSTAMP:20260425T091009Z
DTSTART:20260501T130000Z
DTEND:20260501T150000Z
SUMMARY:Empoli v Avellino
LOCATION:Stadio Carlo Castellani – Computer Gross Arena
DESCRIPTION:Empoli v Avellino - Stadio Carlo Castellani – Computer Gross
  Arena - Italian Serie B
STATUS:CONFIRMED
END:VEVENT
BEGIN:VEVENT
UID:50278019cb56633710b2b8363b9efa8e@skysports.com
SEQUENCE:0
DTSTAMP:20260425T091009Z
DTSTART:20260508T183000Z
DTEND:20260508T203000Z
SUMMARY:Monza v Empoli
LOCATION:U-Power Stadium
DESCRIPTION:Monza v Empoli - U-Power Stadium - Italian Serie B
STATUS:CONFIRMED
END:VEVENT
BEGIN:VEVENT
UID:50cd0f54ffdb2f6063dddaeb5af71b21@skysports.com
SEQUENCE:0
DTSTAMP:20260425T091009Z
DTSTART:20250925T163000Z
DTEND:20250925T183000Z
SUMMARY:Genoa v Empoli
LOCATION:Luigi Ferraris
DESCRIPTION:Genoa v Empoli - Luigi Ferraris - Coppa Italia
STATUS:CONFIRMED
END:VEVENT
END:VCALENDAR