BEGIN:VCALENDAR
VERSION:2.0
PRODID:-//Sky Sports SSDM//NONSGML Event Calendar//EN
URL:https://www.skysports.com/calendars/football/fixtures/teams/england-u2
 1
CALSCALE:GREGORIAN
METHOD:PUBLISH
NAME:England U21 Fixtures
X-WR-CALNAME:England U21 Fixtures
X-WR-CALDESC:England U21 fixtures provided by Sky Sports (https://www.skys
 ports.com)
REFRESH-INTERVAL;VALUE=DURATION:PT1H
X-PUBLISHED-TTL:PT1H
BEGIN:VEVENT
UID:7bfcb824405f5b6f71b3b119c4700603@skysports.com
SEQUENCE:0
DTSTAMP:20260425T092303Z
DTSTART:20260327T183000Z
DTEND:20260327T203000Z
SUMMARY:Andorra U21 v England U21
LOCATION:Estadi Nacional d'Andorra
DESCRIPTION:Andorra U21 v England U21 - Estadi Nacional d'Andorra - Europe
 an Under-21 Championship Qualifying
STATUS:CONFIRMED
END:VEVENT
BEGIN:VEVENT
UID:bdc5ff18aaeb5827873f0fe13dc24850@skysports.com
SEQUENCE:0
DTSTAMP:20260425T092303Z
DTSTART:20260331T180000Z
DTEND:20260331T200000Z
SUMMARY:England U21 v Moldova U21
LOCATION:Carrow Road
DESCRIPTION:England U21 v Moldova U21 - Carrow Road - European Under-21 Ch
 ampionship Qualifying
STATUS:CONFIRMED
END:VEVENT
BEGIN:VEVENT
UID:10f490d32de10fb0411d7129cbd071af@skysports.com
SEQUENCE:0
DTSTAMP:20260425T092303Z
DTSTART:20260924T230000Z
DTEND:20260925T010000Z
SUMMARY:England U21 v Kazakhstan U21
LOCATION:TBC
DESCRIPTION:England U21 v Kazakhstan U21 - TBC - European Under-21 Champio
 nship Qualifying
STATUS:CONFIRMED
END:VEVENT
BEGIN:VEVENT
UID:3f27536427192ce200a0be940b3da7b9@skysports.com
SEQUENCE:0
DTSTAMP:20260425T092303Z
DTSTART:20261001T230000Z
DTEND:20261002T010000Z
SUMMARY:England U21 v Slovakia U21
LOCATION:TBC
DESCRIPTION:England U21 v Slovakia U21 - TBC - European Under-21 Champions
 hip Qualifying
STATUS:CONFIRMED
END:VEVENT
BEGIN:VEVENT
UID:99fe3d439409b748584cb7c0008d8102@skysports.com
SEQUENCE:0
DTSTAMP:20260425T092303Z
DTSTART:20261005T230000Z
DTEND:20261006T010000Z
SUMMARY:Rep of Ireland U21 v England U21
LOCATION:TBC
DESCRIPTION:Rep of Ireland U21 v England U21 - TBC - European Under-21 Cha
 mpionship Qualifying
STATUS:CONFIRMED
END:VEVENT
END:VCALENDAR