BEGIN:VCALENDAR
VERSION:2.0
PRODID:-//Sky Sports SSDM//NONSGML Event Calendar//EN
URL:https://www.skysports.com/calendars/football/fixtures/teams/everton
CALSCALE:GREGORIAN
METHOD:PUBLISH
NAME:Everton Fixtures
X-WR-CALNAME:Everton Fixtures
X-WR-CALDESC:Everton fixtures provided by Sky Sports (https://www.skysport
 s.com)
REFRESH-INTERVAL;VALUE=DURATION:PT1H
X-PUBLISHED-TTL:PT1H
BEGIN:VEVENT
UID:6b2dd2027edb8431908b3f7d413447cc@skysports.com
SEQUENCE:0
DTSTAMP:20260425T090104Z
DTSTART:20250726T200000Z
DTEND:20250726T220000Z
SUMMARY:Everton v Bournemouth
LOCATION:MetLife Stadium
DESCRIPTION:Everton v Bournemouth - MetLife Stadium - Premier League Summe
 r Series - Live on Sky Sports Premier League
STATUS:CONFIRMED
END:VEVENT
BEGIN:VEVENT
UID:ab2069683b2b5c60091d89a99396f7d0@skysports.com
SEQUENCE:0
DTSTAMP:20260425T090104Z
DTSTART:20250730T223000Z
DTEND:20250731T003000Z
SUMMARY:West Ham United v Everton
LOCATION:Soldier Field
DESCRIPTION:West Ham United v Everton - Soldier Field - Premier League Sum
 mer Series - Live on Sky Sports Premier League
STATUS:CONFIRMED
END:VEVENT
BEGIN:VEVENT
UID:35b275898e63782331b817d6693d98ee@skysports.com
SEQUENCE:0
DTSTAMP:20260425T090104Z
DTSTART:20250803T210000Z
DTEND:20250803T230000Z
SUMMARY:Manchester United v Everton
LOCATION:Mercedes-Benz Stadium
DESCRIPTION:Manchester United v Everton - Mercedes-Benz Stadium - Premier 
 League Summer Series - Live on Sky Sports Premier League and Sky Sports Ma
 in Event
STATUS:CONFIRMED
END:VEVENT
BEGIN:VEVENT
UID:797a42815948880d07d2bb01d17f931c@skysports.com
SEQUENCE:0
DTSTAMP:20260425T090104Z
DTSTART:20250809T140000Z
DTEND:20250809T160000Z
SUMMARY:Everton v Roma
LOCATION:Hill Dickinson Stadium
DESCRIPTION:Everton v Roma - Hill Dickinson Stadium - Friendly Match
STATUS:CONFIRMED
END:VEVENT
BEGIN:VEVENT
UID:5817d88223f7ed01666e57d8a8794172@skysports.com
SEQUENCE:0
DTSTAMP:20260425T090104Z
DTSTART:20250818T190000Z
DTEND:20250818T210000Z
SUMMARY:Leeds United v Everton
LOCATION:Elland Road
DESCRIPTION:Leeds United v Everton - Elland Road - Premier League - Live o
 n Sky Sports Premier League and Sky Sports Main Event
STATUS:CONFIRMED
END:VEVENT
BEGIN:VEVENT
UID:77dc3e5247be9517d600c1ca327a6329@skysports.com
SEQUENCE:0
DTSTAMP:20260425T090104Z
DTSTART:20250824T130000Z
DTEND:20250824T150000Z
SUMMARY:Everton v Brighton and Hove Albion
LOCATION:Hill Dickinson Stadium
DESCRIPTION:Everton v Brighton and Hove Albion - Hill Dickinson Stadium - 
 Premier League - Live on Sky Sports Premier League and Sky Sports Main Eve
 nt
STATUS:CONFIRMED
END:VEVENT
BEGIN:VEVENT
UID:d86642a65e798fa7cf4915192d1237c8@skysports.com
SEQUENCE:0
DTSTAMP:20260425T090104Z
DTSTART:20250830T140000Z
DTEND:20250830T160000Z
SUMMARY:Wolverhampton Wanderers v Everton
LOCATION:Molineux
DESCRIPTION:Wolverhampton Wanderers v Everton - Molineux - Premier League
STATUS:CONFIRMED
END:VEVENT
BEGIN:VEVENT
UID:41ab5ed6d15eb1dfaf51556ef8a3cddd@skysports.com
SEQUENCE:0
DTSTAMP:20260425T090104Z
DTSTART:20250913T140000Z
DTEND:20250913T160000Z
SUMMARY:Everton v Aston Villa
LOCATION:Hill Dickinson Stadium
DESCRIPTION:Everton v Aston Villa - Hill Dickinson Stadium - Premier Leagu
 e
STATUS:CONFIRMED
END:VEVENT
BEGIN:VEVENT
UID:6b58c276fb3053be3de0a0b87b7b845a@skysports.com
SEQUENCE:0
DTSTAMP:20260425T090104Z
DTSTART:20250920T113000Z
DTEND:20250920T133000Z
SUMMARY:Liverpool v Everton
LOCATION:Anfield
DESCRIPTION:Liverpool v Everton - Anfield - Premier League
STATUS:CONFIRMED
END:VEVENT
BEGIN:VEVENT
UID:b18d0d5b00fd19a8f2e8db08b260d218@skysports.com
SEQUENCE:0
DTSTAMP:20260425T090104Z
DTSTART:20250929T190000Z
DTEND:20250929T210000Z
SUMMARY:Everton v West Ham United
LOCATION:Hill Dickinson Stadium
DESCRIPTION:Everton v West Ham United - Hill Dickinson Stadium - Premier L
 eague - Live on Sky Sports Main Event and Sky Sports Premier League
STATUS:CONFIRMED
END:VEVENT
BEGIN:VEVENT
UID:82e0402ef05abe3e1fced5255cc23888@skysports.com
SEQUENCE:0
DTSTAMP:20260425T090104Z
DTSTART:20251005T130000Z
DTEND:20251005T150000Z
SUMMARY:Everton v Crystal Palace
LOCATION:Hill Dickinson Stadium
DESCRIPTION:Everton v Crystal Palace - Hill Dickinson Stadium - Premier Le
 ague - Live on Sky Sports Premier League
STATUS:CONFIRMED
END:VEVENT
BEGIN:VEVENT
UID:265284151a0b90021a592aa2c448ae1f@skysports.com
SEQUENCE:0
DTSTAMP:20260425T090104Z
DTSTART:20251018T140000Z
DTEND:20251018T160000Z
SUMMARY:Manchester City v Everton
LOCATION:Etihad Stadium
DESCRIPTION:Manchester City v Everton - Etihad Stadium - Premier League
STATUS:CONFIRMED
END:VEVENT
BEGIN:VEVENT
UID:8d05b495062c73d7045c76c766e0aa2b@skysports.com
SEQUENCE:0
DTSTAMP:20260425T090104Z
DTSTART:20251026T163000Z
DTEND:20251026T183000Z
SUMMARY:Everton v Tottenham Hotspur
LOCATION:Hill Dickinson Stadium
DESCRIPTION:Everton v Tottenham Hotspur - Hill Dickinson Stadium - Premier
  League - Live on Sky Sports Main Event and Sky Sports Premier League
STATUS:CONFIRMED
END:VEVENT
BEGIN:VEVENT
UID:42b1b3880331f255200e7ed33f1a1c20@skysports.com
SEQUENCE:0
DTSTAMP:20260425T090104Z
DTSTART:20251103T200000Z
DTEND:20251103T220000Z
SUMMARY:Sunderland v Everton
LOCATION:Stadium of Light
DESCRIPTION:Sunderland v Everton - Stadium of Light - Premier League - Liv
 e on Sky Sports Premier League and Sky Sports Main Event
STATUS:CONFIRMED
END:VEVENT
BEGIN:VEVENT
UID:98fed74d09e16216d460c30cabe0769c@skysports.com
SEQUENCE:0
DTSTAMP:20260425T090104Z
DTSTART:20251108T150000Z
DTEND:20251108T170000Z
SUMMARY:Everton v Fulham
LOCATION:Hill Dickinson Stadium
DESCRIPTION:Everton v Fulham - Hill Dickinson Stadium - Premier League
STATUS:CONFIRMED
END:VEVENT
BEGIN:VEVENT
UID:23d6565fb6ff8ff424bd0d7e006b4f07@skysports.com
SEQUENCE:0
DTSTAMP:20260425T090104Z
DTSTART:20251124T200000Z
DTEND:20251124T220000Z
SUMMARY:Manchester United v Everton
LOCATION:Old Trafford
DESCRIPTION:Manchester United v Everton - Old Trafford - Premier League - 
 Live on Sky Sports Premier League and Sky Sports Main Event
STATUS:CONFIRMED
END:VEVENT
BEGIN:VEVENT
UID:9af35b6926f5d8b21ebf4f8caec671a0@skysports.com
SEQUENCE:0
DTSTAMP:20260425T090104Z
DTSTART:20251129T173000Z
DTEND:20251129T193000Z
SUMMARY:Everton v Newcastle United
LOCATION:Hill Dickinson Stadium
DESCRIPTION:Everton v Newcastle United - Hill Dickinson Stadium - Premier 
 League - Live on Sky Sports Premier League and Sky Sports Main Event
STATUS:CONFIRMED
END:VEVENT
BEGIN:VEVENT
UID:9d9542717b0507da7e4e4caee394ad55@skysports.com
SEQUENCE:0
DTSTAMP:20260425T090104Z
DTSTART:20251202T193000Z
DTEND:20251202T213000Z
SUMMARY:Bournemouth v Everton
LOCATION:Vitality Stadium
DESCRIPTION:Bournemouth v Everton - Vitality Stadium - Premier League - Li
 ve on Sky Sports+
STATUS:CONFIRMED
END:VEVENT
BEGIN:VEVENT
UID:5acf160070c971f2dac05cca391d6070@skysports.com
SEQUENCE:0
DTSTAMP:20260425T090104Z
DTSTART:20251206T150000Z
DTEND:20251206T170000Z
SUMMARY:Everton v Nottingham Forest
LOCATION:Hill Dickinson Stadium
DESCRIPTION:Everton v Nottingham Forest - Hill Dickinson Stadium - Premier
  League
STATUS:CONFIRMED
END:VEVENT
BEGIN:VEVENT
UID:c579bf7d422c034be39f018d66a22909@skysports.com
SEQUENCE:0
DTSTAMP:20260425T090104Z
DTSTART:20251213T150000Z
DTEND:20251213T170000Z
SUMMARY:Chelsea v Everton
LOCATION:Stamford Bridge
DESCRIPTION:Chelsea v Everton - Stamford Bridge - Premier League
STATUS:CONFIRMED
END:VEVENT
BEGIN:VEVENT
UID:ff72e3f8c3cde1faa1875c70cf9418df@skysports.com
SEQUENCE:0
DTSTAMP:20260425T090104Z
DTSTART:20251220T200000Z
DTEND:20251220T220000Z
SUMMARY:Everton v Arsenal
LOCATION:Hill Dickinson Stadium
DESCRIPTION:Everton v Arsenal - Hill Dickinson Stadium - Premier League - 
 Live on Sky Sports Main Event
STATUS:CONFIRMED
END:VEVENT
BEGIN:VEVENT
UID:ea0237ff8027b9adefe6af8e13b4e253@skysports.com
SEQUENCE:0
DTSTAMP:20260425T090104Z
DTSTART:20251227T150000Z
DTEND:20251227T170000Z
SUMMARY:Burnley v Everton
LOCATION:Turf Moor
DESCRIPTION:Burnley v Everton - Turf Moor - Premier League
STATUS:CONFIRMED
END:VEVENT
BEGIN:VEVENT
UID:5e1d0ce1235819c768701b2760a084aa@skysports.com
SEQUENCE:0
DTSTAMP:20260425T090104Z
DTSTART:20251230T193000Z
DTEND:20251230T213000Z
SUMMARY:Nottingham Forest v Everton
LOCATION:The City Ground
DESCRIPTION:Nottingham Forest v Everton - The City Ground - Premier League
  - Live on Sky Sports Cricket
STATUS:CONFIRMED
END:VEVENT
BEGIN:VEVENT
UID:a33ab524648db301c367f4ebcf7b77f2@skysports.com
SEQUENCE:0
DTSTAMP:20260425T090104Z
DTSTART:20260104T150000Z
DTEND:20260104T170000Z
SUMMARY:Everton v Brentford
LOCATION:Hill Dickinson Stadium
DESCRIPTION:Everton v Brentford - Hill Dickinson Stadium - Premier League 
 - Live on Sky Sports Golf
STATUS:CONFIRMED
END:VEVENT
BEGIN:VEVENT
UID:24e7f94d783b30843260c9edf25bf02c@skysports.com
SEQUENCE:0
DTSTAMP:20260425T090104Z
DTSTART:20260107T193000Z
DTEND:20260107T213000Z
SUMMARY:Everton v Wolverhampton Wanderers
LOCATION:Hill Dickinson Stadium
DESCRIPTION:Everton v Wolverhampton Wanderers - Hill Dickinson Stadium - P
 remier League - Live on Sky Sports F1
STATUS:CONFIRMED
END:VEVENT
BEGIN:VEVENT
UID:e36fb109eb02a5d120a7512a5d4fcf43@skysports.com
SEQUENCE:0
DTSTAMP:20260425T090104Z
DTSTART:20260118T163000Z
DTEND:20260118T183000Z
SUMMARY:Aston Villa v Everton
LOCATION:Villa Park
DESCRIPTION:Aston Villa v Everton - Villa Park - Premier League - Live on 
 Sky Sports Main Event and Sky Sports Premier League
STATUS:CONFIRMED
END:VEVENT
BEGIN:VEVENT
UID:d8aabf8b800d2cd99da18ac120975d89@skysports.com
SEQUENCE:0
DTSTAMP:20260425T090104Z
DTSTART:20260126T200000Z
DTEND:20260126T220000Z
SUMMARY:Everton v Leeds United
LOCATION:Hill Dickinson Stadium
DESCRIPTION:Everton v Leeds United - Hill Dickinson Stadium - Premier Leag
 ue - Live on Sky Sports Premier League and Sky Sports Main Event
STATUS:CONFIRMED
END:VEVENT
BEGIN:VEVENT
UID:b371f04d53d09c04a311dfba8bbc795a@skysports.com
SEQUENCE:0
DTSTAMP:20260425T090104Z
DTSTART:20260131T150000Z
DTEND:20260131T170000Z
SUMMARY:Brighton and Hove Albion v Everton
LOCATION:Amex Stadium
DESCRIPTION:Brighton and Hove Albion v Everton - Amex Stadium - Premier Le
 ague
STATUS:CONFIRMED
END:VEVENT
BEGIN:VEVENT
UID:60b4fb466e66b21362584e4c59b34c6f@skysports.com
SEQUENCE:0
DTSTAMP:20260425T090104Z
DTSTART:20260207T150000Z
DTEND:20260207T170000Z
SUMMARY:Fulham v Everton
LOCATION:Craven Cottage
DESCRIPTION:Fulham v Everton - Craven Cottage - Premier League
STATUS:CONFIRMED
END:VEVENT
BEGIN:VEVENT
UID:6154ae45022776e695494252bf5b10df@skysports.com
SEQUENCE:0
DTSTAMP:20260425T090104Z
DTSTART:20260210T193000Z
DTEND:20260210T213000Z
SUMMARY:Everton v Bournemouth
LOCATION:Hill Dickinson Stadium
DESCRIPTION:Everton v Bournemouth - Hill Dickinson Stadium - Premier Leagu
 e
STATUS:CONFIRMED
END:VEVENT
BEGIN:VEVENT
UID:a720ec02cc9320176f22883f52931745@skysports.com
SEQUENCE:0
DTSTAMP:20260425T090104Z
DTSTART:20260223T200000Z
DTEND:20260223T220000Z
SUMMARY:Everton v Manchester United
LOCATION:Hill Dickinson Stadium
DESCRIPTION:Everton v Manchester United - Hill Dickinson Stadium - Premier
  League - Live on Sky Sports Main Event and Sky Sports Premier League
STATUS:CONFIRMED
END:VEVENT
BEGIN:VEVENT
UID:ca4317a6307f5b086eb32c948beaec9b@skysports.com
SEQUENCE:0
DTSTAMP:20260425T090104Z
DTSTART:20260228T150000Z
DTEND:20260228T170000Z
SUMMARY:Newcastle United v Everton
LOCATION:St James' Park\, Newcastle
DESCRIPTION:Newcastle United v Everton - St James' Park\, Newcastle - Prem
 ier League
STATUS:CONFIRMED
END:VEVENT
BEGIN:VEVENT
UID:75c6135737b6024ee8fac33dc25f7ea3@skysports.com
SEQUENCE:0
DTSTAMP:20260425T090104Z
DTSTART:20260303T193000Z
DTEND:20260303T213000Z
SUMMARY:Everton v Burnley
LOCATION:Hill Dickinson Stadium
DESCRIPTION:Everton v Burnley - Hill Dickinson Stadium - Premier League
STATUS:CONFIRMED
END:VEVENT
BEGIN:VEVENT
UID:d0729f4c41afb102110646cf0356f748@skysports.com
SEQUENCE:0
DTSTAMP:20260425T090104Z
DTSTART:20260314T173000Z
DTEND:20260314T193000Z
SUMMARY:Arsenal v Everton
LOCATION:Emirates Stadium
DESCRIPTION:Arsenal v Everton - Emirates Stadium - Premier League - Live o
 n Sky Sports Main Event
STATUS:CONFIRMED
END:VEVENT
BEGIN:VEVENT
UID:e16797834ba22e3885bd6051bcf1f88c@skysports.com
SEQUENCE:0
DTSTAMP:20260425T090104Z
DTSTART:20260321T173000Z
DTEND:20260321T193000Z
SUMMARY:Everton v Chelsea
LOCATION:Hill Dickinson Stadium
DESCRIPTION:Everton v Chelsea - Hill Dickinson Stadium - Premier League - 
 Live on Sky Sports Premier League and Sky Sports Main Event
STATUS:CONFIRMED
END:VEVENT
BEGIN:VEVENT
UID:1ce3726e6f3389ecbf27b705f34cabae@skysports.com
SEQUENCE:0
DTSTAMP:20260425T090104Z
DTSTART:20260411T140000Z
DTEND:20260411T160000Z
SUMMARY:Brentford v Everton
LOCATION:Gtech Community Stadium
DESCRIPTION:Brentford v Everton - Gtech Community Stadium - Premier League
STATUS:CONFIRMED
END:VEVENT
BEGIN:VEVENT
UID:f0958881ba8720693b50fa33db09de41@skysports.com
SEQUENCE:0
DTSTAMP:20260425T090104Z
DTSTART:20260419T130000Z
DTEND:20260419T150000Z
SUMMARY:Everton v Liverpool
LOCATION:Hill Dickinson Stadium
DESCRIPTION:Everton v Liverpool - Hill Dickinson Stadium - Premier League 
 - Live on Sky Sports Premier League and Sky Sports Main Event
STATUS:CONFIRMED
END:VEVENT
BEGIN:VEVENT
UID:4db1b80dd6ab23ff259c25bd5136b171@skysports.com
SEQUENCE:0
DTSTAMP:20260425T090104Z
DTSTART:20260425T140000Z
DTEND:20260425T160000Z
SUMMARY:West Ham United v Everton
LOCATION:London Stadium
DESCRIPTION:West Ham United v Everton - London Stadium - Premier League
STATUS:CONFIRMED
END:VEVENT
BEGIN:VEVENT
UID:96fa7785690f154b5b537cc6b481aef6@skysports.com
SEQUENCE:0
DTSTAMP:20260425T090104Z
DTSTART:20260504T190000Z
DTEND:20260504T210000Z
SUMMARY:Everton v Manchester City
LOCATION:Hill Dickinson Stadium
DESCRIPTION:Everton v Manchester City - Hill Dickinson Stadium - Premier L
 eague - Live on Sky Sports Main Event and Sky Sports Premier League
STATUS:CONFIRMED
END:VEVENT
BEGIN:VEVENT
UID:b00bd7a266a0a5b19084894d4cac50da@skysports.com
SEQUENCE:0
DTSTAMP:20260425T090104Z
DTSTART:20260510T130000Z
DTEND:20260510T150000Z
SUMMARY:Crystal Palace v Everton
LOCATION:Selhurst Park
DESCRIPTION:Crystal Palace v Everton - Selhurst Park - Premier League - Li
 ve on Sky Sports F1
STATUS:CONFIRMED
END:VEVENT
BEGIN:VEVENT
UID:91f0c085b286966b9ea6b4dc9a3188d3@skysports.com
SEQUENCE:0
DTSTAMP:20260425T090104Z
DTSTART:20260517T140000Z
DTEND:20260517T160000Z
SUMMARY:Everton v Sunderland
LOCATION:Hill Dickinson Stadium
DESCRIPTION:Everton v Sunderland - Hill Dickinson Stadium - Premier League
STATUS:CONFIRMED
END:VEVENT
BEGIN:VEVENT
UID:c25f6093ba3441bec1f0c643f8e9c7cc@skysports.com
SEQUENCE:0
DTSTAMP:20260425T090104Z
DTSTART:20260524T150000Z
DTEND:20260524T170000Z
SUMMARY:Tottenham Hotspur v Everton
LOCATION:Tottenham Hotspur Stadium
DESCRIPTION:Tottenham Hotspur v Everton - Tottenham Hotspur Stadium - Prem
 ier League
STATUS:CONFIRMED
END:VEVENT
BEGIN:VEVENT
UID:8874ebacdc4cf7bb4dc9321786d706d3@skysports.com
SEQUENCE:0
DTSTAMP:20260425T090104Z
DTSTART:20250827T184500Z
DTEND:20250827T204500Z
SUMMARY:Everton v Mansfield Town
LOCATION:Hill Dickinson Stadium
DESCRIPTION:Everton v Mansfield Town - Hill Dickinson Stadium - Carabao Cu
 p - Live on Sky Sports+
STATUS:CONFIRMED
END:VEVENT
BEGIN:VEVENT
UID:0510d0705ae45fac214cb531e5970684@skysports.com
SEQUENCE:0
DTSTAMP:20260425T090104Z
DTSTART:20250923T184500Z
DTEND:20250923T204500Z
SUMMARY:Wolverhampton Wanderers v Everton
LOCATION:Molineux
DESCRIPTION:Wolverhampton Wanderers v Everton - Molineux - Carabao Cup - L
 ive on Sky Sports+
STATUS:CONFIRMED
END:VEVENT
BEGIN:VEVENT
UID:3ad1ece0c7af5f3ba1efc5f7ad682a3a@skysports.com
SEQUENCE:0
DTSTAMP:20260425T090104Z
DTSTART:20260110T121500Z
DTEND:20260110T141500Z
SUMMARY:Everton v Sunderland
LOCATION:Hill Dickinson Stadium
DESCRIPTION:Everton v Sunderland - Hill Dickinson Stadium - The FA Cup
STATUS:CONFIRMED
END:VEVENT
END:VCALENDAR