BEGIN:VCALENDAR
VERSION:2.0
PRODID:-//Sky Sports SSDM//NONSGML Event Calendar//EN
URL:https://www.skysports.com/calendars/football/fixtures/teams/fc-volenda
 m
CALSCALE:GREGORIAN
METHOD:PUBLISH
NAME:FC Volendam Fixtures
X-WR-CALNAME:FC Volendam Fixtures
X-WR-CALDESC:FC Volendam fixtures provided by Sky Sports (https://www.skys
 ports.com)
REFRESH-INTERVAL;VALUE=DURATION:PT1H
X-PUBLISHED-TTL:PT1H
BEGIN:VEVENT
UID:358321a5c06cfb0d9d835bbfe6d4f2f1@skysports.com
SEQUENCE:0
DTSTAMP:20260424T091208Z
DTSTART:20250809T180000Z
DTEND:20250809T200000Z
SUMMARY:Heerenveen v FC Volendam
LOCATION:Abe Lenstra Stadion
DESCRIPTION:Heerenveen v FC Volendam - Abe Lenstra Stadion - Dutch Eredivi
 sie
STATUS:CONFIRMED
END:VEVENT
BEGIN:VEVENT
UID:779bd9a1f29824fbe1b04b38f0cbd484@skysports.com
SEQUENCE:0
DTSTAMP:20260424T091208Z
DTSTART:20250817T144500Z
DTEND:20250817T164500Z
SUMMARY:FC Volendam v AZ Alkmaar
LOCATION:Kras Stadion
DESCRIPTION:FC Volendam v AZ Alkmaar - Kras Stadion - Dutch Eredivisie
STATUS:CONFIRMED
END:VEVENT
BEGIN:VEVENT
UID:d290fbedc9c9b1850fce2c8395d8e675@skysports.com
SEQUENCE:0
DTSTAMP:20260424T091208Z
DTSTART:20250823T190000Z
DTEND:20250823T210000Z
SUMMARY:Telstar v FC Volendam
LOCATION:Rabobank IJmond Stadion
DESCRIPTION:Telstar v FC Volendam - Rabobank IJmond Stadion - Dutch Erediv
 isie
STATUS:CONFIRMED
END:VEVENT
BEGIN:VEVENT
UID:48a01a0813212c316de5c38c74a98956@skysports.com
SEQUENCE:0
DTSTAMP:20260424T091208Z
DTSTART:20250830T143000Z
DTEND:20250830T163000Z
SUMMARY:FC Volendam v Ajax
LOCATION:Kras Stadion
DESCRIPTION:FC Volendam v Ajax - Kras Stadion - Dutch Eredivisie
STATUS:CONFIRMED
END:VEVENT
BEGIN:VEVENT
UID:9773a8fd7010f2da32e468631a19be39@skysports.com
SEQUENCE:0
DTSTAMP:20260424T091208Z
DTSTART:20250913T164500Z
DTEND:20250913T184500Z
SUMMARY:Go Ahead Eagles v FC Volendam
LOCATION:De Adelaarshorst
DESCRIPTION:Go Ahead Eagles v FC Volendam - De Adelaarshorst - Dutch Eredi
 visie
STATUS:CONFIRMED
END:VEVENT
BEGIN:VEVENT
UID:b17d29ab4f5b5cff81888cef92b73431@skysports.com
SEQUENCE:0
DTSTAMP:20260424T091208Z
DTSTART:20250920T143000Z
DTEND:20250920T163000Z
SUMMARY:FC Volendam v Excelsior
LOCATION:Kras Stadion
DESCRIPTION:FC Volendam v Excelsior - Kras Stadion - Dutch Eredivisie
STATUS:CONFIRMED
END:VEVENT
BEGIN:VEVENT
UID:ed0e69a026e2dd8d250f96ce5d15777d@skysports.com
SEQUENCE:0
DTSTAMP:20260424T091208Z
DTSTART:20250927T164500Z
DTEND:20250927T184500Z
SUMMARY:FC Volendam v PEC Zwolle
LOCATION:Kras Stadion
DESCRIPTION:FC Volendam v PEC Zwolle - Kras Stadion - Dutch Eredivisie
STATUS:CONFIRMED
END:VEVENT
BEGIN:VEVENT
UID:c8fd92fc378a80b507ad54b2d8c6a6c5@skysports.com
SEQUENCE:0
DTSTAMP:20260424T091208Z
DTSTART:20251004T164500Z
DTEND:20251004T184500Z
SUMMARY:Fortuna Sittard v FC Volendam
LOCATION:Fortuna Sittard Stadion
DESCRIPTION:Fortuna Sittard v FC Volendam - Fortuna Sittard Stadion - Dutc
 h Eredivisie
STATUS:CONFIRMED
END:VEVENT
BEGIN:VEVENT
UID:92633656e48fa36af77610adff8cab19@skysports.com
SEQUENCE:0
DTSTAMP:20260424T091208Z
DTSTART:20251018T164500Z
DTEND:20251018T184500Z
SUMMARY:FC Utrecht v FC Volendam
LOCATION:Stadion Galgenwaard
DESCRIPTION:FC Utrecht v FC Volendam - Stadion Galgenwaard - Dutch Eredivi
 sie
STATUS:CONFIRMED
END:VEVENT
BEGIN:VEVENT
UID:ef855b4b6ca76b7ce2f74614d9e62ec5@skysports.com
SEQUENCE:0
DTSTAMP:20260424T091208Z
DTSTART:20251025T180000Z
DTEND:20251025T200000Z
SUMMARY:FC Volendam v Heracles Almelo
LOCATION:Kras Stadion
DESCRIPTION:FC Volendam v Heracles Almelo - Kras Stadion - Dutch Eredivisi
 e
STATUS:CONFIRMED
END:VEVENT
BEGIN:VEVENT
UID:e26d849d5165f23cbd9b7ed9f2636baf@skysports.com
SEQUENCE:0
DTSTAMP:20260424T091208Z
DTSTART:20251101T190000Z
DTEND:20251101T210000Z
SUMMARY:Feyenoord v FC Volendam
LOCATION:De Kuip
DESCRIPTION:Feyenoord v FC Volendam - De Kuip - Dutch Eredivisie
STATUS:CONFIRMED
END:VEVENT
BEGIN:VEVENT
UID:3ea284d882edd9e3c1cf7b6edb9441f6@skysports.com
SEQUENCE:0
DTSTAMP:20260424T091208Z
DTSTART:20251108T174500Z
DTEND:20251108T194500Z
SUMMARY:FC Volendam v NAC Breda
LOCATION:Kras Stadion
DESCRIPTION:FC Volendam v NAC Breda - Kras Stadion - Dutch Eredivisie
STATUS:CONFIRMED
END:VEVENT
BEGIN:VEVENT
UID:7bcd683c8b9bb0a76387966cee2123f2@skysports.com
SEQUENCE:0
DTSTAMP:20260424T091208Z
DTSTART:20251122T174500Z
DTEND:20251122T194500Z
SUMMARY:FC Volendam v FC Twente
LOCATION:Kras Stadion
DESCRIPTION:FC Volendam v FC Twente - Kras Stadion - Dutch Eredivisie
STATUS:CONFIRMED
END:VEVENT
BEGIN:VEVENT
UID:aafc1b0b2640bec5dcf5a1dd5a624378@skysports.com
SEQUENCE:0
DTSTAMP:20260424T091208Z
DTSTART:20251130T111500Z
DTEND:20251130T131500Z
SUMMARY:PSV Eindhoven v FC Volendam
LOCATION:Philips Stadion
DESCRIPTION:PSV Eindhoven v FC Volendam - Philips Stadion - Dutch Eredivis
 ie
STATUS:CONFIRMED
END:VEVENT
BEGIN:VEVENT
UID:da3123eca64ea08dd583428bd750a766@skysports.com
SEQUENCE:0
DTSTAMP:20260424T091208Z
DTSTART:20251207T133000Z
DTEND:20251207T153000Z
SUMMARY:FC Volendam v NEC Nijmegen
LOCATION:Kras Stadion
DESCRIPTION:FC Volendam v NEC Nijmegen - Kras Stadion - Dutch Eredivisie
STATUS:CONFIRMED
END:VEVENT
BEGIN:VEVENT
UID:0b8e56702d2afda9ec22761bc1539e31@skysports.com
SEQUENCE:0
DTSTAMP:20260424T091208Z
DTSTART:20251213T174500Z
DTEND:20251213T194500Z
SUMMARY:Groningen v FC Volendam
LOCATION:Noordlease Stadion
DESCRIPTION:Groningen v FC Volendam - Noordlease Stadion - Dutch Eredivisi
 e
STATUS:CONFIRMED
END:VEVENT
BEGIN:VEVENT
UID:f9ca591b0024630714a090b2ea9d380a@skysports.com
SEQUENCE:0
DTSTAMP:20260424T091208Z
DTSTART:20251221T154500Z
DTEND:20251221T174500Z
SUMMARY:FC Volendam v Sparta Rotterdam
LOCATION:Kras Stadion
DESCRIPTION:FC Volendam v Sparta Rotterdam - Kras Stadion - Dutch Eredivis
 ie
STATUS:CONFIRMED
END:VEVENT
BEGIN:VEVENT
UID:d2cc8f6eb9eb8c701debc4382a5b5a0e@skysports.com
SEQUENCE:0
DTSTAMP:20260424T091208Z
DTSTART:20260110T153000Z
DTEND:20260110T173000Z
SUMMARY:AZ Alkmaar v FC Volendam
LOCATION:AFAS Stadion
DESCRIPTION:AZ Alkmaar v FC Volendam - AFAS Stadion - Dutch Eredivisie
STATUS:CONFIRMED
END:VEVENT
BEGIN:VEVENT
UID:396570a13a22fe89e2c01ba3b976afb0@skysports.com
SEQUENCE:0
DTSTAMP:20260424T091208Z
DTSTART:20260118T133000Z
DTEND:20260118T153000Z
SUMMARY:FC Volendam v FC Utrecht
LOCATION:Kras Stadion
DESCRIPTION:FC Volendam v FC Utrecht - Kras Stadion - Dutch Eredivisie
STATUS:CONFIRMED
END:VEVENT
BEGIN:VEVENT
UID:cde2427bc21a1b608f305a7308dc2598@skysports.com
SEQUENCE:0
DTSTAMP:20260424T091208Z
DTSTART:20260124T153000Z
DTEND:20260124T173000Z
SUMMARY:Ajax v FC Volendam
LOCATION:Amsterdam ArenA
DESCRIPTION:Ajax v FC Volendam - Amsterdam ArenA - Dutch Eredivisie
STATUS:CONFIRMED
END:VEVENT
BEGIN:VEVENT
UID:c8a3c974b2944cacc9864d5b3348056c@skysports.com
SEQUENCE:0
DTSTAMP:20260424T091208Z
DTSTART:20260201T190000Z
DTEND:20260201T210000Z
SUMMARY:FC Volendam v Go Ahead Eagles
LOCATION:Kras Stadion
DESCRIPTION:FC Volendam v Go Ahead Eagles - Kras Stadion - Dutch Eredivisi
 e
STATUS:CONFIRMED
END:VEVENT
BEGIN:VEVENT
UID:13dcd3c3384fd5057d562abf7c023bfc@skysports.com
SEQUENCE:0
DTSTAMP:20260424T091208Z
DTSTART:20260207T174500Z
DTEND:20260207T194500Z
SUMMARY:PEC Zwolle v FC Volendam
LOCATION:IJsseldelta Stadion
DESCRIPTION:PEC Zwolle v FC Volendam - IJsseldelta Stadion - Dutch Eredivi
 sie
STATUS:CONFIRMED
END:VEVENT
BEGIN:VEVENT
UID:222fd1e150b1c859c642eaa162a17298@skysports.com
SEQUENCE:0
DTSTAMP:20260424T091208Z
DTSTART:20260213T190000Z
DTEND:20260213T210000Z
SUMMARY:FC Volendam v PSV Eindhoven
LOCATION:Kras Stadion
DESCRIPTION:FC Volendam v PSV Eindhoven - Kras Stadion - Dutch Eredivisie
STATUS:CONFIRMED
END:VEVENT
BEGIN:VEVENT
UID:c5f0e8a403e067d355407210dbce02a9@skysports.com
SEQUENCE:0
DTSTAMP:20260424T091208Z
DTSTART:20260221T190000Z
DTEND:20260221T210000Z
SUMMARY:NAC Breda v FC Volendam
LOCATION:Rat Verlegh Stadion
DESCRIPTION:NAC Breda v FC Volendam - Rat Verlegh Stadion - Dutch Eredivis
 ie
STATUS:CONFIRMED
END:VEVENT
BEGIN:VEVENT
UID:0df5b3978e96283f824c750907c72709@skysports.com
SEQUENCE:0
DTSTAMP:20260424T091208Z
DTSTART:20260301T133000Z
DTEND:20260301T153000Z
SUMMARY:FC Volendam v Groningen
LOCATION:Kras Stadion
DESCRIPTION:FC Volendam v Groningen - Kras Stadion - Dutch Eredivisie
STATUS:CONFIRMED
END:VEVENT
BEGIN:VEVENT
UID:3b1027058633add357210d040bf525b3@skysports.com
SEQUENCE:0
DTSTAMP:20260424T091208Z
DTSTART:20260308T190000Z
DTEND:20260308T210000Z
SUMMARY:NEC Nijmegen v FC Volendam
LOCATION:Stadion De Goffert
DESCRIPTION:NEC Nijmegen v FC Volendam - Stadion De Goffert - Dutch Erediv
 isie
STATUS:CONFIRMED
END:VEVENT
BEGIN:VEVENT
UID:c489586b8b13732be440a02b24c50aca@skysports.com
SEQUENCE:0
DTSTAMP:20260424T091208Z
DTSTART:20260314T153000Z
DTEND:20260314T173000Z
SUMMARY:FC Volendam v Fortuna Sittard
LOCATION:Kras Stadion
DESCRIPTION:FC Volendam v Fortuna Sittard - Kras Stadion - Dutch Eredivisi
 e
STATUS:CONFIRMED
END:VEVENT
BEGIN:VEVENT
UID:b332fc2bd0348b57679a9ab290612309@skysports.com
SEQUENCE:0
DTSTAMP:20260424T091208Z
DTSTART:20260321T174500Z
DTEND:20260321T194500Z
SUMMARY:Sparta Rotterdam v FC Volendam
LOCATION:Sparta-Stadion
DESCRIPTION:Sparta Rotterdam v FC Volendam - Sparta-Stadion - Dutch Erediv
 isie
STATUS:CONFIRMED
END:VEVENT
BEGIN:VEVENT
UID:030f700477f1561bd70dd7e0c7b8da3b@skysports.com
SEQUENCE:0
DTSTAMP:20260424T091208Z
DTSTART:20260405T123000Z
DTEND:20260405T143000Z
SUMMARY:FC Volendam v Feyenoord
LOCATION:Kras Stadion
DESCRIPTION:FC Volendam v Feyenoord - Kras Stadion - Dutch Eredivisie
STATUS:CONFIRMED
END:VEVENT
BEGIN:VEVENT
UID:b08162e1d6a9bdc4a0b36d3f154097cf@skysports.com
SEQUENCE:0
DTSTAMP:20260424T091208Z
DTSTART:20260410T180000Z
DTEND:20260410T200000Z
SUMMARY:FC Twente v FC Volendam
LOCATION:De Grolsch Veste
DESCRIPTION:FC Twente v FC Volendam - De Grolsch Veste - Dutch Eredivisie
STATUS:CONFIRMED
END:VEVENT
BEGIN:VEVENT
UID:efe0e130dfc996554135ff81332571ac@skysports.com
SEQUENCE:0
DTSTAMP:20260424T091208Z
DTSTART:20260426T123000Z
DTEND:20260426T143000Z
SUMMARY:Heracles Almelo v FC Volendam
LOCATION:Erve Asito
DESCRIPTION:Heracles Almelo v FC Volendam - Erve Asito - Dutch Eredivisie
STATUS:CONFIRMED
END:VEVENT
BEGIN:VEVENT
UID:18624bbc79075d8a3f23fce4c2fb9332@skysports.com
SEQUENCE:0
DTSTAMP:20260424T091208Z
DTSTART:20260503T101500Z
DTEND:20260503T121500Z
SUMMARY:FC Volendam v Heerenveen
LOCATION:Kras Stadion
DESCRIPTION:FC Volendam v Heerenveen - Kras Stadion - Dutch Eredivisie
STATUS:CONFIRMED
END:VEVENT
BEGIN:VEVENT
UID:938cae2f04b2803a69fcc99a50a582a2@skysports.com
SEQUENCE:0
DTSTAMP:20260424T091208Z
DTSTART:20260510T144500Z
DTEND:20260510T164500Z
SUMMARY:Excelsior v FC Volendam
LOCATION:Stadion Woudestein
DESCRIPTION:Excelsior v FC Volendam - Stadion Woudestein - Dutch Eredivisi
 e
STATUS:CONFIRMED
END:VEVENT
BEGIN:VEVENT
UID:efe3611e373452ac8b60e0214c4b97df@skysports.com
SEQUENCE:0
DTSTAMP:20260424T091208Z
DTSTART:20260517T123000Z
DTEND:20260517T143000Z
SUMMARY:FC Volendam v Telstar
LOCATION:Kras Stadion
DESCRIPTION:FC Volendam v Telstar - Kras Stadion - Dutch Eredivisie
STATUS:CONFIRMED
END:VEVENT
BEGIN:VEVENT
UID:1d8c54797fd29ac9a5570a8dd048b25a@skysports.com
SEQUENCE:0
DTSTAMP:20260424T091208Z
DTSTART:20260325T113000Z
DTEND:20260325T133000Z
SUMMARY:Ajax v FC Volendam
LOCATION:Sportpark De Toekomst
DESCRIPTION:Ajax v FC Volendam - Sportpark De Toekomst - Friendly Match
STATUS:CONFIRMED
END:VEVENT
END:VCALENDAR