BEGIN:VCALENDAR
VERSION:2.0
PRODID:-//Sky Sports SSDM//NONSGML Event Calendar//EN
URL:https://www.skysports.com/calendars/football/fixtures/teams/feyenoord
CALSCALE:GREGORIAN
METHOD:PUBLISH
NAME:Feyenoord Fixtures
X-WR-CALNAME:Feyenoord Fixtures
X-WR-CALDESC:Feyenoord fixtures provided by Sky Sports (https://www.skyspo
 rts.com)
REFRESH-INTERVAL;VALUE=DURATION:PT1H
X-PUBLISHED-TTL:PT1H
BEGIN:VEVENT
UID:68a7d48509b22b366d2743895edec4b3@skysports.com
SEQUENCE:0
DTSTAMP:20260425T090807Z
DTSTART:20250705T130000Z
DTEND:20250705T150000Z
SUMMARY:Cambuur Leeuwarden v Feyenoord
LOCATION:Kooi Stadion
DESCRIPTION:Cambuur Leeuwarden v Feyenoord - Kooi Stadion - Friendly Match
STATUS:CONFIRMED
END:VEVENT
BEGIN:VEVENT
UID:6229fff5700c4fd98ec4e050ce2411b9@skysports.com
SEQUENCE:0
DTSTAMP:20260425T090807Z
DTSTART:20250712T120000Z
DTEND:20250712T140000Z
SUMMARY:Feyenoord v Union Saint-Gilloise
LOCATION:De Kuip
DESCRIPTION:Feyenoord v Union Saint-Gilloise - De Kuip - Friendly Match
STATUS:CONFIRMED
END:VEVENT
BEGIN:VEVENT
UID:c4ebb1e0ebb8ce99f7c54ba0909a8b8c@skysports.com
SEQUENCE:0
DTSTAMP:20260425T090807Z
DTSTART:20250719T110000Z
DTEND:20250719T130000Z
SUMMARY:Feyenoord v AA Gent 
LOCATION:Sportcomplex Varkenoord
DESCRIPTION:Feyenoord v AA Gent  - Sportcomplex Varkenoord - Friendly Matc
 h
STATUS:CONFIRMED
END:VEVENT
BEGIN:VEVENT
UID:5ec1459f9ec9cdba8a52d0a8d91c6edf@skysports.com
SEQUENCE:0
DTSTAMP:20260425T090807Z
DTSTART:20250802T143000Z
DTEND:20250802T163000Z
SUMMARY:Feyenoord v Wolfsburg
LOCATION:De Kuip
DESCRIPTION:Feyenoord v Wolfsburg - De Kuip - Friendly Match
STATUS:CONFIRMED
END:VEVENT
BEGIN:VEVENT
UID:f4e978e62fce8954807eb2dcfefdd2ae@skysports.com
SEQUENCE:0
DTSTAMP:20260425T090807Z
DTSTART:20250809T164500Z
DTEND:20250809T184500Z
SUMMARY:Feyenoord v NAC Breda
LOCATION:De Kuip
DESCRIPTION:Feyenoord v NAC Breda - De Kuip - Dutch Eredivisie
STATUS:CONFIRMED
END:VEVENT
BEGIN:VEVENT
UID:b7a370a97885eef3ef1a129f5c8e8c8f@skysports.com
SEQUENCE:0
DTSTAMP:20260425T090807Z
DTSTART:20250816T164500Z
DTEND:20250816T184500Z
SUMMARY:Excelsior v Feyenoord
LOCATION:Stadion Woudestein
DESCRIPTION:Excelsior v Feyenoord - Stadion Woudestein - Dutch Eredivisie
STATUS:CONFIRMED
END:VEVENT
BEGIN:VEVENT
UID:a26568ab8d78dd3cb3ce6634fe02ba38@skysports.com
SEQUENCE:0
DTSTAMP:20260425T090807Z
DTSTART:20250831T123000Z
DTEND:20250831T143000Z
SUMMARY:Sparta Rotterdam v Feyenoord
LOCATION:Sparta-Stadion
DESCRIPTION:Sparta Rotterdam v Feyenoord - Sparta-Stadion - Dutch Eredivis
 ie
STATUS:CONFIRMED
END:VEVENT
BEGIN:VEVENT
UID:d5d56204a87d724dedd2b7dc1dc3ae5a@skysports.com
SEQUENCE:0
DTSTAMP:20260425T090807Z
DTSTART:20250913T190000Z
DTEND:20250913T210000Z
SUMMARY:Feyenoord v Heerenveen
LOCATION:De Kuip
DESCRIPTION:Feyenoord v Heerenveen - De Kuip - Dutch Eredivisie
STATUS:CONFIRMED
END:VEVENT
BEGIN:VEVENT
UID:f46c93b2c0bd42f72c0a6969000be426@skysports.com
SEQUENCE:0
DTSTAMP:20260425T090807Z
DTSTART:20250917T180000Z
DTEND:20250917T200000Z
SUMMARY:Feyenoord v Fortuna Sittard
LOCATION:De Kuip
DESCRIPTION:Feyenoord v Fortuna Sittard - De Kuip - Dutch Eredivisie
STATUS:CONFIRMED
END:VEVENT
BEGIN:VEVENT
UID:59993798da23d56c902410b99b9f59ef@skysports.com
SEQUENCE:0
DTSTAMP:20260425T090807Z
DTSTART:20250921T144500Z
DTEND:20250921T164500Z
SUMMARY:AZ Alkmaar v Feyenoord
LOCATION:AFAS Stadion
DESCRIPTION:AZ Alkmaar v Feyenoord - AFAS Stadion - Dutch Eredivisie
STATUS:CONFIRMED
END:VEVENT
BEGIN:VEVENT
UID:0c950bbe92a1af589a4659b41e6117f6@skysports.com
SEQUENCE:0
DTSTAMP:20260425T090807Z
DTSTART:20250928T123000Z
DTEND:20250928T143000Z
SUMMARY:Groningen v Feyenoord
LOCATION:Noordlease Stadion
DESCRIPTION:Groningen v Feyenoord - Noordlease Stadion - Dutch Eredivisie
STATUS:CONFIRMED
END:VEVENT
BEGIN:VEVENT
UID:8a4640ee5a2c7b0a17acb9a8af9d52da@skysports.com
SEQUENCE:0
DTSTAMP:20260425T090807Z
DTSTART:20251005T123000Z
DTEND:20251005T143000Z
SUMMARY:Feyenoord v FC Utrecht
LOCATION:De Kuip
DESCRIPTION:Feyenoord v FC Utrecht - De Kuip - Dutch Eredivisie
STATUS:CONFIRMED
END:VEVENT
BEGIN:VEVENT
UID:5c744171e97869aec0d3ca2980489080@skysports.com
SEQUENCE:0
DTSTAMP:20260425T090807Z
DTSTART:20251019T144500Z
DTEND:20251019T164500Z
SUMMARY:Heracles Almelo v Feyenoord
LOCATION:Erve Asito
DESCRIPTION:Heracles Almelo v Feyenoord - Erve Asito - Dutch Eredivisie
STATUS:CONFIRMED
END:VEVENT
BEGIN:VEVENT
UID:a051961e8736425405d6980d2433a179@skysports.com
SEQUENCE:0
DTSTAMP:20260425T090807Z
DTSTART:20251026T133000Z
DTEND:20251026T153000Z
SUMMARY:Feyenoord v PSV Eindhoven
LOCATION:De Kuip
DESCRIPTION:Feyenoord v PSV Eindhoven - De Kuip - Dutch Eredivisie
STATUS:CONFIRMED
END:VEVENT
BEGIN:VEVENT
UID:e26d849d5165f23cbd9b7ed9f2636baf@skysports.com
SEQUENCE:0
DTSTAMP:20260425T090807Z
DTSTART:20251101T190000Z
DTEND:20251101T210000Z
SUMMARY:Feyenoord v FC Volendam
LOCATION:De Kuip
DESCRIPTION:Feyenoord v FC Volendam - De Kuip - Dutch Eredivisie
STATUS:CONFIRMED
END:VEVENT
BEGIN:VEVENT
UID:d6dc7a37890101af9089878a6e0d433b@skysports.com
SEQUENCE:0
DTSTAMP:20260425T090807Z
DTSTART:20251109T190000Z
DTEND:20251109T210000Z
SUMMARY:Go Ahead Eagles v Feyenoord
LOCATION:De Adelaarshorst
DESCRIPTION:Go Ahead Eagles v Feyenoord - De Adelaarshorst - Dutch Eredivi
 sie
STATUS:CONFIRMED
END:VEVENT
BEGIN:VEVENT
UID:797afc016e7ad8b18939ae52f326e036@skysports.com
SEQUENCE:0
DTSTAMP:20260425T090807Z
DTSTART:20251123T133000Z
DTEND:20251123T153000Z
SUMMARY:Feyenoord v NEC Nijmegen
LOCATION:De Kuip
DESCRIPTION:Feyenoord v NEC Nijmegen - De Kuip - Dutch Eredivisie
STATUS:CONFIRMED
END:VEVENT
BEGIN:VEVENT
UID:afe1386155f4353af28513aa543f7a33@skysports.com
SEQUENCE:0
DTSTAMP:20260425T090807Z
DTSTART:20251130T133000Z
DTEND:20251130T153000Z
SUMMARY:Telstar v Feyenoord
LOCATION:Rabobank IJmond Stadion
DESCRIPTION:Telstar v Feyenoord - Rabobank IJmond Stadion - Dutch Eredivis
 ie
STATUS:CONFIRMED
END:VEVENT
BEGIN:VEVENT
UID:6c2e08c991c7769734937aa84306532f@skysports.com
SEQUENCE:0
DTSTAMP:20260425T090807Z
DTSTART:20251206T200000Z
DTEND:20251206T220000Z
SUMMARY:Feyenoord v PEC Zwolle
LOCATION:De Kuip
DESCRIPTION:Feyenoord v PEC Zwolle - De Kuip - Dutch Eredivisie
STATUS:CONFIRMED
END:VEVENT
BEGIN:VEVENT
UID:6d447b28e9d205f39ad7682c5437509b@skysports.com
SEQUENCE:0
DTSTAMP:20260425T090807Z
DTSTART:20251214T133000Z
DTEND:20251214T153000Z
SUMMARY:Ajax v Feyenoord
LOCATION:Amsterdam ArenA
DESCRIPTION:Ajax v Feyenoord - Amsterdam ArenA - Dutch Eredivisie
STATUS:CONFIRMED
END:VEVENT
BEGIN:VEVENT
UID:5f319674d90a4fb0ef9c3c80c7354955@skysports.com
SEQUENCE:0
DTSTAMP:20260425T090807Z
DTSTART:20251221T133000Z
DTEND:20251221T153000Z
SUMMARY:Feyenoord v FC Twente
LOCATION:De Kuip
DESCRIPTION:Feyenoord v FC Twente - De Kuip - Dutch Eredivisie
STATUS:CONFIRMED
END:VEVENT
BEGIN:VEVENT
UID:f15857f53d9e658df8d7b2c08dcb5beb@skysports.com
SEQUENCE:0
DTSTAMP:20260425T090807Z
DTSTART:20260111T111500Z
DTEND:20260111T131500Z
SUMMARY:Heerenveen v Feyenoord
LOCATION:Abe Lenstra Stadion
DESCRIPTION:Heerenveen v Feyenoord - Abe Lenstra Stadion - Dutch Eredivisi
 e
STATUS:CONFIRMED
END:VEVENT
BEGIN:VEVENT
UID:fd5a6378b96c868e07bdfd849ea755a9@skysports.com
SEQUENCE:0
DTSTAMP:20260425T090807Z
DTSTART:20260118T154500Z
DTEND:20260118T174500Z
SUMMARY:Feyenoord v Sparta Rotterdam
LOCATION:De Kuip
DESCRIPTION:Feyenoord v Sparta Rotterdam - De Kuip - Dutch Eredivisie
STATUS:CONFIRMED
END:VEVENT
BEGIN:VEVENT
UID:42d8c55e9bd4fb8ed7304da8a4040fe1@skysports.com
SEQUENCE:0
DTSTAMP:20260425T090807Z
DTSTART:20260125T154500Z
DTEND:20260125T174500Z
SUMMARY:Feyenoord v Heracles Almelo
LOCATION:De Kuip
DESCRIPTION:Feyenoord v Heracles Almelo - De Kuip - Dutch Eredivisie
STATUS:CONFIRMED
END:VEVENT
BEGIN:VEVENT
UID:92618dedc000288a2cadb2d54299fc22@skysports.com
SEQUENCE:0
DTSTAMP:20260425T090807Z
DTSTART:20260201T133000Z
DTEND:20260201T153000Z
SUMMARY:PSV Eindhoven v Feyenoord
LOCATION:Philips Stadion
DESCRIPTION:PSV Eindhoven v Feyenoord - Philips Stadion - Dutch Eredivisie
STATUS:CONFIRMED
END:VEVENT
BEGIN:VEVENT
UID:60bc038aeef266ed6e7253b9a6b6623e@skysports.com
SEQUENCE:0
DTSTAMP:20260425T090807Z
DTSTART:20260208T111500Z
DTEND:20260208T131500Z
SUMMARY:FC Utrecht v Feyenoord
LOCATION:Stadion Galgenwaard
DESCRIPTION:FC Utrecht v Feyenoord - Stadion Galgenwaard - Dutch Eredivisi
 e
STATUS:CONFIRMED
END:VEVENT
BEGIN:VEVENT
UID:19205a359bc0e01f83885f2596524809@skysports.com
SEQUENCE:0
DTSTAMP:20260425T090807Z
DTSTART:20260215T111500Z
DTEND:20260215T131500Z
SUMMARY:Feyenoord v Go Ahead Eagles
LOCATION:De Kuip
DESCRIPTION:Feyenoord v Go Ahead Eagles - De Kuip - Dutch Eredivisie
STATUS:CONFIRMED
END:VEVENT
BEGIN:VEVENT
UID:7d9ec5c268902326551fe18051e65155@skysports.com
SEQUENCE:0
DTSTAMP:20260425T090807Z
DTSTART:20260222T190000Z
DTEND:20260222T210000Z
SUMMARY:Feyenoord v Telstar
LOCATION:De Kuip
DESCRIPTION:Feyenoord v Telstar - De Kuip - Dutch Eredivisie
STATUS:CONFIRMED
END:VEVENT
BEGIN:VEVENT
UID:3fc7eafa8f1758fc25dd20e581b5fa26@skysports.com
SEQUENCE:0
DTSTAMP:20260425T090807Z
DTSTART:20260301T133000Z
DTEND:20260301T153000Z
SUMMARY:FC Twente v Feyenoord
LOCATION:De Grolsch Veste
DESCRIPTION:FC Twente v Feyenoord - De Grolsch Veste - Dutch Eredivisie
STATUS:CONFIRMED
END:VEVENT
BEGIN:VEVENT
UID:dd2b20dbdc1262265bc6b94427f4cd32@skysports.com
SEQUENCE:0
DTSTAMP:20260425T090807Z
DTSTART:20260308T154500Z
DTEND:20260308T174500Z
SUMMARY:NAC Breda v Feyenoord
LOCATION:Rat Verlegh Stadion
DESCRIPTION:NAC Breda v Feyenoord - Rat Verlegh Stadion - Dutch Eredivisie
STATUS:CONFIRMED
END:VEVENT
BEGIN:VEVENT
UID:879d651e35331acda49bc229307c8f2b@skysports.com
SEQUENCE:0
DTSTAMP:20260425T090807Z
DTSTART:20260315T133000Z
DTEND:20260315T153000Z
SUMMARY:Feyenoord v Excelsior
LOCATION:De Kuip
DESCRIPTION:Feyenoord v Excelsior - De Kuip - Dutch Eredivisie
STATUS:CONFIRMED
END:VEVENT
BEGIN:VEVENT
UID:409f1c4f2c02a72998a69384c16d9d20@skysports.com
SEQUENCE:0
DTSTAMP:20260425T090807Z
DTSTART:20260322T133000Z
DTEND:20260322T153000Z
SUMMARY:Feyenoord v Ajax
LOCATION:De Kuip
DESCRIPTION:Feyenoord v Ajax - De Kuip - Dutch Eredivisie
STATUS:CONFIRMED
END:VEVENT
BEGIN:VEVENT
UID:030f700477f1561bd70dd7e0c7b8da3b@skysports.com
SEQUENCE:0
DTSTAMP:20260425T090807Z
DTSTART:20260405T123000Z
DTEND:20260405T143000Z
SUMMARY:FC Volendam v Feyenoord
LOCATION:Kras Stadion
DESCRIPTION:FC Volendam v Feyenoord - Kras Stadion - Dutch Eredivisie
STATUS:CONFIRMED
END:VEVENT
BEGIN:VEVENT
UID:c1942fc57e66913d57fbb3922864ee85@skysports.com
SEQUENCE:0
DTSTAMP:20260425T090807Z
DTSTART:20260412T123000Z
DTEND:20260412T143000Z
SUMMARY:NEC Nijmegen v Feyenoord
LOCATION:Stadion De Goffert
DESCRIPTION:NEC Nijmegen v Feyenoord - Stadion De Goffert - Dutch Eredivis
 ie
STATUS:CONFIRMED
END:VEVENT
BEGIN:VEVENT
UID:1db1b2432f06414c74a0fc1e86321813@skysports.com
SEQUENCE:0
DTSTAMP:20260425T090807Z
DTSTART:20260425T143000Z
DTEND:20260425T163000Z
SUMMARY:Feyenoord v Groningen
LOCATION:De Kuip
DESCRIPTION:Feyenoord v Groningen - De Kuip - Dutch Eredivisie
STATUS:CONFIRMED
END:VEVENT
BEGIN:VEVENT
UID:c66c63e5d85d7c519b57856333afb9ba@skysports.com
SEQUENCE:0
DTSTAMP:20260425T090807Z
DTSTART:20260503T123000Z
DTEND:20260503T143000Z
SUMMARY:Fortuna Sittard v Feyenoord
LOCATION:Fortuna Sittard Stadion
DESCRIPTION:Fortuna Sittard v Feyenoord - Fortuna Sittard Stadion - Dutch 
 Eredivisie
STATUS:CONFIRMED
END:VEVENT
BEGIN:VEVENT
UID:b6b04903980ca5bf14e7bdd1f7e5c815@skysports.com
SEQUENCE:0
DTSTAMP:20260425T090807Z
DTSTART:20260510T144500Z
DTEND:20260510T164500Z
SUMMARY:Feyenoord v AZ Alkmaar
LOCATION:De Kuip
DESCRIPTION:Feyenoord v AZ Alkmaar - De Kuip - Dutch Eredivisie
STATUS:CONFIRMED
END:VEVENT
BEGIN:VEVENT
UID:437f89711e6b1fb2da94e99f0c19a909@skysports.com
SEQUENCE:0
DTSTAMP:20260425T090807Z
DTSTART:20260517T123000Z
DTEND:20260517T143000Z
SUMMARY:PEC Zwolle v Feyenoord
LOCATION:IJsseldelta Stadion
DESCRIPTION:PEC Zwolle v Feyenoord - IJsseldelta Stadion - Dutch Eredivisi
 e
STATUS:CONFIRMED
END:VEVENT
BEGIN:VEVENT
UID:19278a5fc69f5e8d52ee836dcb230e00@skysports.com
SEQUENCE:0
DTSTAMP:20260425T090807Z
DTSTART:20250726T090000Z
DTEND:20250726T110000Z
SUMMARY:Feyenoord v Nice
LOCATION:DAS.GOLDBERG Stadion
DESCRIPTION:Feyenoord v Nice - DAS.GOLDBERG Stadion - Friendly Match
STATUS:CONFIRMED
END:VEVENT
BEGIN:VEVENT
UID:583504a0820c9bdfc28f6b6594d3765e@skysports.com
SEQUENCE:0
DTSTAMP:20260425T090807Z
DTSTART:20250726T123000Z
DTEND:20250726T143000Z
SUMMARY:FC Liefering v Feyenoord
LOCATION:DAS.GOLDBERG Stadion
DESCRIPTION:FC Liefering v Feyenoord - DAS.GOLDBERG Stadion - Friendly Mat
 ch
STATUS:CONFIRMED
END:VEVENT
BEGIN:VEVENT
UID:a90e02860b8f10329cdf6852a3d07a89@skysports.com
SEQUENCE:0
DTSTAMP:20260425T090807Z
DTSTART:20250806T190000Z
DTEND:20250806T210000Z
SUMMARY:Feyenoord v Fenerbahce
LOCATION:De Kuip
DESCRIPTION:Feyenoord v Fenerbahce - De Kuip - UEFA Champions League Quali
 fying
STATUS:CONFIRMED
END:VEVENT
BEGIN:VEVENT
UID:5572c38d1fb4988dd0a0cd2d3815e203@skysports.com
SEQUENCE:0
DTSTAMP:20260425T090807Z
DTSTART:20250812T170000Z
DTEND:20250812T190000Z
SUMMARY:Fenerbahce v Feyenoord
LOCATION:Sukru Saracoglu
DESCRIPTION:Fenerbahce v Feyenoord - Sukru Saracoglu - UEFA Champions Leag
 ue Qualifying
STATUS:CONFIRMED
END:VEVENT
BEGIN:VEVENT
UID:5507d9fbeaf670e9ae32224f6ac96f78@skysports.com
SEQUENCE:0
DTSTAMP:20260425T090807Z
DTSTART:20250726T090000Z
DTEND:20250726T110000Z
SUMMARY:Nice v Feyenoord
LOCATION:DAS.GOLDBERG Stadion
DESCRIPTION:Nice v Feyenoord - DAS.GOLDBERG Stadion - Friendly Match
STATUS:CONFIRMED
END:VEVENT
BEGIN:VEVENT
UID:fb803783ced30da7546628de37fd9d61@skysports.com
SEQUENCE:0
DTSTAMP:20260425T090807Z
DTSTART:20250924T190000Z
DTEND:20250924T210000Z
SUMMARY:Braga v Feyenoord
LOCATION:Estadio AXA
DESCRIPTION:Braga v Feyenoord - Estadio AXA - UEFA Europa League
STATUS:CONFIRMED
END:VEVENT
BEGIN:VEVENT
UID:0ea58a2b8b19fa08ebfe032ac5297c57@skysports.com
SEQUENCE:0
DTSTAMP:20260425T090807Z
DTSTART:20251002T190000Z
DTEND:20251002T210000Z
SUMMARY:Feyenoord v Aston Villa
LOCATION:De Kuip
DESCRIPTION:Feyenoord v Aston Villa - De Kuip - UEFA Europa League
STATUS:CONFIRMED
END:VEVENT
BEGIN:VEVENT
UID:5a5822830daf143c10e54ba980a50ae8@skysports.com
SEQUENCE:0
DTSTAMP:20260425T090807Z
DTSTART:20251023T190000Z
DTEND:20251023T210000Z
SUMMARY:Feyenoord v Panathinaikos
LOCATION:De Kuip
DESCRIPTION:Feyenoord v Panathinaikos - De Kuip - UEFA Europa League
STATUS:CONFIRMED
END:VEVENT
BEGIN:VEVENT
UID:75f9b75c1133b8f6c83d9407a6df7622@skysports.com
SEQUENCE:0
DTSTAMP:20260425T090807Z
DTSTART:20251106T200000Z
DTEND:20251106T220000Z
SUMMARY:Stuttgart v Feyenoord
LOCATION:MHP Arena
DESCRIPTION:Stuttgart v Feyenoord - MHP Arena - UEFA Europa League
STATUS:CONFIRMED
END:VEVENT
BEGIN:VEVENT
UID:47856c7120159b99436ecdd28652c510@skysports.com
SEQUENCE:0
DTSTAMP:20260425T090807Z
DTSTART:20251127T174500Z
DTEND:20251127T194500Z
SUMMARY:Feyenoord v Celtic
LOCATION:De Kuip
DESCRIPTION:Feyenoord v Celtic - De Kuip - UEFA Europa League
STATUS:CONFIRMED
END:VEVENT
BEGIN:VEVENT
UID:c9439226b3b1513022b91a95cdc10823@skysports.com
SEQUENCE:0
DTSTAMP:20260425T090807Z
DTSTART:20251211T200000Z
DTEND:20251211T220000Z
SUMMARY:FCSB v Feyenoord
LOCATION:National Arena
DESCRIPTION:FCSB v Feyenoord - National Arena - UEFA Europa League
STATUS:CONFIRMED
END:VEVENT
BEGIN:VEVENT
UID:27c70d261a499e61de0c7f3c94f6fa76@skysports.com
SEQUENCE:0
DTSTAMP:20260425T090807Z
DTSTART:20260122T174500Z
DTEND:20260122T194500Z
SUMMARY:Feyenoord v Sturm Graz
LOCATION:De Kuip
DESCRIPTION:Feyenoord v Sturm Graz - De Kuip - UEFA Europa League
STATUS:CONFIRMED
END:VEVENT
BEGIN:VEVENT
UID:785b463d1f462091673703f314539465@skysports.com
SEQUENCE:0
DTSTAMP:20260425T090807Z
DTSTART:20260129T200000Z
DTEND:20260129T220000Z
SUMMARY:Real Betis v Feyenoord
LOCATION:Estadio Olimpico de la Cartuja
DESCRIPTION:Real Betis v Feyenoord - Estadio Olimpico de la Cartuja - UEFA
  Europa League
STATUS:CONFIRMED
END:VEVENT
BEGIN:VEVENT
UID:ac9db897b88984c6a53d937bf1f594f3@skysports.com
SEQUENCE:0
DTSTAMP:20260425T090807Z
DTSTART:20251113T103000Z
DTEND:20251113T123000Z
SUMMARY:Feyenoord v Excelsior
LOCATION:Sportcomplex Varkenoord
DESCRIPTION:Feyenoord v Excelsior - Sportcomplex Varkenoord - Friendly Mat
 ches
STATUS:CONFIRMED
END:VEVENT
END:VCALENDAR