BEGIN:VCALENDAR
VERSION:2.0
PRODID:-//Sky Sports SSDM//NONSGML Event Calendar//EN
URL:https://www.skysports.com/calendars/football/fixtures/teams/fiorentina
CALSCALE:GREGORIAN
METHOD:PUBLISH
NAME:Fiorentina Fixtures
X-WR-CALNAME:Fiorentina Fixtures
X-WR-CALDESC:Fiorentina fixtures provided by Sky Sports (https://www.skysp
 orts.com)
REFRESH-INTERVAL;VALUE=DURATION:PT1H
X-PUBLISHED-TTL:PT1H
BEGIN:VEVENT
UID:98698486feb9dc49814bd7841338fb58@skysports.com
SEQUENCE:0
DTSTAMP:20260425T090808Z
DTSTART:20250809T114500Z
DTEND:20250809T134500Z
SUMMARY:Manchester United v Fiorentina
LOCATION:Old Trafford
DESCRIPTION:Manchester United v Fiorentina - Old Trafford - Friendly Match
STATUS:CONFIRMED
END:VEVENT
BEGIN:VEVENT
UID:4a5f8eaed7543710734eb1d4f8528754@skysports.com
SEQUENCE:0
DTSTAMP:20260425T090808Z
DTSTART:20250824T163000Z
DTEND:20250824T183000Z
SUMMARY:Cagliari v Fiorentina
LOCATION:Sardegna Arena
DESCRIPTION:Cagliari v Fiorentina - Sardegna Arena - Italian Serie A
STATUS:CONFIRMED
END:VEVENT
BEGIN:VEVENT
UID:c818d7bc6197224cb5644fabe884900d@skysports.com
SEQUENCE:0
DTSTAMP:20260425T090808Z
DTSTART:20250831T163000Z
DTEND:20250831T183000Z
SUMMARY:Torino v Fiorentina
LOCATION:Olimpico di Torino
DESCRIPTION:Torino v Fiorentina - Olimpico di Torino - Italian Serie A
STATUS:CONFIRMED
END:VEVENT
BEGIN:VEVENT
UID:06d3230702de41e189637722f728ac9f@skysports.com
SEQUENCE:0
DTSTAMP:20260425T090808Z
DTSTART:20250913T184500Z
DTEND:20250913T204500Z
SUMMARY:Fiorentina v Napoli
LOCATION:Artemio Franchi
DESCRIPTION:Fiorentina v Napoli - Artemio Franchi - Italian Serie A
STATUS:CONFIRMED
END:VEVENT
BEGIN:VEVENT
UID:463854654796a323f5e467cf181866ad@skysports.com
SEQUENCE:0
DTSTAMP:20260425T090808Z
DTSTART:20250921T160000Z
DTEND:20250921T180000Z
SUMMARY:Fiorentina v Como
LOCATION:Artemio Franchi
DESCRIPTION:Fiorentina v Como - Artemio Franchi - Italian Serie A
STATUS:CONFIRMED
END:VEVENT
BEGIN:VEVENT
UID:49a095b6966adf539bc02688afa86c43@skysports.com
SEQUENCE:0
DTSTAMP:20260425T090808Z
DTSTART:20250928T130000Z
DTEND:20250928T150000Z
SUMMARY:Pisa v Fiorentina
LOCATION:Arena Garibaldi Romeo Anconetani
DESCRIPTION:Pisa v Fiorentina - Arena Garibaldi Romeo Anconetani - Italian
  Serie A
STATUS:CONFIRMED
END:VEVENT
BEGIN:VEVENT
UID:5bc4cbbcdea1cf951d4cda9f993c2290@skysports.com
SEQUENCE:0
DTSTAMP:20260425T090808Z
DTSTART:20251005T130000Z
DTEND:20251005T150000Z
SUMMARY:Fiorentina v Roma
LOCATION:Artemio Franchi
DESCRIPTION:Fiorentina v Roma - Artemio Franchi - Italian Serie A
STATUS:CONFIRMED
END:VEVENT
BEGIN:VEVENT
UID:0068f260a5c7c5771e9a6bdb7c0be07a@skysports.com
SEQUENCE:0
DTSTAMP:20260425T090808Z
DTSTART:20251019T184500Z
DTEND:20251019T204500Z
SUMMARY:AC Milan v Fiorentina
LOCATION:Giuseppe Meazza
DESCRIPTION:AC Milan v Fiorentina - Giuseppe Meazza - Italian Serie A
STATUS:CONFIRMED
END:VEVENT
BEGIN:VEVENT
UID:2c60abfdfb31a042fdd12b7fa0051815@skysports.com
SEQUENCE:0
DTSTAMP:20260425T090808Z
DTSTART:20251026T170000Z
DTEND:20251026T190000Z
SUMMARY:Fiorentina v Bologna
LOCATION:Artemio Franchi
DESCRIPTION:Fiorentina v Bologna - Artemio Franchi - Italian Serie A
STATUS:CONFIRMED
END:VEVENT
BEGIN:VEVENT
UID:6f1bf91d74cd601fd81781466dca3fd4@skysports.com
SEQUENCE:0
DTSTAMP:20260425T090808Z
DTSTART:20251029T194500Z
DTEND:20251029T214500Z
SUMMARY:Inter Milan v Fiorentina
LOCATION:Giuseppe Meazza
DESCRIPTION:Inter Milan v Fiorentina - Giuseppe Meazza - Italian Serie A
STATUS:CONFIRMED
END:VEVENT
BEGIN:VEVENT
UID:9ed0fbc739fd05d6043024311eff54c8@skysports.com
SEQUENCE:0
DTSTAMP:20260425T090808Z
DTSTART:20251102T140000Z
DTEND:20251102T160000Z
SUMMARY:Fiorentina v Lecce
LOCATION:Artemio Franchi
DESCRIPTION:Fiorentina v Lecce - Artemio Franchi - Italian Serie A
STATUS:CONFIRMED
END:VEVENT
BEGIN:VEVENT
UID:03584c915880e38d8fb0cb830a138ee8@skysports.com
SEQUENCE:0
DTSTAMP:20260425T090808Z
DTSTART:20251109T140000Z
DTEND:20251109T160000Z
SUMMARY:Genoa v Fiorentina
LOCATION:Luigi Ferraris
DESCRIPTION:Genoa v Fiorentina - Luigi Ferraris - Italian Serie A
STATUS:CONFIRMED
END:VEVENT
BEGIN:VEVENT
UID:50029526b860d098d8868e0a7badd478@skysports.com
SEQUENCE:0
DTSTAMP:20260425T090808Z
DTSTART:20251122T170000Z
DTEND:20251122T190000Z
SUMMARY:Fiorentina v Juventus
LOCATION:Artemio Franchi
DESCRIPTION:Fiorentina v Juventus - Artemio Franchi - Italian Serie A
STATUS:CONFIRMED
END:VEVENT
BEGIN:VEVENT
UID:86f8ab88db9064fbf1d8e6da98601e76@skysports.com
SEQUENCE:0
DTSTAMP:20260425T090808Z
DTSTART:20251130T170000Z
DTEND:20251130T190000Z
SUMMARY:Atalanta v Fiorentina
LOCATION:Gewiss Stadium
DESCRIPTION:Atalanta v Fiorentina - Gewiss Stadium - Italian Serie A
STATUS:CONFIRMED
END:VEVENT
BEGIN:VEVENT
UID:0fdc1c4bfd6188243dcc8e4f845f732b@skysports.com
SEQUENCE:0
DTSTAMP:20260425T090808Z
DTSTART:20251206T140000Z
DTEND:20251206T160000Z
SUMMARY:Sassuolo v Fiorentina
LOCATION:Citta del Tricolore
DESCRIPTION:Sassuolo v Fiorentina - Citta del Tricolore - Italian Serie A
STATUS:CONFIRMED
END:VEVENT
BEGIN:VEVENT
UID:02fd7a90610cffa03a4972e657e1a5e1@skysports.com
SEQUENCE:0
DTSTAMP:20260425T090808Z
DTSTART:20251214T140000Z
DTEND:20251214T160000Z
SUMMARY:Fiorentina v Verona
LOCATION:Artemio Franchi
DESCRIPTION:Fiorentina v Verona - Artemio Franchi - Italian Serie A
STATUS:CONFIRMED
END:VEVENT
BEGIN:VEVENT
UID:ee0e0022e9ad2075c15e3d5ad25e1c6c@skysports.com
SEQUENCE:0
DTSTAMP:20260425T090808Z
DTSTART:20251221T170000Z
DTEND:20251221T190000Z
SUMMARY:Fiorentina v Udinese
LOCATION:Artemio Franchi
DESCRIPTION:Fiorentina v Udinese - Artemio Franchi - Italian Serie A
STATUS:CONFIRMED
END:VEVENT
BEGIN:VEVENT
UID:c3f8e521a6174c5ba45dddb56d867b2b@skysports.com
SEQUENCE:0
DTSTAMP:20260425T090808Z
DTSTART:20251227T113000Z
DTEND:20251227T133000Z
SUMMARY:Parma v Fiorentina
LOCATION:Ennio Tardini
DESCRIPTION:Parma v Fiorentina - Ennio Tardini - Italian Serie A
STATUS:CONFIRMED
END:VEVENT
BEGIN:VEVENT
UID:f0c6303e1ee1b5aba6556cf96634c667@skysports.com
SEQUENCE:0
DTSTAMP:20260425T090808Z
DTSTART:20260104T140000Z
DTEND:20260104T160000Z
SUMMARY:Fiorentina v Cremonese
LOCATION:Artemio Franchi
DESCRIPTION:Fiorentina v Cremonese - Artemio Franchi - Italian Serie A
STATUS:CONFIRMED
END:VEVENT
BEGIN:VEVENT
UID:5a23a52fb499e273778d63d77df04318@skysports.com
SEQUENCE:0
DTSTAMP:20260425T090808Z
DTSTART:20260107T194500Z
DTEND:20260107T214500Z
SUMMARY:Lazio v Fiorentina
LOCATION:Olimpico
DESCRIPTION:Lazio v Fiorentina - Olimpico - Italian Serie A
STATUS:CONFIRMED
END:VEVENT
BEGIN:VEVENT
UID:b36db452e8c54f8c8d6a79b65d08c776@skysports.com
SEQUENCE:0
DTSTAMP:20260425T090808Z
DTSTART:20260111T140000Z
DTEND:20260111T160000Z
SUMMARY:Fiorentina v AC Milan
LOCATION:Artemio Franchi
DESCRIPTION:Fiorentina v AC Milan - Artemio Franchi - Italian Serie A
STATUS:CONFIRMED
END:VEVENT
BEGIN:VEVENT
UID:97bdbe64e1ebff2535ad98bcb9237d71@skysports.com
SEQUENCE:0
DTSTAMP:20260425T090808Z
DTSTART:20260118T140000Z
DTEND:20260118T160000Z
SUMMARY:Bologna v Fiorentina
LOCATION:Renato Dall'Ara
DESCRIPTION:Bologna v Fiorentina - Renato Dall'Ara - Italian Serie A
STATUS:CONFIRMED
END:VEVENT
BEGIN:VEVENT
UID:d56a63fb2fcdb69cb71462582b072529@skysports.com
SEQUENCE:0
DTSTAMP:20260425T090808Z
DTSTART:20260124T170000Z
DTEND:20260124T190000Z
SUMMARY:Fiorentina v Cagliari
LOCATION:Artemio Franchi
DESCRIPTION:Fiorentina v Cagliari - Artemio Franchi - Italian Serie A
STATUS:CONFIRMED
END:VEVENT
BEGIN:VEVENT
UID:81ef675fe9b20430bf08bf71db519c79@skysports.com
SEQUENCE:0
DTSTAMP:20260425T090808Z
DTSTART:20260131T170000Z
DTEND:20260131T190000Z
SUMMARY:Napoli v Fiorentina
LOCATION:Diego Armando Maradona
DESCRIPTION:Napoli v Fiorentina - Diego Armando Maradona - Italian Serie A
STATUS:CONFIRMED
END:VEVENT
BEGIN:VEVENT
UID:55d03e0d0aad7305970b344e0cd3253b@skysports.com
SEQUENCE:0
DTSTAMP:20260425T090808Z
DTSTART:20260207T194500Z
DTEND:20260207T214500Z
SUMMARY:Fiorentina v Torino
LOCATION:Artemio Franchi
DESCRIPTION:Fiorentina v Torino - Artemio Franchi - Italian Serie A
STATUS:CONFIRMED
END:VEVENT
BEGIN:VEVENT
UID:6d6d970d9788c212122a00ea870df132@skysports.com
SEQUENCE:0
DTSTAMP:20260425T090808Z
DTSTART:20260214T140000Z
DTEND:20260214T160000Z
SUMMARY:Como v Fiorentina
LOCATION:Giuseppe Sinigaglia
DESCRIPTION:Como v Fiorentina - Giuseppe Sinigaglia - Italian Serie A
STATUS:CONFIRMED
END:VEVENT
BEGIN:VEVENT
UID:41235924475c916fe59991a4b6fd4335@skysports.com
SEQUENCE:0
DTSTAMP:20260425T090808Z
DTSTART:20260223T173000Z
DTEND:20260223T193000Z
SUMMARY:Fiorentina v Pisa
LOCATION:Artemio Franchi
DESCRIPTION:Fiorentina v Pisa - Artemio Franchi - Italian Serie A
STATUS:CONFIRMED
END:VEVENT
BEGIN:VEVENT
UID:a0a7175b26d233349e47cf6c8450ea7f@skysports.com
SEQUENCE:0
DTSTAMP:20260425T090808Z
DTSTART:20260302T194500Z
DTEND:20260302T214500Z
SUMMARY:Udinese v Fiorentina
LOCATION:Dacia Arena
DESCRIPTION:Udinese v Fiorentina - Dacia Arena - Italian Serie A
STATUS:CONFIRMED
END:VEVENT
BEGIN:VEVENT
UID:2e3c17de0413380ce3090fe8bea373e7@skysports.com
SEQUENCE:0
DTSTAMP:20260425T090808Z
DTSTART:20260308T140000Z
DTEND:20260308T160000Z
SUMMARY:Fiorentina v Parma
LOCATION:Artemio Franchi
DESCRIPTION:Fiorentina v Parma - Artemio Franchi - Italian Serie A
STATUS:CONFIRMED
END:VEVENT
BEGIN:VEVENT
UID:1c2f9ca15fa4b6430a0a6a156e662d9f@skysports.com
SEQUENCE:0
DTSTAMP:20260425T090808Z
DTSTART:20260316T194500Z
DTEND:20260316T214500Z
SUMMARY:Cremonese v Fiorentina
LOCATION:Giovanni Zini
DESCRIPTION:Cremonese v Fiorentina - Giovanni Zini - Italian Serie A
STATUS:CONFIRMED
END:VEVENT
BEGIN:VEVENT
UID:1b27b37323258775bed0c3cbd13f2f2d@skysports.com
SEQUENCE:0
DTSTAMP:20260425T090808Z
DTSTART:20260322T194500Z
DTEND:20260322T214500Z
SUMMARY:Fiorentina v Inter Milan
LOCATION:Artemio Franchi
DESCRIPTION:Fiorentina v Inter Milan - Artemio Franchi - Italian Serie A
STATUS:CONFIRMED
END:VEVENT
BEGIN:VEVENT
UID:1c07de3a79bd2f04888c3217b750114b@skysports.com
SEQUENCE:0
DTSTAMP:20260425T090808Z
DTSTART:20260404T160000Z
DTEND:20260404T180000Z
SUMMARY:Verona v Fiorentina
LOCATION:Marc'Antonio Bentegodi
DESCRIPTION:Verona v Fiorentina - Marc'Antonio Bentegodi - Italian Serie A
STATUS:CONFIRMED
END:VEVENT
BEGIN:VEVENT
UID:9d6b44c7a25e2c240ec3703faf8dfdcf@skysports.com
SEQUENCE:0
DTSTAMP:20260425T090808Z
DTSTART:20260413T184500Z
DTEND:20260413T204500Z
SUMMARY:Fiorentina v Lazio
LOCATION:Artemio Franchi
DESCRIPTION:Fiorentina v Lazio - Artemio Franchi - Italian Serie A
STATUS:CONFIRMED
END:VEVENT
BEGIN:VEVENT
UID:a1131b77ed3c40a7de5f8f064792745b@skysports.com
SEQUENCE:0
DTSTAMP:20260425T090808Z
DTSTART:20260420T184500Z
DTEND:20260420T204500Z
SUMMARY:Lecce v Fiorentina
LOCATION:Via Del Mare
DESCRIPTION:Lecce v Fiorentina - Via Del Mare - Italian Serie A
STATUS:CONFIRMED
END:VEVENT
BEGIN:VEVENT
UID:672f1815838c4da12162b0f937704a3a@skysports.com
SEQUENCE:0
DTSTAMP:20260425T090808Z
DTSTART:20260426T103000Z
DTEND:20260426T123000Z
SUMMARY:Fiorentina v Sassuolo
LOCATION:Artemio Franchi
DESCRIPTION:Fiorentina v Sassuolo - Artemio Franchi - Italian Serie A
STATUS:CONFIRMED
END:VEVENT
BEGIN:VEVENT
UID:322f6c939b3e015722187ca67560e49a@skysports.com
SEQUENCE:0
DTSTAMP:20260425T090808Z
DTSTART:20260504T184500Z
DTEND:20260504T204500Z
SUMMARY:Roma v Fiorentina
LOCATION:Olimpico
DESCRIPTION:Roma v Fiorentina - Olimpico - Italian Serie A
STATUS:CONFIRMED
END:VEVENT
BEGIN:VEVENT
UID:322f3cc3f6600f726646fe7534cc0151@skysports.com
SEQUENCE:0
DTSTAMP:20260425T090808Z
DTSTART:20260510T130000Z
DTEND:20260510T150000Z
SUMMARY:Fiorentina v Genoa
LOCATION:Artemio Franchi
DESCRIPTION:Fiorentina v Genoa - Artemio Franchi - Italian Serie A
STATUS:CONFIRMED
END:VEVENT
BEGIN:VEVENT
UID:6643a849ef24a8ed341ad3b7d71bce6c@skysports.com
SEQUENCE:0
DTSTAMP:20260425T090808Z
DTSTART:20260517T130000Z
DTEND:20260517T150000Z
SUMMARY:Juventus v Fiorentina
LOCATION:Juventus Stadium
DESCRIPTION:Juventus v Fiorentina - Juventus Stadium - Italian Serie A
STATUS:CONFIRMED
END:VEVENT
BEGIN:VEVENT
UID:9733c50e31eda78116d3b432e13aeba0@skysports.com
SEQUENCE:0
DTSTAMP:20260425T090808Z
DTSTART:20260524T130000Z
DTEND:20260524T150000Z
SUMMARY:Fiorentina v Atalanta
LOCATION:Artemio Franchi
DESCRIPTION:Fiorentina v Atalanta - Artemio Franchi - Italian Serie A
STATUS:CONFIRMED
END:VEVENT
BEGIN:VEVENT
UID:9cc01a8be79508ffbe653d7cf9981d7f@skysports.com
SEQUENCE:0
DTSTAMP:20260425T090808Z
DTSTART:20250803T140000Z
DTEND:20250803T160000Z
SUMMARY:Leicester City v Fiorentina
LOCATION:The King Power Stadium
DESCRIPTION:Leicester City v Fiorentina - The King Power Stadium - Friendl
 y Matches
STATUS:CONFIRMED
END:VEVENT
BEGIN:VEVENT
UID:3cb8171f2e699a53ef37f812ce7a74df@skysports.com
SEQUENCE:0
DTSTAMP:20260425T090808Z
DTSTART:20250821T180000Z
DTEND:20250821T200000Z
SUMMARY:Polessya Zhitomir v Fiorentina
LOCATION:Futbal Tatran Arena
DESCRIPTION:Polessya Zhitomir v Fiorentina - Futbal Tatran Arena - UEFA Co
 nference League Qualifying
STATUS:CONFIRMED
END:VEVENT
BEGIN:VEVENT
UID:e5915c34adb1d4657da141225b819ac2@skysports.com
SEQUENCE:0
DTSTAMP:20260425T090808Z
DTSTART:20250828T180000Z
DTEND:20250828T200000Z
SUMMARY:Fiorentina v Polessya Zhitomir
LOCATION:Citta del Tricolore
DESCRIPTION:Fiorentina v Polessya Zhitomir - Citta del Tricolore - UEFA Co
 nference League Qualifying
STATUS:CONFIRMED
END:VEVENT
BEGIN:VEVENT
UID:fe684d3704df58bf15f4289f29cb3235@skysports.com
SEQUENCE:0
DTSTAMP:20260425T090808Z
DTSTART:20250805T184500Z
DTEND:20250805T204500Z
SUMMARY:Nottingham Forest v Fiorentina
LOCATION:The City Ground
DESCRIPTION:Nottingham Forest v Fiorentina - The City Ground - Friendly Ma
 tches
STATUS:CONFIRMED
END:VEVENT
BEGIN:VEVENT
UID:69b4d3f101bccd312f30768505f7d7de@skysports.com
SEQUENCE:0
DTSTAMP:20260425T090808Z
DTSTART:20260127T200000Z
DTEND:20260127T220000Z
SUMMARY:Fiorentina v Como
LOCATION:Artemio Franchi
DESCRIPTION:Fiorentina v Como - Artemio Franchi - Coppa Italia
STATUS:CONFIRMED
END:VEVENT
BEGIN:VEVENT
UID:d2f0133fc64674c5279708718ecbc365@skysports.com
SEQUENCE:0
DTSTAMP:20260425T090808Z
DTSTART:20251002T190000Z
DTEND:20251002T210000Z
SUMMARY:Fiorentina v Sigma Olomouc
LOCATION:Artemio Franchi
DESCRIPTION:Fiorentina v Sigma Olomouc - Artemio Franchi - UEFA Conference
  League
STATUS:CONFIRMED
END:VEVENT
BEGIN:VEVENT
UID:29cff57ffe50b5142ad6d2940dc82d06@skysports.com
SEQUENCE:0
DTSTAMP:20260425T090808Z
DTSTART:20251023T164500Z
DTEND:20251023T184500Z
SUMMARY:SK Rapid Wien v Fiorentina
LOCATION:Allianz Stadion
DESCRIPTION:SK Rapid Wien v Fiorentina - Allianz Stadion - UEFA Conference
  League
STATUS:CONFIRMED
END:VEVENT
BEGIN:VEVENT
UID:07288b39fb82124f00e927bfd6466ebc@skysports.com
SEQUENCE:0
DTSTAMP:20260425T090808Z
DTSTART:20251106T174500Z
DTEND:20251106T194500Z
SUMMARY:Mainz v Fiorentina
LOCATION:Coface Arena
DESCRIPTION:Mainz v Fiorentina - Coface Arena - UEFA Conference League
STATUS:CONFIRMED
END:VEVENT
BEGIN:VEVENT
UID:24d81589ab57d2efcf74a93d47f2702d@skysports.com
SEQUENCE:0
DTSTAMP:20260425T090808Z
DTSTART:20251127T200000Z
DTEND:20251127T220000Z
SUMMARY:Fiorentina v AEK Athens
LOCATION:Artemio Franchi
DESCRIPTION:Fiorentina v AEK Athens - Artemio Franchi - UEFA Conference Le
 ague
STATUS:CONFIRMED
END:VEVENT
BEGIN:VEVENT
UID:aaf4e4529263a00dad3e241aa39eab74@skysports.com
SEQUENCE:0
DTSTAMP:20260425T090808Z
DTSTART:20251211T174500Z
DTEND:20251211T194500Z
SUMMARY:Fiorentina v Dynamo Kyiv
LOCATION:Artemio Franchi
DESCRIPTION:Fiorentina v Dynamo Kyiv - Artemio Franchi - UEFA Conference L
 eague
STATUS:CONFIRMED
END:VEVENT
BEGIN:VEVENT
UID:5a1d833a4eae0115d5d750395ee31901@skysports.com
SEQUENCE:0
DTSTAMP:20260425T090808Z
DTSTART:20251218T200000Z
DTEND:20251218T220000Z
SUMMARY:Lausanne Sports v Fiorentina
LOCATION:Stade de la Tuiliere
DESCRIPTION:Lausanne Sports v Fiorentina - Stade de la Tuiliere - UEFA Con
 ference League
STATUS:CONFIRMED
END:VEVENT
BEGIN:VEVENT
UID:4f1a8a7c2f464b6b4ac6d2e37583b8bc@skysports.com
SEQUENCE:0
DTSTAMP:20260425T090808Z
DTSTART:20260219T200000Z
DTEND:20260219T220000Z
SUMMARY:Jagiellonia Bialystok v Fiorentina
LOCATION:Chorten Arena
DESCRIPTION:Jagiellonia Bialystok v Fiorentina - Chorten Arena - UEFA Conf
 erence League
STATUS:CONFIRMED
END:VEVENT
BEGIN:VEVENT
UID:9930ae57a04e660fa9b263138ca23b5a@skysports.com
SEQUENCE:0
DTSTAMP:20260425T090808Z
DTSTART:20260226T174500Z
DTEND:20260226T194500Z
SUMMARY:Fiorentina v Jagiellonia Bialystok
LOCATION:Artemio Franchi
DESCRIPTION:Fiorentina v Jagiellonia Bialystok - Artemio Franchi - UEFA Co
 nference League
STATUS:CONFIRMED
END:VEVENT
BEGIN:VEVENT
UID:95cacb7dc5858dce8185365cecee9ee5@skysports.com
SEQUENCE:0
DTSTAMP:20260425T090808Z
DTSTART:20260312T200000Z
DTEND:20260312T220000Z
SUMMARY:Fiorentina v Raków Czestochowa
LOCATION:Artemio Franchi
DESCRIPTION:Fiorentina v Raków Czestochowa - Artemio Franchi - UEFA Confe
 rence League
STATUS:CONFIRMED
END:VEVENT
BEGIN:VEVENT
UID:0f69ea08a2f32fa9117d7ab8eb2cfc82@skysports.com
SEQUENCE:0
DTSTAMP:20260425T090808Z
DTSTART:20260319T174500Z
DTEND:20260319T194500Z
SUMMARY:Raków Czestochowa v Fiorentina
LOCATION:ArcelorMittal Park
DESCRIPTION:Raków Czestochowa v Fiorentina - ArcelorMittal Park - UEFA Co
 nference League
STATUS:CONFIRMED
END:VEVENT
BEGIN:VEVENT
UID:4c4b94b0a6bb1fa8b79ec4c2ac8e3a47@skysports.com
SEQUENCE:0
DTSTAMP:20260425T090808Z
DTSTART:20260409T190000Z
DTEND:20260409T210000Z
SUMMARY:Crystal Palace v Fiorentina
LOCATION:Selhurst Park
DESCRIPTION:Crystal Palace v Fiorentina - Selhurst Park - UEFA Conference 
 League
STATUS:CONFIRMED
END:VEVENT
BEGIN:VEVENT
UID:9fa592fa7f13219cdbe0b5d7541154e5@skysports.com
SEQUENCE:0
DTSTAMP:20260425T090808Z
DTSTART:20260416T190000Z
DTEND:20260416T210000Z
SUMMARY:Fiorentina v Crystal Palace
LOCATION:Artemio Franchi
DESCRIPTION:Fiorentina v Crystal Palace - Artemio Franchi - UEFA Conferenc
 e League
STATUS:CONFIRMED
END:VEVENT
END:VCALENDAR