BEGIN:VCALENDAR
VERSION:2.0
PRODID:-//Sky Sports SSDM//NONSGML Event Calendar//EN
URL:https://www.skysports.com/calendars/football/fixtures/teams/fortuna-si
 ttard
CALSCALE:GREGORIAN
METHOD:PUBLISH
NAME:Fortuna Sittard Fixtures
X-WR-CALNAME:Fortuna Sittard Fixtures
X-WR-CALDESC:Fortuna Sittard fixtures provided by Sky Sports (https://www.
 skysports.com)
REFRESH-INTERVAL;VALUE=DURATION:PT1H
X-PUBLISHED-TTL:PT1H
BEGIN:VEVENT
UID:b7655b42437825b2a6ec02d59320769e@skysports.com
SEQUENCE:0
DTSTAMP:20260425T090019Z
DTSTART:20250808T180000Z
DTEND:20250808T200000Z
SUMMARY:Fortuna Sittard v Go Ahead Eagles
LOCATION:Fortuna Sittard Stadion
DESCRIPTION:Fortuna Sittard v Go Ahead Eagles - Fortuna Sittard Stadion - 
 Dutch Eredivisie
STATUS:CONFIRMED
END:VEVENT
BEGIN:VEVENT
UID:4fe07150cdea561f22fdbe0034f562cb@skysports.com
SEQUENCE:0
DTSTAMP:20260425T090019Z
DTSTART:20250817T180000Z
DTEND:20250817T200000Z
SUMMARY:NAC Breda v Fortuna Sittard
LOCATION:Rat Verlegh Stadion
DESCRIPTION:NAC Breda v Fortuna Sittard - Rat Verlegh Stadion - Dutch Ered
 ivisie
STATUS:CONFIRMED
END:VEVENT
BEGIN:VEVENT
UID:ac5701d09cc5ec529acd5c87e599c6ec@skysports.com
SEQUENCE:0
DTSTAMP:20260425T090019Z
DTSTART:20250831T101500Z
DTEND:20250831T121500Z
SUMMARY:Fortuna Sittard v NEC Nijmegen
LOCATION:Fortuna Sittard Stadion
DESCRIPTION:Fortuna Sittard v NEC Nijmegen - Fortuna Sittard Stadion - Dut
 ch Eredivisie
STATUS:CONFIRMED
END:VEVENT
BEGIN:VEVENT
UID:0e73048482b6a3504bb72aa2b6edf138@skysports.com
SEQUENCE:0
DTSTAMP:20260425T090019Z
DTSTART:20250914T144500Z
DTEND:20250914T164500Z
SUMMARY:Telstar v Fortuna Sittard
LOCATION:Rabobank IJmond Stadion
DESCRIPTION:Telstar v Fortuna Sittard - Rabobank IJmond Stadion - Dutch Er
 edivisie
STATUS:CONFIRMED
END:VEVENT
BEGIN:VEVENT
UID:f46c93b2c0bd42f72c0a6969000be426@skysports.com
SEQUENCE:0
DTSTAMP:20260425T090019Z
DTSTART:20250917T180000Z
DTEND:20250917T200000Z
SUMMARY:Feyenoord v Fortuna Sittard
LOCATION:De Kuip
DESCRIPTION:Feyenoord v Fortuna Sittard - De Kuip - Dutch Eredivisie
STATUS:CONFIRMED
END:VEVENT
BEGIN:VEVENT
UID:483194005b9851cc71f51061575a30ee@skysports.com
SEQUENCE:0
DTSTAMP:20260425T090019Z
DTSTART:20250920T180000Z
DTEND:20250920T200000Z
SUMMARY:Fortuna Sittard v FC Utrecht
LOCATION:Fortuna Sittard Stadion
DESCRIPTION:Fortuna Sittard v FC Utrecht - Fortuna Sittard Stadion - Dutch
  Eredivisie
STATUS:CONFIRMED
END:VEVENT
BEGIN:VEVENT
UID:92339eafb752e264c964282ab784df7a@skysports.com
SEQUENCE:0
DTSTAMP:20260425T090019Z
DTSTART:20250926T180000Z
DTEND:20250926T200000Z
SUMMARY:FC Twente v Fortuna Sittard
LOCATION:De Grolsch Veste
DESCRIPTION:FC Twente v Fortuna Sittard - De Grolsch Veste - Dutch Eredivi
 sie
STATUS:CONFIRMED
END:VEVENT
BEGIN:VEVENT
UID:c8fd92fc378a80b507ad54b2d8c6a6c5@skysports.com
SEQUENCE:0
DTSTAMP:20260425T090019Z
DTSTART:20251004T164500Z
DTEND:20251004T184500Z
SUMMARY:Fortuna Sittard v FC Volendam
LOCATION:Fortuna Sittard Stadion
DESCRIPTION:Fortuna Sittard v FC Volendam - Fortuna Sittard Stadion - Dutc
 h Eredivisie
STATUS:CONFIRMED
END:VEVENT
BEGIN:VEVENT
UID:f9d859f0ae01b8df9707d8a6ae842235@skysports.com
SEQUENCE:0
DTSTAMP:20260425T090019Z
DTSTART:20251019T123000Z
DTEND:20251019T143000Z
SUMMARY:Excelsior v Fortuna Sittard
LOCATION:Stadion Woudestein
DESCRIPTION:Excelsior v Fortuna Sittard - Stadion Woudestein - Dutch Eredi
 visie
STATUS:CONFIRMED
END:VEVENT
BEGIN:VEVENT
UID:4b8d3736be7f8575a574b440ded7c1e7@skysports.com
SEQUENCE:0
DTSTAMP:20260425T090019Z
DTSTART:20251025T143000Z
DTEND:20251025T163000Z
SUMMARY:Fortuna Sittard v Groningen
LOCATION:Fortuna Sittard Stadion
DESCRIPTION:Fortuna Sittard v Groningen - Fortuna Sittard Stadion - Dutch 
 Eredivisie
STATUS:CONFIRMED
END:VEVENT
BEGIN:VEVENT
UID:a2bd1de857a7067db92c7e5643096063@skysports.com
SEQUENCE:0
DTSTAMP:20260425T090019Z
DTSTART:20251031T190000Z
DTEND:20251031T210000Z
SUMMARY:PSV Eindhoven v Fortuna Sittard
LOCATION:Philips Stadion
DESCRIPTION:PSV Eindhoven v Fortuna Sittard - Philips Stadion - Dutch Ered
 ivisie
STATUS:CONFIRMED
END:VEVENT
BEGIN:VEVENT
UID:b67b1237616f051e8e42153f9753d235@skysports.com
SEQUENCE:0
DTSTAMP:20260425T090019Z
DTSTART:20251108T190000Z
DTEND:20251108T210000Z
SUMMARY:Fortuna Sittard v Heerenveen
LOCATION:Fortuna Sittard Stadion
DESCRIPTION:Fortuna Sittard v Heerenveen - Fortuna Sittard Stadion - Dutch
  Eredivisie
STATUS:CONFIRMED
END:VEVENT
BEGIN:VEVENT
UID:b9eaa1caad1520f989bf818f7c01a0ed@skysports.com
SEQUENCE:0
DTSTAMP:20260425T090019Z
DTSTART:20251122T200000Z
DTEND:20251122T220000Z
SUMMARY:Sparta Rotterdam v Fortuna Sittard
LOCATION:Sparta-Stadion
DESCRIPTION:Sparta Rotterdam v Fortuna Sittard - Sparta-Stadion - Dutch Er
 edivisie
STATUS:CONFIRMED
END:VEVENT
BEGIN:VEVENT
UID:1c7e47578ab72d498705999dffd1ba3c@skysports.com
SEQUENCE:0
DTSTAMP:20260425T090019Z
DTSTART:20251129T174500Z
DTEND:20251129T194500Z
SUMMARY:Fortuna Sittard v Heracles Almelo
LOCATION:Fortuna Sittard Stadion
DESCRIPTION:Fortuna Sittard v Heracles Almelo - Fortuna Sittard Stadion - 
 Dutch Eredivisie
STATUS:CONFIRMED
END:VEVENT
BEGIN:VEVENT
UID:5f7665f0e5fb0791b2ea2b394e9e3625@skysports.com
SEQUENCE:0
DTSTAMP:20260425T090019Z
DTSTART:20251206T174500Z
DTEND:20251206T194500Z
SUMMARY:Fortuna Sittard v Ajax
LOCATION:Fortuna Sittard Stadion
DESCRIPTION:Fortuna Sittard v Ajax - Fortuna Sittard Stadion - Dutch Eredi
 visie
STATUS:CONFIRMED
END:VEVENT
BEGIN:VEVENT
UID:a7f6d56b152560f8267bbd332f7a50eb@skysports.com
SEQUENCE:0
DTSTAMP:20260425T090019Z
DTSTART:20251213T200000Z
DTEND:20251213T220000Z
SUMMARY:PEC Zwolle v Fortuna Sittard
LOCATION:IJsseldelta Stadion
DESCRIPTION:PEC Zwolle v Fortuna Sittard - IJsseldelta Stadion - Dutch Ere
 divisie
STATUS:CONFIRMED
END:VEVENT
BEGIN:VEVENT
UID:79e7cf6f43b92cef5b7b1e2613f72d4e@skysports.com
SEQUENCE:0
DTSTAMP:20260425T090019Z
DTSTART:20251221T154500Z
DTEND:20251221T174500Z
SUMMARY:Fortuna Sittard v AZ Alkmaar
LOCATION:Fortuna Sittard Stadion
DESCRIPTION:Fortuna Sittard v AZ Alkmaar - Fortuna Sittard Stadion - Dutch
  Eredivisie
STATUS:CONFIRMED
END:VEVENT
BEGIN:VEVENT
UID:9bedd3fac529037f5bb14d49e0d35fd8@skysports.com
SEQUENCE:0
DTSTAMP:20260425T090019Z
DTSTART:20260111T133000Z
DTEND:20260111T153000Z
SUMMARY:Go Ahead Eagles v Fortuna Sittard
LOCATION:De Adelaarshorst
DESCRIPTION:Go Ahead Eagles v Fortuna Sittard - De Adelaarshorst - Dutch E
 redivisie
STATUS:CONFIRMED
END:VEVENT
BEGIN:VEVENT
UID:d570a29d5d9ecb7b4b70e67c0d8a4f31@skysports.com
SEQUENCE:0
DTSTAMP:20260425T090019Z
DTSTART:20260117T190000Z
DTEND:20260117T210000Z
SUMMARY:Fortuna Sittard v PSV Eindhoven
LOCATION:Fortuna Sittard Stadion
DESCRIPTION:Fortuna Sittard v PSV Eindhoven - Fortuna Sittard Stadion - Du
 tch Eredivisie
STATUS:CONFIRMED
END:VEVENT
BEGIN:VEVENT
UID:b921190acc44cb88ba583015d8f90a20@skysports.com
SEQUENCE:0
DTSTAMP:20260425T090019Z
DTSTART:20260125T133000Z
DTEND:20260125T153000Z
SUMMARY:Groningen v Fortuna Sittard
LOCATION:Noordlease Stadion
DESCRIPTION:Groningen v Fortuna Sittard - Noordlease Stadion - Dutch Eredi
 visie
STATUS:CONFIRMED
END:VEVENT
BEGIN:VEVENT
UID:5cb3f8ffa51c65123e05ec15ecac911e@skysports.com
SEQUENCE:0
DTSTAMP:20260425T090019Z
DTSTART:20260201T133000Z
DTEND:20260201T153000Z
SUMMARY:Heracles Almelo v Fortuna Sittard
LOCATION:Erve Asito
DESCRIPTION:Heracles Almelo v Fortuna Sittard - Erve Asito - Dutch Eredivi
 sie
STATUS:CONFIRMED
END:VEVENT
BEGIN:VEVENT
UID:248b84134194f880d1c549c20852023f@skysports.com
SEQUENCE:0
DTSTAMP:20260425T090019Z
DTSTART:20260207T200000Z
DTEND:20260207T220000Z
SUMMARY:Fortuna Sittard v Sparta Rotterdam
LOCATION:Fortuna Sittard Stadion
DESCRIPTION:Fortuna Sittard v Sparta Rotterdam - Fortuna Sittard Stadion -
  Dutch Eredivisie
STATUS:CONFIRMED
END:VEVENT
BEGIN:VEVENT
UID:996a70a629f303f07780fb7bd3673b6b@skysports.com
SEQUENCE:0
DTSTAMP:20260425T090019Z
DTSTART:20260214T190000Z
DTEND:20260214T210000Z
SUMMARY:Ajax v Fortuna Sittard
LOCATION:Amsterdam ArenA
DESCRIPTION:Ajax v Fortuna Sittard - Amsterdam ArenA - Dutch Eredivisie
STATUS:CONFIRMED
END:VEVENT
BEGIN:VEVENT
UID:df76a8c6cce07a3ba3eee600a35d4c76@skysports.com
SEQUENCE:0
DTSTAMP:20260425T090019Z
DTSTART:20260220T190000Z
DTEND:20260220T210000Z
SUMMARY:Fortuna Sittard v Excelsior
LOCATION:Fortuna Sittard Stadion
DESCRIPTION:Fortuna Sittard v Excelsior - Fortuna Sittard Stadion - Dutch 
 Eredivisie
STATUS:CONFIRMED
END:VEVENT
BEGIN:VEVENT
UID:9e753dfd19320b6a9abcbdda30c3d5af@skysports.com
SEQUENCE:0
DTSTAMP:20260425T090019Z
DTSTART:20260228T200000Z
DTEND:20260228T220000Z
SUMMARY:NEC Nijmegen v Fortuna Sittard
LOCATION:Stadion De Goffert
DESCRIPTION:NEC Nijmegen v Fortuna Sittard - Stadion De Goffert - Dutch Er
 edivisie
STATUS:CONFIRMED
END:VEVENT
BEGIN:VEVENT
UID:c5b1906fed81434507094a69c1377f06@skysports.com
SEQUENCE:0
DTSTAMP:20260425T090019Z
DTSTART:20260308T133000Z
DTEND:20260308T153000Z
SUMMARY:Fortuna Sittard v Telstar
LOCATION:Fortuna Sittard Stadion
DESCRIPTION:Fortuna Sittard v Telstar - Fortuna Sittard Stadion - Dutch Er
 edivisie
STATUS:CONFIRMED
END:VEVENT
BEGIN:VEVENT
UID:c489586b8b13732be440a02b24c50aca@skysports.com
SEQUENCE:0
DTSTAMP:20260425T090019Z
DTSTART:20260314T153000Z
DTEND:20260314T173000Z
SUMMARY:FC Volendam v Fortuna Sittard
LOCATION:Kras Stadion
DESCRIPTION:FC Volendam v Fortuna Sittard - Kras Stadion - Dutch Eredivisi
 e
STATUS:CONFIRMED
END:VEVENT
BEGIN:VEVENT
UID:75d5d8f992fb09ac2cc3415260d3a4e9@skysports.com
SEQUENCE:0
DTSTAMP:20260425T090019Z
DTSTART:20260321T153000Z
DTEND:20260321T173000Z
SUMMARY:Fortuna Sittard v FC Twente
LOCATION:Fortuna Sittard Stadion
DESCRIPTION:Fortuna Sittard v FC Twente - Fortuna Sittard Stadion - Dutch 
 Eredivisie
STATUS:CONFIRMED
END:VEVENT
BEGIN:VEVENT
UID:dd2337270fa7a96ae84094f5e87b987b@skysports.com
SEQUENCE:0
DTSTAMP:20260425T090019Z
DTSTART:20260404T164500Z
DTEND:20260404T184500Z
SUMMARY:AZ Alkmaar v Fortuna Sittard
LOCATION:AFAS Stadion
DESCRIPTION:AZ Alkmaar v Fortuna Sittard - AFAS Stadion - Dutch Eredivisie
STATUS:CONFIRMED
END:VEVENT
BEGIN:VEVENT
UID:ff180d934b1b7bf2944d4994fdf190d3@skysports.com
SEQUENCE:0
DTSTAMP:20260425T090019Z
DTSTART:20260412T101500Z
DTEND:20260412T121500Z
SUMMARY:Fortuna Sittard v NAC Breda
LOCATION:Fortuna Sittard Stadion
DESCRIPTION:Fortuna Sittard v NAC Breda - Fortuna Sittard Stadion - Dutch 
 Eredivisie
STATUS:CONFIRMED
END:VEVENT
BEGIN:VEVENT
UID:babd6aa8d2d8438a0b169d1356caa554@skysports.com
SEQUENCE:0
DTSTAMP:20260425T090019Z
DTSTART:20260425T164500Z
DTEND:20260425T184500Z
SUMMARY:Heerenveen v Fortuna Sittard
LOCATION:Abe Lenstra Stadion
DESCRIPTION:Heerenveen v Fortuna Sittard - Abe Lenstra Stadion - Dutch Ere
 divisie
STATUS:CONFIRMED
END:VEVENT
BEGIN:VEVENT
UID:c66c63e5d85d7c519b57856333afb9ba@skysports.com
SEQUENCE:0
DTSTAMP:20260425T090019Z
DTSTART:20260503T123000Z
DTEND:20260503T143000Z
SUMMARY:Fortuna Sittard v Feyenoord
LOCATION:Fortuna Sittard Stadion
DESCRIPTION:Fortuna Sittard v Feyenoord - Fortuna Sittard Stadion - Dutch 
 Eredivisie
STATUS:CONFIRMED
END:VEVENT
BEGIN:VEVENT
UID:9a189bb7c963b7f159f88bcf91b68c0a@skysports.com
SEQUENCE:0
DTSTAMP:20260425T090019Z
DTSTART:20260510T144500Z
DTEND:20260510T164500Z
SUMMARY:Fortuna Sittard v PEC Zwolle
LOCATION:Fortuna Sittard Stadion
DESCRIPTION:Fortuna Sittard v PEC Zwolle - Fortuna Sittard Stadion - Dutch
  Eredivisie
STATUS:CONFIRMED
END:VEVENT
BEGIN:VEVENT
UID:bf2c061c40f8adccf62f4e8db175d566@skysports.com
SEQUENCE:0
DTSTAMP:20260425T090019Z
DTSTART:20260517T123000Z
DTEND:20260517T143000Z
SUMMARY:FC Utrecht v Fortuna Sittard
LOCATION:Stadion Galgenwaard
DESCRIPTION:FC Utrecht v Fortuna Sittard - Stadion Galgenwaard - Dutch Ere
 divisie
STATUS:CONFIRMED
END:VEVENT
END:VCALENDAR