BEGIN:VCALENDAR
VERSION:2.0
PRODID:-//Sky Sports SSDM//NONSGML Event Calendar//EN
URL:https://www.skysports.com/calendars/football/fixtures/teams/genoa
CALSCALE:GREGORIAN
METHOD:PUBLISH
NAME:Genoa Fixtures
X-WR-CALNAME:Genoa Fixtures
X-WR-CALDESC:Genoa fixtures provided by Sky Sports (https://www.skysports.
 com)
REFRESH-INTERVAL;VALUE=DURATION:PT1H
X-PUBLISHED-TTL:PT1H
BEGIN:VEVENT
UID:5f8fc4518b6a99118c9aec84a4eaf050@skysports.com
SEQUENCE:0
DTSTAMP:20260425T091113Z
DTSTART:20250823T163000Z
DTEND:20250823T183000Z
SUMMARY:Genoa v Lecce
LOCATION:Luigi Ferraris
DESCRIPTION:Genoa v Lecce - Luigi Ferraris - Italian Serie A
STATUS:CONFIRMED
END:VEVENT
BEGIN:VEVENT
UID:db69868e1a9931220506aea58185016e@skysports.com
SEQUENCE:0
DTSTAMP:20260425T091113Z
DTSTART:20250831T163000Z
DTEND:20250831T183000Z
SUMMARY:Genoa v Juventus
LOCATION:Luigi Ferraris
DESCRIPTION:Genoa v Juventus - Luigi Ferraris - Italian Serie A
STATUS:CONFIRMED
END:VEVENT
BEGIN:VEVENT
UID:29677dc80fc11ef3d39cc83efbecb7f0@skysports.com
SEQUENCE:0
DTSTAMP:20260425T091113Z
DTSTART:20250915T184500Z
DTEND:20250915T204500Z
SUMMARY:Como v Genoa
LOCATION:Giuseppe Sinigaglia
DESCRIPTION:Como v Genoa - Giuseppe Sinigaglia - Italian Serie A
STATUS:CONFIRMED
END:VEVENT
BEGIN:VEVENT
UID:83602c053f265861adf852c7cbd9fa78@skysports.com
SEQUENCE:0
DTSTAMP:20260425T091113Z
DTSTART:20250920T130000Z
DTEND:20250920T150000Z
SUMMARY:Bologna v Genoa
LOCATION:Renato Dall'Ara
DESCRIPTION:Bologna v Genoa - Renato Dall'Ara - Italian Serie A
STATUS:CONFIRMED
END:VEVENT
BEGIN:VEVENT
UID:97b218ca615aa652e463e1d5961a06ef@skysports.com
SEQUENCE:0
DTSTAMP:20260425T091113Z
DTSTART:20250929T184500Z
DTEND:20250929T204500Z
SUMMARY:Genoa v Lazio
LOCATION:Luigi Ferraris
DESCRIPTION:Genoa v Lazio - Luigi Ferraris - Italian Serie A
STATUS:CONFIRMED
END:VEVENT
BEGIN:VEVENT
UID:4843e8397829cc2dfdb47f8a253f5e50@skysports.com
SEQUENCE:0
DTSTAMP:20260425T091113Z
DTSTART:20251005T160000Z
DTEND:20251005T180000Z
SUMMARY:Napoli v Genoa
LOCATION:Diego Armando Maradona
DESCRIPTION:Napoli v Genoa - Diego Armando Maradona - Italian Serie A
STATUS:CONFIRMED
END:VEVENT
BEGIN:VEVENT
UID:d5e65cdf7464ed4d6a931563006d515a@skysports.com
SEQUENCE:0
DTSTAMP:20260425T091113Z
DTSTART:20251019T130000Z
DTEND:20251019T150000Z
SUMMARY:Genoa v Parma
LOCATION:Luigi Ferraris
DESCRIPTION:Genoa v Parma - Luigi Ferraris - Italian Serie A
STATUS:CONFIRMED
END:VEVENT
BEGIN:VEVENT
UID:fca43940d6a3cc6993c85cbb88adde43@skysports.com
SEQUENCE:0
DTSTAMP:20260425T091113Z
DTSTART:20251026T113000Z
DTEND:20251026T133000Z
SUMMARY:Torino v Genoa
LOCATION:Olimpico di Torino
DESCRIPTION:Torino v Genoa - Olimpico di Torino - Italian Serie A
STATUS:CONFIRMED
END:VEVENT
BEGIN:VEVENT
UID:dd3da18e35a89822b6970f5d47341987@skysports.com
SEQUENCE:0
DTSTAMP:20260425T091113Z
DTSTART:20251029T194500Z
DTEND:20251029T214500Z
SUMMARY:Genoa v Cremonese
LOCATION:Luigi Ferraris
DESCRIPTION:Genoa v Cremonese - Luigi Ferraris - Italian Serie A
STATUS:CONFIRMED
END:VEVENT
BEGIN:VEVENT
UID:6bb223288f091a3399ad456e08b79183@skysports.com
SEQUENCE:0
DTSTAMP:20260425T091113Z
DTSTART:20251103T173000Z
DTEND:20251103T193000Z
SUMMARY:Sassuolo v Genoa
LOCATION:Citta del Tricolore
DESCRIPTION:Sassuolo v Genoa - Citta del Tricolore - Italian Serie A
STATUS:CONFIRMED
END:VEVENT
BEGIN:VEVENT
UID:03584c915880e38d8fb0cb830a138ee8@skysports.com
SEQUENCE:0
DTSTAMP:20260425T091113Z
DTSTART:20251109T140000Z
DTEND:20251109T160000Z
SUMMARY:Genoa v Fiorentina
LOCATION:Luigi Ferraris
DESCRIPTION:Genoa v Fiorentina - Luigi Ferraris - Italian Serie A
STATUS:CONFIRMED
END:VEVENT
BEGIN:VEVENT
UID:02297364cc3b2c01407f498c4fc00ecb@skysports.com
SEQUENCE:0
DTSTAMP:20260425T091113Z
DTSTART:20251122T140000Z
DTEND:20251122T160000Z
SUMMARY:Cagliari v Genoa
LOCATION:Sardegna Arena
DESCRIPTION:Cagliari v Genoa - Sardegna Arena - Italian Serie A
STATUS:CONFIRMED
END:VEVENT
BEGIN:VEVENT
UID:63f2209137d31d160cf48d54a06c86be@skysports.com
SEQUENCE:0
DTSTAMP:20260425T091113Z
DTSTART:20251129T140000Z
DTEND:20251129T160000Z
SUMMARY:Genoa v Verona
LOCATION:Luigi Ferraris
DESCRIPTION:Genoa v Verona - Luigi Ferraris - Italian Serie A
STATUS:CONFIRMED
END:VEVENT
BEGIN:VEVENT
UID:d1ec3c01fafc009ece785814ba1c7dde@skysports.com
SEQUENCE:0
DTSTAMP:20260425T091113Z
DTSTART:20251208T170000Z
DTEND:20251208T190000Z
SUMMARY:Udinese v Genoa
LOCATION:Dacia Arena
DESCRIPTION:Udinese v Genoa - Dacia Arena - Italian Serie A
STATUS:CONFIRMED
END:VEVENT
BEGIN:VEVENT
UID:fcb72bad3cac6fd0e5b5bc901d013b0d@skysports.com
SEQUENCE:0
DTSTAMP:20260425T091113Z
DTSTART:20251214T170000Z
DTEND:20251214T190000Z
SUMMARY:Genoa v Inter Milan
LOCATION:Luigi Ferraris
DESCRIPTION:Genoa v Inter Milan - Luigi Ferraris - Italian Serie A
STATUS:CONFIRMED
END:VEVENT
BEGIN:VEVENT
UID:4592dee108af968943967f6eb496fca0@skysports.com
SEQUENCE:0
DTSTAMP:20260425T091113Z
DTSTART:20251221T194500Z
DTEND:20251221T214500Z
SUMMARY:Genoa v Atalanta
LOCATION:Luigi Ferraris
DESCRIPTION:Genoa v Atalanta - Luigi Ferraris - Italian Serie A
STATUS:CONFIRMED
END:VEVENT
BEGIN:VEVENT
UID:9815a0058119e8161e423f163c7f1282@skysports.com
SEQUENCE:0
DTSTAMP:20260425T091113Z
DTSTART:20251229T194500Z
DTEND:20251229T214500Z
SUMMARY:Roma v Genoa
LOCATION:Olimpico
DESCRIPTION:Roma v Genoa - Olimpico - Italian Serie A
STATUS:CONFIRMED
END:VEVENT
BEGIN:VEVENT
UID:7138028b0c1362cf1d428dd51216bd58@skysports.com
SEQUENCE:0
DTSTAMP:20260425T091113Z
DTSTART:20260103T140000Z
DTEND:20260103T160000Z
SUMMARY:Genoa v Pisa
LOCATION:Luigi Ferraris
DESCRIPTION:Genoa v Pisa - Luigi Ferraris - Italian Serie A
STATUS:CONFIRMED
END:VEVENT
BEGIN:VEVENT
UID:fb4ae44a502f40634d4e8f02e5231b66@skysports.com
SEQUENCE:0
DTSTAMP:20260425T091113Z
DTSTART:20260108T194500Z
DTEND:20260108T214500Z
SUMMARY:AC Milan v Genoa
LOCATION:Giuseppe Meazza
DESCRIPTION:AC Milan v Genoa - Giuseppe Meazza - Italian Serie A
STATUS:CONFIRMED
END:VEVENT
BEGIN:VEVENT
UID:b596a08292500266f00bb66e06b0c7f3@skysports.com
SEQUENCE:0
DTSTAMP:20260425T091113Z
DTSTART:20260112T173000Z
DTEND:20260112T193000Z
SUMMARY:Genoa v Cagliari
LOCATION:Luigi Ferraris
DESCRIPTION:Genoa v Cagliari - Luigi Ferraris - Italian Serie A
STATUS:CONFIRMED
END:VEVENT
BEGIN:VEVENT
UID:70199b60dd47e62d7953a79df43bd0af@skysports.com
SEQUENCE:0
DTSTAMP:20260425T091113Z
DTSTART:20260118T113000Z
DTEND:20260118T133000Z
SUMMARY:Parma v Genoa
LOCATION:Ennio Tardini
DESCRIPTION:Parma v Genoa - Ennio Tardini - Italian Serie A
STATUS:CONFIRMED
END:VEVENT
BEGIN:VEVENT
UID:a24c4055499bde750ea7a6fddb908a27@skysports.com
SEQUENCE:0
DTSTAMP:20260425T091113Z
DTSTART:20260125T140000Z
DTEND:20260125T160000Z
SUMMARY:Genoa v Bologna
LOCATION:Luigi Ferraris
DESCRIPTION:Genoa v Bologna - Luigi Ferraris - Italian Serie A
STATUS:CONFIRMED
END:VEVENT
BEGIN:VEVENT
UID:b6d709d7f791a241da3c45e145cdd712@skysports.com
SEQUENCE:0
DTSTAMP:20260425T091113Z
DTSTART:20260130T194500Z
DTEND:20260130T214500Z
SUMMARY:Lazio v Genoa
LOCATION:Olimpico
DESCRIPTION:Lazio v Genoa - Olimpico - Italian Serie A
STATUS:CONFIRMED
END:VEVENT
BEGIN:VEVENT
UID:522124440e5cfb0c95856dbd9cb3c9b1@skysports.com
SEQUENCE:0
DTSTAMP:20260425T091113Z
DTSTART:20260207T170000Z
DTEND:20260207T190000Z
SUMMARY:Genoa v Napoli
LOCATION:Luigi Ferraris
DESCRIPTION:Genoa v Napoli - Luigi Ferraris - Italian Serie A
STATUS:CONFIRMED
END:VEVENT
BEGIN:VEVENT
UID:e23b675b7f186f50d7bf2a93de3a2113@skysports.com
SEQUENCE:0
DTSTAMP:20260425T091113Z
DTSTART:20260215T140000Z
DTEND:20260215T160000Z
SUMMARY:Cremonese v Genoa
LOCATION:Giovanni Zini
DESCRIPTION:Cremonese v Genoa - Giovanni Zini - Italian Serie A
STATUS:CONFIRMED
END:VEVENT
BEGIN:VEVENT
UID:bf696308db93135a202e5c265e1f67e2@skysports.com
SEQUENCE:0
DTSTAMP:20260425T091113Z
DTSTART:20260222T113000Z
DTEND:20260222T133000Z
SUMMARY:Genoa v Torino
LOCATION:Luigi Ferraris
DESCRIPTION:Genoa v Torino - Luigi Ferraris - Italian Serie A
STATUS:CONFIRMED
END:VEVENT
BEGIN:VEVENT
UID:398eb3faf31ffe258fc5616a5cf5e566@skysports.com
SEQUENCE:0
DTSTAMP:20260425T091113Z
DTSTART:20260228T194500Z
DTEND:20260228T214500Z
SUMMARY:Inter Milan v Genoa
LOCATION:Giuseppe Meazza
DESCRIPTION:Inter Milan v Genoa - Giuseppe Meazza - Italian Serie A
STATUS:CONFIRMED
END:VEVENT
BEGIN:VEVENT
UID:8bc635f0d6dc5f16ecb083a7cc416cbe@skysports.com
SEQUENCE:0
DTSTAMP:20260425T091113Z
DTSTART:20260308T170000Z
DTEND:20260308T190000Z
SUMMARY:Genoa v Roma
LOCATION:Luigi Ferraris
DESCRIPTION:Genoa v Roma - Luigi Ferraris - Italian Serie A
STATUS:CONFIRMED
END:VEVENT
BEGIN:VEVENT
UID:4a76be88576b0afd6340112ec37a0935@skysports.com
SEQUENCE:0
DTSTAMP:20260425T091113Z
DTSTART:20260315T113000Z
DTEND:20260315T133000Z
SUMMARY:Verona v Genoa
LOCATION:Marc'Antonio Bentegodi
DESCRIPTION:Verona v Genoa - Marc'Antonio Bentegodi - Italian Serie A
STATUS:CONFIRMED
END:VEVENT
BEGIN:VEVENT
UID:7d57f443ce40a1c6bdef0bef039fe813@skysports.com
SEQUENCE:0
DTSTAMP:20260425T091113Z
DTSTART:20260320T194500Z
DTEND:20260320T214500Z
SUMMARY:Genoa v Udinese
LOCATION:Luigi Ferraris
DESCRIPTION:Genoa v Udinese - Luigi Ferraris - Italian Serie A
STATUS:CONFIRMED
END:VEVENT
BEGIN:VEVENT
UID:110f7876d5fc9739b3567527b42fd9f6@skysports.com
SEQUENCE:0
DTSTAMP:20260425T091113Z
DTSTART:20260406T160000Z
DTEND:20260406T180000Z
SUMMARY:Juventus v Genoa
LOCATION:Juventus Stadium
DESCRIPTION:Juventus v Genoa - Juventus Stadium - Italian Serie A
STATUS:CONFIRMED
END:VEVENT
BEGIN:VEVENT
UID:ceb978cde766d9197395a631a214ccdb@skysports.com
SEQUENCE:0
DTSTAMP:20260425T091113Z
DTSTART:20260412T103000Z
DTEND:20260412T123000Z
SUMMARY:Genoa v Sassuolo
LOCATION:Luigi Ferraris
DESCRIPTION:Genoa v Sassuolo - Luigi Ferraris - Italian Serie A
STATUS:CONFIRMED
END:VEVENT
BEGIN:VEVENT
UID:53b6a1797c4884983694cae42eaea00c@skysports.com
SEQUENCE:0
DTSTAMP:20260425T091113Z
DTSTART:20260419T160000Z
DTEND:20260419T180000Z
SUMMARY:Pisa v Genoa
LOCATION:Arena Garibaldi Romeo Anconetani
DESCRIPTION:Pisa v Genoa - Arena Garibaldi Romeo Anconetani - Italian Seri
 e A
STATUS:CONFIRMED
END:VEVENT
BEGIN:VEVENT
UID:65b65b604946e7b3acabeac355b8218d@skysports.com
SEQUENCE:0
DTSTAMP:20260425T091113Z
DTSTART:20260426T130000Z
DTEND:20260426T150000Z
SUMMARY:Genoa v Como
LOCATION:Luigi Ferraris
DESCRIPTION:Genoa v Como - Luigi Ferraris - Italian Serie A
STATUS:CONFIRMED
END:VEVENT
BEGIN:VEVENT
UID:61c057580e524c645c6c6ccba7af5f0c@skysports.com
SEQUENCE:0
DTSTAMP:20260425T091113Z
DTSTART:20260502T184500Z
DTEND:20260502T204500Z
SUMMARY:Atalanta v Genoa
LOCATION:Gewiss Stadium
DESCRIPTION:Atalanta v Genoa - Gewiss Stadium - Italian Serie A
STATUS:CONFIRMED
END:VEVENT
BEGIN:VEVENT
UID:322f3cc3f6600f726646fe7534cc0151@skysports.com
SEQUENCE:0
DTSTAMP:20260425T091113Z
DTSTART:20260510T130000Z
DTEND:20260510T150000Z
SUMMARY:Fiorentina v Genoa
LOCATION:Artemio Franchi
DESCRIPTION:Fiorentina v Genoa - Artemio Franchi - Italian Serie A
STATUS:CONFIRMED
END:VEVENT
BEGIN:VEVENT
UID:a03ecf52e4a5dc65fb2ac5d91bfe0e1b@skysports.com
SEQUENCE:0
DTSTAMP:20260425T091113Z
DTSTART:20260517T130000Z
DTEND:20260517T150000Z
SUMMARY:Genoa v AC Milan
LOCATION:Luigi Ferraris
DESCRIPTION:Genoa v AC Milan - Luigi Ferraris - Italian Serie A
STATUS:CONFIRMED
END:VEVENT
BEGIN:VEVENT
UID:c6384566565b85005b3094c20ca79189@skysports.com
SEQUENCE:0
DTSTAMP:20260425T091113Z
DTSTART:20260524T130000Z
DTEND:20260524T150000Z
SUMMARY:Lecce v Genoa
LOCATION:Via Del Mare
DESCRIPTION:Lecce v Genoa - Via Del Mare - Italian Serie A
STATUS:CONFIRMED
END:VEVENT
BEGIN:VEVENT
UID:ebf0da54ec9af85bd0f63e33562e65c4@skysports.com
SEQUENCE:0
DTSTAMP:20260425T091113Z
DTSTART:20250815T191500Z
DTEND:20250815T211500Z
SUMMARY:Genoa v Vicenza
LOCATION:Luigi Ferraris
DESCRIPTION:Genoa v Vicenza - Luigi Ferraris - Coppa Italia
STATUS:CONFIRMED
END:VEVENT
BEGIN:VEVENT
UID:50cd0f54ffdb2f6063dddaeb5af71b21@skysports.com
SEQUENCE:0
DTSTAMP:20260425T091113Z
DTSTART:20250925T163000Z
DTEND:20250925T183000Z
SUMMARY:Genoa v Empoli
LOCATION:Luigi Ferraris
DESCRIPTION:Genoa v Empoli - Luigi Ferraris - Coppa Italia
STATUS:CONFIRMED
END:VEVENT
BEGIN:VEVENT
UID:d9046d57d22ca72e4ca2925688008c10@skysports.com
SEQUENCE:0
DTSTAMP:20260425T091113Z
DTSTART:20251203T140000Z
DTEND:20251203T160000Z
SUMMARY:Atalanta v Genoa
LOCATION:Gewiss Stadium
DESCRIPTION:Atalanta v Genoa - Gewiss Stadium - Coppa Italia
STATUS:CONFIRMED
END:VEVENT
END:VCALENDAR