BEGIN:VCALENDAR
VERSION:2.0
PRODID:-//Sky Sports SSDM//NONSGML Event Calendar//EN
URL:https://www.skysports.com/calendars/football/fixtures/teams/gillingham
CALSCALE:GREGORIAN
METHOD:PUBLISH
NAME:Gillingham Fixtures
X-WR-CALNAME:Gillingham Fixtures
X-WR-CALDESC:Gillingham fixtures provided by Sky Sports (https://www.skysp
 orts.com)
REFRESH-INTERVAL;VALUE=DURATION:PT1H
X-PUBLISHED-TTL:PT1H
BEGIN:VEVENT
UID:8c593815a3d698b866fb7a8b9ba3d82b@skysports.com
SEQUENCE:0
DTSTAMP:20260425T090306Z
DTSTART:20250802T140000Z
DTEND:20250802T160000Z
SUMMARY:Accrington Stanley v Gillingham
LOCATION:Wham Stadium
DESCRIPTION:Accrington Stanley v Gillingham - Wham Stadium - Sky Bet Leagu
 e Two - Live on Sky Sports+
STATUS:CONFIRMED
END:VEVENT
BEGIN:VEVENT
UID:2a338c32229ce94ac2a2c3ff4a8bbfb5@skysports.com
SEQUENCE:0
DTSTAMP:20260425T090306Z
DTSTART:20250809T140000Z
DTEND:20250809T160000Z
SUMMARY:Gillingham v Walsall
LOCATION:MEMS Priestfield Stadium
DESCRIPTION:Gillingham v Walsall - MEMS Priestfield Stadium - Sky Bet Leag
 ue Two
STATUS:CONFIRMED
END:VEVENT
BEGIN:VEVENT
UID:8fe1a9c850cf0e1c6d7d293f963c5ddd@skysports.com
SEQUENCE:0
DTSTAMP:20260425T090306Z
DTSTART:20250816T140000Z
DTEND:20250816T160000Z
SUMMARY:Tranmere Rovers v Gillingham
LOCATION:Prenton Park
DESCRIPTION:Tranmere Rovers v Gillingham - Prenton Park - Sky Bet League T
 wo
STATUS:CONFIRMED
END:VEVENT
BEGIN:VEVENT
UID:ce838e5d4f140fd6e31d3b58e748f65f@skysports.com
SEQUENCE:0
DTSTAMP:20260425T090306Z
DTSTART:20250819T184500Z
DTEND:20250819T204500Z
SUMMARY:Gillingham v Chesterfield
LOCATION:MEMS Priestfield Stadium
DESCRIPTION:Gillingham v Chesterfield - MEMS Priestfield Stadium - Sky Bet
  League Two - Live on Sky Sports+
STATUS:CONFIRMED
END:VEVENT
BEGIN:VEVENT
UID:385950ce3c6417ca89eeac25ce4b288c@skysports.com
SEQUENCE:0
DTSTAMP:20260425T090306Z
DTSTART:20250823T140000Z
DTEND:20250823T160000Z
SUMMARY:Gillingham v Crewe Alexandra
LOCATION:MEMS Priestfield Stadium
DESCRIPTION:Gillingham v Crewe Alexandra - MEMS Priestfield Stadium - Sky 
 Bet League Two
STATUS:CONFIRMED
END:VEVENT
BEGIN:VEVENT
UID:3411311f039a0955edbf0226f76530e1@skysports.com
SEQUENCE:0
DTSTAMP:20260425T090306Z
DTSTART:20250830T140000Z
DTEND:20250830T160000Z
SUMMARY:Oldham Athletic v Gillingham
LOCATION:Boundary Park
DESCRIPTION:Oldham Athletic v Gillingham - Boundary Park - Sky Bet League 
 Two
STATUS:CONFIRMED
END:VEVENT
BEGIN:VEVENT
UID:431afe00cff9f07b32841d88d308e9cf@skysports.com
SEQUENCE:0
DTSTAMP:20260425T090306Z
DTSTART:20250906T163000Z
DTEND:20250906T183000Z
SUMMARY:Bromley v Gillingham
LOCATION:Hayes Lane Stadium
DESCRIPTION:Bromley v Gillingham - Hayes Lane Stadium - Sky Bet League Two
  - Live on Sky Sports Football
STATUS:CONFIRMED
END:VEVENT
BEGIN:VEVENT
UID:f1c75078af4398085670e3ab889d5f74@skysports.com
SEQUENCE:0
DTSTAMP:20260425T090306Z
DTSTART:20250913T140000Z
DTEND:20250913T160000Z
SUMMARY:Gillingham v Notts County
LOCATION:MEMS Priestfield Stadium
DESCRIPTION:Gillingham v Notts County - MEMS Priestfield Stadium - Sky Bet
  League Two
STATUS:CONFIRMED
END:VEVENT
BEGIN:VEVENT
UID:ae3bb7b1fddc0469d96868bf7e7266e0@skysports.com
SEQUENCE:0
DTSTAMP:20260425T090306Z
DTSTART:20250920T140000Z
DTEND:20250920T160000Z
SUMMARY:Newport County AFC v Gillingham
LOCATION:Rodney Parade
DESCRIPTION:Newport County AFC v Gillingham - Rodney Parade - Sky Bet Leag
 ue Two
STATUS:CONFIRMED
END:VEVENT
BEGIN:VEVENT
UID:3e288aed8551b84b9db1c0acf4c89927@skysports.com
SEQUENCE:0
DTSTAMP:20260425T090306Z
DTSTART:20250927T140000Z
DTEND:20250927T160000Z
SUMMARY:Gillingham v Harrogate Town
LOCATION:MEMS Priestfield Stadium
DESCRIPTION:Gillingham v Harrogate Town - MEMS Priestfield Stadium - Sky B
 et League Two
STATUS:CONFIRMED
END:VEVENT
BEGIN:VEVENT
UID:4fffe57a03a144a5bb472fea09456040@skysports.com
SEQUENCE:0
DTSTAMP:20260425T090306Z
DTSTART:20251004T113000Z
DTEND:20251004T133000Z
SUMMARY:Milton Keynes Dons v Gillingham
LOCATION:Stadium:mk
DESCRIPTION:Milton Keynes Dons v Gillingham - Stadium:mk - Sky Bet League 
 Two - Live on Sky Sports+
STATUS:CONFIRMED
END:VEVENT
BEGIN:VEVENT
UID:108a50165309c4a61c678b223a043926@skysports.com
SEQUENCE:0
DTSTAMP:20260425T090306Z
DTSTART:20251011T140000Z
DTEND:20251011T160000Z
SUMMARY:Gillingham v Cheltenham Town
LOCATION:MEMS Priestfield Stadium
DESCRIPTION:Gillingham v Cheltenham Town - MEMS Priestfield Stadium - Sky 
 Bet League Two - Live on Sky Sports+
STATUS:CONFIRMED
END:VEVENT
BEGIN:VEVENT
UID:79450686153ac33c7ffad3d68e629c29@skysports.com
SEQUENCE:0
DTSTAMP:20260425T090306Z
DTSTART:20251018T140000Z
DTEND:20251018T160000Z
SUMMARY:Grimsby Town v Gillingham
LOCATION:Blundell Park
DESCRIPTION:Grimsby Town v Gillingham - Blundell Park - Sky Bet League Two
STATUS:CONFIRMED
END:VEVENT
BEGIN:VEVENT
UID:1bce7dbff145b5631655327a31628915@skysports.com
SEQUENCE:0
DTSTAMP:20260425T090306Z
DTSTART:20251025T140000Z
DTEND:20251025T160000Z
SUMMARY:Gillingham v Salford City
LOCATION:MEMS Priestfield Stadium
DESCRIPTION:Gillingham v Salford City - MEMS Priestfield Stadium - Sky Bet
  League Two
STATUS:CONFIRMED
END:VEVENT
BEGIN:VEVENT
UID:8fe708ff7a72513fb129f38248cf3f29@skysports.com
SEQUENCE:0
DTSTAMP:20260425T090306Z
DTSTART:20251108T150000Z
DTEND:20251108T170000Z
SUMMARY:Bristol Rovers v Gillingham
LOCATION:Memorial Stadium
DESCRIPTION:Bristol Rovers v Gillingham - Memorial Stadium - Sky Bet Leagu
 e Two
STATUS:CONFIRMED
END:VEVENT
BEGIN:VEVENT
UID:07a2ce381f364d126b830b485c588530@skysports.com
SEQUENCE:0
DTSTAMP:20260425T090306Z
DTSTART:20251115T173000Z
DTEND:20251115T193000Z
SUMMARY:Gillingham v Crawley Town
LOCATION:MEMS Priestfield Stadium
DESCRIPTION:Gillingham v Crawley Town - MEMS Priestfield Stadium - Sky Bet
  League Two - Live on Sky Sports Football
STATUS:CONFIRMED
END:VEVENT
BEGIN:VEVENT
UID:14d9882c732566b62f9767f2769dc91a@skysports.com
SEQUENCE:0
DTSTAMP:20260425T090306Z
DTSTART:20251122T123000Z
DTEND:20251122T143000Z
SUMMARY:Gillingham v Barnet
LOCATION:MEMS Priestfield Stadium
DESCRIPTION:Gillingham v Barnet - MEMS Priestfield Stadium - Sky Bet Leagu
 e Two - Live on Sky Sports+
STATUS:CONFIRMED
END:VEVENT
BEGIN:VEVENT
UID:6f6641d7c257fb688e42e974b7b8c51e@skysports.com
SEQUENCE:0
DTSTAMP:20260425T090306Z
DTSTART:20251129T150000Z
DTEND:20251129T170000Z
SUMMARY:Shrewsbury Town v Gillingham
LOCATION:The Croud Meadow
DESCRIPTION:Shrewsbury Town v Gillingham - The Croud Meadow - Sky Bet Leag
 ue Two
STATUS:CONFIRMED
END:VEVENT
BEGIN:VEVENT
UID:223336befefe9c220d41c25447182233@skysports.com
SEQUENCE:0
DTSTAMP:20260425T090306Z
DTSTART:20251206T123000Z
DTEND:20251206T143000Z
SUMMARY:Colchester United v Gillingham
LOCATION:JobServe Community Stadium
DESCRIPTION:Colchester United v Gillingham - JobServe Community Stadium - 
 Sky Bet League Two - Live on Sky Sports+
STATUS:CONFIRMED
END:VEVENT
BEGIN:VEVENT
UID:dd3c7d993af9283f589975ea3d779114@skysports.com
SEQUENCE:0
DTSTAMP:20260425T090306Z
DTSTART:20251213T150000Z
DTEND:20251213T170000Z
SUMMARY:Gillingham v Barrow
LOCATION:MEMS Priestfield Stadium
DESCRIPTION:Gillingham v Barrow - MEMS Priestfield Stadium - Sky Bet Leagu
 e Two
STATUS:CONFIRMED
END:VEVENT
BEGIN:VEVENT
UID:71aeb6404f6fb194771f0ffcbf8cfddb@skysports.com
SEQUENCE:0
DTSTAMP:20260425T090306Z
DTSTART:20251220T150000Z
DTEND:20251220T170000Z
SUMMARY:Fleetwood Town v Gillingham
LOCATION:Highbury Stadium
DESCRIPTION:Fleetwood Town v Gillingham - Highbury Stadium - Sky Bet Leagu
 e Two
STATUS:CONFIRMED
END:VEVENT
BEGIN:VEVENT
UID:c3a37ffb21e5107897a8d89e37d45b9d@skysports.com
SEQUENCE:0
DTSTAMP:20260425T090306Z
DTSTART:20251226T150000Z
DTEND:20251226T170000Z
SUMMARY:Gillingham v Cambridge United
LOCATION:MEMS Priestfield Stadium
DESCRIPTION:Gillingham v Cambridge United - MEMS Priestfield Stadium - Sky
  Bet League Two - Live on Sky Sports+
STATUS:CONFIRMED
END:VEVENT
BEGIN:VEVENT
UID:3d0c0ea4982827c9aba93561dcbc832b@skysports.com
SEQUENCE:0
DTSTAMP:20260425T090306Z
DTSTART:20251229T194500Z
DTEND:20251229T214500Z
SUMMARY:Gillingham v Colchester United
LOCATION:MEMS Priestfield Stadium
DESCRIPTION:Gillingham v Colchester United - MEMS Priestfield Stadium - Sk
 y Bet League Two
STATUS:CONFIRMED
END:VEVENT
BEGIN:VEVENT
UID:1eaa706b9230972b199bb32b7c8113cb@skysports.com
SEQUENCE:0
DTSTAMP:20260425T090306Z
DTSTART:20260101T150000Z
DTEND:20260101T170000Z
SUMMARY:Swindon Town v Gillingham
LOCATION:The County Ground
DESCRIPTION:Swindon Town v Gillingham - The County Ground - Sky Bet League
  Two - Live on Sky Sports+
STATUS:CONFIRMED
END:VEVENT
BEGIN:VEVENT
UID:02ad91db04ba66e680346c3f6c8bee07@skysports.com
SEQUENCE:0
DTSTAMP:20260425T090306Z
DTSTART:20260203T194500Z
DTEND:20260203T214500Z
SUMMARY:Notts County v Gillingham
LOCATION:Meadow Lane
DESCRIPTION:Notts County v Gillingham - Meadow Lane - Sky Bet League Two -
  Live on Sky Sports+
STATUS:CONFIRMED
END:VEVENT
BEGIN:VEVENT
UID:4ec22338c2921878bc27c62ce9113ef5@skysports.com
SEQUENCE:0
DTSTAMP:20260425T090306Z
DTSTART:20260310T194500Z
DTEND:20260310T214500Z
SUMMARY:Gillingham v Milton Keynes Dons
LOCATION:MEMS Priestfield Stadium
DESCRIPTION:Gillingham v Milton Keynes Dons - MEMS Priestfield Stadium - S
 ky Bet League Two - Live on Sky Sports+
STATUS:CONFIRMED
END:VEVENT
BEGIN:VEVENT
UID:b6b2f7fdbbf9bb8dce16bf54bf1a6c0c@skysports.com
SEQUENCE:0
DTSTAMP:20260425T090306Z
DTSTART:20260117T150000Z
DTEND:20260117T170000Z
SUMMARY:Gillingham v Newport County AFC
LOCATION:MEMS Priestfield Stadium
DESCRIPTION:Gillingham v Newport County AFC - MEMS Priestfield Stadium - S
 ky Bet League Two
STATUS:CONFIRMED
END:VEVENT
BEGIN:VEVENT
UID:5ddca67b95ed30a0d00eaa573e175914@skysports.com
SEQUENCE:0
DTSTAMP:20260425T090306Z
DTSTART:20260124T150000Z
DTEND:20260124T170000Z
SUMMARY:Harrogate Town v Gillingham
LOCATION:The Exercise Stadium
DESCRIPTION:Harrogate Town v Gillingham - The Exercise Stadium - Sky Bet L
 eague Two
STATUS:CONFIRMED
END:VEVENT
BEGIN:VEVENT
UID:b7c2c63191e8cd904ae964e5af79d16c@skysports.com
SEQUENCE:0
DTSTAMP:20260425T090306Z
DTSTART:20260414T184500Z
DTEND:20260414T204500Z
SUMMARY:Cheltenham Town v Gillingham
LOCATION:EV Charger Points Stadium
DESCRIPTION:Cheltenham Town v Gillingham - EV Charger Points Stadium - Sky
  Bet League Two - Live on Sky Sports+
STATUS:CONFIRMED
END:VEVENT
BEGIN:VEVENT
UID:333a85817525b10eb66f6ed5c87785ab@skysports.com
SEQUENCE:0
DTSTAMP:20260425T090306Z
DTSTART:20260131T150000Z
DTEND:20260131T170000Z
SUMMARY:Gillingham v Bromley
LOCATION:MEMS Priestfield Stadium
DESCRIPTION:Gillingham v Bromley - MEMS Priestfield Stadium - Sky Bet Leag
 ue Two
STATUS:CONFIRMED
END:VEVENT
BEGIN:VEVENT
UID:c9154ee4b4ed85e1437bfca87b963aaa@skysports.com
SEQUENCE:0
DTSTAMP:20260425T090306Z
DTSTART:20260207T150100Z
DTEND:20260207T170100Z
SUMMARY:Gillingham v Tranmere Rovers
LOCATION:MEMS Priestfield Stadium
DESCRIPTION:Gillingham v Tranmere Rovers - MEMS Priestfield Stadium - Sky 
 Bet League Two
STATUS:CONFIRMED
END:VEVENT
BEGIN:VEVENT
UID:1cdb5683252f3a0f39475dc1de1fcc83@skysports.com
SEQUENCE:0
DTSTAMP:20260425T090306Z
DTSTART:20260214T150000Z
DTEND:20260214T170000Z
SUMMARY:Crewe Alexandra v Gillingham
LOCATION:Mornflake Stadium
DESCRIPTION:Crewe Alexandra v Gillingham - Mornflake Stadium - Sky Bet Lea
 gue Two
STATUS:CONFIRMED
END:VEVENT
BEGIN:VEVENT
UID:f6a3a93b459add8abcb61869f910a13c@skysports.com
SEQUENCE:0
DTSTAMP:20260425T090306Z
DTSTART:20260217T194500Z
DTEND:20260217T214500Z
SUMMARY:Chesterfield v Gillingham
LOCATION:Technique Stadium
DESCRIPTION:Chesterfield v Gillingham - Technique Stadium - Sky Bet League
  Two - Live on Sky Sports+
STATUS:CONFIRMED
END:VEVENT
BEGIN:VEVENT
UID:9c2620c5d100e33483590730d4ceb252@skysports.com
SEQUENCE:0
DTSTAMP:20260425T090306Z
DTSTART:20260221T150000Z
DTEND:20260221T170000Z
SUMMARY:Gillingham v Oldham Athletic
LOCATION:MEMS Priestfield Stadium
DESCRIPTION:Gillingham v Oldham Athletic - MEMS Priestfield Stadium - Sky 
 Bet League Two
STATUS:CONFIRMED
END:VEVENT
BEGIN:VEVENT
UID:e0c9140edcf4a57443c48d21209966af@skysports.com
SEQUENCE:0
DTSTAMP:20260425T090306Z
DTSTART:20260228T150000Z
DTEND:20260228T170000Z
SUMMARY:Barrow v Gillingham
LOCATION:SO Legal Stadium
DESCRIPTION:Barrow v Gillingham - SO Legal Stadium - Sky Bet League Two
STATUS:CONFIRMED
END:VEVENT
BEGIN:VEVENT
UID:cc6ff03115bcc6f7e1c6b8ef8b2a7da0@skysports.com
SEQUENCE:0
DTSTAMP:20260425T090306Z
DTSTART:20260307T150000Z
DTEND:20260307T170000Z
SUMMARY:Gillingham v Fleetwood Town
LOCATION:MEMS Priestfield Stadium
DESCRIPTION:Gillingham v Fleetwood Town - MEMS Priestfield Stadium - Sky B
 et League Two
STATUS:CONFIRMED
END:VEVENT
BEGIN:VEVENT
UID:b43b70e07ec08db186b5dddaf2b1f4c7@skysports.com
SEQUENCE:0
DTSTAMP:20260425T090306Z
DTSTART:20260314T150000Z
DTEND:20260314T170000Z
SUMMARY:Cambridge United v Gillingham
LOCATION:The Cledara Abbey Stadium
DESCRIPTION:Cambridge United v Gillingham - The Cledara Abbey Stadium - Sk
 y Bet League Two
STATUS:CONFIRMED
END:VEVENT
BEGIN:VEVENT
UID:8a0b0862b75cc584ac885be7c880fc85@skysports.com
SEQUENCE:0
DTSTAMP:20260425T090306Z
DTSTART:20260317T194500Z
DTEND:20260317T214500Z
SUMMARY:Gillingham v Swindon Town
LOCATION:MEMS Priestfield Stadium
DESCRIPTION:Gillingham v Swindon Town - MEMS Priestfield Stadium - Sky Bet
  League Two - Live on Sky Sports+
STATUS:CONFIRMED
END:VEVENT
BEGIN:VEVENT
UID:2863b15e10701a381732edb11e5a561b@skysports.com
SEQUENCE:0
DTSTAMP:20260425T090306Z
DTSTART:20260321T150000Z
DTEND:20260321T170000Z
SUMMARY:Gillingham v Bristol Rovers
LOCATION:MEMS Priestfield Stadium
DESCRIPTION:Gillingham v Bristol Rovers - MEMS Priestfield Stadium - Sky B
 et League Two
STATUS:CONFIRMED
END:VEVENT
BEGIN:VEVENT
UID:8fda7b892f815b91801a972bd1f1731b@skysports.com
SEQUENCE:0
DTSTAMP:20260425T090306Z
DTSTART:20260328T150000Z
DTEND:20260328T170000Z
SUMMARY:Crawley Town v Gillingham
LOCATION:Broadfield Stadium
DESCRIPTION:Crawley Town v Gillingham - Broadfield Stadium - Sky Bet Leagu
 e Two - Live on Sky Sports+
STATUS:CONFIRMED
END:VEVENT
BEGIN:VEVENT
UID:79bceb838809efa3f3694b328ec3efc6@skysports.com
SEQUENCE:0
DTSTAMP:20260425T090306Z
DTSTART:20260403T140000Z
DTEND:20260403T160000Z
SUMMARY:Walsall v Gillingham
LOCATION:Pallet-Track Bescot Stadium
DESCRIPTION:Walsall v Gillingham - Pallet-Track Bescot Stadium - Sky Bet L
 eague Two - Live on Sky Sports+
STATUS:CONFIRMED
END:VEVENT
BEGIN:VEVENT
UID:ab740f13d05c3cc2a35f788e4a7a7151@skysports.com
SEQUENCE:0
DTSTAMP:20260425T090306Z
DTSTART:20260406T140000Z
DTEND:20260406T160000Z
SUMMARY:Gillingham v Accrington Stanley
LOCATION:MEMS Priestfield Stadium
DESCRIPTION:Gillingham v Accrington Stanley - MEMS Priestfield Stadium - S
 ky Bet League Two - Live on Sky Sports+
STATUS:CONFIRMED
END:VEVENT
BEGIN:VEVENT
UID:d95118ddc4e8f2c6fbaa6b0534a2037e@skysports.com
SEQUENCE:0
DTSTAMP:20260425T090306Z
DTSTART:20260411T140000Z
DTEND:20260411T160000Z
SUMMARY:Salford City v Gillingham
LOCATION:Moor Lane
DESCRIPTION:Salford City v Gillingham - Moor Lane - Sky Bet League Two
STATUS:CONFIRMED
END:VEVENT
BEGIN:VEVENT
UID:ef94b913ba155448d9ac6b9d391702aa@skysports.com
SEQUENCE:0
DTSTAMP:20260425T090306Z
DTSTART:20260418T140000Z
DTEND:20260418T160000Z
SUMMARY:Gillingham v Grimsby Town
LOCATION:MEMS Priestfield Stadium
DESCRIPTION:Gillingham v Grimsby Town - MEMS Priestfield Stadium - Sky Bet
  League Two
STATUS:CONFIRMED
END:VEVENT
BEGIN:VEVENT
UID:d0f9baabb91c6e01c2509f136caa20bd@skysports.com
SEQUENCE:0
DTSTAMP:20260425T090306Z
DTSTART:20260425T140000Z
DTEND:20260425T160000Z
SUMMARY:Barnet v Gillingham
LOCATION:The Hive Stadium
DESCRIPTION:Barnet v Gillingham - The Hive Stadium - Sky Bet League Two
STATUS:CONFIRMED
END:VEVENT
BEGIN:VEVENT
UID:a0f2f5b1f5088397e183dc4832bc891b@skysports.com
SEQUENCE:0
DTSTAMP:20260425T090306Z
DTSTART:20260502T140000Z
DTEND:20260502T160000Z
SUMMARY:Gillingham v Shrewsbury Town
LOCATION:MEMS Priestfield Stadium
DESCRIPTION:Gillingham v Shrewsbury Town - MEMS Priestfield Stadium - Sky 
 Bet League Two
STATUS:CONFIRMED
END:VEVENT
BEGIN:VEVENT
UID:8bcb369101a83f1b6423e608f97c58e6@skysports.com
SEQUENCE:0
DTSTAMP:20260425T090306Z
DTSTART:20250812T184500Z
DTEND:20250812T204500Z
SUMMARY:Gillingham v AFC Wimbledon
LOCATION:MEMS Priestfield Stadium
DESCRIPTION:Gillingham v AFC Wimbledon - MEMS Priestfield Stadium - Caraba
 o Cup - Live on Sky Sports+
STATUS:CONFIRMED
END:VEVENT
BEGIN:VEVENT
UID:27bdb030fa4b4890c7e5259438851892@skysports.com
SEQUENCE:0
DTSTAMP:20260425T090306Z
DTSTART:20250902T180000Z
DTEND:20250902T200000Z
SUMMARY:Gillingham v Fulham U21
LOCATION:MEMS Priestfield Stadium
DESCRIPTION:Gillingham v Fulham U21 - MEMS Priestfield Stadium - Vertu Tro
 phy - Live on Sky Sports+
STATUS:CONFIRMED
END:VEVENT
BEGIN:VEVENT
UID:6e119977ba2c39ee46107407144d1e25@skysports.com
SEQUENCE:0
DTSTAMP:20260425T090306Z
DTSTART:20251007T184500Z
DTEND:20251007T204500Z
SUMMARY:Colchester United v Gillingham
LOCATION:JobServe Community Stadium
DESCRIPTION:Colchester United v Gillingham - JobServe Community Stadium - 
 Vertu Trophy - Live on Sky Sports+
STATUS:CONFIRMED
END:VEVENT
BEGIN:VEVENT
UID:ce6334dcbf1c77d51dd09138a209e6f8@skysports.com
SEQUENCE:0
DTSTAMP:20260425T090306Z
DTSTART:20251111T190000Z
DTEND:20251111T210000Z
SUMMARY:Gillingham v Wycombe Wanderers
LOCATION:MEMS Priestfield Stadium
DESCRIPTION:Gillingham v Wycombe Wanderers - MEMS Priestfield Stadium - Ve
 rtu Trophy - Live on Sky Sports+
STATUS:CONFIRMED
END:VEVENT
BEGIN:VEVENT
UID:04643529717e31f986b4356d4c86e7b5@skysports.com
SEQUENCE:0
DTSTAMP:20260425T090306Z
DTSTART:20251101T150000Z
DTEND:20251101T170000Z
SUMMARY:Newport County AFC v Gillingham
LOCATION:Rodney Parade
DESCRIPTION:Newport County AFC v Gillingham - Rodney Parade - The FA Cup
STATUS:CONFIRMED
END:VEVENT
END:VCALENDAR