BEGIN:VCALENDAR
VERSION:2.0
PRODID:-//Sky Sports SSDM//NONSGML Event Calendar//EN
URL:https://www.skysports.com/calendars/football/fixtures/teams/harrogate-
 town
CALSCALE:GREGORIAN
METHOD:PUBLISH
NAME:Harrogate Town Fixtures
X-WR-CALNAME:Harrogate Town Fixtures
X-WR-CALDESC:Harrogate Town fixtures provided by Sky Sports (https://www.s
 kysports.com)
REFRESH-INTERVAL;VALUE=DURATION:PT1H
X-PUBLISHED-TTL:PT1H
BEGIN:VEVENT
UID:7ca4e394ac235eb168a342cf4799a6c5@skysports.com
SEQUENCE:0
DTSTAMP:20260425T090017Z
DTSTART:20250802T140000Z
DTEND:20250802T160000Z
SUMMARY:Bristol Rovers v Harrogate Town
LOCATION:Memorial Stadium
DESCRIPTION:Bristol Rovers v Harrogate Town - Memorial Stadium - Sky Bet L
 eague Two - Live on Sky Sports+
STATUS:CONFIRMED
END:VEVENT
BEGIN:VEVENT
UID:d3c8babad98840802869eb4480d02231@skysports.com
SEQUENCE:0
DTSTAMP:20260425T090017Z
DTSTART:20250809T140000Z
DTEND:20250809T160000Z
SUMMARY:Harrogate Town v Grimsby Town
LOCATION:The Exercise Stadium
DESCRIPTION:Harrogate Town v Grimsby Town - The Exercise Stadium - Sky Bet
  League Two
STATUS:CONFIRMED
END:VEVENT
BEGIN:VEVENT
UID:dfa62581a3061bfb4d27a1abb8c9d23b@skysports.com
SEQUENCE:0
DTSTAMP:20260425T090017Z
DTSTART:20250816T140000Z
DTEND:20250816T160000Z
SUMMARY:Cambridge United v Harrogate Town
LOCATION:The Cledara Abbey Stadium
DESCRIPTION:Cambridge United v Harrogate Town - The Cledara Abbey Stadium 
 - Sky Bet League Two
STATUS:CONFIRMED
END:VEVENT
BEGIN:VEVENT
UID:3da75217c42e3b30bb6c97dfd54ea6c5@skysports.com
SEQUENCE:0
DTSTAMP:20260425T090017Z
DTSTART:20250819T184500Z
DTEND:20250819T204500Z
SUMMARY:Harrogate Town v Barrow
LOCATION:The Exercise Stadium
DESCRIPTION:Harrogate Town v Barrow - The Exercise Stadium - Sky Bet Leagu
 e Two - Live on Sky Sports+
STATUS:CONFIRMED
END:VEVENT
BEGIN:VEVENT
UID:39bf70ab66becde7b2af8498dbdb47e0@skysports.com
SEQUENCE:0
DTSTAMP:20260425T090017Z
DTSTART:20250823T140000Z
DTEND:20250823T160000Z
SUMMARY:Harrogate Town v Chesterfield
LOCATION:The Exercise Stadium
DESCRIPTION:Harrogate Town v Chesterfield - The Exercise Stadium - Sky Bet
  League Two
STATUS:CONFIRMED
END:VEVENT
BEGIN:VEVENT
UID:c5f871a40459162140ce97c6e23a2afc@skysports.com
SEQUENCE:0
DTSTAMP:20260425T090017Z
DTSTART:20250830T140000Z
DTEND:20250830T160000Z
SUMMARY:Bromley v Harrogate Town
LOCATION:Hayes Lane Stadium
DESCRIPTION:Bromley v Harrogate Town - Hayes Lane Stadium - Sky Bet League
  Two
STATUS:CONFIRMED
END:VEVENT
BEGIN:VEVENT
UID:8542cb1acb4a8e0d264bc127fae98051@skysports.com
SEQUENCE:0
DTSTAMP:20260425T090017Z
DTSTART:20250906T140000Z
DTEND:20250906T160000Z
SUMMARY:Harrogate Town v Crawley Town
LOCATION:The Exercise Stadium
DESCRIPTION:Harrogate Town v Crawley Town - The Exercise Stadium - Sky Bet
  League Two - Live on Sky Sports+
STATUS:CONFIRMED
END:VEVENT
BEGIN:VEVENT
UID:6fa7edffeda5e9d1e39887109f5471bc@skysports.com
SEQUENCE:0
DTSTAMP:20260425T090017Z
DTSTART:20250913T140000Z
DTEND:20250913T160000Z
SUMMARY:Swindon Town v Harrogate Town
LOCATION:The County Ground
DESCRIPTION:Swindon Town v Harrogate Town - The County Ground - Sky Bet Le
 ague Two
STATUS:CONFIRMED
END:VEVENT
BEGIN:VEVENT
UID:26f2ef4d68b1b6faec5a7ed36a069695@skysports.com
SEQUENCE:0
DTSTAMP:20260425T090017Z
DTSTART:20250920T113000Z
DTEND:20250920T133000Z
SUMMARY:Harrogate Town v Shrewsbury Town
LOCATION:The Exercise Stadium
DESCRIPTION:Harrogate Town v Shrewsbury Town - The Exercise Stadium - Sky 
 Bet League Two - Live on Sky Sports+
STATUS:CONFIRMED
END:VEVENT
BEGIN:VEVENT
UID:3e288aed8551b84b9db1c0acf4c89927@skysports.com
SEQUENCE:0
DTSTAMP:20260425T090017Z
DTSTART:20250927T140000Z
DTEND:20250927T160000Z
SUMMARY:Gillingham v Harrogate Town
LOCATION:MEMS Priestfield Stadium
DESCRIPTION:Gillingham v Harrogate Town - MEMS Priestfield Stadium - Sky B
 et League Two
STATUS:CONFIRMED
END:VEVENT
BEGIN:VEVENT
UID:887828465543a4519019723dc12daae4@skysports.com
SEQUENCE:0
DTSTAMP:20260425T090017Z
DTSTART:20251006T190000Z
DTEND:20251006T210000Z
SUMMARY:Harrogate Town v Crewe Alexandra
LOCATION:The Exercise Stadium
DESCRIPTION:Harrogate Town v Crewe Alexandra - The Exercise Stadium - Sky 
 Bet League Two - Live on Sky Sports Football
STATUS:CONFIRMED
END:VEVENT
BEGIN:VEVENT
UID:8918cebe92a92346b77525e7912e1dac@skysports.com
SEQUENCE:0
DTSTAMP:20260425T090017Z
DTSTART:20251011T140000Z
DTEND:20251011T160000Z
SUMMARY:Fleetwood Town v Harrogate Town
LOCATION:Highbury Stadium
DESCRIPTION:Fleetwood Town v Harrogate Town - Highbury Stadium - Sky Bet L
 eague Two - Live on Sky Sports+
STATUS:CONFIRMED
END:VEVENT
BEGIN:VEVENT
UID:22dcf28f542e01429e3d867b13b891ae@skysports.com
SEQUENCE:0
DTSTAMP:20260425T090017Z
DTSTART:20251018T140000Z
DTEND:20251018T160000Z
SUMMARY:Colchester United v Harrogate Town
LOCATION:JobServe Community Stadium
DESCRIPTION:Colchester United v Harrogate Town - JobServe Community Stadiu
 m - Sky Bet League Two
STATUS:CONFIRMED
END:VEVENT
BEGIN:VEVENT
UID:c1c86e063c3923a7273f9dcc17fb848e@skysports.com
SEQUENCE:0
DTSTAMP:20260425T090017Z
DTSTART:20251025T140000Z
DTEND:20251025T160000Z
SUMMARY:Harrogate Town v Newport County AFC
LOCATION:The Exercise Stadium
DESCRIPTION:Harrogate Town v Newport County AFC - The Exercise Stadium - S
 ky Bet League Two
STATUS:CONFIRMED
END:VEVENT
BEGIN:VEVENT
UID:c8c1ecb7de2090ff7994921c2c2831fa@skysports.com
SEQUENCE:0
DTSTAMP:20260425T090017Z
DTSTART:20251108T150000Z
DTEND:20251108T170000Z
SUMMARY:Harrogate Town v Oldham Athletic
LOCATION:The Exercise Stadium
DESCRIPTION:Harrogate Town v Oldham Athletic - The Exercise Stadium - Sky 
 Bet League Two
STATUS:CONFIRMED
END:VEVENT
BEGIN:VEVENT
UID:fffb70c1d18dcbdf4e857aed16edb60c@skysports.com
SEQUENCE:0
DTSTAMP:20260425T090017Z
DTSTART:20251115T150000Z
DTEND:20251115T170000Z
SUMMARY:Notts County v Harrogate Town
LOCATION:Meadow Lane
DESCRIPTION:Notts County v Harrogate Town - Meadow Lane - Sky Bet League T
 wo - Live on Sky Sports+
STATUS:CONFIRMED
END:VEVENT
BEGIN:VEVENT
UID:cb9144c4890bc85fe4cd5e5efababbeb@skysports.com
SEQUENCE:0
DTSTAMP:20260425T090017Z
DTSTART:20251122T123000Z
DTEND:20251122T143000Z
SUMMARY:Harrogate Town v Walsall
LOCATION:The Exercise Stadium
DESCRIPTION:Harrogate Town v Walsall - The Exercise Stadium - Sky Bet Leag
 ue Two - Live on Sky Sports+
STATUS:CONFIRMED
END:VEVENT
BEGIN:VEVENT
UID:d3a84fd0e9480d716072732b70a92589@skysports.com
SEQUENCE:0
DTSTAMP:20260425T090017Z
DTSTART:20251129T150000Z
DTEND:20251129T170000Z
SUMMARY:Barnet v Harrogate Town
LOCATION:The Hive Stadium
DESCRIPTION:Barnet v Harrogate Town - The Hive Stadium - Sky Bet League Tw
 o
STATUS:CONFIRMED
END:VEVENT
BEGIN:VEVENT
UID:9d35456cea28cd89619211600c199df3@skysports.com
SEQUENCE:0
DTSTAMP:20260425T090017Z
DTSTART:20251209T194500Z
DTEND:20251209T214500Z
SUMMARY:Harrogate Town v Accrington Stanley
LOCATION:The Exercise Stadium
DESCRIPTION:Harrogate Town v Accrington Stanley - The Exercise Stadium - S
 ky Bet League Two - Live on Sky Sports+
STATUS:CONFIRMED
END:VEVENT
BEGIN:VEVENT
UID:d428ee786a8986f90b4e2de776c68adc@skysports.com
SEQUENCE:0
DTSTAMP:20260425T090017Z
DTSTART:20251213T150000Z
DTEND:20251213T170000Z
SUMMARY:Cheltenham Town v Harrogate Town
LOCATION:EV Charger Points Stadium
DESCRIPTION:Cheltenham Town v Harrogate Town - EV Charger Points Stadium -
  Sky Bet League Two
STATUS:CONFIRMED
END:VEVENT
BEGIN:VEVENT
UID:5b4cdc8530ebfe55822139a555c4e1a6@skysports.com
SEQUENCE:0
DTSTAMP:20260425T090017Z
DTSTART:20251220T150000Z
DTEND:20251220T170000Z
SUMMARY:Harrogate Town v Milton Keynes Dons
LOCATION:The Exercise Stadium
DESCRIPTION:Harrogate Town v Milton Keynes Dons - The Exercise Stadium - S
 ky Bet League Two
STATUS:CONFIRMED
END:VEVENT
BEGIN:VEVENT
UID:bc5d1c4de8254d3ab8556a109765b40e@skysports.com
SEQUENCE:0
DTSTAMP:20260425T090017Z
DTSTART:20251226T150000Z
DTEND:20251226T170000Z
SUMMARY:Salford City v Harrogate Town
LOCATION:Moor Lane
DESCRIPTION:Salford City v Harrogate Town - Moor Lane - Sky Bet League Two
  - Live on Sky Sports+
STATUS:CONFIRMED
END:VEVENT
BEGIN:VEVENT
UID:e679cb95a80c4442e855ac8414398152@skysports.com
SEQUENCE:0
DTSTAMP:20260425T090017Z
DTSTART:20251229T194500Z
DTEND:20251229T214500Z
SUMMARY:Accrington Stanley v Harrogate Town
LOCATION:Wham Stadium
DESCRIPTION:Accrington Stanley v Harrogate Town - Wham Stadium - Sky Bet L
 eague Two
STATUS:CONFIRMED
END:VEVENT
BEGIN:VEVENT
UID:076efd80fce558345694358852642928@skysports.com
SEQUENCE:0
DTSTAMP:20260425T090017Z
DTSTART:20260101T150000Z
DTEND:20260101T170000Z
SUMMARY:Harrogate Town v Tranmere Rovers
LOCATION:The Exercise Stadium
DESCRIPTION:Harrogate Town v Tranmere Rovers - The Exercise Stadium - Sky 
 Bet League Two - Live on Sky Sports+
STATUS:CONFIRMED
END:VEVENT
BEGIN:VEVENT
UID:1484236eb749668fedd9b48449dcf7dc@skysports.com
SEQUENCE:0
DTSTAMP:20260425T090017Z
DTSTART:20260203T194500Z
DTEND:20260203T214500Z
SUMMARY:Harrogate Town v Swindon Town
LOCATION:The Exercise Stadium
DESCRIPTION:Harrogate Town v Swindon Town - The Exercise Stadium - Sky Bet
  League Two - Live on Sky Sports+
STATUS:CONFIRMED
END:VEVENT
BEGIN:VEVENT
UID:382a0e37a73bada19145d046dff2cd9e@skysports.com
SEQUENCE:0
DTSTAMP:20260425T090017Z
DTSTART:20260110T150000Z
DTEND:20260110T170000Z
SUMMARY:Crewe Alexandra v Harrogate Town
LOCATION:Mornflake Stadium
DESCRIPTION:Crewe Alexandra v Harrogate Town - Mornflake Stadium - Sky Bet
  League Two
STATUS:CONFIRMED
END:VEVENT
BEGIN:VEVENT
UID:4bdc4dcf4c50e2f27cb2ecbb19966ffd@skysports.com
SEQUENCE:0
DTSTAMP:20260425T090017Z
DTSTART:20260117T150000Z
DTEND:20260117T170000Z
SUMMARY:Shrewsbury Town v Harrogate Town
LOCATION:The Croud Meadow
DESCRIPTION:Shrewsbury Town v Harrogate Town - The Croud Meadow - Sky Bet 
 League Two
STATUS:CONFIRMED
END:VEVENT
BEGIN:VEVENT
UID:5ddca67b95ed30a0d00eaa573e175914@skysports.com
SEQUENCE:0
DTSTAMP:20260425T090017Z
DTSTART:20260124T150000Z
DTEND:20260124T170000Z
SUMMARY:Harrogate Town v Gillingham
LOCATION:The Exercise Stadium
DESCRIPTION:Harrogate Town v Gillingham - The Exercise Stadium - Sky Bet L
 eague Two
STATUS:CONFIRMED
END:VEVENT
BEGIN:VEVENT
UID:64443bb421f6a0f8edec59f918671ada@skysports.com
SEQUENCE:0
DTSTAMP:20260425T090017Z
DTSTART:20260127T194500Z
DTEND:20260127T214500Z
SUMMARY:Harrogate Town v Fleetwood Town
LOCATION:The Exercise Stadium
DESCRIPTION:Harrogate Town v Fleetwood Town - The Exercise Stadium - Sky B
 et League Two - Live on Sky Sports+
STATUS:CONFIRMED
END:VEVENT
BEGIN:VEVENT
UID:c383c86fc1ce277d1a5f707c02716e2f@skysports.com
SEQUENCE:0
DTSTAMP:20260425T090017Z
DTSTART:20260131T150000Z
DTEND:20260131T170000Z
SUMMARY:Crawley Town v Harrogate Town
LOCATION:Broadfield Stadium
DESCRIPTION:Crawley Town v Harrogate Town - Broadfield Stadium - Sky Bet L
 eague Two
STATUS:CONFIRMED
END:VEVENT
BEGIN:VEVENT
UID:0ac6562203f7c0c613b06622d575abfb@skysports.com
SEQUENCE:0
DTSTAMP:20260425T090017Z
DTSTART:20260207T150100Z
DTEND:20260207T170100Z
SUMMARY:Harrogate Town v Cambridge United
LOCATION:The Exercise Stadium
DESCRIPTION:Harrogate Town v Cambridge United - The Exercise Stadium - Sky
  Bet League Two
STATUS:CONFIRMED
END:VEVENT
BEGIN:VEVENT
UID:adbacee7b0f3fd12762a9b084aa81415@skysports.com
SEQUENCE:0
DTSTAMP:20260425T090017Z
DTSTART:20260214T150000Z
DTEND:20260214T170000Z
SUMMARY:Chesterfield v Harrogate Town
LOCATION:Technique Stadium
DESCRIPTION:Chesterfield v Harrogate Town - Technique Stadium - Sky Bet Le
 ague Two
STATUS:CONFIRMED
END:VEVENT
BEGIN:VEVENT
UID:a3e13a04265d50ce32870113770181fe@skysports.com
SEQUENCE:0
DTSTAMP:20260425T090017Z
DTSTART:20260217T194500Z
DTEND:20260217T214500Z
SUMMARY:Barrow v Harrogate Town
LOCATION:SO Legal Stadium
DESCRIPTION:Barrow v Harrogate Town - SO Legal Stadium - Sky Bet League Tw
 o - Live on Sky Sports+
STATUS:CONFIRMED
END:VEVENT
BEGIN:VEVENT
UID:103984b2fe7bdf1e3d4a2a1492b58f02@skysports.com
SEQUENCE:0
DTSTAMP:20260425T090017Z
DTSTART:20260221T150000Z
DTEND:20260221T170000Z
SUMMARY:Harrogate Town v Bromley
LOCATION:The Exercise Stadium
DESCRIPTION:Harrogate Town v Bromley - The Exercise Stadium - Sky Bet Leag
 ue Two
STATUS:CONFIRMED
END:VEVENT
BEGIN:VEVENT
UID:bfeb346c38cf3d5d1d725af3951042ed@skysports.com
SEQUENCE:0
DTSTAMP:20260425T090017Z
DTSTART:20260227T194500Z
DTEND:20260227T214500Z
SUMMARY:Harrogate Town v Cheltenham Town
LOCATION:The Exercise Stadium
DESCRIPTION:Harrogate Town v Cheltenham Town - The Exercise Stadium - Sky 
 Bet League Two - Live on Sky Sports+
STATUS:CONFIRMED
END:VEVENT
BEGIN:VEVENT
UID:a08d9706bbfa1185c8bf431688a4f40f@skysports.com
SEQUENCE:0
DTSTAMP:20260425T090017Z
DTSTART:20260307T150000Z
DTEND:20260307T170000Z
SUMMARY:Milton Keynes Dons v Harrogate Town
LOCATION:Stadium:mk
DESCRIPTION:Milton Keynes Dons v Harrogate Town - Stadium:mk - Sky Bet Lea
 gue Two
STATUS:CONFIRMED
END:VEVENT
BEGIN:VEVENT
UID:015346818084956dbb6a4507a94b0bca@skysports.com
SEQUENCE:0
DTSTAMP:20260425T090017Z
DTSTART:20260314T123000Z
DTEND:20260314T143000Z
SUMMARY:Harrogate Town v Salford City
LOCATION:The Exercise Stadium
DESCRIPTION:Harrogate Town v Salford City - The Exercise Stadium - Sky Bet
  League Two - Live on Sky Sports+
STATUS:CONFIRMED
END:VEVENT
BEGIN:VEVENT
UID:513f0d147dd14f872c144fcaf3c3d022@skysports.com
SEQUENCE:0
DTSTAMP:20260425T090017Z
DTSTART:20260317T194500Z
DTEND:20260317T214500Z
SUMMARY:Tranmere Rovers v Harrogate Town
LOCATION:Prenton Park
DESCRIPTION:Tranmere Rovers v Harrogate Town - Prenton Park - Sky Bet Leag
 ue Two - Live on Sky Sports+
STATUS:CONFIRMED
END:VEVENT
BEGIN:VEVENT
UID:a2aad133cdfb72dfe406929d852ff941@skysports.com
SEQUENCE:0
DTSTAMP:20260425T090017Z
DTSTART:20260321T150000Z
DTEND:20260321T170000Z
SUMMARY:Oldham Athletic v Harrogate Town
LOCATION:Boundary Park
DESCRIPTION:Oldham Athletic v Harrogate Town - Boundary Park - Sky Bet Lea
 gue Two
STATUS:CONFIRMED
END:VEVENT
BEGIN:VEVENT
UID:83cda4633b3b6a08940169e17f9bc6dc@skysports.com
SEQUENCE:0
DTSTAMP:20260425T090017Z
DTSTART:20260328T123000Z
DTEND:20260328T143000Z
SUMMARY:Harrogate Town v Notts County
LOCATION:The Exercise Stadium
DESCRIPTION:Harrogate Town v Notts County - The Exercise Stadium - Sky Bet
  League Two - Live on Sky Sports Football and Sky Sports Main Event
STATUS:CONFIRMED
END:VEVENT
BEGIN:VEVENT
UID:5ece8b2e212c80c49e16fbb0fad01083@skysports.com
SEQUENCE:0
DTSTAMP:20260425T090017Z
DTSTART:20260403T140000Z
DTEND:20260403T160000Z
SUMMARY:Grimsby Town v Harrogate Town
LOCATION:Blundell Park
DESCRIPTION:Grimsby Town v Harrogate Town - Blundell Park - Sky Bet League
  Two - Live on Sky Sports+
STATUS:CONFIRMED
END:VEVENT
BEGIN:VEVENT
UID:acdb8362e5425c0770f659f05f78ef86@skysports.com
SEQUENCE:0
DTSTAMP:20260425T090017Z
DTSTART:20260406T140000Z
DTEND:20260406T160000Z
SUMMARY:Harrogate Town v Bristol Rovers
LOCATION:The Exercise Stadium
DESCRIPTION:Harrogate Town v Bristol Rovers - The Exercise Stadium - Sky B
 et League Two - Live on Sky Sports+
STATUS:CONFIRMED
END:VEVENT
BEGIN:VEVENT
UID:cd9a0cd47e63c88f6c4e7fe84e05a5a5@skysports.com
SEQUENCE:0
DTSTAMP:20260425T090017Z
DTSTART:20260411T140000Z
DTEND:20260411T160000Z
SUMMARY:Newport County AFC v Harrogate Town
LOCATION:Rodney Parade
DESCRIPTION:Newport County AFC v Harrogate Town - Rodney Parade - Sky Bet 
 League Two
STATUS:CONFIRMED
END:VEVENT
BEGIN:VEVENT
UID:9d8ce4e280c72e63a1e1906511197839@skysports.com
SEQUENCE:0
DTSTAMP:20260425T090017Z
DTSTART:20260418T140000Z
DTEND:20260418T160000Z
SUMMARY:Harrogate Town v Colchester United
LOCATION:The Exercise Stadium
DESCRIPTION:Harrogate Town v Colchester United - The Exercise Stadium - Sk
 y Bet League Two
STATUS:CONFIRMED
END:VEVENT
BEGIN:VEVENT
UID:68aa737bcccd6df342758388751f5287@skysports.com
SEQUENCE:0
DTSTAMP:20260425T090017Z
DTSTART:20260425T140000Z
DTEND:20260425T160000Z
SUMMARY:Walsall v Harrogate Town
LOCATION:Pallet-Track Bescot Stadium
DESCRIPTION:Walsall v Harrogate Town - Pallet-Track Bescot Stadium - Sky B
 et League Two
STATUS:CONFIRMED
END:VEVENT
BEGIN:VEVENT
UID:4a4e8e06e9ab0690455281b35d5dd27c@skysports.com
SEQUENCE:0
DTSTAMP:20260425T090017Z
DTSTART:20260502T140000Z
DTEND:20260502T160000Z
SUMMARY:Harrogate Town v Barnet
LOCATION:The Exercise Stadium
DESCRIPTION:Harrogate Town v Barnet - The Exercise Stadium - Sky Bet Leagu
 e Two
STATUS:CONFIRMED
END:VEVENT
BEGIN:VEVENT
UID:8f1ac96744e4189924212b9b89b99af7@skysports.com
SEQUENCE:0
DTSTAMP:20260425T090017Z
DTSTART:20250812T184500Z
DTEND:20250812T204500Z
SUMMARY:Harrogate Town v Lincoln City
LOCATION:The Exercise Stadium
DESCRIPTION:Harrogate Town v Lincoln City - The Exercise Stadium - Carabao
  Cup - Live on Sky Sports+
STATUS:CONFIRMED
END:VEVENT
BEGIN:VEVENT
UID:64850cf855613cc88a4fff9823485fbb@skysports.com
SEQUENCE:0
DTSTAMP:20260425T090017Z
DTSTART:20250909T184500Z
DTEND:20250909T204500Z
SUMMARY:Mansfield Town v Harrogate Town
LOCATION:One Call Stadium
DESCRIPTION:Mansfield Town v Harrogate Town - One Call Stadium - Vertu Tro
 phy - Live on Sky Sports+
STATUS:CONFIRMED
END:VEVENT
BEGIN:VEVENT
UID:f34b649acc44898f5021ef31eb41e097@skysports.com
SEQUENCE:0
DTSTAMP:20260425T090017Z
DTSTART:20250930T184500Z
DTEND:20250930T204500Z
SUMMARY:Harrogate Town v Huddersfield Town
LOCATION:The Exercise Stadium
DESCRIPTION:Harrogate Town v Huddersfield Town - The Exercise Stadium - Ve
 rtu Trophy - Live on Sky Sports+
STATUS:CONFIRMED
END:VEVENT
BEGIN:VEVENT
UID:de9881371652bc5ac79aabc565824629@skysports.com
SEQUENCE:0
DTSTAMP:20260425T090017Z
DTSTART:20251111T194500Z
DTEND:20251111T214500Z
SUMMARY:Harrogate Town v Newcastle United U21
LOCATION:The Exercise Stadium
DESCRIPTION:Harrogate Town v Newcastle United U21 - The Exercise Stadium -
  Vertu Trophy - Live on Sky Sports+
STATUS:CONFIRMED
END:VEVENT
BEGIN:VEVENT
UID:21dd4a9c4646bbb33c46ab744def7c7f@skysports.com
SEQUENCE:0
DTSTAMP:20260425T090017Z
DTSTART:20251101T150000Z
DTEND:20251101T170000Z
SUMMARY:Mansfield Town v Harrogate Town
LOCATION:One Call Stadium
DESCRIPTION:Mansfield Town v Harrogate Town - One Call Stadium - The FA Cu
 p
STATUS:CONFIRMED
END:VEVENT
BEGIN:VEVENT
UID:9e477280597a1a95f0d8f6ad57c31b46@skysports.com
SEQUENCE:0
DTSTAMP:20260425T090017Z
DTSTART:20251202T190000Z
DTEND:20251202T210000Z
SUMMARY:Harrogate Town v Blackpool
LOCATION:The Exercise Stadium
DESCRIPTION:Harrogate Town v Blackpool - The Exercise Stadium - Vertu Trop
 hy - Live on Sky Sports+
STATUS:CONFIRMED
END:VEVENT
BEGIN:VEVENT
UID:a64f69c937ae725776d0a7fbdc2f782d@skysports.com
SEQUENCE:0
DTSTAMP:20260425T090017Z
DTSTART:20260113T190000Z
DTEND:20260113T210000Z
SUMMARY:Stockport County v Harrogate Town
LOCATION:Edgeley Park
DESCRIPTION:Stockport County v Harrogate Town - Edgeley Park - Vertu Troph
 y - Live on Sky Sports+
STATUS:CONFIRMED
END:VEVENT
END:VCALENDAR