BEGIN:VCALENDAR
VERSION:2.0
PRODID:-//Sky Sports SSDM//NONSGML Event Calendar//EN
URL:https://www.skysports.com/calendars/football/fixtures/teams/inter-mila
 n
CALSCALE:GREGORIAN
METHOD:PUBLISH
NAME:Inter Milan Fixtures
X-WR-CALNAME:Inter Milan Fixtures
X-WR-CALDESC:Inter Milan fixtures provided by Sky Sports (https://www.skys
 ports.com)
REFRESH-INTERVAL;VALUE=DURATION:PT1H
X-PUBLISHED-TTL:PT1H
BEGIN:VEVENT
UID:16cf6958597e57ea081f51228cdcea1e@skysports.com
SEQUENCE:0
DTSTAMP:20260425T090908Z
DTSTART:20250626T010000Z
DTEND:20250626T030000Z
SUMMARY:Inter Milan v River Plate
LOCATION:CenturyLink Field
DESCRIPTION:Inter Milan v River Plate - CenturyLink Field - FIFA Club Worl
 d Cup
STATUS:CONFIRMED
END:VEVENT
BEGIN:VEVENT
UID:c4f9bd020aa2b24952352908fbd56136@skysports.com
SEQUENCE:0
DTSTAMP:20260425T090908Z
DTSTART:20250630T190000Z
DTEND:20250630T210000Z
SUMMARY:Inter Milan v Fluminense
LOCATION:Bank of America Stadium
DESCRIPTION:Inter Milan v Fluminense - Bank of America Stadium - FIFA Club
  World Cup
STATUS:CONFIRMED
END:VEVENT
BEGIN:VEVENT
UID:e8f0c0c96fbe224f6580079e2bd71831@skysports.com
SEQUENCE:0
DTSTAMP:20260425T090908Z
DTSTART:20250825T184500Z
DTEND:20250825T204500Z
SUMMARY:Inter Milan v Torino
LOCATION:Giuseppe Meazza
DESCRIPTION:Inter Milan v Torino - Giuseppe Meazza - Italian Serie A
STATUS:CONFIRMED
END:VEVENT
BEGIN:VEVENT
UID:515879fc07d58ff2b11f2f2d9e6b2be1@skysports.com
SEQUENCE:0
DTSTAMP:20260425T090908Z
DTSTART:20250831T184500Z
DTEND:20250831T204500Z
SUMMARY:Inter Milan v Udinese
LOCATION:Giuseppe Meazza
DESCRIPTION:Inter Milan v Udinese - Giuseppe Meazza - Italian Serie A
STATUS:CONFIRMED
END:VEVENT
BEGIN:VEVENT
UID:d90d17d0b34bd75bc91313a1ced7ed43@skysports.com
SEQUENCE:0
DTSTAMP:20260425T090908Z
DTSTART:20250913T160000Z
DTEND:20250913T180000Z
SUMMARY:Juventus v Inter Milan
LOCATION:Juventus Stadium
DESCRIPTION:Juventus v Inter Milan - Juventus Stadium - Italian Serie A
STATUS:CONFIRMED
END:VEVENT
BEGIN:VEVENT
UID:1c7ec036e7bed2011ab3b2e5d5526125@skysports.com
SEQUENCE:0
DTSTAMP:20260425T090908Z
DTSTART:20250921T184500Z
DTEND:20250921T204500Z
SUMMARY:Inter Milan v Sassuolo
LOCATION:Giuseppe Meazza
DESCRIPTION:Inter Milan v Sassuolo - Giuseppe Meazza - Italian Serie A
STATUS:CONFIRMED
END:VEVENT
BEGIN:VEVENT
UID:a51930bfaa9b2aa441e2750550e4222d@skysports.com
SEQUENCE:0
DTSTAMP:20260425T090908Z
DTSTART:20250927T184500Z
DTEND:20250927T204500Z
SUMMARY:Cagliari v Inter Milan
LOCATION:Sardegna Arena
DESCRIPTION:Cagliari v Inter Milan - Sardegna Arena - Italian Serie A
STATUS:CONFIRMED
END:VEVENT
BEGIN:VEVENT
UID:304dd1658eb818faa152b64efa33abd6@skysports.com
SEQUENCE:0
DTSTAMP:20260425T090908Z
DTSTART:20251004T160000Z
DTEND:20251004T180000Z
SUMMARY:Inter Milan v Cremonese
LOCATION:Giuseppe Meazza
DESCRIPTION:Inter Milan v Cremonese - Giuseppe Meazza - Italian Serie A
STATUS:CONFIRMED
END:VEVENT
BEGIN:VEVENT
UID:a72546e907d6faa108da355c4870d445@skysports.com
SEQUENCE:0
DTSTAMP:20260425T090908Z
DTSTART:20251018T184500Z
DTEND:20251018T204500Z
SUMMARY:Roma v Inter Milan
LOCATION:Olimpico
DESCRIPTION:Roma v Inter Milan - Olimpico - Italian Serie A
STATUS:CONFIRMED
END:VEVENT
BEGIN:VEVENT
UID:1d5341003663d6b5e59dd00c215b824c@skysports.com
SEQUENCE:0
DTSTAMP:20260425T090908Z
DTSTART:20251025T160000Z
DTEND:20251025T180000Z
SUMMARY:Napoli v Inter Milan
LOCATION:Diego Armando Maradona
DESCRIPTION:Napoli v Inter Milan - Diego Armando Maradona - Italian Serie 
 A
STATUS:CONFIRMED
END:VEVENT
BEGIN:VEVENT
UID:6f1bf91d74cd601fd81781466dca3fd4@skysports.com
SEQUENCE:0
DTSTAMP:20260425T090908Z
DTSTART:20251029T194500Z
DTEND:20251029T214500Z
SUMMARY:Inter Milan v Fiorentina
LOCATION:Giuseppe Meazza
DESCRIPTION:Inter Milan v Fiorentina - Giuseppe Meazza - Italian Serie A
STATUS:CONFIRMED
END:VEVENT
BEGIN:VEVENT
UID:34250c036b7ccf888f75af0ca332070f@skysports.com
SEQUENCE:0
DTSTAMP:20260425T090908Z
DTSTART:20251102T113000Z
DTEND:20251102T133000Z
SUMMARY:Verona v Inter Milan
LOCATION:Marc'Antonio Bentegodi
DESCRIPTION:Verona v Inter Milan - Marc'Antonio Bentegodi - Italian Serie 
 A
STATUS:CONFIRMED
END:VEVENT
BEGIN:VEVENT
UID:719df11f77aa2f7e2f8ff9cacab82c24@skysports.com
SEQUENCE:0
DTSTAMP:20260425T090908Z
DTSTART:20251109T194500Z
DTEND:20251109T214500Z
SUMMARY:Inter Milan v Lazio
LOCATION:Giuseppe Meazza
DESCRIPTION:Inter Milan v Lazio - Giuseppe Meazza - Italian Serie A
STATUS:CONFIRMED
END:VEVENT
BEGIN:VEVENT
UID:a87267db4a4cc852fb2f795db84d3bc2@skysports.com
SEQUENCE:0
DTSTAMP:20260425T090908Z
DTSTART:20251123T194500Z
DTEND:20251123T214500Z
SUMMARY:Inter Milan v AC Milan
LOCATION:Giuseppe Meazza
DESCRIPTION:Inter Milan v AC Milan - Giuseppe Meazza - Italian Serie A
STATUS:CONFIRMED
END:VEVENT
BEGIN:VEVENT
UID:8c075ddeb6872b1270b50d025283dcd8@skysports.com
SEQUENCE:0
DTSTAMP:20260425T090908Z
DTSTART:20251130T140000Z
DTEND:20251130T160000Z
SUMMARY:Pisa v Inter Milan
LOCATION:Arena Garibaldi Romeo Anconetani
DESCRIPTION:Pisa v Inter Milan - Arena Garibaldi Romeo Anconetani - Italia
 n Serie A
STATUS:CONFIRMED
END:VEVENT
BEGIN:VEVENT
UID:4bc5280f1f885b55f401d1d62901e85f@skysports.com
SEQUENCE:0
DTSTAMP:20260425T090908Z
DTSTART:20251206T170000Z
DTEND:20251206T190000Z
SUMMARY:Inter Milan v Como
LOCATION:Giuseppe Meazza
DESCRIPTION:Inter Milan v Como - Giuseppe Meazza - Italian Serie A
STATUS:CONFIRMED
END:VEVENT
BEGIN:VEVENT
UID:fcb72bad3cac6fd0e5b5bc901d013b0d@skysports.com
SEQUENCE:0
DTSTAMP:20260425T090908Z
DTSTART:20251214T170000Z
DTEND:20251214T190000Z
SUMMARY:Genoa v Inter Milan
LOCATION:Luigi Ferraris
DESCRIPTION:Genoa v Inter Milan - Luigi Ferraris - Italian Serie A
STATUS:CONFIRMED
END:VEVENT
BEGIN:VEVENT
UID:44d7fc91e85a5f1d23de587c1301e63d@skysports.com
SEQUENCE:0
DTSTAMP:20260425T090908Z
DTSTART:20260114T194500Z
DTEND:20260114T214500Z
SUMMARY:Inter Milan v Lecce
LOCATION:Giuseppe Meazza
DESCRIPTION:Inter Milan v Lecce - Giuseppe Meazza - Italian Serie A
STATUS:CONFIRMED
END:VEVENT
BEGIN:VEVENT
UID:fb171ecbe6eee485a50f6b64c87645fe@skysports.com
SEQUENCE:0
DTSTAMP:20260425T090908Z
DTSTART:20251228T194500Z
DTEND:20251228T214500Z
SUMMARY:Atalanta v Inter Milan
LOCATION:Gewiss Stadium
DESCRIPTION:Atalanta v Inter Milan - Gewiss Stadium - Italian Serie A
STATUS:CONFIRMED
END:VEVENT
BEGIN:VEVENT
UID:11aca4ce37c43acd0423f0de692bc218@skysports.com
SEQUENCE:0
DTSTAMP:20260425T090908Z
DTSTART:20260104T194500Z
DTEND:20260104T214500Z
SUMMARY:Inter Milan v Bologna
LOCATION:Giuseppe Meazza
DESCRIPTION:Inter Milan v Bologna - Giuseppe Meazza - Italian Serie A
STATUS:CONFIRMED
END:VEVENT
BEGIN:VEVENT
UID:099b2f25d19c9795d000812ab4090597@skysports.com
SEQUENCE:0
DTSTAMP:20260425T090908Z
DTSTART:20260107T194500Z
DTEND:20260107T214500Z
SUMMARY:Parma v Inter Milan
LOCATION:Ennio Tardini
DESCRIPTION:Parma v Inter Milan - Ennio Tardini - Italian Serie A
STATUS:CONFIRMED
END:VEVENT
BEGIN:VEVENT
UID:083207f95be049ecf425d91853a76680@skysports.com
SEQUENCE:0
DTSTAMP:20260425T090908Z
DTSTART:20260111T194500Z
DTEND:20260111T214500Z
SUMMARY:Inter Milan v Napoli
LOCATION:Giuseppe Meazza
DESCRIPTION:Inter Milan v Napoli - Giuseppe Meazza - Italian Serie A
STATUS:CONFIRMED
END:VEVENT
BEGIN:VEVENT
UID:e6cb1b6289615c67d00982e570ba4e64@skysports.com
SEQUENCE:0
DTSTAMP:20260425T090908Z
DTSTART:20260117T140000Z
DTEND:20260117T160000Z
SUMMARY:Udinese v Inter Milan
LOCATION:Dacia Arena
DESCRIPTION:Udinese v Inter Milan - Dacia Arena - Italian Serie A
STATUS:CONFIRMED
END:VEVENT
BEGIN:VEVENT
UID:2bc09b669cdd32fb758adc628cc05829@skysports.com
SEQUENCE:0
DTSTAMP:20260425T090908Z
DTSTART:20260123T194500Z
DTEND:20260123T214500Z
SUMMARY:Inter Milan v Pisa
LOCATION:Giuseppe Meazza
DESCRIPTION:Inter Milan v Pisa - Giuseppe Meazza - Italian Serie A
STATUS:CONFIRMED
END:VEVENT
BEGIN:VEVENT
UID:c948a8df09973dfd2d18ed492a7989f7@skysports.com
SEQUENCE:0
DTSTAMP:20260425T090908Z
DTSTART:20260201T170000Z
DTEND:20260201T190000Z
SUMMARY:Cremonese v Inter Milan
LOCATION:Giovanni Zini
DESCRIPTION:Cremonese v Inter Milan - Giovanni Zini - Italian Serie A
STATUS:CONFIRMED
END:VEVENT
BEGIN:VEVENT
UID:ddbccfb1f9a0e8ecfcd65352796ef79c@skysports.com
SEQUENCE:0
DTSTAMP:20260425T090908Z
DTSTART:20260208T170000Z
DTEND:20260208T190000Z
SUMMARY:Sassuolo v Inter Milan
LOCATION:Citta del Tricolore
DESCRIPTION:Sassuolo v Inter Milan - Citta del Tricolore - Italian Serie A
STATUS:CONFIRMED
END:VEVENT
BEGIN:VEVENT
UID:9d286fa3c5b7abbfa61a49cf81527f30@skysports.com
SEQUENCE:0
DTSTAMP:20260425T090908Z
DTSTART:20260214T194500Z
DTEND:20260214T214500Z
SUMMARY:Inter Milan v Juventus
LOCATION:Giuseppe Meazza
DESCRIPTION:Inter Milan v Juventus - Giuseppe Meazza - Italian Serie A
STATUS:CONFIRMED
END:VEVENT
BEGIN:VEVENT
UID:deb2639da590cc1e560e870944245a5d@skysports.com
SEQUENCE:0
DTSTAMP:20260425T090908Z
DTSTART:20260221T170000Z
DTEND:20260221T190000Z
SUMMARY:Lecce v Inter Milan
LOCATION:Via Del Mare
DESCRIPTION:Lecce v Inter Milan - Via Del Mare - Italian Serie A
STATUS:CONFIRMED
END:VEVENT
BEGIN:VEVENT
UID:398eb3faf31ffe258fc5616a5cf5e566@skysports.com
SEQUENCE:0
DTSTAMP:20260425T090908Z
DTSTART:20260228T194500Z
DTEND:20260228T214500Z
SUMMARY:Inter Milan v Genoa
LOCATION:Giuseppe Meazza
DESCRIPTION:Inter Milan v Genoa - Giuseppe Meazza - Italian Serie A
STATUS:CONFIRMED
END:VEVENT
BEGIN:VEVENT
UID:f708888d7b37358a70e3657d25da55dd@skysports.com
SEQUENCE:0
DTSTAMP:20260425T090908Z
DTSTART:20260308T194500Z
DTEND:20260308T214500Z
SUMMARY:AC Milan v Inter Milan
LOCATION:Giuseppe Meazza
DESCRIPTION:AC Milan v Inter Milan - Giuseppe Meazza - Italian Serie A
STATUS:CONFIRMED
END:VEVENT
BEGIN:VEVENT
UID:6d5b5dcfa9e6403bcfa78b605d530308@skysports.com
SEQUENCE:0
DTSTAMP:20260425T090908Z
DTSTART:20260314T140000Z
DTEND:20260314T160000Z
SUMMARY:Inter Milan v Atalanta
LOCATION:Giuseppe Meazza
DESCRIPTION:Inter Milan v Atalanta - Giuseppe Meazza - Italian Serie A
STATUS:CONFIRMED
END:VEVENT
BEGIN:VEVENT
UID:1b27b37323258775bed0c3cbd13f2f2d@skysports.com
SEQUENCE:0
DTSTAMP:20260425T090908Z
DTSTART:20260322T194500Z
DTEND:20260322T214500Z
SUMMARY:Fiorentina v Inter Milan
LOCATION:Artemio Franchi
DESCRIPTION:Fiorentina v Inter Milan - Artemio Franchi - Italian Serie A
STATUS:CONFIRMED
END:VEVENT
BEGIN:VEVENT
UID:8bcdee2d39553184d692a7274b0668ee@skysports.com
SEQUENCE:0
DTSTAMP:20260425T090908Z
DTSTART:20260405T184500Z
DTEND:20260405T204500Z
SUMMARY:Inter Milan v Roma
LOCATION:Giuseppe Meazza
DESCRIPTION:Inter Milan v Roma - Giuseppe Meazza - Italian Serie A
STATUS:CONFIRMED
END:VEVENT
BEGIN:VEVENT
UID:1e4ff17e8a6402d1bc6e5193dd447338@skysports.com
SEQUENCE:0
DTSTAMP:20260425T090908Z
DTSTART:20260412T184500Z
DTEND:20260412T204500Z
SUMMARY:Como v Inter Milan
LOCATION:Giuseppe Sinigaglia
DESCRIPTION:Como v Inter Milan - Giuseppe Sinigaglia - Italian Serie A
STATUS:CONFIRMED
END:VEVENT
BEGIN:VEVENT
UID:622bcddb8b01402f3c8a5872a754a93a@skysports.com
SEQUENCE:0
DTSTAMP:20260425T090908Z
DTSTART:20260417T184500Z
DTEND:20260417T204500Z
SUMMARY:Inter Milan v Cagliari
LOCATION:Giuseppe Meazza
DESCRIPTION:Inter Milan v Cagliari - Giuseppe Meazza - Italian Serie A
STATUS:CONFIRMED
END:VEVENT
BEGIN:VEVENT
UID:e7384adca724cd4986deb70a353d61ef@skysports.com
SEQUENCE:0
DTSTAMP:20260425T090908Z
DTSTART:20260426T160000Z
DTEND:20260426T180000Z
SUMMARY:Torino v Inter Milan
LOCATION:Olimpico di Torino
DESCRIPTION:Torino v Inter Milan - Olimpico di Torino - Italian Serie A
STATUS:CONFIRMED
END:VEVENT
BEGIN:VEVENT
UID:0f57381507f5a6a3c291702431a1e59e@skysports.com
SEQUENCE:0
DTSTAMP:20260425T090908Z
DTSTART:20260503T184500Z
DTEND:20260503T204500Z
SUMMARY:Inter Milan v Parma
LOCATION:Giuseppe Meazza
DESCRIPTION:Inter Milan v Parma - Giuseppe Meazza - Italian Serie A
STATUS:CONFIRMED
END:VEVENT
BEGIN:VEVENT
UID:7794ae2bdc1ce9510702317d677b1f95@skysports.com
SEQUENCE:0
DTSTAMP:20260425T090908Z
DTSTART:20260509T160000Z
DTEND:20260509T180000Z
SUMMARY:Lazio v Inter Milan
LOCATION:Olimpico
DESCRIPTION:Lazio v Inter Milan - Olimpico - Italian Serie A
STATUS:CONFIRMED
END:VEVENT
BEGIN:VEVENT
UID:6916682e7833cae9fad0d73198a0aef8@skysports.com
SEQUENCE:0
DTSTAMP:20260425T090908Z
DTSTART:20260517T130000Z
DTEND:20260517T150000Z
SUMMARY:Inter Milan v Verona
LOCATION:Giuseppe Meazza
DESCRIPTION:Inter Milan v Verona - Giuseppe Meazza - Italian Serie A
STATUS:CONFIRMED
END:VEVENT
BEGIN:VEVENT
UID:c015e1534554c2cdb48326ca7fd4f7f5@skysports.com
SEQUENCE:0
DTSTAMP:20260425T090908Z
DTSTART:20260524T130000Z
DTEND:20260524T150000Z
SUMMARY:Bologna v Inter Milan
LOCATION:Renato Dall'Ara
DESCRIPTION:Bologna v Inter Milan - Renato Dall'Ara - Italian Serie A
STATUS:CONFIRMED
END:VEVENT
BEGIN:VEVENT
UID:401b1b5979e68fcbe9ad4c9eb50b30f9@skysports.com
SEQUENCE:0
DTSTAMP:20260425T090908Z
DTSTART:20250808T180000Z
DTEND:20250808T200000Z
SUMMARY:Monaco v Inter Milan
LOCATION:Stade Louis-II
DESCRIPTION:Monaco v Inter Milan - Stade Louis-II - Friendly Match
STATUS:CONFIRMED
END:VEVENT
BEGIN:VEVENT
UID:0eba385e9bda265a3ed13e30d22b92ab@skysports.com
SEQUENCE:0
DTSTAMP:20260425T090908Z
DTSTART:20250812T190000Z
DTEND:20250812T210000Z
SUMMARY:Monza v Inter Milan
LOCATION:U-Power Stadium
DESCRIPTION:Monza v Inter Milan - U-Power Stadium - Friendly Match
STATUS:CONFIRMED
END:VEVENT
BEGIN:VEVENT
UID:c850e5e7c254080eb6e08261c70eda24@skysports.com
SEQUENCE:0
DTSTAMP:20260425T090908Z
DTSTART:20250816T183000Z
DTEND:20250816T203000Z
SUMMARY:Inter Milan v Olympiakos FC
LOCATION:San Nicola
DESCRIPTION:Inter Milan v Olympiakos FC - San Nicola - Friendly Match
STATUS:CONFIRMED
END:VEVENT
BEGIN:VEVENT
UID:6504067fcde57262519e9ce282b41764@skysports.com
SEQUENCE:0
DTSTAMP:20260425T090908Z
DTSTART:20251203T200000Z
DTEND:20251203T220000Z
SUMMARY:Inter Milan v Venezia
LOCATION:Giuseppe Meazza
DESCRIPTION:Inter Milan v Venezia - Giuseppe Meazza - Coppa Italia
STATUS:CONFIRMED
END:VEVENT
BEGIN:VEVENT
UID:2ecc7e398584fbd543ae9fc28209a25a@skysports.com
SEQUENCE:0
DTSTAMP:20260425T090908Z
DTSTART:20250917T190000Z
DTEND:20250917T210000Z
SUMMARY:Ajax v Inter Milan
LOCATION:Amsterdam ArenA
DESCRIPTION:Ajax v Inter Milan - Amsterdam ArenA - UEFA Champions League
STATUS:CONFIRMED
END:VEVENT
BEGIN:VEVENT
UID:6f4b621e011f7461e9bc1149e0de5312@skysports.com
SEQUENCE:0
DTSTAMP:20260425T090908Z
DTSTART:20250930T190000Z
DTEND:20250930T210000Z
SUMMARY:Inter Milan v Slavia Prague
LOCATION:Giuseppe Meazza
DESCRIPTION:Inter Milan v Slavia Prague - Giuseppe Meazza - UEFA Champions
  League
STATUS:CONFIRMED
END:VEVENT
BEGIN:VEVENT
UID:c1e1f55e9e9550572efcf28a66255ffd@skysports.com
SEQUENCE:0
DTSTAMP:20260425T090908Z
DTSTART:20251021T190000Z
DTEND:20251021T210000Z
SUMMARY:Union Saint-Gilloise v Inter Milan
LOCATION:Constant Vanden Stock Stadium
DESCRIPTION:Union Saint-Gilloise v Inter Milan - Constant Vanden Stock Sta
 dium - UEFA Champions League
STATUS:CONFIRMED
END:VEVENT
BEGIN:VEVENT
UID:cc21dbef236275b9c139f1545a960b2a@skysports.com
SEQUENCE:0
DTSTAMP:20260425T090908Z
DTSTART:20251105T200000Z
DTEND:20251105T220000Z
SUMMARY:Inter Milan v Kairat Almaty
LOCATION:Giuseppe Meazza
DESCRIPTION:Inter Milan v Kairat Almaty - Giuseppe Meazza - UEFA Champions
  League
STATUS:CONFIRMED
END:VEVENT
BEGIN:VEVENT
UID:1ca869797e3af960695623b7b4721058@skysports.com
SEQUENCE:0
DTSTAMP:20260425T090908Z
DTSTART:20251126T200000Z
DTEND:20251126T220000Z
SUMMARY:Atletico Madrid v Inter Milan
LOCATION:Wanda Metropolitano
DESCRIPTION:Atletico Madrid v Inter Milan - Wanda Metropolitano - UEFA Cha
 mpions League
STATUS:CONFIRMED
END:VEVENT
BEGIN:VEVENT
UID:eed4df6aeb0cedcf8d45ca27775237d5@skysports.com
SEQUENCE:0
DTSTAMP:20260425T090908Z
DTSTART:20251209T200000Z
DTEND:20251209T220000Z
SUMMARY:Inter Milan v Liverpool
LOCATION:Giuseppe Meazza
DESCRIPTION:Inter Milan v Liverpool - Giuseppe Meazza - UEFA Champions Lea
 gue
STATUS:CONFIRMED
END:VEVENT
BEGIN:VEVENT
UID:4d366520f6a29fc64a736e1de476bc28@skysports.com
SEQUENCE:0
DTSTAMP:20260425T090908Z
DTSTART:20260120T200000Z
DTEND:20260120T220000Z
SUMMARY:Inter Milan v Arsenal
LOCATION:Giuseppe Meazza
DESCRIPTION:Inter Milan v Arsenal - Giuseppe Meazza - UEFA Champions Leagu
 e
STATUS:CONFIRMED
END:VEVENT
BEGIN:VEVENT
UID:12576e793752b85cbe6eef457a7c3c73@skysports.com
SEQUENCE:0
DTSTAMP:20260425T090908Z
DTSTART:20260128T200000Z
DTEND:20260128T220000Z
SUMMARY:Borussia Dortmund v Inter Milan
LOCATION:Signal Iduna Park
DESCRIPTION:Borussia Dortmund v Inter Milan - Signal Iduna Park - UEFA Cha
 mpions League
STATUS:CONFIRMED
END:VEVENT
BEGIN:VEVENT
UID:c245a512aae70e2940427b23869f84cb@skysports.com
SEQUENCE:0
DTSTAMP:20260425T090908Z
DTSTART:20251219T190000Z
DTEND:20251219T210000Z
SUMMARY:Bologna v Inter Milan
LOCATION:King Saud University Stadium
DESCRIPTION:Bologna v Inter Milan - King Saud University Stadium - Italian
  Super Cup
STATUS:CONFIRMED
END:VEVENT
BEGIN:VEVENT
UID:74256bcbb24071b27b06c75ed40857f0@skysports.com
SEQUENCE:0
DTSTAMP:20260425T090908Z
DTSTART:20251010T162000Z
DTEND:20251010T182000Z
SUMMARY:Atletico Madrid v Inter Milan
LOCATION:28 March Stadium
DESCRIPTION:Atletico Madrid v Inter Milan - 28 March Stadium - Friendly Ma
 tch
STATUS:CONFIRMED
END:VEVENT
BEGIN:VEVENT
UID:1d05983c654ca096d4fc0cf857f3cf94@skysports.com
SEQUENCE:0
DTSTAMP:20260425T090908Z
DTSTART:20260204T200000Z
DTEND:20260204T220000Z
SUMMARY:Inter Milan v Torino
LOCATION:U-Power Stadium
DESCRIPTION:Inter Milan v Torino - U-Power Stadium - Coppa Italia
STATUS:CONFIRMED
END:VEVENT
BEGIN:VEVENT
UID:62a1a31c4d543fd7f9f56d22a449689d@skysports.com
SEQUENCE:0
DTSTAMP:20260425T090908Z
DTSTART:20260421T190000Z
DTEND:20260421T210000Z
SUMMARY:Inter Milan v Como
LOCATION:Giuseppe Meazza
DESCRIPTION:Inter Milan v Como - Giuseppe Meazza - Coppa Italia
STATUS:CONFIRMED
END:VEVENT
BEGIN:VEVENT
UID:1904d10c9970cf8dcc0fa475943b6664@skysports.com
SEQUENCE:0
DTSTAMP:20260425T090908Z
DTSTART:20260303T200000Z
DTEND:20260303T220000Z
SUMMARY:Como v Inter Milan
LOCATION:Giuseppe Sinigaglia
DESCRIPTION:Como v Inter Milan - Giuseppe Sinigaglia - Coppa Italia
STATUS:CONFIRMED
END:VEVENT
BEGIN:VEVENT
UID:39f0025b7010bcadd6cb5cfe8b985916@skysports.com
SEQUENCE:0
DTSTAMP:20260425T090908Z
DTSTART:20260513T190000Z
DTEND:20260513T210000Z
SUMMARY:Lazio v Inter Milan
LOCATION:Olimpico
DESCRIPTION:Lazio v Inter Milan - Olimpico - Coppa Italia
STATUS:CONFIRMED
END:VEVENT
BEGIN:VEVENT
UID:56626e8231a34d250648d677524ec93c@skysports.com
SEQUENCE:0
DTSTAMP:20260425T090908Z
DTSTART:20260218T200000Z
DTEND:20260218T220000Z
SUMMARY:Bodo/Glimt v Inter Milan
LOCATION:Aspmyra Stadion
DESCRIPTION:Bodo/Glimt v Inter Milan - Aspmyra Stadion - UEFA Champions Le
 ague
STATUS:CONFIRMED
END:VEVENT
BEGIN:VEVENT
UID:e5a21a971c48844992b812518dc6bc48@skysports.com
SEQUENCE:0
DTSTAMP:20260425T090908Z
DTSTART:20260224T200000Z
DTEND:20260224T220000Z
SUMMARY:Inter Milan v Bodo/Glimt
LOCATION:Giuseppe Meazza
DESCRIPTION:Inter Milan v Bodo/Glimt - Giuseppe Meazza - UEFA Champions Le
 ague
STATUS:CONFIRMED
END:VEVENT
BEGIN:VEVENT
UID:98ef29b6f8ee8f960be2e00172a39795@skysports.com
SEQUENCE:0
DTSTAMP:20260425T090908Z
DTSTART:20260805T100000Z
DTEND:20260805T120000Z
SUMMARY:AC Milan v Inter Milan
LOCATION:Optus Stadium
DESCRIPTION:AC Milan v Inter Milan - Optus Stadium - Friendly Match
STATUS:CONFIRMED
END:VEVENT
BEGIN:VEVENT
UID:9d89a07c7e05dcafb452889b9943e762@skysports.com
SEQUENCE:0
DTSTAMP:20260425T090908Z
DTSTART:20260808T100000Z
DTEND:20260808T120000Z
SUMMARY:Juventus v Inter Milan
LOCATION:Optus Stadium
DESCRIPTION:Juventus v Inter Milan - Optus Stadium - Friendly Match
STATUS:CONFIRMED
END:VEVENT
END:VCALENDAR