BEGIN:VCALENDAR
VERSION:2.0
PRODID:-//Sky Sports SSDM//NONSGML Event Calendar//EN
URL:https://www.skysports.com/calendars/football/fixtures/teams/ipswich-to
 wn
CALSCALE:GREGORIAN
METHOD:PUBLISH
NAME:Ipswich Town Fixtures
X-WR-CALNAME:Ipswich Town Fixtures
X-WR-CALDESC:Ipswich Town fixtures provided by Sky Sports (https://www.sky
 sports.com)
REFRESH-INTERVAL;VALUE=DURATION:PT1H
X-PUBLISHED-TTL:PT1H
BEGIN:VEVENT
UID:f713b6f7e1c426c000b0d9c617404bb5@skysports.com
SEQUENCE:0
DTSTAMP:20260425T090018Z
DTSTART:20250808T190000Z
DTEND:20250808T210000Z
SUMMARY:Birmingham City v Ipswich Town
LOCATION:St. Andrew's Stadium
DESCRIPTION:Birmingham City v Ipswich Town - St. Andrew's Stadium - Sky Be
 t Championship - Live on Sky Sports Football
STATUS:CONFIRMED
END:VEVENT
BEGIN:VEVENT
UID:98766c8308d40f36cdd28ff470da202d@skysports.com
SEQUENCE:0
DTSTAMP:20260425T090018Z
DTSTART:20250817T110000Z
DTEND:20250817T130000Z
SUMMARY:Ipswich Town v Southampton
LOCATION:Portman Road
DESCRIPTION:Ipswich Town v Southampton - Portman Road - Sky Bet Championsh
 ip - Live on Sky Sports Football
STATUS:CONFIRMED
END:VEVENT
BEGIN:VEVENT
UID:6900d9643abd2c0bf585fe56d6de68dc@skysports.com
SEQUENCE:0
DTSTAMP:20260425T090018Z
DTSTART:20250823T140000Z
DTEND:20250823T160000Z
SUMMARY:Preston North End v Ipswich Town
LOCATION:Deepdale
DESCRIPTION:Preston North End v Ipswich Town - Deepdale - Sky Bet Champion
 ship
STATUS:CONFIRMED
END:VEVENT
BEGIN:VEVENT
UID:4b1e8cdd535a32b65b59668332c0a8ef@skysports.com
SEQUENCE:0
DTSTAMP:20260425T090018Z
DTSTART:20250830T140000Z
DTEND:20250830T160000Z
SUMMARY:Ipswich Town v Derby County
LOCATION:Portman Road
DESCRIPTION:Ipswich Town v Derby County - Portman Road - Sky Bet Champions
 hip
STATUS:CONFIRMED
END:VEVENT
BEGIN:VEVENT
UID:d5ffe839423734c7ef489f1be1483caf@skysports.com
SEQUENCE:0
DTSTAMP:20260425T090018Z
DTSTART:20250912T190000Z
DTEND:20250912T210000Z
SUMMARY:Ipswich Town v Sheffield United
LOCATION:Portman Road
DESCRIPTION:Ipswich Town v Sheffield United - Portman Road - Sky Bet Champ
 ionship - Live on Sky Sports Main Event and Sky Sports Football
STATUS:CONFIRMED
END:VEVENT
BEGIN:VEVENT
UID:bc5fddc662e615d515d9b5b6c0f54348@skysports.com
SEQUENCE:0
DTSTAMP:20260425T090018Z
DTSTART:20251202T194500Z
DTEND:20251202T214500Z
SUMMARY:Blackburn Rovers v Ipswich Town
LOCATION:Ewood Park
DESCRIPTION:Blackburn Rovers v Ipswich Town - Ewood Park - Sky Bet Champio
 nship - Live on Sky Sports+
STATUS:CONFIRMED
END:VEVENT
BEGIN:VEVENT
UID:e28fa0b90cb6bd6c18876fb116bc42bf@skysports.com
SEQUENCE:0
DTSTAMP:20260425T090018Z
DTSTART:20250927T140000Z
DTEND:20250927T160000Z
SUMMARY:Ipswich Town v Portsmouth
LOCATION:Portman Road
DESCRIPTION:Ipswich Town v Portsmouth - Portman Road - Sky Bet Championshi
 p
STATUS:CONFIRMED
END:VEVENT
BEGIN:VEVENT
UID:565482465eb99186a895e0eb24f1b8f4@skysports.com
SEQUENCE:0
DTSTAMP:20260425T090018Z
DTSTART:20250930T184500Z
DTEND:20250930T204500Z
SUMMARY:Bristol City v Ipswich Town
LOCATION:Ashton Gate Stadium
DESCRIPTION:Bristol City v Ipswich Town - Ashton Gate Stadium - Sky Bet Ch
 ampionship - Live on Sky Sports+
STATUS:CONFIRMED
END:VEVENT
BEGIN:VEVENT
UID:065519d5583031133a020d19334faf45@skysports.com
SEQUENCE:0
DTSTAMP:20260425T090018Z
DTSTART:20251005T110000Z
DTEND:20251005T130000Z
SUMMARY:Ipswich Town v Norwich City
LOCATION:Portman Road
DESCRIPTION:Ipswich Town v Norwich City - Portman Road - Sky Bet Champions
 hip - Live on Sky Sports Football
STATUS:CONFIRMED
END:VEVENT
BEGIN:VEVENT
UID:2a46feee080666a044dc6d61e8884f1d@skysports.com
SEQUENCE:0
DTSTAMP:20260425T090018Z
DTSTART:20251017T190000Z
DTEND:20251017T210000Z
SUMMARY:Middlesbrough v Ipswich Town
LOCATION:Riverside Stadium
DESCRIPTION:Middlesbrough v Ipswich Town - Riverside Stadium - Sky Bet Cha
 mpionship - Live on Sky Sports Main Event and Sky Sports Football
STATUS:CONFIRMED
END:VEVENT
BEGIN:VEVENT
UID:60430facbdc64806da51a7bf608b2855@skysports.com
SEQUENCE:0
DTSTAMP:20260425T090018Z
DTSTART:20251021T184500Z
DTEND:20251021T204500Z
SUMMARY:Ipswich Town v Charlton Athletic
LOCATION:Portman Road
DESCRIPTION:Ipswich Town v Charlton Athletic - Portman Road - Sky Bet Cham
 pionship - Live on Sky Sports+
STATUS:CONFIRMED
END:VEVENT
BEGIN:VEVENT
UID:fb44a9f0daa203c543386ed2fdfa9e74@skysports.com
SEQUENCE:0
DTSTAMP:20260425T090018Z
DTSTART:20251025T113000Z
DTEND:20251025T133000Z
SUMMARY:Ipswich Town v West Bromwich Albion
LOCATION:Portman Road
DESCRIPTION:Ipswich Town v West Bromwich Albion - Portman Road - Sky Bet C
 hampionship - Live on Sky Sports Main Event and Sky Sports Football
STATUS:CONFIRMED
END:VEVENT
BEGIN:VEVENT
UID:c3a942979111412b4d8702d17811f6bb@skysports.com
SEQUENCE:0
DTSTAMP:20260425T090018Z
DTSTART:20251101T150000Z
DTEND:20251101T170000Z
SUMMARY:Queens Park Rangers v Ipswich Town
LOCATION:Loftus Road Stadium
DESCRIPTION:Queens Park Rangers v Ipswich Town - Loftus Road Stadium - Sky
  Bet Championship
STATUS:CONFIRMED
END:VEVENT
BEGIN:VEVENT
UID:394c745b78557d5ee0d5a5d534a4091e@skysports.com
SEQUENCE:0
DTSTAMP:20260425T090018Z
DTSTART:20251104T194500Z
DTEND:20251104T214500Z
SUMMARY:Ipswich Town v Watford
LOCATION:Portman Road
DESCRIPTION:Ipswich Town v Watford - Portman Road - Sky Bet Championship -
  Live on Sky Sports+
STATUS:CONFIRMED
END:VEVENT
BEGIN:VEVENT
UID:3f9553247151f0a7b7faa89f1ff779b1@skysports.com
SEQUENCE:0
DTSTAMP:20260425T090018Z
DTSTART:20251108T150000Z
DTEND:20251108T170000Z
SUMMARY:Swansea City v Ipswich Town
LOCATION:Swansea.com Stadium
DESCRIPTION:Swansea City v Ipswich Town - Swansea.com Stadium - Sky Bet Ch
 ampionship
STATUS:CONFIRMED
END:VEVENT
BEGIN:VEVENT
UID:e5dfb67efedff39ca76f80fc5f38fb53@skysports.com
SEQUENCE:0
DTSTAMP:20260425T090018Z
DTSTART:20251122T150000Z
DTEND:20251122T170000Z
SUMMARY:Ipswich Town v Wrexham
LOCATION:Portman Road
DESCRIPTION:Ipswich Town v Wrexham - Portman Road - Sky Bet Championship
STATUS:CONFIRMED
END:VEVENT
BEGIN:VEVENT
UID:8f79e25b2b72046148f7716f31a12509@skysports.com
SEQUENCE:0
DTSTAMP:20260425T090018Z
DTSTART:20251125T194500Z
DTEND:20251125T214500Z
SUMMARY:Hull City v Ipswich Town
LOCATION:MKM Stadium
DESCRIPTION:Hull City v Ipswich Town - MKM Stadium - Sky Bet Championship 
 - Live on Sky Sports+
STATUS:CONFIRMED
END:VEVENT
BEGIN:VEVENT
UID:153fbad5b2e79f250077c97d728c4af6@skysports.com
SEQUENCE:0
DTSTAMP:20260425T090018Z
DTSTART:20251128T200000Z
DTEND:20251128T220000Z
SUMMARY:Oxford United v Ipswich Town
LOCATION:The Kassam Stadium
DESCRIPTION:Oxford United v Ipswich Town - The Kassam Stadium - Sky Bet Ch
 ampionship - Live on Sky Sports Football
STATUS:CONFIRMED
END:VEVENT
BEGIN:VEVENT
UID:5cbd5f633377662c4e2cd4367acfbd6c@skysports.com
SEQUENCE:0
DTSTAMP:20260425T090018Z
DTSTART:20251206T150000Z
DTEND:20251206T170000Z
SUMMARY:Ipswich Town v Coventry City
LOCATION:Portman Road
DESCRIPTION:Ipswich Town v Coventry City - Portman Road - Sky Bet Champion
 ship
STATUS:CONFIRMED
END:VEVENT
BEGIN:VEVENT
UID:d4ef83af4126da65715dda5994326d4c@skysports.com
SEQUENCE:0
DTSTAMP:20260425T090018Z
DTSTART:20251210T194500Z
DTEND:20251210T214500Z
SUMMARY:Ipswich Town v Stoke City
LOCATION:Portman Road
DESCRIPTION:Ipswich Town v Stoke City - Portman Road - Sky Bet Championshi
 p - Live on Sky Sports+
STATUS:CONFIRMED
END:VEVENT
BEGIN:VEVENT
UID:2707f77bab74b38410057c2a1f13d14f@skysports.com
SEQUENCE:0
DTSTAMP:20260425T090018Z
DTSTART:20251213T150000Z
DTEND:20251213T170000Z
SUMMARY:Leicester City v Ipswich Town
LOCATION:The King Power Stadium
DESCRIPTION:Leicester City v Ipswich Town - The King Power Stadium - Sky B
 et Championship
STATUS:CONFIRMED
END:VEVENT
BEGIN:VEVENT
UID:df2cb9f26bf1a7bd016ee42ca9b3b1dd@skysports.com
SEQUENCE:0
DTSTAMP:20260425T090018Z
DTSTART:20251220T150000Z
DTEND:20251220T170000Z
SUMMARY:Ipswich Town v Sheffield Wednesday
LOCATION:Portman Road
DESCRIPTION:Ipswich Town v Sheffield Wednesday - Portman Road - Sky Bet Ch
 ampionship
STATUS:CONFIRMED
END:VEVENT
BEGIN:VEVENT
UID:e66ae1ad7a0b1ca2dbea079d1ad6ad8b@skysports.com
SEQUENCE:0
DTSTAMP:20260425T090018Z
DTSTART:20251226T130000Z
DTEND:20251226T150000Z
SUMMARY:Millwall v Ipswich Town
LOCATION:The Den
DESCRIPTION:Millwall v Ipswich Town - The Den - Sky Bet Championship - Liv
 e on Sky Sports+
STATUS:CONFIRMED
END:VEVENT
BEGIN:VEVENT
UID:b0a38b1f4be984634d5cc8e272f09c70@skysports.com
SEQUENCE:0
DTSTAMP:20260425T090018Z
DTSTART:20251229T180000Z
DTEND:20251229T200000Z
SUMMARY:Coventry City v Ipswich Town
LOCATION:The Coventry Building Society Arena
DESCRIPTION:Coventry City v Ipswich Town - The Coventry Building Society A
 rena - Sky Bet Championship - Live on Sky Sports Football
STATUS:CONFIRMED
END:VEVENT
BEGIN:VEVENT
UID:f231cc2f2a7d3bbb747b15974e5a3884@skysports.com
SEQUENCE:0
DTSTAMP:20260425T090018Z
DTSTART:20260101T150000Z
DTEND:20260101T170000Z
SUMMARY:Ipswich Town v Oxford United
LOCATION:Portman Road
DESCRIPTION:Ipswich Town v Oxford United - Portman Road - Sky Bet Champion
 ship - Live on Sky Sports+
STATUS:CONFIRMED
END:VEVENT
BEGIN:VEVENT
UID:2c39fe2e4487a7e2885e586cd96f7147@skysports.com
SEQUENCE:0
DTSTAMP:20260425T090018Z
DTSTART:20260414T190000Z
DTEND:20260414T210000Z
SUMMARY:Portsmouth v Ipswich Town
LOCATION:Fratton Park
DESCRIPTION:Portsmouth v Ipswich Town - Fratton Park - Sky Bet Championshi
 p - Live on Sky Sports Football and Sky Sports Main Event
STATUS:CONFIRMED
END:VEVENT
BEGIN:VEVENT
UID:29441c0c5187348add4f3ec7c43e5b2d@skysports.com
SEQUENCE:0
DTSTAMP:20260425T090018Z
DTSTART:20260117T123000Z
DTEND:20260117T143000Z
SUMMARY:Ipswich Town v Blackburn Rovers
LOCATION:Portman Road
DESCRIPTION:Ipswich Town v Blackburn Rovers - Portman Road - Sky Bet Champ
 ionship - Live on Sky Sports+
STATUS:CONFIRMED
END:VEVENT
BEGIN:VEVENT
UID:fdc1d85ce9cf5af3e052fcf8ade5faa1@skysports.com
SEQUENCE:0
DTSTAMP:20260425T090018Z
DTSTART:20260120T194500Z
DTEND:20260120T214500Z
SUMMARY:Ipswich Town v Bristol City
LOCATION:Portman Road
DESCRIPTION:Ipswich Town v Bristol City - Portman Road - Sky Bet Champions
 hip - Live on Sky Sports+
STATUS:CONFIRMED
END:VEVENT
BEGIN:VEVENT
UID:974322bfa8604587a658e22f0bdf16d0@skysports.com
SEQUENCE:0
DTSTAMP:20260425T090018Z
DTSTART:20260124T150000Z
DTEND:20260124T170000Z
SUMMARY:Sheffield United v Ipswich Town
LOCATION:Bramall Lane
DESCRIPTION:Sheffield United v Ipswich Town - Bramall Lane - Sky Bet Champ
 ionship
STATUS:CONFIRMED
END:VEVENT
BEGIN:VEVENT
UID:b9e4b5ca09e0c974cecb51a9a20937b7@skysports.com
SEQUENCE:0
DTSTAMP:20260425T090018Z
DTSTART:20260131T150000Z
DTEND:20260131T170000Z
SUMMARY:Ipswich Town v Preston North End
LOCATION:Portman Road
DESCRIPTION:Ipswich Town v Preston North End - Portman Road - Sky Bet Cham
 pionship
STATUS:CONFIRMED
END:VEVENT
BEGIN:VEVENT
UID:1b92d4f7871df63d3a1f9348ecd26692@skysports.com
SEQUENCE:0
DTSTAMP:20260425T090018Z
DTSTART:20260207T123100Z
DTEND:20260207T143100Z
SUMMARY:Derby County v Ipswich Town
LOCATION:Pride Park Stadium
DESCRIPTION:Derby County v Ipswich Town - Pride Park Stadium - Sky Bet Cha
 mpionship - Live on Sky Sports Main Event and Sky Sports Football
STATUS:CONFIRMED
END:VEVENT
BEGIN:VEVENT
UID:0a454d5f01282dfd7fe0f8a2382c7f54@skysports.com
SEQUENCE:0
DTSTAMP:20260425T090018Z
DTSTART:20260303T194500Z
DTEND:20260303T214500Z
SUMMARY:Ipswich Town v Hull City
LOCATION:Portman Road
DESCRIPTION:Ipswich Town v Hull City - Portman Road - Sky Bet Championship
  - Live on Sky Sports+
STATUS:CONFIRMED
END:VEVENT
BEGIN:VEVENT
UID:6af22bc785f00514c660c67290707d6b@skysports.com
SEQUENCE:0
DTSTAMP:20260425T090018Z
DTSTART:20260221T150000Z
DTEND:20260221T170000Z
SUMMARY:Wrexham v Ipswich Town
LOCATION:STōK Cae Ras
DESCRIPTION:Wrexham v Ipswich Town - STōK Cae Ras - Sky Bet Championship
STATUS:CONFIRMED
END:VEVENT
BEGIN:VEVENT
UID:df260c04dba7d7d4c03ef3be6a1c3504@skysports.com
SEQUENCE:0
DTSTAMP:20260425T090018Z
DTSTART:20260224T194500Z
DTEND:20260224T214500Z
SUMMARY:Watford v Ipswich Town
LOCATION:Vicarage Road
DESCRIPTION:Watford v Ipswich Town - Vicarage Road - Sky Bet Championship 
 - Live on Sky Sports+
STATUS:CONFIRMED
END:VEVENT
BEGIN:VEVENT
UID:7fdb7468196aa7604bfa19cd7dec6684@skysports.com
SEQUENCE:0
DTSTAMP:20260425T090018Z
DTSTART:20260228T150000Z
DTEND:20260228T170000Z
SUMMARY:Ipswich Town v Swansea City
LOCATION:Portman Road
DESCRIPTION:Ipswich Town v Swansea City - Portman Road - Sky Bet Champions
 hip
STATUS:CONFIRMED
END:VEVENT
BEGIN:VEVENT
UID:42b2b2efca23ed3a147f58e00bb52e66@skysports.com
SEQUENCE:0
DTSTAMP:20260425T090018Z
DTSTART:20260307T150000Z
DTEND:20260307T170000Z
SUMMARY:Ipswich Town v Leicester City
LOCATION:Portman Road
DESCRIPTION:Ipswich Town v Leicester City - Portman Road - Sky Bet Champio
 nship
STATUS:CONFIRMED
END:VEVENT
BEGIN:VEVENT
UID:432ba708d862fae7f0177f2f387f65fa@skysports.com
SEQUENCE:0
DTSTAMP:20260425T090018Z
DTSTART:20260310T200000Z
DTEND:20260310T220000Z
SUMMARY:Stoke City v Ipswich Town
LOCATION:Bet365 Stadium
DESCRIPTION:Stoke City v Ipswich Town - Bet365 Stadium - Sky Bet Champions
 hip - Live on Sky Sports Main Event and Sky Sports Football
STATUS:CONFIRMED
END:VEVENT
BEGIN:VEVENT
UID:895f2c5b7b06acb0c75b9c4a744aa93e@skysports.com
SEQUENCE:0
DTSTAMP:20260425T090018Z
DTSTART:20260314T150000Z
DTEND:20260314T170000Z
SUMMARY:Sheffield Wednesday v Ipswich Town
LOCATION:Hillsborough
DESCRIPTION:Sheffield Wednesday v Ipswich Town - Hillsborough - Sky Bet Ch
 ampionship
STATUS:CONFIRMED
END:VEVENT
BEGIN:VEVENT
UID:44133ff7289a5df5cdc737f3d67a357f@skysports.com
SEQUENCE:0
DTSTAMP:20260425T090018Z
DTSTART:20260321T123000Z
DTEND:20260321T143000Z
SUMMARY:Ipswich Town v Millwall
LOCATION:Portman Road
DESCRIPTION:Ipswich Town v Millwall - Portman Road - Sky Bet Championship 
 - Live on Sky Sports Main Event and Sky Sports Football
STATUS:CONFIRMED
END:VEVENT
BEGIN:VEVENT
UID:344067d1bb2ddbb2f05e62fd47130c53@skysports.com
SEQUENCE:0
DTSTAMP:20260425T090018Z
DTSTART:20260428T184500Z
DTEND:20260428T204500Z
SUMMARY:Southampton v Ipswich Town
LOCATION:St. Mary's Stadium
DESCRIPTION:Southampton v Ipswich Town - St. Mary's Stadium - Sky Bet Cham
 pionship - Live on Sky Sports Main Event and Sky Sports Football
STATUS:CONFIRMED
END:VEVENT
BEGIN:VEVENT
UID:e66ba7d37f347499a0d8a8aa06054c19@skysports.com
SEQUENCE:0
DTSTAMP:20260425T090018Z
DTSTART:20260406T140000Z
DTEND:20260406T160000Z
SUMMARY:Ipswich Town v Birmingham City
LOCATION:Portman Road
DESCRIPTION:Ipswich Town v Birmingham City - Portman Road - Sky Bet Champi
 onship - Live on Sky Sports+
STATUS:CONFIRMED
END:VEVENT
BEGIN:VEVENT
UID:fdfd34a39eba9d18941896568957a1f0@skysports.com
SEQUENCE:0
DTSTAMP:20260425T090018Z
DTSTART:20260411T113000Z
DTEND:20260411T133000Z
SUMMARY:Norwich City v Ipswich Town
LOCATION:Carrow Road
DESCRIPTION:Norwich City v Ipswich Town - Carrow Road - Sky Bet Championsh
 ip - Live on Sky Sports Main Event and Sky Sports Football
STATUS:CONFIRMED
END:VEVENT
BEGIN:VEVENT
UID:b5f4040fce60f29b19c4bb827ad60a82@skysports.com
SEQUENCE:0
DTSTAMP:20260425T090018Z
DTSTART:20260419T110000Z
DTEND:20260419T130000Z
SUMMARY:Ipswich Town v Middlesbrough
LOCATION:Portman Road
DESCRIPTION:Ipswich Town v Middlesbrough - Portman Road - Sky Bet Champion
 ship - Live on Sky Sports Football
STATUS:CONFIRMED
END:VEVENT
BEGIN:VEVENT
UID:251f4d0f314403bf5c880b9c83455a69@skysports.com
SEQUENCE:0
DTSTAMP:20260425T090018Z
DTSTART:20260422T184500Z
DTEND:20260422T204500Z
SUMMARY:Charlton Athletic v Ipswich Town
LOCATION:The Valley
DESCRIPTION:Charlton Athletic v Ipswich Town - The Valley - Sky Bet Champi
 onship - Live on Sky Sports Football
STATUS:CONFIRMED
END:VEVENT
BEGIN:VEVENT
UID:3f8367a4dc1ce9454e177668001e1964@skysports.com
SEQUENCE:0
DTSTAMP:20260425T090018Z
DTSTART:20260425T113000Z
DTEND:20260425T133000Z
SUMMARY:West Bromwich Albion v Ipswich Town
LOCATION:The Hawthorns
DESCRIPTION:West Bromwich Albion v Ipswich Town - The Hawthorns - Sky Bet 
 Championship - Live on Sky Sports Main Event and Sky Sports Football
STATUS:CONFIRMED
END:VEVENT
BEGIN:VEVENT
UID:dfce20702adad78da908814307b2b6be@skysports.com
SEQUENCE:0
DTSTAMP:20260425T090018Z
DTSTART:20260502T113000Z
DTEND:20260502T133000Z
SUMMARY:Ipswich Town v Queens Park Rangers
LOCATION:Portman Road
DESCRIPTION:Ipswich Town v Queens Park Rangers - Portman Road - Sky Bet Ch
 ampionship
STATUS:CONFIRMED
END:VEVENT
BEGIN:VEVENT
UID:80906d9c660774a985eb30c78b797f37@skysports.com
SEQUENCE:0
DTSTAMP:20260425T090018Z
DTSTART:20250812T190000Z
DTEND:20250812T210000Z
SUMMARY:Bromley v Ipswich Town
LOCATION:Hayes Lane Stadium
DESCRIPTION:Bromley v Ipswich Town - Hayes Lane Stadium - Carabao Cup - Li
 ve on Sky Sports Football
STATUS:CONFIRMED
END:VEVENT
BEGIN:VEVENT
UID:97d01676b3bec4d3449d9c7523b0efe8@skysports.com
SEQUENCE:0
DTSTAMP:20260425T090018Z
DTSTART:20260110T150000Z
DTEND:20260110T170000Z
SUMMARY:Ipswich Town v Blackpool
LOCATION:Portman Road
DESCRIPTION:Ipswich Town v Blackpool - Portman Road - The FA Cup
STATUS:CONFIRMED
END:VEVENT
BEGIN:VEVENT
UID:1fc03f43bc471d6d50e458c52d3c1157@skysports.com
SEQUENCE:0
DTSTAMP:20260425T090018Z
DTSTART:20260213T194500Z
DTEND:20260213T214500Z
SUMMARY:Wrexham v Ipswich Town
LOCATION:STōK Cae Ras
DESCRIPTION:Wrexham v Ipswich Town - STōK Cae Ras - The FA Cup
STATUS:CONFIRMED
END:VEVENT
END:VCALENDAR