BEGIN:VCALENDAR
VERSION:2.0
PRODID:-//Sky Sports SSDM//NONSGML Event Calendar//EN
URL:https://www.skysports.com/calendars/football/fixtures/teams/juventus
CALSCALE:GREGORIAN
METHOD:PUBLISH
NAME:Juventus Fixtures
X-WR-CALNAME:Juventus Fixtures
X-WR-CALDESC:Juventus fixtures provided by Sky Sports (https://www.skyspor
 ts.com)
REFRESH-INTERVAL;VALUE=DURATION:PT1H
X-PUBLISHED-TTL:PT1H
BEGIN:VEVENT
UID:566572572d9fc6648946895448593b0d@skysports.com
SEQUENCE:0
DTSTAMP:20260425T090018Z
DTSTART:20250626T190000Z
DTEND:20250626T210000Z
SUMMARY:Juventus v Manchester City
LOCATION:Citrus Bowl
DESCRIPTION:Juventus v Manchester City - Citrus Bowl - FIFA Club World Cup
STATUS:CONFIRMED
END:VEVENT
BEGIN:VEVENT
UID:e11c16625452a70d409a89fe8e96a1e2@skysports.com
SEQUENCE:0
DTSTAMP:20260425T090018Z
DTSTART:20250701T190000Z
DTEND:20250701T210000Z
SUMMARY:Real Madrid v Juventus
LOCATION:Hard Rock Stadium
DESCRIPTION:Real Madrid v Juventus - Hard Rock Stadium - FIFA Club World C
 up
STATUS:CONFIRMED
END:VEVENT
BEGIN:VEVENT
UID:2ade9eceb82fb5ee16f630f6802e740e@skysports.com
SEQUENCE:0
DTSTAMP:20260425T090018Z
DTSTART:20250824T184500Z
DTEND:20250824T204500Z
SUMMARY:Juventus v Parma
LOCATION:Juventus Stadium
DESCRIPTION:Juventus v Parma - Juventus Stadium - Italian Serie A
STATUS:CONFIRMED
END:VEVENT
BEGIN:VEVENT
UID:db69868e1a9931220506aea58185016e@skysports.com
SEQUENCE:0
DTSTAMP:20260425T090018Z
DTSTART:20250831T163000Z
DTEND:20250831T183000Z
SUMMARY:Genoa v Juventus
LOCATION:Luigi Ferraris
DESCRIPTION:Genoa v Juventus - Luigi Ferraris - Italian Serie A
STATUS:CONFIRMED
END:VEVENT
BEGIN:VEVENT
UID:d90d17d0b34bd75bc91313a1ced7ed43@skysports.com
SEQUENCE:0
DTSTAMP:20260425T090018Z
DTSTART:20250913T160000Z
DTEND:20250913T180000Z
SUMMARY:Juventus v Inter Milan
LOCATION:Juventus Stadium
DESCRIPTION:Juventus v Inter Milan - Juventus Stadium - Italian Serie A
STATUS:CONFIRMED
END:VEVENT
BEGIN:VEVENT
UID:87bf73629c7ad8cc52c9b578b7b1f0a9@skysports.com
SEQUENCE:0
DTSTAMP:20260425T090018Z
DTSTART:20250920T160000Z
DTEND:20250920T180000Z
SUMMARY:Verona v Juventus
LOCATION:Marc'Antonio Bentegodi
DESCRIPTION:Verona v Juventus - Marc'Antonio Bentegodi - Italian Serie A
STATUS:CONFIRMED
END:VEVENT
BEGIN:VEVENT
UID:8365df9268db9518322dc0a0668838cd@skysports.com
SEQUENCE:0
DTSTAMP:20260425T090018Z
DTSTART:20250927T160000Z
DTEND:20250927T180000Z
SUMMARY:Juventus v Atalanta
LOCATION:Juventus Stadium
DESCRIPTION:Juventus v Atalanta - Juventus Stadium - Italian Serie A
STATUS:CONFIRMED
END:VEVENT
BEGIN:VEVENT
UID:aff5b1eaed9aab405c047e5c634be5a4@skysports.com
SEQUENCE:0
DTSTAMP:20260425T090018Z
DTSTART:20251005T184500Z
DTEND:20251005T204500Z
SUMMARY:Juventus v AC Milan
LOCATION:Juventus Stadium
DESCRIPTION:Juventus v AC Milan - Juventus Stadium - Italian Serie A
STATUS:CONFIRMED
END:VEVENT
BEGIN:VEVENT
UID:5bd7ebec328048446e6d624e6f5de249@skysports.com
SEQUENCE:0
DTSTAMP:20260425T090018Z
DTSTART:20251019T103000Z
DTEND:20251019T123000Z
SUMMARY:Como v Juventus
LOCATION:Giuseppe Sinigaglia
DESCRIPTION:Como v Juventus - Giuseppe Sinigaglia - Italian Serie A
STATUS:CONFIRMED
END:VEVENT
BEGIN:VEVENT
UID:d8b175e8118a7783ea017fff6ea73629@skysports.com
SEQUENCE:0
DTSTAMP:20260425T090018Z
DTSTART:20251026T194500Z
DTEND:20251026T214500Z
SUMMARY:Lazio v Juventus
LOCATION:Olimpico
DESCRIPTION:Lazio v Juventus - Olimpico - Italian Serie A
STATUS:CONFIRMED
END:VEVENT
BEGIN:VEVENT
UID:b87d83546def8c0ce539b03bf475e1da@skysports.com
SEQUENCE:0
DTSTAMP:20260425T090018Z
DTSTART:20251029T173000Z
DTEND:20251029T193000Z
SUMMARY:Juventus v Udinese
LOCATION:Juventus Stadium
DESCRIPTION:Juventus v Udinese - Juventus Stadium - Italian Serie A
STATUS:CONFIRMED
END:VEVENT
BEGIN:VEVENT
UID:dc42ebf98e40b64dc7067d2578b4ccdc@skysports.com
SEQUENCE:0
DTSTAMP:20260425T090018Z
DTSTART:20251101T194500Z
DTEND:20251101T214500Z
SUMMARY:Cremonese v Juventus
LOCATION:Giovanni Zini
DESCRIPTION:Cremonese v Juventus - Giovanni Zini - Italian Serie A
STATUS:CONFIRMED
END:VEVENT
BEGIN:VEVENT
UID:52e26ebef03853e517b01f1ad7172601@skysports.com
SEQUENCE:0
DTSTAMP:20260425T090018Z
DTSTART:20251108T170000Z
DTEND:20251108T190000Z
SUMMARY:Juventus v Torino
LOCATION:Juventus Stadium
DESCRIPTION:Juventus v Torino - Juventus Stadium - Italian Serie A
STATUS:CONFIRMED
END:VEVENT
BEGIN:VEVENT
UID:50029526b860d098d8868e0a7badd478@skysports.com
SEQUENCE:0
DTSTAMP:20260425T090018Z
DTSTART:20251122T170000Z
DTEND:20251122T190000Z
SUMMARY:Fiorentina v Juventus
LOCATION:Artemio Franchi
DESCRIPTION:Fiorentina v Juventus - Artemio Franchi - Italian Serie A
STATUS:CONFIRMED
END:VEVENT
BEGIN:VEVENT
UID:f4c8f5911f6cfc42c19c684a50183c72@skysports.com
SEQUENCE:0
DTSTAMP:20260425T090018Z
DTSTART:20251129T170000Z
DTEND:20251129T190000Z
SUMMARY:Juventus v Cagliari
LOCATION:Juventus Stadium
DESCRIPTION:Juventus v Cagliari - Juventus Stadium - Italian Serie A
STATUS:CONFIRMED
END:VEVENT
BEGIN:VEVENT
UID:7e364a794d6d39110ce19adedd62bad9@skysports.com
SEQUENCE:0
DTSTAMP:20260425T090018Z
DTSTART:20251207T194500Z
DTEND:20251207T214500Z
SUMMARY:Napoli v Juventus
LOCATION:Diego Armando Maradona
DESCRIPTION:Napoli v Juventus - Diego Armando Maradona - Italian Serie A
STATUS:CONFIRMED
END:VEVENT
BEGIN:VEVENT
UID:37dfba6253d38f9ef227fe8d5370bd40@skysports.com
SEQUENCE:0
DTSTAMP:20260425T090018Z
DTSTART:20251214T194500Z
DTEND:20251214T214500Z
SUMMARY:Bologna v Juventus
LOCATION:Renato Dall'Ara
DESCRIPTION:Bologna v Juventus - Renato Dall'Ara - Italian Serie A
STATUS:CONFIRMED
END:VEVENT
BEGIN:VEVENT
UID:f0791636820c128d025b0fb7b38ff7ed@skysports.com
SEQUENCE:0
DTSTAMP:20260425T090018Z
DTSTART:20251220T194500Z
DTEND:20251220T214500Z
SUMMARY:Juventus v Roma
LOCATION:Juventus Stadium
DESCRIPTION:Juventus v Roma - Juventus Stadium - Italian Serie A
STATUS:CONFIRMED
END:VEVENT
BEGIN:VEVENT
UID:873e40ee76d36fed2950f9755c54ed89@skysports.com
SEQUENCE:0
DTSTAMP:20260425T090018Z
DTSTART:20251227T194500Z
DTEND:20251227T214500Z
SUMMARY:Pisa v Juventus
LOCATION:Arena Garibaldi Romeo Anconetani
DESCRIPTION:Pisa v Juventus - Arena Garibaldi Romeo Anconetani - Italian S
 erie A
STATUS:CONFIRMED
END:VEVENT
BEGIN:VEVENT
UID:1fffe42d58ef2f30f1785145a141bf47@skysports.com
SEQUENCE:0
DTSTAMP:20260425T090018Z
DTSTART:20260103T170000Z
DTEND:20260103T190000Z
SUMMARY:Juventus v Lecce
LOCATION:Juventus Stadium
DESCRIPTION:Juventus v Lecce - Juventus Stadium - Italian Serie A
STATUS:CONFIRMED
END:VEVENT
BEGIN:VEVENT
UID:75c3ebea989fb9ba508f8f5c855119de@skysports.com
SEQUENCE:0
DTSTAMP:20260425T090018Z
DTSTART:20260106T194500Z
DTEND:20260106T214500Z
SUMMARY:Sassuolo v Juventus
LOCATION:Citta del Tricolore
DESCRIPTION:Sassuolo v Juventus - Citta del Tricolore - Italian Serie A
STATUS:CONFIRMED
END:VEVENT
BEGIN:VEVENT
UID:8f001aec5ccadfdaebf3b6075a7f6f2d@skysports.com
SEQUENCE:0
DTSTAMP:20260425T090018Z
DTSTART:20260112T194500Z
DTEND:20260112T214500Z
SUMMARY:Juventus v Cremonese
LOCATION:Juventus Stadium
DESCRIPTION:Juventus v Cremonese - Juventus Stadium - Italian Serie A
STATUS:CONFIRMED
END:VEVENT
BEGIN:VEVENT
UID:0c5e2086ffa4ba240e7bf5bf7703b11a@skysports.com
SEQUENCE:0
DTSTAMP:20260425T090018Z
DTSTART:20260117T194500Z
DTEND:20260117T214500Z
SUMMARY:Cagliari v Juventus
LOCATION:Sardegna Arena
DESCRIPTION:Cagliari v Juventus - Sardegna Arena - Italian Serie A
STATUS:CONFIRMED
END:VEVENT
BEGIN:VEVENT
UID:c58cc9fff87fb4efc6e7bd09cf0638e5@skysports.com
SEQUENCE:0
DTSTAMP:20260425T090018Z
DTSTART:20260125T170000Z
DTEND:20260125T190000Z
SUMMARY:Juventus v Napoli
LOCATION:Juventus Stadium
DESCRIPTION:Juventus v Napoli - Juventus Stadium - Italian Serie A
STATUS:CONFIRMED
END:VEVENT
BEGIN:VEVENT
UID:fb111d1f35239d905e1c8b6c02f66575@skysports.com
SEQUENCE:0
DTSTAMP:20260425T090018Z
DTSTART:20260201T194500Z
DTEND:20260201T214500Z
SUMMARY:Parma v Juventus
LOCATION:Ennio Tardini
DESCRIPTION:Parma v Juventus - Ennio Tardini - Italian Serie A
STATUS:CONFIRMED
END:VEVENT
BEGIN:VEVENT
UID:be0f1530bc99d1433fded0a14dff1004@skysports.com
SEQUENCE:0
DTSTAMP:20260425T090018Z
DTSTART:20260208T194500Z
DTEND:20260208T214500Z
SUMMARY:Juventus v Lazio
LOCATION:Juventus Stadium
DESCRIPTION:Juventus v Lazio - Juventus Stadium - Italian Serie A
STATUS:CONFIRMED
END:VEVENT
BEGIN:VEVENT
UID:9d286fa3c5b7abbfa61a49cf81527f30@skysports.com
SEQUENCE:0
DTSTAMP:20260425T090018Z
DTSTART:20260214T194500Z
DTEND:20260214T214500Z
SUMMARY:Inter Milan v Juventus
LOCATION:Giuseppe Meazza
DESCRIPTION:Inter Milan v Juventus - Giuseppe Meazza - Italian Serie A
STATUS:CONFIRMED
END:VEVENT
BEGIN:VEVENT
UID:508f934e7903bfa54f3b1500ff5e7236@skysports.com
SEQUENCE:0
DTSTAMP:20260425T090018Z
DTSTART:20260221T140000Z
DTEND:20260221T160000Z
SUMMARY:Juventus v Como
LOCATION:Juventus Stadium
DESCRIPTION:Juventus v Como - Juventus Stadium - Italian Serie A
STATUS:CONFIRMED
END:VEVENT
BEGIN:VEVENT
UID:dfaf88fa42bba54de736a46c041c9fc1@skysports.com
SEQUENCE:0
DTSTAMP:20260425T090018Z
DTSTART:20260301T194500Z
DTEND:20260301T214500Z
SUMMARY:Roma v Juventus
LOCATION:Olimpico
DESCRIPTION:Roma v Juventus - Olimpico - Italian Serie A
STATUS:CONFIRMED
END:VEVENT
BEGIN:VEVENT
UID:ebb8be9de82f9cea36954fa95fc4534e@skysports.com
SEQUENCE:0
DTSTAMP:20260425T090018Z
DTSTART:20260307T194500Z
DTEND:20260307T214500Z
SUMMARY:Juventus v Pisa
LOCATION:Juventus Stadium
DESCRIPTION:Juventus v Pisa - Juventus Stadium - Italian Serie A
STATUS:CONFIRMED
END:VEVENT
BEGIN:VEVENT
UID:0b6041757a6804f8bf34322b07c5abc6@skysports.com
SEQUENCE:0
DTSTAMP:20260425T090018Z
DTSTART:20260314T194500Z
DTEND:20260314T214500Z
SUMMARY:Udinese v Juventus
LOCATION:Dacia Arena
DESCRIPTION:Udinese v Juventus - Dacia Arena - Italian Serie A
STATUS:CONFIRMED
END:VEVENT
BEGIN:VEVENT
UID:dbf8b1d8981d03521318410eef267919@skysports.com
SEQUENCE:0
DTSTAMP:20260425T090018Z
DTSTART:20260321T194500Z
DTEND:20260321T214500Z
SUMMARY:Juventus v Sassuolo
LOCATION:Juventus Stadium
DESCRIPTION:Juventus v Sassuolo - Juventus Stadium - Italian Serie A
STATUS:CONFIRMED
END:VEVENT
BEGIN:VEVENT
UID:110f7876d5fc9739b3567527b42fd9f6@skysports.com
SEQUENCE:0
DTSTAMP:20260425T090018Z
DTSTART:20260406T160000Z
DTEND:20260406T180000Z
SUMMARY:Juventus v Genoa
LOCATION:Juventus Stadium
DESCRIPTION:Juventus v Genoa - Juventus Stadium - Italian Serie A
STATUS:CONFIRMED
END:VEVENT
BEGIN:VEVENT
UID:17eeaf0b987aa29dca6f1f58cfe1f725@skysports.com
SEQUENCE:0
DTSTAMP:20260425T090018Z
DTSTART:20260411T184500Z
DTEND:20260411T204500Z
SUMMARY:Atalanta v Juventus
LOCATION:Gewiss Stadium
DESCRIPTION:Atalanta v Juventus - Gewiss Stadium - Italian Serie A
STATUS:CONFIRMED
END:VEVENT
BEGIN:VEVENT
UID:5da30b6237a8ef9975ed5982e074181e@skysports.com
SEQUENCE:0
DTSTAMP:20260425T090018Z
DTSTART:20260419T184500Z
DTEND:20260419T204500Z
SUMMARY:Juventus v Bologna
LOCATION:Juventus Stadium
DESCRIPTION:Juventus v Bologna - Juventus Stadium - Italian Serie A
STATUS:CONFIRMED
END:VEVENT
BEGIN:VEVENT
UID:dbc8fc11d2ea59a047d933457c988236@skysports.com
SEQUENCE:0
DTSTAMP:20260425T090018Z
DTSTART:20260426T184500Z
DTEND:20260426T204500Z
SUMMARY:AC Milan v Juventus
LOCATION:Giuseppe Meazza
DESCRIPTION:AC Milan v Juventus - Giuseppe Meazza - Italian Serie A
STATUS:CONFIRMED
END:VEVENT
BEGIN:VEVENT
UID:4edfe711d8e282a141e0a3b4d8658ca5@skysports.com
SEQUENCE:0
DTSTAMP:20260425T090018Z
DTSTART:20260503T160000Z
DTEND:20260503T180000Z
SUMMARY:Juventus v Verona
LOCATION:Juventus Stadium
DESCRIPTION:Juventus v Verona - Juventus Stadium - Italian Serie A
STATUS:CONFIRMED
END:VEVENT
BEGIN:VEVENT
UID:4bc5534d21549ba306d4c5671e8806c1@skysports.com
SEQUENCE:0
DTSTAMP:20260425T090018Z
DTSTART:20260509T184500Z
DTEND:20260509T204500Z
SUMMARY:Lecce v Juventus
LOCATION:Via Del Mare
DESCRIPTION:Lecce v Juventus - Via Del Mare - Italian Serie A
STATUS:CONFIRMED
END:VEVENT
BEGIN:VEVENT
UID:6643a849ef24a8ed341ad3b7d71bce6c@skysports.com
SEQUENCE:0
DTSTAMP:20260425T090018Z
DTSTART:20260517T130000Z
DTEND:20260517T150000Z
SUMMARY:Juventus v Fiorentina
LOCATION:Juventus Stadium
DESCRIPTION:Juventus v Fiorentina - Juventus Stadium - Italian Serie A
STATUS:CONFIRMED
END:VEVENT
BEGIN:VEVENT
UID:eaa0f0f2ff25748e2596832be1701d4b@skysports.com
SEQUENCE:0
DTSTAMP:20260425T090018Z
DTSTART:20260524T130000Z
DTEND:20260524T150000Z
SUMMARY:Torino v Juventus
LOCATION:Olimpico di Torino
DESCRIPTION:Torino v Juventus - Olimpico di Torino - Italian Serie A
STATUS:CONFIRMED
END:VEVENT
BEGIN:VEVENT
UID:9eaeab44eb01b520fc417cba63f69988@skysports.com
SEQUENCE:0
DTSTAMP:20260425T090018Z
DTSTART:20250810T153000Z
DTEND:20250810T173000Z
SUMMARY:Borussia Dortmund v Juventus
LOCATION:Signal Iduna Park
DESCRIPTION:Borussia Dortmund v Juventus - Signal Iduna Park - Friendly Ma
 tch
STATUS:CONFIRMED
END:VEVENT
BEGIN:VEVENT
UID:a31d9ea974471c7984bd0c5a45e55a5c@skysports.com
SEQUENCE:0
DTSTAMP:20260425T090018Z
DTSTART:20250802T090000Z
DTEND:20250802T110000Z
SUMMARY:Juventus v Reggiana
LOCATION:Juventus Stadium
DESCRIPTION:Juventus v Reggiana - Juventus Stadium - Friendly Match
STATUS:CONFIRMED
END:VEVENT
BEGIN:VEVENT
UID:342c14d3a6949762213218c0ccff99d3@skysports.com
SEQUENCE:0
DTSTAMP:20260425T090018Z
DTSTART:20250816T184500Z
DTEND:20250816T204500Z
SUMMARY:Atalanta v Juventus
LOCATION:Gewiss Stadium
DESCRIPTION:Atalanta v Juventus - Gewiss Stadium - Friendly Match
STATUS:CONFIRMED
END:VEVENT
BEGIN:VEVENT
UID:5038b6514d96fb349f33dd794a029daa@skysports.com
SEQUENCE:0
DTSTAMP:20260425T090018Z
DTSTART:20251202T200000Z
DTEND:20251202T220000Z
SUMMARY:Juventus v Udinese
LOCATION:Juventus Stadium
DESCRIPTION:Juventus v Udinese - Juventus Stadium - Coppa Italia
STATUS:CONFIRMED
END:VEVENT
BEGIN:VEVENT
UID:70aed76a94b088603b1e888d92a38418@skysports.com
SEQUENCE:0
DTSTAMP:20260425T090018Z
DTSTART:20250916T190000Z
DTEND:20250916T210000Z
SUMMARY:Juventus v Borussia Dortmund
LOCATION:Juventus Stadium
DESCRIPTION:Juventus v Borussia Dortmund - Juventus Stadium - UEFA Champio
 ns League
STATUS:CONFIRMED
END:VEVENT
BEGIN:VEVENT
UID:738a726dd93747982de2a41a9f3643f6@skysports.com
SEQUENCE:0
DTSTAMP:20260425T090018Z
DTSTART:20251001T190000Z
DTEND:20251001T210000Z
SUMMARY:Villarreal v Juventus
LOCATION:Estadio de la Ceramica
DESCRIPTION:Villarreal v Juventus - Estadio de la Ceramica - UEFA Champion
 s League
STATUS:CONFIRMED
END:VEVENT
BEGIN:VEVENT
UID:1715b265e1889fe14671eaed94762d16@skysports.com
SEQUENCE:0
DTSTAMP:20260425T090018Z
DTSTART:20251022T190000Z
DTEND:20251022T210000Z
SUMMARY:Real Madrid v Juventus
LOCATION:Santiago Bernabeu
DESCRIPTION:Real Madrid v Juventus - Santiago Bernabeu - UEFA Champions Le
 ague
STATUS:CONFIRMED
END:VEVENT
BEGIN:VEVENT
UID:64758294370259617ed225a6e022676d@skysports.com
SEQUENCE:0
DTSTAMP:20260425T090018Z
DTSTART:20251104T200000Z
DTEND:20251104T220000Z
SUMMARY:Juventus v Sporting Lisbon
LOCATION:Juventus Stadium
DESCRIPTION:Juventus v Sporting Lisbon - Juventus Stadium - UEFA Champions
  League
STATUS:CONFIRMED
END:VEVENT
BEGIN:VEVENT
UID:33fe7044277efec36529f16f3ff1ffb7@skysports.com
SEQUENCE:0
DTSTAMP:20260425T090018Z
DTSTART:20251125T200000Z
DTEND:20251125T220000Z
SUMMARY:Bodo/Glimt v Juventus
LOCATION:Aspmyra Stadion
DESCRIPTION:Bodo/Glimt v Juventus - Aspmyra Stadion - UEFA Champions Leagu
 e
STATUS:CONFIRMED
END:VEVENT
BEGIN:VEVENT
UID:087ceadb45b90e9f19b53ed971064eae@skysports.com
SEQUENCE:0
DTSTAMP:20260425T090018Z
DTSTART:20251210T200000Z
DTEND:20251210T220000Z
SUMMARY:Juventus v Pafos
LOCATION:Juventus Stadium
DESCRIPTION:Juventus v Pafos - Juventus Stadium - UEFA Champions League
STATUS:CONFIRMED
END:VEVENT
BEGIN:VEVENT
UID:70f37e23f4584e77b8dde14568987274@skysports.com
SEQUENCE:0
DTSTAMP:20260425T090018Z
DTSTART:20260121T200000Z
DTEND:20260121T220000Z
SUMMARY:Juventus v Benfica
LOCATION:Juventus Stadium
DESCRIPTION:Juventus v Benfica - Juventus Stadium - UEFA Champions League
STATUS:CONFIRMED
END:VEVENT
BEGIN:VEVENT
UID:8ee0a90d5e98b224d025ead505ba5f58@skysports.com
SEQUENCE:0
DTSTAMP:20260425T090018Z
DTSTART:20260128T200000Z
DTEND:20260128T220000Z
SUMMARY:Monaco v Juventus
LOCATION:Stade Louis-II
DESCRIPTION:Monaco v Juventus - Stade Louis-II - UEFA Champions League
STATUS:CONFIRMED
END:VEVENT
BEGIN:VEVENT
UID:b1f4f95b63df1100ffe0ace8cfdeb3a2@skysports.com
SEQUENCE:0
DTSTAMP:20260425T090018Z
DTSTART:20260205T200000Z
DTEND:20260205T220000Z
SUMMARY:Atalanta v Juventus
LOCATION:Gewiss Stadium
DESCRIPTION:Atalanta v Juventus - Gewiss Stadium - Coppa Italia
STATUS:CONFIRMED
END:VEVENT
BEGIN:VEVENT
UID:e66db887acb6e50bff9f87330d8edc33@skysports.com
SEQUENCE:0
DTSTAMP:20260425T090018Z
DTSTART:20260217T174500Z
DTEND:20260217T194500Z
SUMMARY:Galatasaray v Juventus
LOCATION:Turk Telekom Arena
DESCRIPTION:Galatasaray v Juventus - Turk Telekom Arena - UEFA Champions L
 eague
STATUS:CONFIRMED
END:VEVENT
BEGIN:VEVENT
UID:053f892eb335c5194624dae712efed80@skysports.com
SEQUENCE:0
DTSTAMP:20260425T090018Z
DTSTART:20260225T200000Z
DTEND:20260225T220000Z
SUMMARY:Juventus v Galatasaray
LOCATION:Juventus Stadium
DESCRIPTION:Juventus v Galatasaray - Juventus Stadium - UEFA Champions Lea
 gue
STATUS:CONFIRMED
END:VEVENT
BEGIN:VEVENT
UID:9d89a07c7e05dcafb452889b9943e762@skysports.com
SEQUENCE:0
DTSTAMP:20260425T090018Z
DTSTART:20260808T100000Z
DTEND:20260808T120000Z
SUMMARY:Juventus v Inter Milan
LOCATION:Optus Stadium
DESCRIPTION:Juventus v Inter Milan - Optus Stadium - Friendly Match
STATUS:CONFIRMED
END:VEVENT
BEGIN:VEVENT
UID:bbf8e333bdd9cc39ae84839de390dd56@skysports.com
SEQUENCE:0
DTSTAMP:20260425T090018Z
DTSTART:20260811T100000Z
DTEND:20260811T120000Z
SUMMARY:Juventus v Palermo
LOCATION:Optus Stadium
DESCRIPTION:Juventus v Palermo - Optus Stadium - Friendly Match
STATUS:CONFIRMED
END:VEVENT
END:VCALENDAR