BEGIN:VCALENDAR
VERSION:2.0
PRODID:-//Sky Sports SSDM//NONSGML Event Calendar//EN
URL:https://www.skysports.com/calendars/football/fixtures/teams/le-havre
CALSCALE:GREGORIAN
METHOD:PUBLISH
NAME:Le Havre Fixtures
X-WR-CALNAME:Le Havre Fixtures
X-WR-CALDESC:Le Havre fixtures provided by Sky Sports (https://www.skyspor
 ts.com)
REFRESH-INTERVAL;VALUE=DURATION:PT1H
X-PUBLISHED-TTL:PT1H
BEGIN:VEVENT
UID:65549ffbf51cf30f3bbbc993bd5a1ec1@skysports.com
SEQUENCE:0
DTSTAMP:20260425T090905Z
DTSTART:20250816T170000Z
DTEND:20250816T190000Z
SUMMARY:Monaco v Le Havre
LOCATION:Stade Louis-II
DESCRIPTION:Monaco v Le Havre - Stade Louis-II - French Ligue 1
STATUS:CONFIRMED
END:VEVENT
BEGIN:VEVENT
UID:7540615671eab1d011c62d10b63599d3@skysports.com
SEQUENCE:0
DTSTAMP:20260425T090905Z
DTSTART:20250824T151500Z
DTEND:20250824T171500Z
SUMMARY:Le Havre v RC Lens
LOCATION:Stade Oceane
DESCRIPTION:Le Havre v RC Lens - Stade Oceane - French Ligue 1
STATUS:CONFIRMED
END:VEVENT
BEGIN:VEVENT
UID:e0cd9ce61bd488458b8d6319bb325ed5@skysports.com
SEQUENCE:0
DTSTAMP:20260425T090905Z
DTSTART:20250831T151500Z
DTEND:20250831T171500Z
SUMMARY:Le Havre v Nice
LOCATION:Stade Oceane
DESCRIPTION:Le Havre v Nice - Stade Oceane - French Ligue 1
STATUS:CONFIRMED
END:VEVENT
BEGIN:VEVENT
UID:936bde4b59154c3ed8d6e3f42c576e58@skysports.com
SEQUENCE:0
DTSTAMP:20260425T090905Z
DTSTART:20250914T151500Z
DTEND:20250914T171500Z
SUMMARY:Strasbourg v Le Havre
LOCATION:Stade de la Meinau
DESCRIPTION:Strasbourg v Le Havre - Stade de la Meinau - French Ligue 1
STATUS:CONFIRMED
END:VEVENT
BEGIN:VEVENT
UID:a30fce723d4447f42b679bdde5482db8@skysports.com
SEQUENCE:0
DTSTAMP:20260425T090905Z
DTSTART:20250921T151500Z
DTEND:20250921T171500Z
SUMMARY:Le Havre v Lorient
LOCATION:Stade Oceane
DESCRIPTION:Le Havre v Lorient - Stade Oceane - French Ligue 1
STATUS:CONFIRMED
END:VEVENT
BEGIN:VEVENT
UID:ce84572f5dbeb588d7b0162349695596@skysports.com
SEQUENCE:0
DTSTAMP:20260425T090905Z
DTSTART:20250928T151500Z
DTEND:20250928T171500Z
SUMMARY:Metz v Le Havre
LOCATION:Stade Saint-Symphorien
DESCRIPTION:Metz v Le Havre - Stade Saint-Symphorien - French Ligue 1
STATUS:CONFIRMED
END:VEVENT
BEGIN:VEVENT
UID:86567c565ea8bf4b8db9aa42ce04d768@skysports.com
SEQUENCE:0
DTSTAMP:20260425T090905Z
DTSTART:20251005T151500Z
DTEND:20251005T171500Z
SUMMARY:Le Havre v Rennes
LOCATION:Stade Oceane
DESCRIPTION:Le Havre v Rennes - Stade Oceane - French Ligue 1
STATUS:CONFIRMED
END:VEVENT
BEGIN:VEVENT
UID:b4b61f8e43aa7ae524ce56f353bf9915@skysports.com
SEQUENCE:0
DTSTAMP:20260425T090905Z
DTSTART:20251018T190500Z
DTEND:20251018T210500Z
SUMMARY:Marseille v Le Havre
LOCATION:Orange Velodrome
DESCRIPTION:Marseille v Le Havre - Orange Velodrome - French Ligue 1
STATUS:CONFIRMED
END:VEVENT
BEGIN:VEVENT
UID:8287b2bc1b836cc21cad875d4883d67a@skysports.com
SEQUENCE:0
DTSTAMP:20260425T090905Z
DTSTART:20251026T161500Z
DTEND:20251026T181500Z
SUMMARY:Auxerre v Le Havre
LOCATION:Stade de l'Abbe-Deschamps
DESCRIPTION:Auxerre v Le Havre - Stade de l'Abbe-Deschamps - French Ligue 
 1
STATUS:CONFIRMED
END:VEVENT
BEGIN:VEVENT
UID:c904e5b7a245d779a4833e6f0d99c9d3@skysports.com
SEQUENCE:0
DTSTAMP:20260425T090905Z
DTSTART:20251029T180000Z
DTEND:20251029T200000Z
SUMMARY:Le Havre v Brest
LOCATION:Stade Oceane
DESCRIPTION:Le Havre v Brest - Stade Oceane - French Ligue 1
STATUS:CONFIRMED
END:VEVENT
BEGIN:VEVENT
UID:f8899f3758a70ff1ec73dfd5d4aaf9dd@skysports.com
SEQUENCE:0
DTSTAMP:20260425T090905Z
DTSTART:20251102T161500Z
DTEND:20251102T181500Z
SUMMARY:Toulouse v Le Havre
LOCATION:Stadium Municipal\, Toulouse
DESCRIPTION:Toulouse v Le Havre - Stadium Municipal\, Toulouse - French Li
 gue 1
STATUS:CONFIRMED
END:VEVENT
BEGIN:VEVENT
UID:ae8e0609a6dc89f7d9de7e742309b49b@skysports.com
SEQUENCE:0
DTSTAMP:20260425T090905Z
DTSTART:20251108T180000Z
DTEND:20251108T200000Z
SUMMARY:Le Havre v Nantes
LOCATION:Stade Oceane
DESCRIPTION:Le Havre v Nantes - Stade Oceane - French Ligue 1
STATUS:CONFIRMED
END:VEVENT
BEGIN:VEVENT
UID:9531b523617e7bc7663e6e94eee1b708@skysports.com
SEQUENCE:0
DTSTAMP:20260425T090905Z
DTSTART:20251122T200500Z
DTEND:20251122T220500Z
SUMMARY:Paris Saint-Germain v Le Havre
LOCATION:Parc des Princes
DESCRIPTION:Paris Saint-Germain v Le Havre - Parc des Princes - French Lig
 ue 1
STATUS:CONFIRMED
END:VEVENT
BEGIN:VEVENT
UID:1e10211c89f9a8116b274a63388d70b6@skysports.com
SEQUENCE:0
DTSTAMP:20260425T090905Z
DTSTART:20251130T161500Z
DTEND:20251130T181500Z
SUMMARY:Le Havre v Lille
LOCATION:Stade Oceane
DESCRIPTION:Le Havre v Lille - Stade Oceane - French Ligue 1
STATUS:CONFIRMED
END:VEVENT
BEGIN:VEVENT
UID:11d76e60b500e0ed44a94ef69c06dba6@skysports.com
SEQUENCE:0
DTSTAMP:20260425T090905Z
DTSTART:20251207T161500Z
DTEND:20251207T181500Z
SUMMARY:Le Havre v Paris FC
LOCATION:Stade Oceane
DESCRIPTION:Le Havre v Paris FC - Stade Oceane - French Ligue 1
STATUS:CONFIRMED
END:VEVENT
BEGIN:VEVENT
UID:8a4ef24b3cae4db360c420aa62551d71@skysports.com
SEQUENCE:0
DTSTAMP:20260425T090905Z
DTSTART:20251214T140000Z
DTEND:20251214T160000Z
SUMMARY:Lyon v Le Havre
LOCATION:Stade des Lumieres
DESCRIPTION:Lyon v Le Havre - Stade des Lumieres - French Ligue 1
STATUS:CONFIRMED
END:VEVENT
BEGIN:VEVENT
UID:5c7aeea49b968ad9d7cfea8541ae9e1f@skysports.com
SEQUENCE:0
DTSTAMP:20260425T090905Z
DTSTART:20260104T161500Z
DTEND:20260104T181500Z
SUMMARY:Le Havre v Angers
LOCATION:Stade Oceane
DESCRIPTION:Le Havre v Angers - Stade Oceane - French Ligue 1
STATUS:CONFIRMED
END:VEVENT
BEGIN:VEVENT
UID:dc9d36f67612b11d751d670fe95edc01@skysports.com
SEQUENCE:0
DTSTAMP:20260425T090905Z
DTSTART:20260118T161500Z
DTEND:20260118T181500Z
SUMMARY:Rennes v Le Havre
LOCATION:Stade de la Route-de-Lorient
DESCRIPTION:Rennes v Le Havre - Stade de la Route-de-Lorient - French Ligu
 e 1
STATUS:CONFIRMED
END:VEVENT
BEGIN:VEVENT
UID:7d25a4b7fc92568752aaa80716f06f14@skysports.com
SEQUENCE:0
DTSTAMP:20260425T090905Z
DTSTART:20260124T180000Z
DTEND:20260124T200000Z
SUMMARY:Le Havre v Monaco
LOCATION:Stade Oceane
DESCRIPTION:Le Havre v Monaco - Stade Oceane - French Ligue 1
STATUS:CONFIRMED
END:VEVENT
BEGIN:VEVENT
UID:64a4c7b2cf6a114388bae31599cd09ea@skysports.com
SEQUENCE:0
DTSTAMP:20260425T090905Z
DTSTART:20260130T194500Z
DTEND:20260130T214500Z
SUMMARY:RC Lens v Le Havre
LOCATION:Stade Bollaert-Delelis
DESCRIPTION:RC Lens v Le Havre - Stade Bollaert-Delelis - French Ligue 1
STATUS:CONFIRMED
END:VEVENT
BEGIN:VEVENT
UID:7ccc4f23979adbc4296efb6216d178dd@skysports.com
SEQUENCE:0
DTSTAMP:20260425T090905Z
DTSTART:20260208T161500Z
DTEND:20260208T181500Z
SUMMARY:Le Havre v Strasbourg
LOCATION:Stade Oceane
DESCRIPTION:Le Havre v Strasbourg - Stade Oceane - French Ligue 1
STATUS:CONFIRMED
END:VEVENT
BEGIN:VEVENT
UID:af22686418da675519b2df84c2d00ae4@skysports.com
SEQUENCE:0
DTSTAMP:20260425T090905Z
DTSTART:20260215T140000Z
DTEND:20260215T160000Z
SUMMARY:Le Havre v Toulouse
LOCATION:Stade Oceane
DESCRIPTION:Le Havre v Toulouse - Stade Oceane - French Ligue 1
STATUS:CONFIRMED
END:VEVENT
BEGIN:VEVENT
UID:b869604544522516f59b3de279d7482c@skysports.com
SEQUENCE:0
DTSTAMP:20260425T090905Z
DTSTART:20260222T161500Z
DTEND:20260222T181500Z
SUMMARY:Nantes v Le Havre
LOCATION:La Beaujoire-Louis-Fonteneau
DESCRIPTION:Nantes v Le Havre - La Beaujoire-Louis-Fonteneau - French Ligu
 e 1
STATUS:CONFIRMED
END:VEVENT
BEGIN:VEVENT
UID:5ae4f84dfac7c8717e61d4c6493dc289@skysports.com
SEQUENCE:0
DTSTAMP:20260425T090905Z
DTSTART:20260228T200500Z
DTEND:20260228T220500Z
SUMMARY:Le Havre v Paris Saint-Germain
LOCATION:Stade Oceane
DESCRIPTION:Le Havre v Paris Saint-Germain - Stade Oceane - French Ligue 1
STATUS:CONFIRMED
END:VEVENT
BEGIN:VEVENT
UID:7d1b7b99a994eac55b7801afa0834af4@skysports.com
SEQUENCE:0
DTSTAMP:20260425T090905Z
DTSTART:20260308T161500Z
DTEND:20260308T181500Z
SUMMARY:Brest v Le Havre
LOCATION:Stade Francis-Le Ble
DESCRIPTION:Brest v Le Havre - Stade Francis-Le Ble - French Ligue 1
STATUS:CONFIRMED
END:VEVENT
BEGIN:VEVENT
UID:70ac51a9cbef4430c75b5781259daa51@skysports.com
SEQUENCE:0
DTSTAMP:20260425T090905Z
DTSTART:20260315T161500Z
DTEND:20260315T181500Z
SUMMARY:Le Havre v Lyon
LOCATION:Stade Oceane
DESCRIPTION:Le Havre v Lyon - Stade Oceane - French Ligue 1
STATUS:CONFIRMED
END:VEVENT
BEGIN:VEVENT
UID:da8806a2575c6bb003e18c78a95ebbe2@skysports.com
SEQUENCE:0
DTSTAMP:20260425T090905Z
DTSTART:20260322T161500Z
DTEND:20260322T181500Z
SUMMARY:Paris FC v Le Havre
LOCATION:Stade Jean Bouin
DESCRIPTION:Paris FC v Le Havre - Stade Jean Bouin - French Ligue 1
STATUS:CONFIRMED
END:VEVENT
BEGIN:VEVENT
UID:b4d794e623ab4049c8eb2ef3ec00fc11@skysports.com
SEQUENCE:0
DTSTAMP:20260425T090905Z
DTSTART:20260405T151500Z
DTEND:20260405T171500Z
SUMMARY:Le Havre v Auxerre
LOCATION:Stade Oceane
DESCRIPTION:Le Havre v Auxerre - Stade Oceane - French Ligue 1
STATUS:CONFIRMED
END:VEVENT
BEGIN:VEVENT
UID:a656b39e623971386d80193932cd44de@skysports.com
SEQUENCE:0
DTSTAMP:20260425T090905Z
DTSTART:20260412T151500Z
DTEND:20260412T171500Z
SUMMARY:Nice v Le Havre
LOCATION:Allianz Riviera
DESCRIPTION:Nice v Le Havre - Allianz Riviera - French Ligue 1
STATUS:CONFIRMED
END:VEVENT
BEGIN:VEVENT
UID:55ed15aabac14732ed4d79fa092ac894@skysports.com
SEQUENCE:0
DTSTAMP:20260425T090905Z
DTSTART:20260418T170000Z
DTEND:20260418T190000Z
SUMMARY:Angers v Le Havre
LOCATION:Stade Jean-Bouin
DESCRIPTION:Angers v Le Havre - Stade Jean-Bouin - French Ligue 1
STATUS:CONFIRMED
END:VEVENT
BEGIN:VEVENT
UID:c649d45e0d09e99248c4e9836612b7c1@skysports.com
SEQUENCE:0
DTSTAMP:20260425T090905Z
DTSTART:20260426T151500Z
DTEND:20260426T171500Z
SUMMARY:Le Havre v Metz
LOCATION:Stade Oceane
DESCRIPTION:Le Havre v Metz - Stade Oceane - French Ligue 1
STATUS:CONFIRMED
END:VEVENT
BEGIN:VEVENT
UID:ab82eebe492d023b8863618aabd2f0c2@skysports.com
SEQUENCE:0
DTSTAMP:20260425T090905Z
DTSTART:20260503T130000Z
DTEND:20260503T150000Z
SUMMARY:Lille v Le Havre
LOCATION:Stade Pierre-Mauroy
DESCRIPTION:Lille v Le Havre - Stade Pierre-Mauroy - French Ligue 1
STATUS:CONFIRMED
END:VEVENT
BEGIN:VEVENT
UID:5b83925b4c4e01385042fd504b049405@skysports.com
SEQUENCE:0
DTSTAMP:20260425T090905Z
DTSTART:20260510T190000Z
DTEND:20260510T210000Z
SUMMARY:Le Havre v Marseille
LOCATION:Stade Oceane
DESCRIPTION:Le Havre v Marseille - Stade Oceane - French Ligue 1
STATUS:CONFIRMED
END:VEVENT
BEGIN:VEVENT
UID:db5ddeaec1504b468c112841b0e115a5@skysports.com
SEQUENCE:0
DTSTAMP:20260425T090905Z
DTSTART:20260517T190000Z
DTEND:20260517T210000Z
SUMMARY:Lorient v Le Havre
LOCATION:Stade du Moustoir
DESCRIPTION:Lorient v Le Havre - Stade du Moustoir - French Ligue 1
STATUS:CONFIRMED
END:VEVENT
BEGIN:VEVENT
UID:f64008278d1a0d8cbc94aa992af44328@skysports.com
SEQUENCE:0
DTSTAMP:20260425T090905Z
DTSTART:20251221T163000Z
DTEND:20251221T183000Z
SUMMARY:Le Havre v Amiens
LOCATION:Stade Oceane
DESCRIPTION:Le Havre v Amiens - Stade Oceane - Coupe de France
STATUS:CONFIRMED
END:VEVENT
END:VCALENDAR