BEGIN:VCALENDAR
VERSION:2.0
PRODID:-//Sky Sports SSDM//NONSGML Event Calendar//EN
URL:https://www.skysports.com/calendars/football/fixtures/teams/leeds-unit
 ed
CALSCALE:GREGORIAN
METHOD:PUBLISH
NAME:Leeds United Fixtures
X-WR-CALNAME:Leeds United Fixtures
X-WR-CALDESC:Leeds United fixtures provided by Sky Sports (https://www.sky
 sports.com)
REFRESH-INTERVAL;VALUE=DURATION:PT1H
X-PUBLISHED-TTL:PT1H
BEGIN:VEVENT
UID:2a3bf79414aa036e3e18b09e25f1297e@skysports.com
SEQUENCE:0
DTSTAMP:20260425T090104Z
DTSTART:20250719T130000Z
DTEND:20250719T150000Z
SUMMARY:Manchester United v Leeds United
LOCATION:Friends Arena
DESCRIPTION:Manchester United v Leeds United - Friends Arena - Friendly Ma
 tch
STATUS:CONFIRMED
END:VEVENT
BEGIN:VEVENT
UID:11d2a2392a6d881b30e3dae312e509fd@skysports.com
SEQUENCE:0
DTSTAMP:20260425T090104Z
DTSTART:20250809T140000Z
DTEND:20250809T160000Z
SUMMARY:Leeds United v AC Milan
LOCATION:Aviva Stadium
DESCRIPTION:Leeds United v AC Milan - Aviva Stadium - Friendly Match
STATUS:CONFIRMED
END:VEVENT
BEGIN:VEVENT
UID:5817d88223f7ed01666e57d8a8794172@skysports.com
SEQUENCE:0
DTSTAMP:20260425T090104Z
DTSTART:20250818T190000Z
DTEND:20250818T210000Z
SUMMARY:Leeds United v Everton
LOCATION:Elland Road
DESCRIPTION:Leeds United v Everton - Elland Road - Premier League - Live o
 n Sky Sports Premier League and Sky Sports Main Event
STATUS:CONFIRMED
END:VEVENT
BEGIN:VEVENT
UID:bdd7b1fcebbebe41c39ef08968c88a8d@skysports.com
SEQUENCE:0
DTSTAMP:20260425T090104Z
DTSTART:20250823T163000Z
DTEND:20250823T183000Z
SUMMARY:Arsenal v Leeds United
LOCATION:Emirates Stadium
DESCRIPTION:Arsenal v Leeds United - Emirates Stadium - Premier League - L
 ive on Sky Sports Main Event and Sky Sports Premier League
STATUS:CONFIRMED
END:VEVENT
BEGIN:VEVENT
UID:3f2770417b537c01db0cd6d910d15cf0@skysports.com
SEQUENCE:0
DTSTAMP:20260425T090104Z
DTSTART:20250830T163000Z
DTEND:20250830T183000Z
SUMMARY:Leeds United v Newcastle United
LOCATION:Elland Road
DESCRIPTION:Leeds United v Newcastle United - Elland Road - Premier League
  - Live on Sky Sports Main Event and Sky Sports Premier League
STATUS:CONFIRMED
END:VEVENT
BEGIN:VEVENT
UID:d223d6ac74cf10c98b42c6f076a15048@skysports.com
SEQUENCE:0
DTSTAMP:20260425T090104Z
DTSTART:20250913T140000Z
DTEND:20250913T160000Z
SUMMARY:Fulham v Leeds United
LOCATION:Craven Cottage
DESCRIPTION:Fulham v Leeds United - Craven Cottage - Premier League
STATUS:CONFIRMED
END:VEVENT
BEGIN:VEVENT
UID:2bcf10635eb1388c0ac694373644ba5f@skysports.com
SEQUENCE:0
DTSTAMP:20260425T090104Z
DTSTART:20250920T140000Z
DTEND:20250920T160000Z
SUMMARY:Wolverhampton Wanderers v Leeds United
LOCATION:Molineux
DESCRIPTION:Wolverhampton Wanderers v Leeds United - Molineux - Premier Le
 ague
STATUS:CONFIRMED
END:VEVENT
BEGIN:VEVENT
UID:dc142b9c2c9eff5819d3ffe15eb2cd11@skysports.com
SEQUENCE:0
DTSTAMP:20260425T090104Z
DTSTART:20250927T140000Z
DTEND:20250927T160000Z
SUMMARY:Leeds United v Bournemouth
LOCATION:Elland Road
DESCRIPTION:Leeds United v Bournemouth - Elland Road - Premier League
STATUS:CONFIRMED
END:VEVENT
BEGIN:VEVENT
UID:1b64d68cbd349a34b3ff33ae2dee610a@skysports.com
SEQUENCE:0
DTSTAMP:20260425T090104Z
DTSTART:20251004T113000Z
DTEND:20251004T133000Z
SUMMARY:Leeds United v Tottenham Hotspur
LOCATION:Elland Road
DESCRIPTION:Leeds United v Tottenham Hotspur - Elland Road - Premier Leagu
 e
STATUS:CONFIRMED
END:VEVENT
BEGIN:VEVENT
UID:855da3c9dae9c62162ff960f15594156@skysports.com
SEQUENCE:0
DTSTAMP:20260425T090104Z
DTSTART:20251018T140000Z
DTEND:20251018T160000Z
SUMMARY:Burnley v Leeds United
LOCATION:Turf Moor
DESCRIPTION:Burnley v Leeds United - Turf Moor - Premier League
STATUS:CONFIRMED
END:VEVENT
BEGIN:VEVENT
UID:6a1737d5884ca4075bdaaa05e1f7d027@skysports.com
SEQUENCE:0
DTSTAMP:20260425T090104Z
DTSTART:20251024T190000Z
DTEND:20251024T210000Z
SUMMARY:Leeds United v West Ham United
LOCATION:Elland Road
DESCRIPTION:Leeds United v West Ham United - Elland Road - Premier League 
 - Live on Sky Sports Premier League and Sky Sports Main Event
STATUS:CONFIRMED
END:VEVENT
BEGIN:VEVENT
UID:2ce1ce4f8534f34f9f99c13daed12246@skysports.com
SEQUENCE:0
DTSTAMP:20260425T090104Z
DTSTART:20251101T150000Z
DTEND:20251101T170000Z
SUMMARY:Brighton and Hove Albion v Leeds United
LOCATION:Amex Stadium
DESCRIPTION:Brighton and Hove Albion v Leeds United - Amex Stadium - Premi
 er League
STATUS:CONFIRMED
END:VEVENT
BEGIN:VEVENT
UID:1e01da7de4f13c4d39985ce1e05799aa@skysports.com
SEQUENCE:0
DTSTAMP:20260425T090104Z
DTSTART:20251109T140000Z
DTEND:20251109T160000Z
SUMMARY:Nottingham Forest v Leeds United
LOCATION:The City Ground
DESCRIPTION:Nottingham Forest v Leeds United - The City Ground - Premier L
 eague - Live on Sky Sports Premier League
STATUS:CONFIRMED
END:VEVENT
BEGIN:VEVENT
UID:542fb5c3266fdd13bb13afaf6c3fc263@skysports.com
SEQUENCE:0
DTSTAMP:20260425T090104Z
DTSTART:20251123T140000Z
DTEND:20251123T160000Z
SUMMARY:Leeds United v Aston Villa
LOCATION:Elland Road
DESCRIPTION:Leeds United v Aston Villa - Elland Road - Premier League - Li
 ve on Sky Sports Premier League
STATUS:CONFIRMED
END:VEVENT
BEGIN:VEVENT
UID:dff90da2e99a9ec4a4a1de2c8410d46d@skysports.com
SEQUENCE:0
DTSTAMP:20260425T090104Z
DTSTART:20251129T150000Z
DTEND:20251129T170000Z
SUMMARY:Manchester City v Leeds United
LOCATION:Etihad Stadium
DESCRIPTION:Manchester City v Leeds United - Etihad Stadium - Premier Leag
 ue
STATUS:CONFIRMED
END:VEVENT
BEGIN:VEVENT
UID:57f2da827f0ab8555c569a78b3fff0cc@skysports.com
SEQUENCE:0
DTSTAMP:20260425T090104Z
DTSTART:20251203T201500Z
DTEND:20251203T221500Z
SUMMARY:Leeds United v Chelsea
LOCATION:Elland Road
DESCRIPTION:Leeds United v Chelsea - Elland Road - Premier League - Live o
 n Sky Sports Premier League
STATUS:CONFIRMED
END:VEVENT
BEGIN:VEVENT
UID:e6156f5d260ae4d1042905b105cfe35d@skysports.com
SEQUENCE:0
DTSTAMP:20260425T090104Z
DTSTART:20251206T173000Z
DTEND:20251206T193000Z
SUMMARY:Leeds United v Liverpool
LOCATION:Elland Road
DESCRIPTION:Leeds United v Liverpool - Elland Road - Premier League - Live
  on Sky Sports Premier League and Sky Sports Main Event
STATUS:CONFIRMED
END:VEVENT
BEGIN:VEVENT
UID:eb2b1d3d92e7485a28969798271a3d34@skysports.com
SEQUENCE:0
DTSTAMP:20260425T090104Z
DTSTART:20251214T163000Z
DTEND:20251214T183000Z
SUMMARY:Brentford v Leeds United
LOCATION:Gtech Community Stadium
DESCRIPTION:Brentford v Leeds United - Gtech Community Stadium - Premier L
 eague - Live on Sky Sports Main Event and Sky Sports Premier League
STATUS:CONFIRMED
END:VEVENT
BEGIN:VEVENT
UID:7475f9efdbe6856a6bcbd4e2149b344a@skysports.com
SEQUENCE:0
DTSTAMP:20260425T090104Z
DTSTART:20251220T200000Z
DTEND:20251220T220000Z
SUMMARY:Leeds United v Crystal Palace
LOCATION:Elland Road
DESCRIPTION:Leeds United v Crystal Palace - Elland Road - Premier League -
  Live on Sky Sports Premier League
STATUS:CONFIRMED
END:VEVENT
BEGIN:VEVENT
UID:d78c6a0f589c45ee96616ce69b5a2cfb@skysports.com
SEQUENCE:0
DTSTAMP:20260425T090104Z
DTSTART:20251228T140000Z
DTEND:20251228T160000Z
SUMMARY:Sunderland v Leeds United
LOCATION:Stadium of Light
DESCRIPTION:Sunderland v Leeds United - Stadium of Light - Premier League 
 - Live on Sky Sports Premier League and Sky Sports Main Event
STATUS:CONFIRMED
END:VEVENT
BEGIN:VEVENT
UID:565c2b98818e41b0c5fc266ed24aa944@skysports.com
SEQUENCE:0
DTSTAMP:20260425T090104Z
DTSTART:20260101T173000Z
DTEND:20260101T193000Z
SUMMARY:Liverpool v Leeds United
LOCATION:Anfield
DESCRIPTION:Liverpool v Leeds United - Anfield - Premier League - Live on 
 Sky Sports Main Event
STATUS:CONFIRMED
END:VEVENT
BEGIN:VEVENT
UID:efa5812b84f3fdee56f93936b238097d@skysports.com
SEQUENCE:0
DTSTAMP:20260425T090104Z
DTSTART:20260104T123000Z
DTEND:20260104T143000Z
SUMMARY:Leeds United v Manchester United
LOCATION:Elland Road
DESCRIPTION:Leeds United v Manchester United - Elland Road - Premier Leagu
 e
STATUS:CONFIRMED
END:VEVENT
BEGIN:VEVENT
UID:b05422ed821819ea842b42f41cedda04@skysports.com
SEQUENCE:0
DTSTAMP:20260425T090104Z
DTSTART:20260107T201500Z
DTEND:20260107T221500Z
SUMMARY:Newcastle United v Leeds United
LOCATION:St James' Park\, Newcastle
DESCRIPTION:Newcastle United v Leeds United - St James' Park and Newcastle
  - Premier League - Live on Sky Sports Cricket
STATUS:CONFIRMED
END:VEVENT
BEGIN:VEVENT
UID:a256c52949624ba1c01f3e2492cab12b@skysports.com
SEQUENCE:0
DTSTAMP:20260425T090104Z
DTSTART:20260117T150000Z
DTEND:20260117T170000Z
SUMMARY:Leeds United v Fulham
LOCATION:Elland Road
DESCRIPTION:Leeds United v Fulham - Elland Road - Premier League
STATUS:CONFIRMED
END:VEVENT
BEGIN:VEVENT
UID:d8aabf8b800d2cd99da18ac120975d89@skysports.com
SEQUENCE:0
DTSTAMP:20260425T090104Z
DTSTART:20260126T200000Z
DTEND:20260126T220000Z
SUMMARY:Everton v Leeds United
LOCATION:Hill Dickinson Stadium
DESCRIPTION:Everton v Leeds United - Hill Dickinson Stadium - Premier Leag
 ue - Live on Sky Sports Premier League and Sky Sports Main Event
STATUS:CONFIRMED
END:VEVENT
BEGIN:VEVENT
UID:f9808477b987ed7ad09563ef1d53cfbd@skysports.com
SEQUENCE:0
DTSTAMP:20260425T090104Z
DTSTART:20260131T150000Z
DTEND:20260131T170000Z
SUMMARY:Leeds United v Arsenal
LOCATION:Elland Road
DESCRIPTION:Leeds United v Arsenal - Elland Road - Premier League
STATUS:CONFIRMED
END:VEVENT
BEGIN:VEVENT
UID:eb657fbaa0b736e6a48fe0bbf8bc0f89@skysports.com
SEQUENCE:0
DTSTAMP:20260425T090104Z
DTSTART:20260206T200000Z
DTEND:20260206T220000Z
SUMMARY:Leeds United v Nottingham Forest
LOCATION:Elland Road
DESCRIPTION:Leeds United v Nottingham Forest - Elland Road - Premier Leagu
 e - Live on Sky Sports Main Event and Sky Sports Premier League
STATUS:CONFIRMED
END:VEVENT
BEGIN:VEVENT
UID:aa35680bf37212db07256359768146d1@skysports.com
SEQUENCE:0
DTSTAMP:20260425T090104Z
DTSTART:20260210T193000Z
DTEND:20260210T213000Z
SUMMARY:Chelsea v Leeds United
LOCATION:Stamford Bridge
DESCRIPTION:Chelsea v Leeds United - Stamford Bridge - Premier League
STATUS:CONFIRMED
END:VEVENT
BEGIN:VEVENT
UID:31cad4abe53f894a6a058b91246efc07@skysports.com
SEQUENCE:0
DTSTAMP:20260425T090104Z
DTSTART:20260221T150000Z
DTEND:20260221T170000Z
SUMMARY:Aston Villa v Leeds United
LOCATION:Villa Park
DESCRIPTION:Aston Villa v Leeds United - Villa Park - Premier League
STATUS:CONFIRMED
END:VEVENT
BEGIN:VEVENT
UID:ea41e768e2ba705b49b95bdc7213708f@skysports.com
SEQUENCE:0
DTSTAMP:20260425T090104Z
DTSTART:20260228T173000Z
DTEND:20260228T193000Z
SUMMARY:Leeds United v Manchester City
LOCATION:Elland Road
DESCRIPTION:Leeds United v Manchester City - Elland Road - Premier League 
 - Live on Sky Sports Premier League and Sky Sports Main Event
STATUS:CONFIRMED
END:VEVENT
BEGIN:VEVENT
UID:aedebb96f54ac7570ec2ee916e56a8af@skysports.com
SEQUENCE:0
DTSTAMP:20260425T090104Z
DTSTART:20260303T193000Z
DTEND:20260303T213000Z
SUMMARY:Leeds United v Sunderland
LOCATION:Elland Road
DESCRIPTION:Leeds United v Sunderland - Elland Road - Premier League
STATUS:CONFIRMED
END:VEVENT
BEGIN:VEVENT
UID:04bc906de5f5c1b0613ef05be7a593d1@skysports.com
SEQUENCE:0
DTSTAMP:20260425T090104Z
DTSTART:20260315T140000Z
DTEND:20260315T160000Z
SUMMARY:Crystal Palace v Leeds United
LOCATION:Selhurst Park
DESCRIPTION:Crystal Palace v Leeds United - Selhurst Park - Premier League
  - Live on Sky Sports Cricket
STATUS:CONFIRMED
END:VEVENT
BEGIN:VEVENT
UID:208d6a1e55e5bf03dcf1b8f919ca9677@skysports.com
SEQUENCE:0
DTSTAMP:20260425T090104Z
DTSTART:20260321T200000Z
DTEND:20260321T220000Z
SUMMARY:Leeds United v Brentford
LOCATION:Elland Road
DESCRIPTION:Leeds United v Brentford - Elland Road - Premier League - Live
  on Sky Sports Main Event and Sky Sports Premier League
STATUS:CONFIRMED
END:VEVENT
BEGIN:VEVENT
UID:f16702eb1da3b92069b766919192eb84@skysports.com
SEQUENCE:0
DTSTAMP:20260425T090104Z
DTSTART:20260413T190000Z
DTEND:20260413T210000Z
SUMMARY:Manchester United v Leeds United
LOCATION:Old Trafford
DESCRIPTION:Manchester United v Leeds United - Old Trafford - Premier Leag
 ue - Live on Sky Sports Premier League and Sky Sports Main Event
STATUS:CONFIRMED
END:VEVENT
BEGIN:VEVENT
UID:0f1aa1ba15d082347fad8ac91a349395@skysports.com
SEQUENCE:0
DTSTAMP:20260425T090104Z
DTSTART:20260418T140000Z
DTEND:20260418T160000Z
SUMMARY:Leeds United v Wolverhampton Wanderers
LOCATION:Elland Road
DESCRIPTION:Leeds United v Wolverhampton Wanderers - Elland Road - Premier
  League
STATUS:CONFIRMED
END:VEVENT
BEGIN:VEVENT
UID:0c2b412ebed82e3990e849d5b6035d14@skysports.com
SEQUENCE:0
DTSTAMP:20260425T090104Z
DTSTART:20260422T190000Z
DTEND:20260422T210000Z
SUMMARY:Bournemouth v Leeds United
LOCATION:Vitality Stadium
DESCRIPTION:Bournemouth v Leeds United - Vitality Stadium - Premier League
  - Live on Sky Sports Premier League
STATUS:CONFIRMED
END:VEVENT
BEGIN:VEVENT
UID:69efe689391596c41e7530877a848309@skysports.com
SEQUENCE:0
DTSTAMP:20260425T090104Z
DTSTART:20260501T190000Z
DTEND:20260501T210000Z
SUMMARY:Leeds United v Burnley
LOCATION:Elland Road
DESCRIPTION:Leeds United v Burnley - Elland Road - Premier League - Live o
 n Sky Sports Main Event and Sky Sports Premier League
STATUS:CONFIRMED
END:VEVENT
BEGIN:VEVENT
UID:3318b5e736cdcd8c6ec5039459d84f25@skysports.com
SEQUENCE:0
DTSTAMP:20260425T090104Z
DTSTART:20260511T190000Z
DTEND:20260511T210000Z
SUMMARY:Tottenham Hotspur v Leeds United
LOCATION:Tottenham Hotspur Stadium
DESCRIPTION:Tottenham Hotspur v Leeds United - Tottenham Hotspur Stadium -
  Premier League - Live on Sky Sports Premier League and Sky Sports Main Ev
 ent
STATUS:CONFIRMED
END:VEVENT
BEGIN:VEVENT
UID:fbfca7b4fb2e1f930c4952c8e6159544@skysports.com
SEQUENCE:0
DTSTAMP:20260425T090104Z
DTSTART:20260517T140000Z
DTEND:20260517T160000Z
SUMMARY:Leeds United v Brighton and Hove Albion
LOCATION:Elland Road
DESCRIPTION:Leeds United v Brighton and Hove Albion - Elland Road - Premie
 r League
STATUS:CONFIRMED
END:VEVENT
BEGIN:VEVENT
UID:997f5c973c0f17f227de9836c862fbc3@skysports.com
SEQUENCE:0
DTSTAMP:20260425T090104Z
DTSTART:20260524T150000Z
DTEND:20260524T170000Z
SUMMARY:West Ham United v Leeds United
LOCATION:London Stadium
DESCRIPTION:West Ham United v Leeds United - London Stadium - Premier Leag
 ue
STATUS:CONFIRMED
END:VEVENT
BEGIN:VEVENT
UID:7b21b84df8bcd97fafd1b47491016e09@skysports.com
SEQUENCE:0
DTSTAMP:20260425T090104Z
DTSTART:20250802T140000Z
DTEND:20250802T160000Z
SUMMARY:Leeds United v Villarreal
LOCATION:Elland Road
DESCRIPTION:Leeds United v Villarreal - Elland Road - Friendly Matches
STATUS:CONFIRMED
END:VEVENT
BEGIN:VEVENT
UID:22365c49d78d02cce54ba72f6837a75c@skysports.com
SEQUENCE:0
DTSTAMP:20260425T090104Z
DTSTART:20250826T190000Z
DTEND:20250826T210000Z
SUMMARY:Sheffield Wednesday v Leeds United
LOCATION:Hillsborough
DESCRIPTION:Sheffield Wednesday v Leeds United - Hillsborough - Carabao Cu
 p - Live on Sky Sports Football and Sky Sports Main Event
STATUS:CONFIRMED
END:VEVENT
BEGIN:VEVENT
UID:d733ef9029d0e958488e2390eeb24591@skysports.com
SEQUENCE:0
DTSTAMP:20260425T090104Z
DTSTART:20260111T120000Z
DTEND:20260111T140000Z
SUMMARY:Derby County v Leeds United
LOCATION:Pride Park Stadium
DESCRIPTION:Derby County v Leeds United - Pride Park Stadium - The FA Cup
STATUS:CONFIRMED
END:VEVENT
BEGIN:VEVENT
UID:11b66ecf5560c74e43850c658f1b5b31@skysports.com
SEQUENCE:0
DTSTAMP:20260425T090104Z
DTSTART:20260215T120000Z
DTEND:20260215T140000Z
SUMMARY:Birmingham City v Leeds United
LOCATION:St. Andrew's Stadium
DESCRIPTION:Birmingham City v Leeds United - St. Andrew's Stadium - The FA
  Cup
STATUS:CONFIRMED
END:VEVENT
BEGIN:VEVENT
UID:6825513674cc6b2bdd8942e5c9d9e3dd@skysports.com
SEQUENCE:0
DTSTAMP:20260425T090104Z
DTSTART:20260308T163000Z
DTEND:20260308T183000Z
SUMMARY:Leeds United v Norwich City
LOCATION:Elland Road
DESCRIPTION:Leeds United v Norwich City - Elland Road - The FA Cup
STATUS:CONFIRMED
END:VEVENT
BEGIN:VEVENT
UID:3fcab9e0d2a977709b22183b67ab2b83@skysports.com
SEQUENCE:0
DTSTAMP:20260425T090104Z
DTSTART:20260802T200000Z
DTEND:20260802T220000Z
SUMMARY:Liverpool v Leeds United
LOCATION:Soldier Field
DESCRIPTION:Liverpool v Leeds United - Soldier Field - Friendly Match
STATUS:CONFIRMED
END:VEVENT
BEGIN:VEVENT
UID:854f0f0bdfd4652767a5a4c441604736@skysports.com
SEQUENCE:0
DTSTAMP:20260425T090104Z
DTSTART:20260405T153000Z
DTEND:20260405T173000Z
SUMMARY:West Ham United v Leeds United
LOCATION:London Stadium
DESCRIPTION:West Ham United v Leeds United - London Stadium - The FA Cup
STATUS:CONFIRMED
END:VEVENT
BEGIN:VEVENT
UID:e96acba4040d7a8f134b2416c0e13969@skysports.com
SEQUENCE:0
DTSTAMP:20260425T090104Z
DTSTART:20260812T183000Z
DTEND:20260812T203000Z
SUMMARY:Leeds United v Manchester United
LOCATION:Croke Park
DESCRIPTION:Leeds United v Manchester United - Croke Park - Friendly Match
STATUS:CONFIRMED
END:VEVENT
BEGIN:VEVENT
UID:6b1a55ad3785ac0db08fdf6f734e0932@skysports.com
SEQUENCE:0
DTSTAMP:20260425T090104Z
DTSTART:20260426T140000Z
DTEND:20260426T160000Z
SUMMARY:Chelsea v Leeds United
LOCATION:Wembley Stadium
DESCRIPTION:Chelsea v Leeds United - Wembley Stadium - The FA Cup
STATUS:CONFIRMED
END:VEVENT
END:VCALENDAR