BEGIN:VCALENDAR
VERSION:2.0
PRODID:-//Sky Sports SSDM//NONSGML Event Calendar//EN
URL:https://www.skysports.com/calendars/football/fixtures/teams/leyton-ori
 ent
CALSCALE:GREGORIAN
METHOD:PUBLISH
NAME:Leyton Orient Fixtures
X-WR-CALNAME:Leyton Orient Fixtures
X-WR-CALDESC:Leyton Orient fixtures provided by Sky Sports (https://www.sk
 ysports.com)
REFRESH-INTERVAL;VALUE=DURATION:PT1H
X-PUBLISHED-TTL:PT1H
BEGIN:VEVENT
UID:ff20173eabed6ab9c311843ca0e0adf4@skysports.com
SEQUENCE:0
DTSTAMP:20260425T090704Z
DTSTART:20250802T140000Z
DTEND:20250802T160000Z
SUMMARY:Huddersfield Town v Leyton Orient
LOCATION:The Accu Stadium
DESCRIPTION:Huddersfield Town v Leyton Orient - The Accu Stadium - Sky Bet
  League One - Live on Sky Sports+
STATUS:CONFIRMED
END:VEVENT
BEGIN:VEVENT
UID:cdc79573e277c0be1758c49c3df77756@skysports.com
SEQUENCE:0
DTSTAMP:20260425T090704Z
DTSTART:20250809T140000Z
DTEND:20250809T160000Z
SUMMARY:Leyton Orient v Wigan Athletic
LOCATION:BetWright Stadium
DESCRIPTION:Leyton Orient v Wigan Athletic - BetWright Stadium - Sky Bet L
 eague One
STATUS:CONFIRMED
END:VEVENT
BEGIN:VEVENT
UID:649fa2be0965018267813d6c108a763f@skysports.com
SEQUENCE:0
DTSTAMP:20260425T090704Z
DTSTART:20250816T140000Z
DTEND:20250816T160000Z
SUMMARY:Leyton Orient v Stockport County
LOCATION:BetWright Stadium
DESCRIPTION:Leyton Orient v Stockport County - BetWright Stadium - Sky Bet
  League One
STATUS:CONFIRMED
END:VEVENT
BEGIN:VEVENT
UID:212b3abcd7f8421be163b77c9aecc11c@skysports.com
SEQUENCE:0
DTSTAMP:20260425T090704Z
DTSTART:20250819T184500Z
DTEND:20250819T204500Z
SUMMARY:Plymouth Argyle v Leyton Orient
LOCATION:Home Park
DESCRIPTION:Plymouth Argyle v Leyton Orient - Home Park - Sky Bet League O
 ne - Live on Sky Sports+
STATUS:CONFIRMED
END:VEVENT
BEGIN:VEVENT
UID:499c646a575bb5c749c39a09da43d746@skysports.com
SEQUENCE:0
DTSTAMP:20260425T090704Z
DTSTART:20250823T140000Z
DTEND:20250823T160000Z
SUMMARY:Mansfield Town v Leyton Orient
LOCATION:One Call Stadium
DESCRIPTION:Mansfield Town v Leyton Orient - One Call Stadium - Sky Bet Le
 ague One
STATUS:CONFIRMED
END:VEVENT
BEGIN:VEVENT
UID:1d909dee48adc4f81490b6934b549263@skysports.com
SEQUENCE:0
DTSTAMP:20260425T090704Z
DTSTART:20250830T140000Z
DTEND:20250830T160000Z
SUMMARY:Leyton Orient v Northampton Town
LOCATION:BetWright Stadium
DESCRIPTION:Leyton Orient v Northampton Town - BetWright Stadium - Sky Bet
  League One
STATUS:CONFIRMED
END:VEVENT
BEGIN:VEVENT
UID:f67041a8f5081a2f9875fb063a9b1eba@skysports.com
SEQUENCE:0
DTSTAMP:20260425T090704Z
DTSTART:20250906T140000Z
DTEND:20250906T160000Z
SUMMARY:Port Vale v Leyton Orient
LOCATION:Vale Park
DESCRIPTION:Port Vale v Leyton Orient - Vale Park - Sky Bet League One - L
 ive on Sky Sports+
STATUS:CONFIRMED
END:VEVENT
BEGIN:VEVENT
UID:c117ac317c8c412b23b7a04111eb50ad@skysports.com
SEQUENCE:0
DTSTAMP:20260425T090704Z
DTSTART:20250913T140000Z
DTEND:20250913T160000Z
SUMMARY:Leyton Orient v Bolton Wanderers
LOCATION:BetWright Stadium
DESCRIPTION:Leyton Orient v Bolton Wanderers - BetWright Stadium - Sky Bet
  League One
STATUS:CONFIRMED
END:VEVENT
BEGIN:VEVENT
UID:80903d12de3c5c38b00e8cd2bac2c42e@skysports.com
SEQUENCE:0
DTSTAMP:20260425T090704Z
DTSTART:20250920T140000Z
DTEND:20250920T160000Z
SUMMARY:Reading v Leyton Orient
LOCATION:Select Car Leasing Stadium
DESCRIPTION:Reading v Leyton Orient - Select Car Leasing Stadium - Sky Bet
  League One
STATUS:CONFIRMED
END:VEVENT
BEGIN:VEVENT
UID:dc84fed21f8288e5e311ca09cea7f922@skysports.com
SEQUENCE:0
DTSTAMP:20260425T090704Z
DTSTART:20250927T113000Z
DTEND:20250927T133000Z
SUMMARY:Leyton Orient v Stevenage
LOCATION:BetWright Stadium
DESCRIPTION:Leyton Orient v Stevenage - BetWright Stadium - Sky Bet League
  One - Live on Sky Sports+
STATUS:CONFIRMED
END:VEVENT
BEGIN:VEVENT
UID:15d88d88ed18e8a74f2289b534950ddb@skysports.com
SEQUENCE:0
DTSTAMP:20260425T090704Z
DTSTART:20251004T140000Z
DTEND:20251004T160000Z
SUMMARY:Cardiff City v Leyton Orient
LOCATION:Cardiff City Stadium
DESCRIPTION:Cardiff City v Leyton Orient - Cardiff City Stadium - Sky Bet 
 League One
STATUS:CONFIRMED
END:VEVENT
BEGIN:VEVENT
UID:74408626c8b423669e0ce1c98810f02a@skysports.com
SEQUENCE:0
DTSTAMP:20260425T090704Z
DTSTART:20251011T140000Z
DTEND:20251011T160000Z
SUMMARY:Leyton Orient v Doncaster Rovers
LOCATION:BetWright Stadium
DESCRIPTION:Leyton Orient v Doncaster Rovers - BetWright Stadium - Sky Bet
  League One - Live on Sky Sports+
STATUS:CONFIRMED
END:VEVENT
BEGIN:VEVENT
UID:1f830b95e24a907048485980a39a346f@skysports.com
SEQUENCE:0
DTSTAMP:20260425T090704Z
DTSTART:20251018T140000Z
DTEND:20251018T160000Z
SUMMARY:Rotherham United v Leyton Orient
LOCATION:New York Stadium
DESCRIPTION:Rotherham United v Leyton Orient - New York Stadium - Sky Bet 
 League One
STATUS:CONFIRMED
END:VEVENT
BEGIN:VEVENT
UID:a7409475c55174e2c1eb145d347cff8e@skysports.com
SEQUENCE:0
DTSTAMP:20260425T090704Z
DTSTART:20251025T140000Z
DTEND:20251025T160000Z
SUMMARY:Leyton Orient v Lincoln City
LOCATION:BetWright Stadium
DESCRIPTION:Leyton Orient v Lincoln City - BetWright Stadium - Sky Bet Lea
 gue One
STATUS:CONFIRMED
END:VEVENT
BEGIN:VEVENT
UID:8ca7e963e2f6d858e502750637dcdbc9@skysports.com
SEQUENCE:0
DTSTAMP:20260425T090704Z
DTSTART:20251108T123000Z
DTEND:20251108T143000Z
SUMMARY:Wycombe Wanderers v Leyton Orient
LOCATION:Adams Park
DESCRIPTION:Wycombe Wanderers v Leyton Orient - Adams Park - Sky Bet Leagu
 e One - Live on Sky Sports+
STATUS:CONFIRMED
END:VEVENT
BEGIN:VEVENT
UID:35e15bf2857e1f12ec6f7820ffee11a6@skysports.com
SEQUENCE:0
DTSTAMP:20260425T090704Z
DTSTART:20251115T150000Z
DTEND:20251115T170000Z
SUMMARY:Leyton Orient v Exeter City
LOCATION:BetWright Stadium
DESCRIPTION:Leyton Orient v Exeter City - BetWright Stadium - Sky Bet Leag
 ue One - Live on Sky Sports+
STATUS:CONFIRMED
END:VEVENT
BEGIN:VEVENT
UID:bfab0e91f8c6082383cdde96e0328133@skysports.com
SEQUENCE:0
DTSTAMP:20260425T090704Z
DTSTART:20251122T150000Z
DTEND:20251122T170000Z
SUMMARY:Leyton Orient v Blackpool
LOCATION:BetWright Stadium
DESCRIPTION:Leyton Orient v Blackpool - BetWright Stadium - Sky Bet League
  One
STATUS:CONFIRMED
END:VEVENT
BEGIN:VEVENT
UID:56b7412406ac087b92ee62d59cdc10e5@skysports.com
SEQUENCE:0
DTSTAMP:20260425T090704Z
DTSTART:20251129T150000Z
DTEND:20251129T170000Z
SUMMARY:Burton Albion v Leyton Orient
LOCATION:Pirelli Stadium
DESCRIPTION:Burton Albion v Leyton Orient - Pirelli Stadium - Sky Bet Leag
 ue One
STATUS:CONFIRMED
END:VEVENT
BEGIN:VEVENT
UID:06e920e9bee83f684a6e985be3116901@skysports.com
SEQUENCE:0
DTSTAMP:20260425T090704Z
DTSTART:20251209T194500Z
DTEND:20251209T214500Z
SUMMARY:Leyton Orient v Luton Town
LOCATION:BetWright Stadium
DESCRIPTION:Leyton Orient v Luton Town - BetWright Stadium - Sky Bet Leagu
 e One - Live on Sky Sports+
STATUS:CONFIRMED
END:VEVENT
BEGIN:VEVENT
UID:c88a6de0e5892f7dc9c5b72218fa9f56@skysports.com
SEQUENCE:0
DTSTAMP:20260425T090704Z
DTSTART:20251213T150000Z
DTEND:20251213T170000Z
SUMMARY:Barnsley v Leyton Orient
LOCATION:Oakwell Stadium
DESCRIPTION:Barnsley v Leyton Orient - Oakwell Stadium - Sky Bet League On
 e
STATUS:CONFIRMED
END:VEVENT
BEGIN:VEVENT
UID:7b393dc94bf9d8160c300af915a3c692@skysports.com
SEQUENCE:0
DTSTAMP:20260425T090704Z
DTSTART:20251220T150000Z
DTEND:20251220T170000Z
SUMMARY:Leyton Orient v Bradford City
LOCATION:BetWright Stadium
DESCRIPTION:Leyton Orient v Bradford City - BetWright Stadium - Sky Bet Le
 ague One
STATUS:CONFIRMED
END:VEVENT
BEGIN:VEVENT
UID:11bfa2e8a51600d3a6c51a0a91165729@skysports.com
SEQUENCE:0
DTSTAMP:20260425T090704Z
DTSTART:20251226T150000Z
DTEND:20251226T170000Z
SUMMARY:Peterborough United v Leyton Orient
LOCATION:Weston Homes Stadium
DESCRIPTION:Peterborough United v Leyton Orient - Weston Homes Stadium - S
 ky Bet League One - Live on Sky Sports+
STATUS:CONFIRMED
END:VEVENT
BEGIN:VEVENT
UID:55b6f3fc2d43cc17927a299f27de08a4@skysports.com
SEQUENCE:0
DTSTAMP:20260425T090704Z
DTSTART:20251229T194500Z
DTEND:20251229T214500Z
SUMMARY:Luton Town v Leyton Orient
LOCATION:Kenilworth Road
DESCRIPTION:Luton Town v Leyton Orient - Kenilworth Road - Sky Bet League 
 One
STATUS:CONFIRMED
END:VEVENT
BEGIN:VEVENT
UID:84593061cb66e20081ca1356454241db@skysports.com
SEQUENCE:0
DTSTAMP:20260425T090704Z
DTSTART:20260101T150000Z
DTEND:20260101T170000Z
SUMMARY:Leyton Orient v AFC Wimbledon
LOCATION:BetWright Stadium
DESCRIPTION:Leyton Orient v AFC Wimbledon - BetWright Stadium - Sky Bet Le
 ague One - Live on Sky Sports+
STATUS:CONFIRMED
END:VEVENT
BEGIN:VEVENT
UID:f70ffc139781f5bc8969a4001bcd5fef@skysports.com
SEQUENCE:0
DTSTAMP:20260425T090704Z
DTSTART:20260310T194500Z
DTEND:20260310T214500Z
SUMMARY:Stevenage v Leyton Orient
LOCATION:Lamex Stadium
DESCRIPTION:Stevenage v Leyton Orient - Lamex Stadium - Sky Bet League One
  - Live on Sky Sports+
STATUS:CONFIRMED
END:VEVENT
BEGIN:VEVENT
UID:087e5762d45a446db46f0d7fae5acd0e@skysports.com
SEQUENCE:0
DTSTAMP:20260425T090704Z
DTSTART:20260110T150000Z
DTEND:20260110T170000Z
SUMMARY:Leyton Orient v Cardiff City
LOCATION:BetWright Stadium
DESCRIPTION:Leyton Orient v Cardiff City - BetWright Stadium - Sky Bet Lea
 gue One
STATUS:CONFIRMED
END:VEVENT
BEGIN:VEVENT
UID:8fc3d7ff37824b8a05602388a461cccd@skysports.com
SEQUENCE:0
DTSTAMP:20260425T090704Z
DTSTART:20260117T150000Z
DTEND:20260117T170000Z
SUMMARY:Leyton Orient v Reading
LOCATION:BetWright Stadium
DESCRIPTION:Leyton Orient v Reading - BetWright Stadium - Sky Bet League O
 ne
STATUS:CONFIRMED
END:VEVENT
BEGIN:VEVENT
UID:d78cd641c574acd373c17b62c484a01f@skysports.com
SEQUENCE:0
DTSTAMP:20260425T090704Z
DTSTART:20260124T150000Z
DTEND:20260124T170000Z
SUMMARY:Bolton Wanderers v Leyton Orient
LOCATION:University of Bolton Stadium
DESCRIPTION:Bolton Wanderers v Leyton Orient - University of Bolton Stadiu
 m - Sky Bet League One
STATUS:CONFIRMED
END:VEVENT
BEGIN:VEVENT
UID:1310cebf1397efe8f7eae462f796aa8d@skysports.com
SEQUENCE:0
DTSTAMP:20260425T090704Z
DTSTART:20260127T200000Z
DTEND:20260127T220000Z
SUMMARY:Doncaster Rovers v Leyton Orient
LOCATION:Eco-Power Stadium
DESCRIPTION:Doncaster Rovers v Leyton Orient - Eco-Power Stadium - Sky Bet
  League One - Live on Sky Sports Main Event and Sky Sports Football
STATUS:CONFIRMED
END:VEVENT
BEGIN:VEVENT
UID:f078114231f83c0e44078b1a1c0416e2@skysports.com
SEQUENCE:0
DTSTAMP:20260425T090704Z
DTSTART:20260131T150000Z
DTEND:20260131T170000Z
SUMMARY:Leyton Orient v Port Vale
LOCATION:BetWright Stadium
DESCRIPTION:Leyton Orient v Port Vale - BetWright Stadium - Sky Bet League
  One
STATUS:CONFIRMED
END:VEVENT
BEGIN:VEVENT
UID:08cac54a376c85fc636674a4f6ad8aa3@skysports.com
SEQUENCE:0
DTSTAMP:20260425T090704Z
DTSTART:20260207T150100Z
DTEND:20260207T170100Z
SUMMARY:Stockport County v Leyton Orient
LOCATION:Edgeley Park
DESCRIPTION:Stockport County v Leyton Orient - Edgeley Park - Sky Bet Leag
 ue One
STATUS:CONFIRMED
END:VEVENT
BEGIN:VEVENT
UID:1adea7d0cd27ea38119d56800f00265b@skysports.com
SEQUENCE:0
DTSTAMP:20260425T090704Z
DTSTART:20260414T184500Z
DTEND:20260414T204500Z
SUMMARY:Leyton Orient v Mansfield Town
LOCATION:BetWright Stadium
DESCRIPTION:Leyton Orient v Mansfield Town - BetWright Stadium - Sky Bet L
 eague One
STATUS:CONFIRMED
END:VEVENT
BEGIN:VEVENT
UID:641be39fa5fb954405549aa1abd9d3ae@skysports.com
SEQUENCE:0
DTSTAMP:20260425T090704Z
DTSTART:20260217T194500Z
DTEND:20260217T214500Z
SUMMARY:Leyton Orient v Plymouth Argyle
LOCATION:BetWright Stadium
DESCRIPTION:Leyton Orient v Plymouth Argyle - BetWright Stadium - Sky Bet 
 League One - Live on Sky Sports+
STATUS:CONFIRMED
END:VEVENT
BEGIN:VEVENT
UID:933289c1b508173b88c6f4e3a1ff69de@skysports.com
SEQUENCE:0
DTSTAMP:20260425T090704Z
DTSTART:20260221T150000Z
DTEND:20260221T170000Z
SUMMARY:Northampton Town v Leyton Orient
LOCATION:Sixfields Stadium
DESCRIPTION:Northampton Town v Leyton Orient - Sixfields Stadium - Sky Bet
  League One
STATUS:CONFIRMED
END:VEVENT
BEGIN:VEVENT
UID:9458a341113c943948678636a07e1b4a@skysports.com
SEQUENCE:0
DTSTAMP:20260425T090704Z
DTSTART:20260228T123000Z
DTEND:20260228T143000Z
SUMMARY:Leyton Orient v Barnsley
LOCATION:BetWright Stadium
DESCRIPTION:Leyton Orient v Barnsley - BetWright Stadium - Sky Bet League 
 One - Live on Sky Sports+
STATUS:CONFIRMED
END:VEVENT
BEGIN:VEVENT
UID:55e9d1830bed62471a5acd00afbdd175@skysports.com
SEQUENCE:0
DTSTAMP:20260425T090704Z
DTSTART:20260307T150000Z
DTEND:20260307T170000Z
SUMMARY:Bradford City v Leyton Orient
LOCATION:University of Bradford Stadium
DESCRIPTION:Bradford City v Leyton Orient - University of Bradford Stadium
  - Sky Bet League One
STATUS:CONFIRMED
END:VEVENT
BEGIN:VEVENT
UID:68e1508a7600228acfde71359b034089@skysports.com
SEQUENCE:0
DTSTAMP:20260425T090704Z
DTSTART:20260314T150000Z
DTEND:20260314T170000Z
SUMMARY:Leyton Orient v Peterborough United
LOCATION:BetWright Stadium
DESCRIPTION:Leyton Orient v Peterborough United - BetWright Stadium - Sky 
 Bet League One
STATUS:CONFIRMED
END:VEVENT
BEGIN:VEVENT
UID:e2954dba184e3c6fb399a4682d321458@skysports.com
SEQUENCE:0
DTSTAMP:20260425T090704Z
DTSTART:20260317T194500Z
DTEND:20260317T214500Z
SUMMARY:AFC Wimbledon v Leyton Orient
LOCATION:The Cherry Red Records Stadium
DESCRIPTION:AFC Wimbledon v Leyton Orient - The Cherry Red Records Stadium
  - Sky Bet League One - Live on Sky Sports+
STATUS:CONFIRMED
END:VEVENT
BEGIN:VEVENT
UID:e1db9df6b4ff484ae374c2f6d8385841@skysports.com
SEQUENCE:0
DTSTAMP:20260425T090704Z
DTSTART:20260321T150000Z
DTEND:20260321T170000Z
SUMMARY:Leyton Orient v Wycombe Wanderers
LOCATION:BetWright Stadium
DESCRIPTION:Leyton Orient v Wycombe Wanderers - BetWright Stadium - Sky Be
 t League One
STATUS:CONFIRMED
END:VEVENT
BEGIN:VEVENT
UID:95901cdb41e5f9ca2c3a1bd03b0380f1@skysports.com
SEQUENCE:0
DTSTAMP:20260425T090704Z
DTSTART:20260328T150000Z
DTEND:20260328T170000Z
SUMMARY:Exeter City v Leyton Orient
LOCATION:St James Park
DESCRIPTION:Exeter City v Leyton Orient - St James Park - Sky Bet League O
 ne - Live on Sky Sports+
STATUS:CONFIRMED
END:VEVENT
BEGIN:VEVENT
UID:6c08afb34e41438c0d4efcfc6048e2a9@skysports.com
SEQUENCE:0
DTSTAMP:20260425T090704Z
DTSTART:20260402T184500Z
DTEND:20260402T204500Z
SUMMARY:Wigan Athletic v Leyton Orient
LOCATION:DW Stadium
DESCRIPTION:Wigan Athletic v Leyton Orient - DW Stadium - Sky Bet League O
 ne - Live on Sky Sports+
STATUS:CONFIRMED
END:VEVENT
BEGIN:VEVENT
UID:35e4323f8520d50986be4ba560e4efe2@skysports.com
SEQUENCE:0
DTSTAMP:20260425T090704Z
DTSTART:20260406T140000Z
DTEND:20260406T160000Z
SUMMARY:Leyton Orient v Huddersfield Town
LOCATION:BetWright Stadium
DESCRIPTION:Leyton Orient v Huddersfield Town - BetWright Stadium - Sky Be
 t League One - Live on Sky Sports+
STATUS:CONFIRMED
END:VEVENT
BEGIN:VEVENT
UID:a0b41e7dfc6bb236404d3123216da03e@skysports.com
SEQUENCE:0
DTSTAMP:20260425T090704Z
DTSTART:20260411T113000Z
DTEND:20260411T133000Z
SUMMARY:Lincoln City v Leyton Orient
LOCATION:LNER Stadium
DESCRIPTION:Lincoln City v Leyton Orient - LNER Stadium - Sky Bet League O
 ne - Live on Sky Sports+
STATUS:CONFIRMED
END:VEVENT
BEGIN:VEVENT
UID:c0c1d0ba0b1f578007d1fdc1cc91d9e8@skysports.com
SEQUENCE:0
DTSTAMP:20260425T090704Z
DTSTART:20260418T140000Z
DTEND:20260418T160000Z
SUMMARY:Leyton Orient v Rotherham United
LOCATION:BetWright Stadium
DESCRIPTION:Leyton Orient v Rotherham United - BetWright Stadium - Sky Bet
  League One
STATUS:CONFIRMED
END:VEVENT
BEGIN:VEVENT
UID:30e31591f48fd32037efb4d2c62778e9@skysports.com
SEQUENCE:0
DTSTAMP:20260425T090704Z
DTSTART:20260425T140000Z
DTEND:20260425T160000Z
SUMMARY:Blackpool v Leyton Orient
LOCATION:Bloomfield Road
DESCRIPTION:Blackpool v Leyton Orient - Bloomfield Road - Sky Bet League O
 ne
STATUS:CONFIRMED
END:VEVENT
BEGIN:VEVENT
UID:14ea9d0636a339fb354d50c43175bf99@skysports.com
SEQUENCE:0
DTSTAMP:20260425T090704Z
DTSTART:20260502T140000Z
DTEND:20260502T160000Z
SUMMARY:Leyton Orient v Burton Albion
LOCATION:BetWright Stadium
DESCRIPTION:Leyton Orient v Burton Albion - BetWright Stadium - Sky Bet Le
 ague One
STATUS:CONFIRMED
END:VEVENT
BEGIN:VEVENT
UID:105c882b80421650f31211f3570fd286@skysports.com
SEQUENCE:0
DTSTAMP:20260425T090704Z
DTSTART:20250812T184500Z
DTEND:20250812T204500Z
SUMMARY:Leyton Orient v Wycombe Wanderers
LOCATION:BetWright Stadium
DESCRIPTION:Leyton Orient v Wycombe Wanderers - BetWright Stadium - Caraba
 o Cup - Live on Sky Sports+
STATUS:CONFIRMED
END:VEVENT
BEGIN:VEVENT
UID:81ba3c1a5020a3011099c27b7181b72d@skysports.com
SEQUENCE:0
DTSTAMP:20260425T090704Z
DTSTART:20250902T180000Z
DTEND:20250902T200000Z
SUMMARY:Peterborough United v Leyton Orient
LOCATION:Weston Homes Stadium
DESCRIPTION:Peterborough United v Leyton Orient - Weston Homes Stadium - V
 ertu Trophy - Live on Sky Sports+
STATUS:CONFIRMED
END:VEVENT
BEGIN:VEVENT
UID:d6cce2e7645b362e16d0ee890a85d67e@skysports.com
SEQUENCE:0
DTSTAMP:20260425T090704Z
DTSTART:20251007T180000Z
DTEND:20251007T200000Z
SUMMARY:Leyton Orient v Crawley Town
LOCATION:BetWright Stadium
DESCRIPTION:Leyton Orient v Crawley Town - BetWright Stadium - Vertu Troph
 y - Live on Sky Sports+
STATUS:CONFIRMED
END:VEVENT
BEGIN:VEVENT
UID:c93e83bada283b1119bee20e26f7f7b8@skysports.com
SEQUENCE:0
DTSTAMP:20260425T090704Z
DTSTART:20251028T190000Z
DTEND:20251028T210000Z
SUMMARY:Leyton Orient v Aston Villa U21
LOCATION:BetWright Stadium
DESCRIPTION:Leyton Orient v Aston Villa U21 - BetWright Stadium - Vertu Tr
 ophy - Live on Sky Sports+
STATUS:CONFIRMED
END:VEVENT
BEGIN:VEVENT
UID:da4ad0400cd5637b8439b846b95e7a1b@skysports.com
SEQUENCE:0
DTSTAMP:20260425T090704Z
DTSTART:20251103T193000Z
DTEND:20251103T213000Z
SUMMARY:Tamworth v Leyton Orient
LOCATION:The Lamb Ground
DESCRIPTION:Tamworth v Leyton Orient - The Lamb Ground - The FA Cup
STATUS:CONFIRMED
END:VEVENT
BEGIN:VEVENT
UID:f7e3fa566ea2f932dcfc349d43cc57e5@skysports.com
SEQUENCE:0
DTSTAMP:20260425T090704Z
DTSTART:20251205T193000Z
DTEND:20251205T213000Z
SUMMARY:Salford City v Leyton Orient
LOCATION:Moor Lane
DESCRIPTION:Salford City v Leyton Orient - Moor Lane - The FA Cup
STATUS:CONFIRMED
END:VEVENT
BEGIN:VEVENT
UID:b80a891d4dad5498ecc365919eed8a7b@skysports.com
SEQUENCE:0
DTSTAMP:20260425T090704Z
DTSTART:20251202T190000Z
DTEND:20251202T210000Z
SUMMARY:Leyton Orient v Plymouth Argyle
LOCATION:BetWright Stadium
DESCRIPTION:Leyton Orient v Plymouth Argyle - BetWright Stadium - Vertu Tr
 ophy - Live on Sky Sports+
STATUS:CONFIRMED
END:VEVENT
END:VCALENDAR